{"text_format":"1","workbook":"xlsx","n_sheets":14,"sheets":["Welcome","Data Input","P1 Hidden Data Tables","P2 Hidden Data Tables","Pupil Summary","Pupil Report","Cohort Summary","Strand Summary","P1 Questions by Strand","P2 Questions by Strand","P1 Questions by Correct","P2 Questions by Correct","P1 Questions by Sub Type","P2 Questions by Sub Type"],"not_rendered":{"charts":10,"images":1,"macros":1,"external_links":0,"defined_names":15,"comments":1,"pivot_tables":0},"unopened":[],"bounds":{"document_bytes":16777216,"sheet_cells":100000,"rows_first":2000,"rows_last":500,"rows_between":2000,"halvings":0,"cell_chars":16384,"cell_head_chars":4096},"cells_cut":0,"cells_raw":0,"read":"whole","date_system":"1900"}

{"sheet":"Welcome","index":0,"n_rows":23,"n_cols":11,"rows_kept":23,"cut":false,"hidden":false,"merged":[[1,3,1,12]]}
[]
[null,null,null,"KS1 Reading Papers 1 & 2 \n(2016 SAMPLE) Analysis"]
[]
[]
[]
[]
[]
[]
[]
[]
[]
[]
[]
[]
[]
[]
[]
[]
[]
[]
[]
[]
[null,null,null,null,null,null,null,null,null,null,"© 2016 Primary Tools.co.uk"]

{"sheet":"Data Input","index":1,"n_rows":8,"n_cols":43,"rows_kept":8,"cut":false,"hidden":false,"merged":[[0,1,4,1],[0,22,4,22]]}
["Question","Paper 1",1,2,3,4,5,6,7,8,9,10,11,12,13,14,15,16,17,18,19,20,"Paper 2",1,2,3,"4a","4b",5,6,7,8,9,10,11,12,13,14,15,16,17,"18i","18ii"]
["Group Correct",null,{"$f":"COUNTIF(C10:C558,1)","v":0},{"$f":"COUNTIF(D10:D558,1)","v":0},0,0,0,0,0,0,0,0,0,0,0,0,0,0,0,0,0,0,null,{"$f":"COUNTIF(X10:X558,1)","v":0},0,0,0,0,0,0,0,0,0,0,0,0,0,0,0,0,0,0,0]
["Group Incorrect",null,{"$f":"COUNTIF(C10:C558,0)","v":0},{"$f":"COUNTIF(D10:D558,0)","v":0},0,0,0,0,0,0,0,0,0,0,0,0,0,0,0,0,0,0,null,{"$f":"COUNTIF(X10:X558,0)","v":0},0,0,0,0,0,0,0,0,0,0,0,0,0,0,0,0,0,0,0]
["Group Unanswered",null,{"$f":"COUNTA($A$10:$A$558)-(SUM(C2:C3))","v":0},0,0,0,0,0,0,0,0,{"$f":"COUNTA($A$10:$A$558)-(SUM(L2:L3))","v":0},{"$f":"COUNTA($A$10:$A$558)-(SUM(M2:M3))","v":0},0,0,0,0,0,0,0,0,0,null,{"$f":"COUNTA($A$10:$A$558)-(SUM(X2:X3))","v":0},0,0,0,0,0,0,0,0,0,0,0,0,0,0,0,0,0,0,0]
["Incorrect or unanswered",null,{"$f":"SUM(C3,C4)","v":0},{"$f":"SUM(D3,D4)","v":0},0,0,0,0,0,0,0,0,0,0,0,0,0,0,0,0,0,0,null,{"$f":"SUM(X3,X4)","v":0},0,0,0,0,0,0,0,0,0,0,0,0,0,0,0,0,0,0,0]
["Enter 1: correct, 0: incorrect, blank: unanswered \n\nA: Vocabulary\nB: Key Facts\nC: Sequence\nD: Inference",null,"Word describing worker ants?","What queen ant does?","What joins rooms in ants nest?","Two jobs worker ants do?","What happens to eggs?","Why Frog said 'Must...day'?","Why was Monster worried?","What Frog saw on horizon?","Find word meaning 'not well'. ","Meaning of 'spotted'.","Why did the boat start to sink?","How know Frog was excited?","What did Frog find in basket?","Where did Monster sleep?","How tell late when woke up?","How Monster feel when woke?","How Frog think get home?","F. didn’t tell M. about balloon…","Monster worried about floating","Order events in story",null,"Why king wanted blackbirds?","Why blackbird's wife sad?","Instrument blackbird played?","What had king done to fox?","What had king done to ants?","Drained' meaning?","How know king not worried?","Match characters to help given.","Two words show king scared. ","When plastics first made?","Two good points about plastics. ","Why plastics dangerous (melt)?","Two problems with landfills","Today, plastics made from?","Future, plastics made from?","Word meaning 'given away'. ","Thing made from recycled plastic. ","Match words to meaning. ","Information true or false.","Information true or false."]
[null,"code",null,null,null,null,null,null,null,null,null,null,null,null,null,null,null,null,null,null,null,null,"code","_","_","_","_","_","_","_","_","_","_","_","_","_","_","_","_","_","_","_","_"]
["Name: ","Area","A","B","B","B","B","D","D","B","A","A","D","D","B","B","D","D","B","D","B","C","Area","B","D","B","B","B","A","D","B","A","B","B","D","B","B","B","A","B","A","D","D"]

{"sheet":"P1 Hidden Data Tables","index":2,"n_rows":77,"n_cols":22,"rows_kept":77,"cut":false,"hidden":true,"merged":[]}
[null,"Sorted by Strand"]
[null,"Strand","Question Number","Sub Category","Short Q","Correct","Incorrect or Unanswered","Incorrect","Unanswered"]
[null,{"$f":"'Data Input'!$K$8","v":"A"},{"$f":"'Data Input'!$K$1","v":9},null,{"$f":"'Data Input'!$K$6","v":"Find word meaning 'not well'. "},{"$f":"'Data Input'!$K$2","v":0},{"$f":"'Data Input'!$K$5","v":0},{"$f":"'Data Input'!$K$3","v":0},{"$f":"'Data Input'!$K$4","v":0},null,null,null,"Codes"]
[null,{"$f":"'Data Input'!$C$8","v":"A"},{"$f":"'Data Input'!$C$1","v":1},null,{"$f":"'Data Input'!$C$6","v":"Word describing worker ants?"},{"$f":"'Data Input'!$C$2","v":0},{"$f":"'Data Input'!$C$5","v":0},{"$f":"'Data Input'!$C$3","v":0},{"$f":"'Data Input'!$C$4","v":0}]
[null,{"$f":"'Data Input'!$L$8","v":"A"},{"$f":"'Data Input'!$L$1","v":10},null,{"$f":"'Data Input'!$L$6","v":"Meaning of 'spotted'."},{"$f":"'Data Input'!$L$2","v":0},{"$f":"'Data Input'!$L$5","v":0},{"$f":"'Data Input'!$L$3","v":0},{"$f":"'Data Input'!$L$4","v":0}]
[]
[null,{"$f":"'Data Input'!$J$8","v":"B"},{"$f":"'Data Input'!$J$1","v":8},null,{"$f":"'Data Input'!$J$6","v":"What Frog saw on horizon?"},{"$f":"'Data Input'!$J$2","v":0},{"$f":"'Data Input'!$J$5","v":0},{"$f":"'Data Input'!$J$3","v":0},{"$f":"'Data Input'!$J$4","v":0}]
[null,{"$f":"'Data Input'!$U$8","v":"B"},{"$f":"'Data Input'!$U$1","v":19},null,{"$f":"'Data Input'!$U$6","v":"Monster worried about floating"},{"$f":"'Data Input'!$U$2","v":0},{"$f":"'Data Input'!$U$5","v":0},{"$f":"'Data Input'!$U$3","v":0},{"$f":"'Data Input'!$U$4","v":0}]
[null,{"$f":"'Data Input'!$D$8","v":"B"},{"$f":"'Data Input'!$D$1","v":2},null,{"$f":"'Data Input'!$D$6","v":"What queen ant does?"},{"$f":"'Data Input'!$D$2","v":0},{"$f":"'Data Input'!$D$5","v":0},{"$f":"'Data Input'!$D$3","v":0},{"$f":"'Data Input'!$D$4","v":0}]
[null,{"$f":"'Data Input'!$O$8","v":"B"},{"$f":"'Data Input'!$O$1","v":13},null,{"$f":"'Data Input'!$O$6","v":"What did Frog find in basket?"},{"$f":"'Data Input'!$O$2","v":0},{"$f":"'Data Input'!$O$5","v":0},{"$f":"'Data Input'!$O$3","v":0},{"$f":"'Data Input'!$O$4","v":0}]
[null,{"$f":"'Data Input'!$P$8","v":"B"},{"$f":"'Data Input'!$P$1","v":14},null,{"$f":"'Data Input'!$P$6","v":"Where did Monster sleep?"},{"$f":"'Data Input'!$P$2","v":0},{"$f":"'Data Input'!$P$5","v":0},{"$f":"'Data Input'!$P$3","v":0},{"$f":"'Data Input'!$P$4","v":0}]
[null,{"$f":"'Data Input'!$S$8","v":"B"},{"$f":"'Data Input'!$S$1","v":17},null,{"$f":"'Data Input'!$S$6","v":"How Frog think get home?"},{"$f":"'Data Input'!$S$2","v":0},{"$f":"'Data Input'!$S$5","v":0},{"$f":"'Data Input'!$S$3","v":0},{"$f":"'Data Input'!$S$4","v":0}]
[null,{"$f":"'Data Input'!$E$8","v":"B"},{"$f":"'Data Input'!$E$1","v":3},null,{"$f":"'Data Input'!$E$6","v":"What joins rooms in ants nest?"},{"$f":"'Data Input'!$E$2","v":0},{"$f":"'Data Input'!$E$5","v":0},{"$f":"'Data Input'!$E$3","v":0},{"$f":"'Data Input'!$E$4","v":0}]
[null,{"$f":"'Data Input'!$F$8","v":"B"},{"$f":"'Data Input'!$F$1","v":4},null,{"$f":"'Data Input'!$F$6","v":"Two jobs worker ants do?"},{"$f":"'Data Input'!$F$2","v":0},{"$f":"'Data Input'!$F$5","v":0},{"$f":"'Data Input'!$F$3","v":0},{"$f":"'Data Input'!$F$4","v":0}]
[null,{"$f":"'Data Input'!$G$8","v":"B"},{"$f":"'Data Input'!$G$1","v":5},null,{"$f":"'Data Input'!$G$6","v":"What happens to eggs?"},{"$f":"'Data Input'!$G$2","v":0},{"$f":"'Data Input'!$G$5","v":0},{"$f":"'Data Input'!$G$3","v":0},{"$f":"'Data Input'!$G$4","v":0}]
[]
[null,{"$f":"'Data Input'!$V$8","v":"C"},{"$f":"'Data Input'!$V$1","v":20},null,{"$f":"'Data Input'!$V$6","v":"Order events in story"},{"$f":"'Data Input'!$V$2","v":0},{"$f":"'Data Input'!$V$5","v":0},{"$f":"'Data Input'!$V$3","v":0},{"$f":"'Data Input'!$V$4","v":0}]
[]
[null,{"$f":"'Data Input'!$H$8","v":"D"},{"$f":"'Data Input'!$H$1","v":6},null,{"$f":"'Data Input'!$H$6","v":"Why Frog said 'Must...day'?"},{"$f":"'Data Input'!$H$2","v":0},{"$f":"'Data Input'!$H$5","v":0},{"$f":"'Data Input'!$H$3","v":0},{"$f":"'Data Input'!$H$4","v":0}]
[null,{"$f":"'Data Input'!$I$8","v":"D"},{"$f":"'Data Input'!$I$1","v":7},null,{"$f":"'Data Input'!$I$6","v":"Why was Monster worried?"},{"$f":"'Data Input'!$I$2","v":0},{"$f":"'Data Input'!$I$5","v":0},{"$f":"'Data Input'!$I$3","v":0},{"$f":"'Data Input'!$I$4","v":0}]
[null,{"$f":"'Data Input'!$M$8","v":"D"},{"$f":"'Data Input'!$M$1","v":11},null,{"$f":"'Data Input'!$M$6","v":"Why did the boat start to sink?"},{"$f":"'Data Input'!$M$2","v":0},{"$f":"'Data Input'!$M$5","v":0},{"$f":"'Data Input'!$M$3","v":0},{"$f":"'Data Input'!$M$4","v":0}]
[null,{"$f":"'Data Input'!$N$8","v":"D"},{"$f":"'Data Input'!$N$1","v":12},null,{"$f":"'Data Input'!$N$6","v":"How know Frog was excited?"},{"$f":"'Data Input'!$N$2","v":0},{"$f":"'Data Input'!$N$5","v":0},{"$f":"'Data Input'!$N$3","v":0},{"$f":"'Data Input'!$N$4","v":0}]
[null,{"$f":"'Data Input'!$R$8","v":"D"},{"$f":"'Data Input'!$R$1","v":16},null,{"$f":"'Data Input'!$R$6","v":"How Monster feel when woke?"},{"$f":"'Data Input'!$R$2","v":0},{"$f":"'Data Input'!$R$5","v":0},{"$f":"'Data Input'!$R$3","v":0},{"$f":"'Data Input'!$R$4","v":0}]
[null,{"$f":"'Data Input'!$Q$8","v":"D"},{"$f":"'Data Input'!$Q$1","v":15},null,{"$f":"'Data Input'!$Q$6","v":"How tell late when woke up?"},{"$f":"'Data Input'!$Q$2","v":0},{"$f":"'Data Input'!$Q$5","v":0},{"$f":"'Data Input'!$Q$3","v":0},{"$f":"'Data Input'!$Q$4","v":0}]
[null,{"$f":"'Data Input'!$T$8","v":"D"},{"$f":"'Data Input'!$T$1","v":18},null,{"$f":"'Data Input'!$T$6","v":"F. didn’t tell M. about balloon…"},{"$f":"'Data Input'!$T$2","v":0},{"$f":"'Data Input'!$T$5","v":0},{"$f":"'Data Input'!$T$3","v":0},{"$f":"'Data Input'!$T$4","v":0}]
[]
[]
[]
[]
[]
[null,"Sorted by Question Type"]
[null,"Strand","Question Number","Sub Category","Short Q","Correct","Incorrect or Unanswered","Incorrect","Unanswered"]
[null,{"$f":"'Data Input'!$C$8","v":"A"},{"$f":"'Data Input'!$C$1","v":1},null,{"$f":"'Data Input'!$C$6","v":"Word describing worker ants?"},{"$f":"'Data Input'!$C$2","v":0},{"$f":"'Data Input'!$C$5","v":0},{"$f":"'Data Input'!$C$3","v":0},{"$f":"'Data Input'!$C$4","v":0}]
[null,{"$f":"'Data Input'!$D$8","v":"B"},{"$f":"'Data Input'!$D$1","v":2},null,{"$f":"'Data Input'!$D$6","v":"What queen ant does?"},{"$f":"'Data Input'!$D$2","v":0},{"$f":"'Data Input'!$D$5","v":0},{"$f":"'Data Input'!$D$3","v":0},{"$f":"'Data Input'!$D$4","v":0}]
[null,{"$f":"'Data Input'!$E$8","v":"B"},{"$f":"'Data Input'!$E$1","v":3},null,{"$f":"'Data Input'!$E$6","v":"What joins rooms in ants nest?"},{"$f":"'Data Input'!$E$2","v":0},{"$f":"'Data Input'!$E$5","v":0},{"$f":"'Data Input'!$E$3","v":0},{"$f":"'Data Input'!$E$4","v":0}]
[null,{"$f":"'Data Input'!$F$8","v":"B"},{"$f":"'Data Input'!$F$1","v":4},null,{"$f":"'Data Input'!$F$6","v":"Two jobs worker ants do?"},{"$f":"'Data Input'!$F$2","v":0},{"$f":"'Data Input'!$F$5","v":0},{"$f":"'Data Input'!$F$3","v":0},{"$f":"'Data Input'!$F$4","v":0}]
[null,{"$f":"'Data Input'!$G$8","v":"B"},{"$f":"'Data Input'!$G$1","v":5},null,{"$f":"'Data Input'!$G$6","v":"What happens to eggs?"},{"$f":"'Data Input'!$G$2","v":0},{"$f":"'Data Input'!$G$5","v":0},{"$f":"'Data Input'!$G$3","v":0},{"$f":"'Data Input'!$G$4","v":0}]
[null,{"$f":"'Data Input'!$H$8","v":"D"},{"$f":"'Data Input'!$H$1","v":6},null,{"$f":"'Data Input'!$H$6","v":"Why Frog said 'Must...day'?"},{"$f":"'Data Input'!$H$2","v":0},{"$f":"'Data Input'!$H$5","v":0},{"$f":"'Data Input'!$H$3","v":0},{"$f":"'Data Input'!$H$4","v":0}]
[null,{"$f":"'Data Input'!$I$8","v":"D"},{"$f":"'Data Input'!$I$1","v":7},null,{"$f":"'Data Input'!$I$6","v":"Why was Monster worried?"},{"$f":"'Data Input'!$I$2","v":0},{"$f":"'Data Input'!$I$5","v":0},{"$f":"'Data Input'!$I$3","v":0},{"$f":"'Data Input'!$I$4","v":0}]
[null,{"$f":"'Data Input'!$J$8","v":"B"},{"$f":"'Data Input'!$J$1","v":8},null,{"$f":"'Data Input'!$J$6","v":"What Frog saw on horizon?"},{"$f":"'Data Input'!$J$2","v":0},{"$f":"'Data Input'!$J$5","v":0},{"$f":"'Data Input'!$J$3","v":0},{"$f":"'Data Input'!$J$4","v":0}]
[null,{"$f":"'Data Input'!$K$8","v":"A"},{"$f":"'Data Input'!$K$1","v":9},null,{"$f":"'Data Input'!$K$6","v":"Find word meaning 'not well'. "},{"$f":"'Data Input'!$K$2","v":0},{"$f":"'Data Input'!$K$5","v":0},{"$f":"'Data Input'!$K$3","v":0},{"$f":"'Data Input'!$K$4","v":0}]
[null,{"$f":"'Data Input'!$L$8","v":"A"},{"$f":"'Data Input'!$L$1","v":10},null,{"$f":"'Data Input'!$L$6","v":"Meaning of 'spotted'."},{"$f":"'Data Input'!$L$2","v":0},{"$f":"'Data Input'!$L$5","v":0},{"$f":"'Data Input'!$L$3","v":0},{"$f":"'Data Input'!$L$4","v":0}]
[null,{"$f":"'Data Input'!$M$8","v":"D"},{"$f":"'Data Input'!$M$1","v":11},null,{"$f":"'Data Input'!$M$6","v":"Why did the boat start to sink?"},{"$f":"'Data Input'!$M$2","v":0},{"$f":"'Data Input'!$M$5","v":0},{"$f":"'Data Input'!$M$3","v":0},{"$f":"'Data Input'!$M$4","v":0}]
[null,{"$f":"'Data Input'!$N$8","v":"D"},{"$f":"'Data Input'!$N$1","v":12},null,{"$f":"'Data Input'!$N$6","v":"How know Frog was excited?"},{"$f":"'Data Input'!$N$2","v":0},{"$f":"'Data Input'!$N$5","v":0},{"$f":"'Data Input'!$N$3","v":0},{"$f":"'Data Input'!$N$4","v":0}]
[null,{"$f":"'Data Input'!$O$8","v":"B"},{"$f":"'Data Input'!$O$1","v":13},null,{"$f":"'Data Input'!$O$6","v":"What did Frog find in basket?"},{"$f":"'Data Input'!$O$2","v":0},{"$f":"'Data Input'!$O$5","v":0},{"$f":"'Data Input'!$O$3","v":0},{"$f":"'Data Input'!$O$4","v":0}]
[null,{"$f":"'Data Input'!$P$8","v":"B"},{"$f":"'Data Input'!$P$1","v":14},null,{"$f":"'Data Input'!$P$6","v":"Where did Monster sleep?"},{"$f":"'Data Input'!$P$2","v":0},{"$f":"'Data Input'!$P$5","v":0},{"$f":"'Data Input'!$P$3","v":0},{"$f":"'Data Input'!$P$4","v":0}]
[null,{"$f":"'Data Input'!$Q$8","v":"D"},{"$f":"'Data Input'!$Q$1","v":15},null,{"$f":"'Data Input'!$Q$6","v":"How tell late when woke up?"},{"$f":"'Data Input'!$Q$2","v":0},{"$f":"'Data Input'!$Q$5","v":0},{"$f":"'Data Input'!$Q$3","v":0},{"$f":"'Data Input'!$Q$4","v":0}]
[null,{"$f":"'Data Input'!$R$8","v":"D"},{"$f":"'Data Input'!$R$1","v":16},null,{"$f":"'Data Input'!$R$6","v":"How Monster feel when woke?"},{"$f":"'Data Input'!$R$2","v":0},{"$f":"'Data Input'!$R$5","v":0},{"$f":"'Data Input'!$R$3","v":0},{"$f":"'Data Input'!$R$4","v":0}]
[null,{"$f":"'Data Input'!$S$8","v":"B"},{"$f":"'Data Input'!$S$1","v":17},null,{"$f":"'Data Input'!$S$6","v":"How Frog think get home?"},{"$f":"'Data Input'!$S$2","v":0},{"$f":"'Data Input'!$S$5","v":0},{"$f":"'Data Input'!$S$3","v":0},{"$f":"'Data Input'!$S$4","v":0}]
[null,{"$f":"'Data Input'!$T$8","v":"D"},{"$f":"'Data Input'!$T$1","v":18},null,{"$f":"'Data Input'!$T$6","v":"F. didn’t tell M. about balloon…"},{"$f":"'Data Input'!$T$2","v":0},{"$f":"'Data Input'!$T$5","v":0},{"$f":"'Data Input'!$T$3","v":0},{"$f":"'Data Input'!$T$4","v":0}]
[null,{"$f":"'Data Input'!$U$8","v":"B"},{"$f":"'Data Input'!$U$1","v":19},null,{"$f":"'Data Input'!$U$6","v":"Monster worried about floating"},{"$f":"'Data Input'!$U$2","v":0},{"$f":"'Data Input'!$U$5","v":0},{"$f":"'Data Input'!$U$3","v":0},{"$f":"'Data Input'!$U$4","v":0}]
[null,{"$f":"'Data Input'!$V$8","v":"C"},{"$f":"'Data Input'!$V$1","v":20},null,{"$f":"'Data Input'!$V$6","v":"Order events in story"},{"$f":"'Data Input'!$V$2","v":0},{"$f":"'Data Input'!$V$5","v":0},{"$f":"'Data Input'!$V$3","v":0},{"$f":"'Data Input'!$V$4","v":0}]
[]
[]
[]
[null,null,null,"Sorted by Correct",null,null,null,null,null,null,null,null,null,null,"Sorted by Correct"]
[null,null,null,"Strand","Question Number","Sub Category","Short Q","Correct","Incorrect or Unanswered","Incorrect","Unanswered",null,null,null,"Strand","Question Number","Sub Category","Short Q","Correct","Incorrect or unanswered","Incorrect","Unanswered"]
[null,{"$f":"RANK(C58,$C$58:$C$127)","v":1},{"$f":" H58 - ROW()*0.000000001","v":-5.8000000000000003E-8},{"$f":"'Data Input'!$C$8","v":"A"},{"$f":"'Data Input'!$C$1","v":1},{"$f":"'Data Input'!$C$7","v":0},{"$f":"'Data Input'!$C$6","v":"Word describing worker ants?"},{"$f":"'Data Input'!$C$2","v":0},{"$f":"'Data Input'!$C$5","v":0},{"$f":"'Data Input'!$C$3","v":0},{"$f":"'Data Input'!$C$4","v":0},null,{"$f":"VLOOKUP(ROW()-ROW(M$57),$B$58:$J$127,1,FALSE)","v":1},{"$f":"VLOOKUP(ROW()-ROW(M$57),$B$58:$J$127,2,FALSE)","v":-5.8000000000000003E-8},{"$f":"VLOOKUP(ROW()-ROW(M$57),$B$58:$J$127,3,FALSE)","v":"A"},{"$f":"VLOOKUP(ROW()-ROW(M$57),$B$58:$J$127,4,FALSE)","v":1},{"$f":"VLOOKUP(ROW()-ROW(M$57),$B$58:$J$127,5,FALSE)","v":0},{"$f":"VLOOKUP(ROW()-ROW(M$57),$B$58:$J$127,6,FALSE)","v":"Word describing worker ants?"},{"$f":"VLOOKUP(ROW()-ROW(M$57),$B$58:$J$127,7,FALSE)","v":0},{"$f":"VLOOKUP(ROW()-ROW(M$57),$B$58:$J$127,8,FALSE)","v":0},{"$f":"VLOOKUP(ROW()-ROW(M$57),$B$58:$K$127,9,FALSE)","v":0},{"$f":"VLOOKUP(ROW()-ROW(M$57),$B$58:$K$127,10,FALSE)","v":0}]
[null,2,{"$f":" H59 - ROW()*0.000000001","v":-5.9000000000000006E-8},{"$f":"'Data Input'!$D$8","v":"B"},{"$f":"'Data Input'!$D$1","v":2},{"$f":"'Data Input'!$D$7","v":0},{"$f":"'Data Input'!$D$6","v":"What queen ant does?"},{"$f":"'Data Input'!$D$2","v":0},{"$f":"'Data Input'!$D$5","v":0},{"$f":"'Data Input'!$D$3","v":0},{"$f":"'Data Input'!$D$4","v":0},null,2,-5.9000000000000006E-8,{"$f":"VLOOKUP(ROW()-ROW(M$57),$B$58:$J$127,3,FALSE)","v":"B"},{"$f":"VLOOKUP(ROW()-ROW(M$57),$B$58:$J$127,4,FALSE)","v":2},{"$f":"VLOOKUP(ROW()-ROW(M$57),$B$58:$J$127,5,FALSE)","v":0},{"$f":"VLOOKUP(ROW()-ROW(M$57),$B$58:$J$127,6,FALSE)","v":"What queen ant does?"},{"$f":"VLOOKUP(ROW()-ROW(M$57),$B$58:$J$127,7,FALSE)","v":0},{"$f":"VLOOKUP(ROW()-ROW(M$57),$B$58:$J$127,8,FALSE)","v":0},{"$f":"VLOOKUP(ROW()-ROW(M$57),$B$58:$K$127,9,FALSE)","v":0},{"$f":"VLOOKUP(ROW()-ROW(M$57),$B$58:$K$127,10,FALSE)","v":0}]
[null,3,-6.0000000000000008E-8,{"$f":"'Data Input'!$E$8","v":"B"},{"$f":"'Data Input'!$E$1","v":3},{"$f":"'Data Input'!$E$7","v":0},{"$f":"'Data Input'!$E$6","v":"What joins rooms in ants nest?"},{"$f":"'Data Input'!$E$2","v":0},{"$f":"'Data Input'!$E$5","v":0},{"$f":"'Data Input'!$E$3","v":0},{"$f":"'Data Input'!$E$4","v":0},null,3,-6.0000000000000008E-8,"B",3,0,"What joins rooms in ants nest?",0,0,0,0]
[null,4,-6.1000000000000004E-8,{"$f":"'Data Input'!$F$8","v":"B"},{"$f":"'Data Input'!$F$1","v":4},{"$f":"'Data Input'!$F$7","v":0},{"$f":"'Data Input'!$F$6","v":"Two jobs worker ants do?"},{"$f":"'Data Input'!$F$2","v":0},{"$f":"'Data Input'!$F$5","v":0},{"$f":"'Data Input'!$F$3","v":0},{"$f":"'Data Input'!$F$4","v":0},null,4,-6.1000000000000004E-8,"B",4,0,"Two jobs worker ants do?",0,0,0,0]
[null,5,-6.1999999999999999E-8,{"$f":"'Data Input'!$G$8","v":"B"},{"$f":"'Data Input'!$G$1","v":5},{"$f":"'Data Input'!$G$7","v":0},{"$f":"'Data Input'!$G$6","v":"What happens to eggs?"},{"$f":"'Data Input'!$G$2","v":0},{"$f":"'Data Input'!$G$5","v":0},{"$f":"'Data Input'!$G$3","v":0},{"$f":"'Data Input'!$G$4","v":0},null,5,-6.1999999999999999E-8,"B",5,0,"What happens to eggs?",0,0,0,0]
[null,6,-6.3000000000000008E-8,{"$f":"'Data Input'!$H$8","v":"D"},{"$f":"'Data Input'!$H$1","v":6},{"$f":"'Data Input'!$H$7","v":0},{"$f":"'Data Input'!$H$6","v":"Why Frog said 'Must...day'?"},{"$f":"'Data Input'!$H$2","v":0},{"$f":"'Data Input'!$H$5","v":0},{"$f":"'Data Input'!$H$3","v":0},{"$f":"'Data Input'!$H$4","v":0},null,6,-6.3000000000000008E-8,"D",6,0,"Why Frog said 'Must...day'?",0,0,0,0]
[null,7,-6.4000000000000004E-8,{"$f":"'Data Input'!$I$8","v":"D"},{"$f":"'Data Input'!$I$1","v":7},{"$f":"'Data Input'!$I$7","v":0},{"$f":"'Data Input'!$I$6","v":"Why was Monster worried?"},{"$f":"'Data Input'!$I$2","v":0},{"$f":"'Data Input'!$I$5","v":0},{"$f":"'Data Input'!$I$3","v":0},{"$f":"'Data Input'!$I$4","v":0},null,7,-6.4000000000000004E-8,"D",7,0,"Why was Monster worried?",0,0,0,0]
[null,8,-6.5E-8,{"$f":"'Data Input'!$J$8","v":"B"},{"$f":"'Data Input'!$J$1","v":8},{"$f":"'Data Input'!$J$7","v":0},{"$f":"'Data Input'!$J$6","v":"What Frog saw on horizon?"},{"$f":"'Data Input'!$J$2","v":0},{"$f":"'Data Input'!$J$5","v":0},{"$f":"'Data Input'!$J$3","v":0},{"$f":"'Data Input'!$J$4","v":0},null,8,-6.5E-8,"B",8,0,"What Frog saw on horizon?",0,0,0,0]
[null,9,-6.6000000000000009E-8,{"$f":"'Data Input'!$K$8","v":"A"},{"$f":"'Data Input'!$K$1","v":9},{"$f":"'Data Input'!$K$7","v":0},{"$f":"'Data Input'!$K$6","v":"Find word meaning 'not well'. "},{"$f":"'Data Input'!$K$2","v":0},{"$f":"'Data Input'!$K$5","v":0},{"$f":"'Data Input'!$K$3","v":0},{"$f":"'Data Input'!$K$4","v":0},null,9,-6.6000000000000009E-8,{"$f":"VLOOKUP(ROW()-ROW(M$57),$B$58:$J$127,3,FALSE)","v":"A"},{"$f":"VLOOKUP(ROW()-ROW(M$57),$B$58:$J$127,4,FALSE)","v":9},{"$f":"VLOOKUP(ROW()-ROW(M$57),$B$58:$J$127,5,FALSE)","v":0},{"$f":"VLOOKUP(ROW()-ROW(M$57),$B$58:$J$127,6,FALSE)","v":"Find word meaning 'not well'. "},{"$f":"VLOOKUP(ROW()-ROW(M$57),$B$58:$J$127,7,FALSE)","v":0},{"$f":"VLOOKUP(ROW()-ROW(M$57),$B$58:$J$127,8,FALSE)","v":0},{"$f":"VLOOKUP(ROW()-ROW(M$57),$B$58:$K$127,9,FALSE)","v":0},{"$f":"VLOOKUP(ROW()-ROW(M$57),$B$58:$K$127,10,FALSE)","v":0}]
[null,10,-6.7000000000000004E-8,{"$f":"'Data Input'!$L$8","v":"A"},{"$f":"'Data Input'!$L$1","v":10},{"$f":"'Data Input'!$L$7","v":0},{"$f":"'Data Input'!$L$6","v":"Meaning of 'spotted'."},{"$f":"'Data Input'!$L$2","v":0},{"$f":"'Data Input'!$L$5","v":0},{"$f":"'Data Input'!$L$3","v":0},{"$f":"'Data Input'!$L$4","v":0},null,10,-6.7000000000000004E-8,"A",10,0,"Meaning of 'spotted'.",0,0,0,0]
[null,11,-6.8E-8,{"$f":"'Data Input'!$M$8","v":"D"},{"$f":"'Data Input'!$M$1","v":11},{"$f":"'Data Input'!$M$7","v":0},{"$f":"'Data Input'!$M$6","v":"Why did the boat start to sink?"},{"$f":"'Data Input'!$M$2","v":0},{"$f":"'Data Input'!$M$5","v":0},{"$f":"'Data Input'!$M$3","v":0},{"$f":"'Data Input'!$M$4","v":0},null,11,-6.8E-8,"D",11,0,"Why did the boat start to sink?",0,0,0,0]
[null,12,-6.9000000000000009E-8,{"$f":"'Data Input'!$N$8","v":"D"},{"$f":"'Data Input'!$N$1","v":12},{"$f":"'Data Input'!$N$7","v":0},{"$f":"'Data Input'!$N$6","v":"How know Frog was excited?"},{"$f":"'Data Input'!$N$2","v":0},{"$f":"'Data Input'!$N$5","v":0},{"$f":"'Data Input'!$N$3","v":0},{"$f":"'Data Input'!$N$4","v":0},null,12,-6.9000000000000009E-8,"D",12,0,"How know Frog was excited?",0,0,0,0]
[null,13,-7.0000000000000005E-8,{"$f":"'Data Input'!$O$8","v":"B"},{"$f":"'Data Input'!$O$1","v":13},{"$f":"'Data Input'!$O$7","v":0},{"$f":"'Data Input'!$O$6","v":"What did Frog find in basket?"},{"$f":"'Data Input'!$O$2","v":0},{"$f":"'Data Input'!$O$5","v":0},{"$f":"'Data Input'!$O$3","v":0},{"$f":"'Data Input'!$O$4","v":0},null,13,-7.0000000000000005E-8,"B",13,0,"What did Frog find in basket?",0,0,0,0]
[null,14,-7.1E-8,{"$f":"'Data Input'!$P$8","v":"B"},{"$f":"'Data Input'!$P$1","v":14},{"$f":"'Data Input'!$P$7","v":0},{"$f":"'Data Input'!$P$6","v":"Where did Monster sleep?"},{"$f":"'Data Input'!$P$2","v":0},{"$f":"'Data Input'!$P$5","v":0},{"$f":"'Data Input'!$P$3","v":0},{"$f":"'Data Input'!$P$4","v":0},null,14,-7.1E-8,"B",14,0,"Where did Monster sleep?",0,0,0,0]
[null,15,-7.2000000000000009E-8,{"$f":"'Data Input'!$Q$8","v":"D"},{"$f":"'Data Input'!$Q$1","v":15},{"$f":"'Data Input'!$Q$7","v":0},{"$f":"'Data Input'!$Q$6","v":"How tell late when woke up?"},{"$f":"'Data Input'!$Q$2","v":0},{"$f":"'Data Input'!$Q$5","v":0},{"$f":"'Data Input'!$Q$3","v":0},{"$f":"'Data Input'!$Q$4","v":0},null,15,-7.2000000000000009E-8,"D",15,0,"How tell late when woke up?",0,0,0,0]
[null,16,-7.3000000000000005E-8,{"$f":"'Data Input'!$R$8","v":"D"},{"$f":"'Data Input'!$R$1","v":16},{"$f":"'Data Input'!$R$7","v":0},{"$f":"'Data Input'!$R$6","v":"How Monster feel when woke?"},{"$f":"'Data Input'!$R$2","v":0},{"$f":"'Data Input'!$R$5","v":0},{"$f":"'Data Input'!$R$3","v":0},{"$f":"'Data Input'!$R$4","v":0},null,16,-7.3000000000000005E-8,"D",16,0,"How Monster feel when woke?",0,0,0,0]
[null,17,-7.4000000000000001E-8,{"$f":"'Data Input'!$S$8","v":"B"},{"$f":"'Data Input'!$S$1","v":17},{"$f":"'Data Input'!$S$7","v":0},{"$f":"'Data Input'!$S$6","v":"How Frog think get home?"},{"$f":"'Data Input'!$S$2","v":0},{"$f":"'Data Input'!$S$5","v":0},{"$f":"'Data Input'!$S$3","v":0},{"$f":"'Data Input'!$S$4","v":0},null,17,-7.4000000000000001E-8,"B",17,0,"How Frog think get home?",0,0,0,0]
[null,18,-7.500000000000001E-8,{"$f":"'Data Input'!$T$8","v":"D"},{"$f":"'Data Input'!$T$1","v":18},{"$f":"'Data Input'!$T$7","v":0},{"$f":"'Data Input'!$T$6","v":"F. didn’t tell M. about balloon…"},{"$f":"'Data Input'!$T$2","v":0},{"$f":"'Data Input'!$T$5","v":0},{"$f":"'Data Input'!$T$3","v":0},{"$f":"'Data Input'!$T$4","v":0},null,18,-7.500000000000001E-8,"D",18,0,"F. didn’t tell M. about balloon…",0,0,0,0]
[null,19,-7.6000000000000006E-8,{"$f":"'Data Input'!$U$8","v":"B"},{"$f":"'Data Input'!$U$1","v":19},{"$f":"'Data Input'!$U$7","v":0},{"$f":"'Data Input'!$U$6","v":"Monster worried about floating"},{"$f":"'Data Input'!$U$2","v":0},{"$f":"'Data Input'!$U$5","v":0},{"$f":"'Data Input'!$U$3","v":0},{"$f":"'Data Input'!$U$4","v":0},null,19,-7.6000000000000006E-8,"B",19,0,"Monster worried about floating",0,0,0,0]
[null,20,-7.7000000000000001E-8,{"$f":"'Data Input'!$V$8","v":"C"},{"$f":"'Data Input'!$V$1","v":20},{"$f":"'Data Input'!$V$7","v":0},{"$f":"'Data Input'!$V$6","v":"Order events in story"},{"$f":"'Data Input'!$V$2","v":0},{"$f":"'Data Input'!$V$5","v":0},{"$f":"'Data Input'!$V$3","v":0},{"$f":"'Data Input'!$V$4","v":0},null,20,-7.7000000000000001E-8,"C",20,0,"Order events in story",0,0,0,0]

{"sheet":"P2 Hidden Data Tables","index":3,"n_rows":96,"n_cols":22,"rows_kept":96,"cut":false,"hidden":true,"merged":[]}
[null,"Sorted by Strand"]
[null,"Strand","Question Number","Sub Category","Short Q","Correct","Incorrect or Unanswered","Incorrect","Unanswered"]
[null,{"$f":"'Data Input'!$AC$8","v":"A"},{"$f":"'Data Input'!$AC$1","v":5},{"$f":"'Data Input'!$AC$7","v":"_"},{"$f":"'Data Input'!$AC$6","v":"Drained' meaning?"},{"$f":"'Data Input'!$AC$2","v":0},{"$f":"'Data Input'!$AC$5","v":0},{"$f":"'Data Input'!$AC$3","v":0},{"$f":"'Data Input'!$AC$4","v":0},null,null,null,"Codes"]
[null,{"$f":"'Data Input'!$AF$8","v":"A"},{"$f":"'Data Input'!$AF$1","v":8},{"$f":"'Data Input'!$AF$7","v":"_"},{"$f":"'Data Input'!$AF$6","v":"Two words show king scared. "},{"$f":"'Data Input'!$AF$2","v":0},{"$f":"'Data Input'!$AF$5","v":0},{"$f":"'Data Input'!$AF$3","v":0},{"$f":"'Data Input'!$AF$4","v":0}]
[null,{"$f":"'Data Input'!$AM$8","v":"A"},{"$f":"'Data Input'!$AM$1","v":15},{"$f":"'Data Input'!$AM$7","v":"_"},{"$f":"'Data Input'!$AM$6","v":"Word meaning 'given away'. "},{"$f":"'Data Input'!$AM$2","v":0},{"$f":"'Data Input'!$AM$5","v":0},{"$f":"'Data Input'!$AM$3","v":0},{"$f":"'Data Input'!$AM$4","v":0}]
[null,{"$f":"'Data Input'!$AO$8","v":"A"},{"$f":"'Data Input'!$AO$1","v":17},{"$f":"'Data Input'!$AO$7","v":"_"},{"$f":"'Data Input'!$AO$6","v":"Match words to meaning. "},{"$f":"'Data Input'!$AO$2","v":0},{"$f":"'Data Input'!$AO$5","v":0},{"$f":"'Data Input'!$AO$3","v":0},{"$f":"'Data Input'!$AO$4","v":0}]
[]
[null,{"$f":"'Data Input'!$X$8","v":"B"},{"$f":"'Data Input'!$X$1","v":1},{"$f":"'Data Input'!$X$7","v":"_"},{"$f":"'Data Input'!$X$6","v":"Why king wanted blackbirds?"},{"$f":"'Data Input'!$X$2","v":0},{"$f":"'Data Input'!$X$5","v":0},{"$f":"'Data Input'!$X$3","v":0},{"$f":"'Data Input'!$X$4","v":0}]
[null,{"$f":"'Data Input'!$Z$8","v":"B"},{"$f":"'Data Input'!$Z$1","v":3},{"$f":"'Data Input'!$Z$7","v":"_"},{"$f":"'Data Input'!$Z$6","v":"Instrument blackbird played?"},{"$f":"'Data Input'!$Z$2","v":0},{"$f":"'Data Input'!$Z$5","v":0},{"$f":"'Data Input'!$Z$3","v":0},{"$f":"'Data Input'!$Z$4","v":0}]
[null,{"$f":"'Data Input'!$AA$8","v":"B"},{"$f":"'Data Input'!$AA$1","v":"4a"},{"$f":"'Data Input'!$AA$7","v":"_"},{"$f":"'Data Input'!$AA$6","v":"What had king done to fox?"},{"$f":"'Data Input'!$AA$2","v":0},{"$f":"'Data Input'!$AA$5","v":0},{"$f":"'Data Input'!$AA$3","v":0},{"$f":"'Data Input'!$AA$4","v":0}]
[null,{"$f":"'Data Input'!$AB$8","v":"B"},{"$f":"'Data Input'!$AB$1","v":"4b"},{"$f":"'Data Input'!$AB$7","v":"_"},{"$f":"'Data Input'!$AB$6","v":"What had king done to ants?"},{"$f":"'Data Input'!$AB$2","v":0},{"$f":"'Data Input'!$AB$5","v":0},{"$f":"'Data Input'!$AB$3","v":0},{"$f":"'Data Input'!$AB$4","v":0}]
[null,{"$f":"'Data Input'!$AE$8","v":"B"},{"$f":"'Data Input'!$AE$1","v":7},{"$f":"'Data Input'!$AE$7","v":"_"},{"$f":"'Data Input'!$AE$6","v":"Match characters to help given."},{"$f":"'Data Input'!$AE$2","v":0},{"$f":"'Data Input'!$AE$5","v":0},{"$f":"'Data Input'!$AE$3","v":0},{"$f":"'Data Input'!$AE$4","v":0}]
[null,{"$f":"'Data Input'!$AG$8","v":"B"},{"$f":"'Data Input'!$AG$1","v":9},{"$f":"'Data Input'!$AG$7","v":"_"},{"$f":"'Data Input'!$AG$6","v":"When plastics first made?"},{"$f":"'Data Input'!$AG$2","v":0},{"$f":"'Data Input'!$AG$5","v":0},{"$f":"'Data Input'!$AG$3","v":0},{"$f":"'Data Input'!$AG$4","v":0}]
[null,{"$f":"'Data Input'!$AH$8","v":"B"},{"$f":"'Data Input'!$AH$1","v":10},{"$f":"'Data Input'!$AH$7","v":"_"},{"$f":"'Data Input'!$AH$6","v":"Two good points about plastics. "},{"$f":"'Data Input'!$AH$2","v":0},{"$f":"'Data Input'!$AH$5","v":0},{"$f":"'Data Input'!$AH$3","v":0},{"$f":"'Data Input'!$AH$4","v":0}]
[null,{"$f":"'Data Input'!$AJ$8","v":"B"},{"$f":"'Data Input'!$AJ$1","v":12},{"$f":"'Data Input'!$AJ$7","v":"_"},{"$f":"'Data Input'!$AJ$6","v":"Two problems with landfills"},{"$f":"'Data Input'!$AJ$2","v":0},{"$f":"'Data Input'!$AJ$5","v":0},{"$f":"'Data Input'!$AJ$3","v":0},{"$f":"'Data Input'!$AJ$4","v":0}]
[null,{"$f":"'Data Input'!$AK$8","v":"B"},{"$f":"'Data Input'!$AK$1","v":13},{"$f":"'Data Input'!$AK$7","v":"_"},{"$f":"'Data Input'!$AK$6","v":"Today, plastics made from?"},{"$f":"'Data Input'!$AK$2","v":0},{"$f":"'Data Input'!$AK$5","v":0},{"$f":"'Data Input'!$AK$3","v":0},{"$f":"'Data Input'!$AK$4","v":0}]
[null,{"$f":"'Data Input'!$AL$8","v":"B"},{"$f":"'Data Input'!$AL$1","v":14},{"$f":"'Data Input'!$AL$7","v":"_"},{"$f":"'Data Input'!$AL$6","v":"Future, plastics made from?"},{"$f":"'Data Input'!$AL$2","v":0},{"$f":"'Data Input'!$AL$5","v":0},{"$f":"'Data Input'!$AL$3","v":0},{"$f":"'Data Input'!$AL$4","v":0}]
[null,{"$f":"'Data Input'!$AN$8","v":"B"},{"$f":"'Data Input'!$AN$1","v":16},{"$f":"'Data Input'!$AN$7","v":"_"},{"$f":"'Data Input'!$AN$6","v":"Thing made from recycled plastic. "},{"$f":"'Data Input'!$AN$2","v":0},{"$f":"'Data Input'!$AN$5","v":0},{"$f":"'Data Input'!$AN$3","v":0},{"$f":"'Data Input'!$AN$4","v":0}]
[]
[null,{"$f":"'Data Input'!$Y$8","v":"D"},{"$f":"'Data Input'!$Y$1","v":2},{"$f":"'Data Input'!$Y$7","v":"_"},{"$f":"'Data Input'!$Y$6","v":"Why blackbird's wife sad?"},{"$f":"'Data Input'!$Y$2","v":0},{"$f":"'Data Input'!$Y$5","v":0},{"$f":"'Data Input'!$Y$3","v":0},{"$f":"'Data Input'!$Y$4","v":0}]
[null,{"$f":"'Data Input'!$AD$8","v":"D"},{"$f":"'Data Input'!$AD$1","v":6},{"$f":"'Data Input'!$AD$7","v":"_"},{"$f":"'Data Input'!$AD$6","v":"How know king not worried?"},{"$f":"'Data Input'!$AD$2","v":0},{"$f":"'Data Input'!$AD$5","v":0},{"$f":"'Data Input'!$AD$3","v":0},{"$f":"'Data Input'!$AD$4","v":0}]
[null,{"$f":"'Data Input'!$AI$8","v":"D"},{"$f":"'Data Input'!$AI$1","v":11},{"$f":"'Data Input'!$AI$7","v":"_"},{"$f":"'Data Input'!$AI$6","v":"Why plastics dangerous (melt)?"},{"$f":"'Data Input'!$AI$2","v":0},{"$f":"'Data Input'!$AI$5","v":0},{"$f":"'Data Input'!$AI$3","v":0},{"$f":"'Data Input'!$AI$4","v":0}]
[null,{"$f":"'Data Input'!$AP$8","v":"D"},{"$f":"'Data Input'!$AP$1","v":"18i"},{"$f":"'Data Input'!$AP$7","v":"_"},{"$f":"'Data Input'!$AP$6","v":"Information true or false."},{"$f":"'Data Input'!$AP$2","v":0},{"$f":"'Data Input'!$AP$5","v":0},{"$f":"'Data Input'!$AP$3","v":0},{"$f":"'Data Input'!$AP$4","v":0}]
[null,{"$f":"'Data Input'!$AQ$8","v":"D"},{"$f":"'Data Input'!$AQ$1","v":"18ii"},{"$f":"'Data Input'!$AQ$7","v":"_"},{"$f":"'Data Input'!$AQ$6","v":"Information true or false."},{"$f":"'Data Input'!$AQ$2","v":0},{"$f":"'Data Input'!$AQ$5","v":0},{"$f":"'Data Input'!$AQ$3","v":0},{"$f":"'Data Input'!$AQ$4","v":0}]
[]
[]
[]
[]
[]
[null,"Sorted by Sub Type"]
[null,"Strand","Question Number","Sub Category","Short Q","Correct","Incorrect or Unanswered","Incorrect","Unanswered"]
[null,{"$f":"'Data Input'!$X$8","v":"B"},{"$f":"'Data Input'!$X$1","v":1},{"$f":"'Data Input'!$X$7","v":"_"},{"$f":"'Data Input'!$X$6","v":"Why king wanted blackbirds?"},{"$f":"'Data Input'!$X$2","v":0},{"$f":"'Data Input'!$X$5","v":0},{"$f":"'Data Input'!$X$3","v":0},{"$f":"'Data Input'!$X$4","v":0}]
[null,{"$f":"'Data Input'!$Y$8","v":"D"},{"$f":"'Data Input'!$Y$1","v":2},{"$f":"'Data Input'!$Y$7","v":"_"},{"$f":"'Data Input'!$Y$6","v":"Why blackbird's wife sad?"},{"$f":"'Data Input'!$Y$2","v":0},{"$f":"'Data Input'!$Y$5","v":0},{"$f":"'Data Input'!$Y$3","v":0},{"$f":"'Data Input'!$Y$4","v":0}]
[null,{"$f":"'Data Input'!$AA$8","v":"B"},{"$f":"'Data Input'!$AA$1","v":"4a"},{"$f":"'Data Input'!$AA$7","v":"_"},{"$f":"'Data Input'!$AA$6","v":"What had king done to fox?"},{"$f":"'Data Input'!$AA$2","v":0},{"$f":"'Data Input'!$AA$5","v":0},{"$f":"'Data Input'!$AA$3","v":0},{"$f":"'Data Input'!$AA$4","v":0}]
[null,{"$f":"'Data Input'!$AB$8","v":"B"},{"$f":"'Data Input'!$AB$1","v":"4b"},{"$f":"'Data Input'!$AB$7","v":"_"},{"$f":"'Data Input'!$AB$6","v":"What had king done to ants?"},{"$f":"'Data Input'!$AB$2","v":0},{"$f":"'Data Input'!$AB$5","v":0},{"$f":"'Data Input'!$AB$3","v":0},{"$f":"'Data Input'!$AB$4","v":0}]
[null,{"$f":"'Data Input'!$AC$8","v":"A"},{"$f":"'Data Input'!$AC$1","v":5},{"$f":"'Data Input'!$AC$7","v":"_"},{"$f":"'Data Input'!$AC$6","v":"Drained' meaning?"},{"$f":"'Data Input'!$AC$2","v":0},{"$f":"'Data Input'!$AC$5","v":0},{"$f":"'Data Input'!$AC$3","v":0},{"$f":"'Data Input'!$AC$4","v":0}]
[null,{"$f":"'Data Input'!$AK$8","v":"B"},{"$f":"'Data Input'!$AK$1","v":13},{"$f":"'Data Input'!$AK$7","v":"_"},{"$f":"'Data Input'!$AK$6","v":"Today, plastics made from?"},{"$f":"'Data Input'!$AK$2","v":0},{"$f":"'Data Input'!$AK$5","v":0},{"$f":"'Data Input'!$AK$3","v":0},{"$f":"'Data Input'!$AK$4","v":0}]
[null,{"$f":"'Data Input'!$AN$8","v":"B"},{"$f":"'Data Input'!$AN$1","v":16},{"$f":"'Data Input'!$AN$7","v":"_"},{"$f":"'Data Input'!$AN$6","v":"Thing made from recycled plastic. "},{"$f":"'Data Input'!$AN$2","v":0},{"$f":"'Data Input'!$AN$5","v":0},{"$f":"'Data Input'!$AN$3","v":0},{"$f":"'Data Input'!$AN$4","v":0}]
[null,{"$f":"'Data Input'!$AO$8","v":"A"},{"$f":"'Data Input'!$AO$1","v":17},{"$f":"'Data Input'!$AO$7","v":"_"},{"$f":"'Data Input'!$AO$6","v":"Match words to meaning. "},{"$f":"'Data Input'!$AO$2","v":0},{"$f":"'Data Input'!$AO$5","v":0},{"$f":"'Data Input'!$AO$3","v":0},{"$f":"'Data Input'!$AO$4","v":0}]
[null,{"$f":"'Data Input'!$AP$8","v":"D"},{"$f":"'Data Input'!$AP$1","v":"18i"},{"$f":"'Data Input'!$AP$7","v":"_"},{"$f":"'Data Input'!$AP$6","v":"Information true or false."},{"$f":"'Data Input'!$AP$2","v":0},{"$f":"'Data Input'!$AP$5","v":0},{"$f":"'Data Input'!$AP$3","v":0},{"$f":"'Data Input'!$AP$4","v":0}]
[null,{"$f":"'Data Input'!$AQ$8","v":"D"},{"$f":"'Data Input'!$AQ$1","v":"18ii"},{"$f":"'Data Input'!$AQ$7","v":"_"},{"$f":"'Data Input'!$AQ$6","v":"Information true or false."},{"$f":"'Data Input'!$AQ$2","v":0},{"$f":"'Data Input'!$AQ$5","v":0},{"$f":"'Data Input'!$AQ$3","v":0},{"$f":"'Data Input'!$AQ$4","v":0}]
[null,{"$f":"'Data Input'!#REF!","v":{"$error":"#REF!"}},{"$f":"'Data Input'!#REF!","v":{"$error":"#REF!"}},{"$f":"'Data Input'!#REF!","v":{"$error":"#REF!"}},{"$f":"'Data Input'!#REF!","v":{"$error":"#REF!"}},{"$f":"'Data Input'!#REF!","v":{"$error":"#REF!"}},{"$f":"'Data Input'!#REF!","v":{"$error":"#REF!"}},{"$f":"'Data Input'!#REF!","v":{"$error":"#REF!"}},{"$f":"'Data Input'!#REF!","v":{"$error":"#REF!"}}]
[null,{"$f":"'Data Input'!#REF!","v":{"$error":"#REF!"}},{"$f":"'Data Input'!#REF!","v":{"$error":"#REF!"}},{"$f":"'Data Input'!#REF!","v":{"$error":"#REF!"}},{"$f":"'Data Input'!#REF!","v":{"$error":"#REF!"}},{"$f":"'Data Input'!#REF!","v":{"$error":"#REF!"}},{"$f":"'Data Input'!#REF!","v":{"$error":"#REF!"}},{"$f":"'Data Input'!#REF!","v":{"$error":"#REF!"}},{"$f":"'Data Input'!#REF!","v":{"$error":"#REF!"}}]
[null,{"$f":"'Data Input'!#REF!","v":{"$error":"#REF!"}},{"$f":"'Data Input'!#REF!","v":{"$error":"#REF!"}},{"$f":"'Data Input'!#REF!","v":{"$error":"#REF!"}},{"$f":"'Data Input'!#REF!","v":{"$error":"#REF!"}},{"$f":"'Data Input'!#REF!","v":{"$error":"#REF!"}},{"$f":"'Data Input'!#REF!","v":{"$error":"#REF!"}},{"$f":"'Data Input'!#REF!","v":{"$error":"#REF!"}},{"$f":"'Data Input'!#REF!","v":{"$error":"#REF!"}}]
[null,{"$f":"'Data Input'!#REF!","v":{"$error":"#REF!"}},{"$f":"'Data Input'!#REF!","v":{"$error":"#REF!"}},{"$f":"'Data Input'!#REF!","v":{"$error":"#REF!"}},{"$f":"'Data Input'!#REF!","v":{"$error":"#REF!"}},{"$f":"'Data Input'!#REF!","v":{"$error":"#REF!"}},{"$f":"'Data Input'!#REF!","v":{"$error":"#REF!"}},{"$f":"'Data Input'!#REF!","v":{"$error":"#REF!"}},{"$f":"'Data Input'!#REF!","v":{"$error":"#REF!"}}]
[null,{"$f":"'Data Input'!#REF!","v":{"$error":"#REF!"}},{"$f":"'Data Input'!#REF!","v":{"$error":"#REF!"}},{"$f":"'Data Input'!#REF!","v":{"$error":"#REF!"}},{"$f":"'Data Input'!#REF!","v":{"$error":"#REF!"}},{"$f":"'Data Input'!#REF!","v":{"$error":"#REF!"}},{"$f":"'Data Input'!#REF!","v":{"$error":"#REF!"}},{"$f":"'Data Input'!#REF!","v":{"$error":"#REF!"}},{"$f":"'Data Input'!#REF!","v":{"$error":"#REF!"}}]
[null,{"$f":"'Data Input'!#REF!","v":{"$error":"#REF!"}},{"$f":"'Data Input'!#REF!","v":{"$error":"#REF!"}},{"$f":"'Data Input'!#REF!","v":{"$error":"#REF!"}},{"$f":"'Data Input'!#REF!","v":{"$error":"#REF!"}},{"$f":"'Data Input'!#REF!","v":{"$error":"#REF!"}},{"$f":"'Data Input'!#REF!","v":{"$error":"#REF!"}},{"$f":"'Data Input'!#REF!","v":{"$error":"#REF!"}},{"$f":"'Data Input'!#REF!","v":{"$error":"#REF!"}}]
[null,{"$f":"'Data Input'!#REF!","v":{"$error":"#REF!"}},{"$f":"'Data Input'!#REF!","v":{"$error":"#REF!"}},{"$f":"'Data Input'!#REF!","v":{"$error":"#REF!"}},{"$f":"'Data Input'!#REF!","v":{"$error":"#REF!"}},{"$f":"'Data Input'!#REF!","v":{"$error":"#REF!"}},{"$f":"'Data Input'!#REF!","v":{"$error":"#REF!"}},{"$f":"'Data Input'!#REF!","v":{"$error":"#REF!"}},{"$f":"'Data Input'!#REF!","v":{"$error":"#REF!"}}]
[null,{"$f":"'Data Input'!$AI$8","v":"D"},{"$f":"'Data Input'!$AI$1","v":11},{"$f":"'Data Input'!$AI$7","v":"_"},{"$f":"'Data Input'!$AI$6","v":"Why plastics dangerous (melt)?"},{"$f":"'Data Input'!$AI$2","v":0},{"$f":"'Data Input'!$AI$5","v":0},{"$f":"'Data Input'!$AI$3","v":0},{"$f":"'Data Input'!$AI$4","v":0}]
[null,{"$f":"'Data Input'!#REF!","v":{"$error":"#REF!"}},{"$f":"'Data Input'!#REF!","v":{"$error":"#REF!"}},{"$f":"'Data Input'!#REF!","v":{"$error":"#REF!"}},{"$f":"'Data Input'!#REF!","v":{"$error":"#REF!"}},{"$f":"'Data Input'!#REF!","v":{"$error":"#REF!"}},{"$f":"'Data Input'!#REF!","v":{"$error":"#REF!"}},{"$f":"'Data Input'!#REF!","v":{"$error":"#REF!"}},{"$f":"'Data Input'!#REF!","v":{"$error":"#REF!"}}]
[null,{"$f":"'Data Input'!#REF!","v":{"$error":"#REF!"}},{"$f":"'Data Input'!#REF!","v":{"$error":"#REF!"}},{"$f":"'Data Input'!#REF!","v":{"$error":"#REF!"}},{"$f":"'Data Input'!#REF!","v":{"$error":"#REF!"}},{"$f":"'Data Input'!#REF!","v":{"$error":"#REF!"}},{"$f":"'Data Input'!#REF!","v":{"$error":"#REF!"}},{"$f":"'Data Input'!#REF!","v":{"$error":"#REF!"}},{"$f":"'Data Input'!#REF!","v":{"$error":"#REF!"}}]
[null,{"$f":"'Data Input'!#REF!","v":{"$error":"#REF!"}},{"$f":"'Data Input'!#REF!","v":{"$error":"#REF!"}},{"$f":"'Data Input'!#REF!","v":{"$error":"#REF!"}},{"$f":"'Data Input'!#REF!","v":{"$error":"#REF!"}},{"$f":"'Data Input'!#REF!","v":{"$error":"#REF!"}},{"$f":"'Data Input'!#REF!","v":{"$error":"#REF!"}},{"$f":"'Data Input'!#REF!","v":{"$error":"#REF!"}},{"$f":"'Data Input'!#REF!","v":{"$error":"#REF!"}}]
[null,{"$f":"'Data Input'!#REF!","v":{"$error":"#REF!"}},{"$f":"'Data Input'!#REF!","v":{"$error":"#REF!"}},{"$f":"'Data Input'!#REF!","v":{"$error":"#REF!"}},{"$f":"'Data Input'!#REF!","v":{"$error":"#REF!"}},{"$f":"'Data Input'!#REF!","v":{"$error":"#REF!"}},{"$f":"'Data Input'!#REF!","v":{"$error":"#REF!"}},{"$f":"'Data Input'!#REF!","v":{"$error":"#REF!"}},{"$f":"'Data Input'!#REF!","v":{"$error":"#REF!"}}]
[null,{"$f":"'Data Input'!#REF!","v":{"$error":"#REF!"}},{"$f":"'Data Input'!#REF!","v":{"$error":"#REF!"}},{"$f":"'Data Input'!#REF!","v":{"$error":"#REF!"}},{"$f":"'Data Input'!#REF!","v":{"$error":"#REF!"}},{"$f":"'Data Input'!#REF!","v":{"$error":"#REF!"}},{"$f":"'Data Input'!#REF!","v":{"$error":"#REF!"}},{"$f":"'Data Input'!#REF!","v":{"$error":"#REF!"}},{"$f":"'Data Input'!#REF!","v":{"$error":"#REF!"}}]
[null,{"$f":"'Data Input'!#REF!","v":{"$error":"#REF!"}},{"$f":"'Data Input'!#REF!","v":{"$error":"#REF!"}},{"$f":"'Data Input'!#REF!","v":{"$error":"#REF!"}},{"$f":"'Data Input'!#REF!","v":{"$error":"#REF!"}},{"$f":"'Data Input'!#REF!","v":{"$error":"#REF!"}},{"$f":"'Data Input'!#REF!","v":{"$error":"#REF!"}},{"$f":"'Data Input'!#REF!","v":{"$error":"#REF!"}},{"$f":"'Data Input'!#REF!","v":{"$error":"#REF!"}}]
[null,{"$f":"'Data Input'!#REF!","v":{"$error":"#REF!"}},{"$f":"'Data Input'!#REF!","v":{"$error":"#REF!"}},{"$f":"'Data Input'!#REF!","v":{"$error":"#REF!"}},{"$f":"'Data Input'!#REF!","v":{"$error":"#REF!"}},{"$f":"'Data Input'!#REF!","v":{"$error":"#REF!"}},{"$f":"'Data Input'!#REF!","v":{"$error":"#REF!"}},{"$f":"'Data Input'!#REF!","v":{"$error":"#REF!"}},{"$f":"'Data Input'!#REF!","v":{"$error":"#REF!"}}]
[null,{"$f":"'Data Input'!#REF!","v":{"$error":"#REF!"}},{"$f":"'Data Input'!#REF!","v":{"$error":"#REF!"}},{"$f":"'Data Input'!#REF!","v":{"$error":"#REF!"}},{"$f":"'Data Input'!#REF!","v":{"$error":"#REF!"}},{"$f":"'Data Input'!#REF!","v":{"$error":"#REF!"}},{"$f":"'Data Input'!#REF!","v":{"$error":"#REF!"}},{"$f":"'Data Input'!#REF!","v":{"$error":"#REF!"}},{"$f":"'Data Input'!#REF!","v":{"$error":"#REF!"}}]
[null,{"$f":"'Data Input'!$AL$8","v":"B"},{"$f":"'Data Input'!$AL$1","v":14},{"$f":"'Data Input'!$AL$7","v":"_"},{"$f":"'Data Input'!$AL$6","v":"Future, plastics made from?"},{"$f":"'Data Input'!$AL$2","v":0},{"$f":"'Data Input'!$AL$5","v":0},{"$f":"'Data Input'!$AL$3","v":0},{"$f":"'Data Input'!$AL$4","v":0}]
[null,{"$f":"'Data Input'!$AM$8","v":"A"},{"$f":"'Data Input'!$AM$1","v":15},{"$f":"'Data Input'!$AM$7","v":"_"},{"$f":"'Data Input'!$AM$6","v":"Word meaning 'given away'. "},{"$f":"'Data Input'!$AM$2","v":0},{"$f":"'Data Input'!$AM$5","v":0},{"$f":"'Data Input'!$AM$3","v":0},{"$f":"'Data Input'!$AM$4","v":0}]
[null,{"$f":"'Data Input'!$AD$8","v":"D"},{"$f":"'Data Input'!$AD$1","v":6},{"$f":"'Data Input'!$AD$7","v":"_"},{"$f":"'Data Input'!$AD$6","v":"How know king not worried?"},{"$f":"'Data Input'!$AD$2","v":0},{"$f":"'Data Input'!$AD$5","v":0},{"$f":"'Data Input'!$AD$3","v":0},{"$f":"'Data Input'!$AD$4","v":0}]
[null,{"$f":"'Data Input'!$AE$8","v":"B"},{"$f":"'Data Input'!$AE$1","v":7},{"$f":"'Data Input'!$AE$7","v":"_"},{"$f":"'Data Input'!$AE$6","v":"Match characters to help given."},{"$f":"'Data Input'!$AE$2","v":0},{"$f":"'Data Input'!$AE$5","v":0},{"$f":"'Data Input'!$AE$3","v":0},{"$f":"'Data Input'!$AE$4","v":0}]
[null,{"$f":"'Data Input'!#REF!","v":{"$error":"#REF!"}},{"$f":"'Data Input'!#REF!","v":{"$error":"#REF!"}},{"$f":"'Data Input'!#REF!","v":{"$error":"#REF!"}},{"$f":"'Data Input'!#REF!","v":{"$error":"#REF!"}},{"$f":"'Data Input'!#REF!","v":{"$error":"#REF!"}},{"$f":"'Data Input'!#REF!","v":{"$error":"#REF!"}},{"$f":"'Data Input'!#REF!","v":{"$error":"#REF!"}},{"$f":"'Data Input'!#REF!","v":{"$error":"#REF!"}}]
[null,{"$f":"'Data Input'!#REF!","v":{"$error":"#REF!"}},{"$f":"'Data Input'!#REF!","v":{"$error":"#REF!"}},{"$f":"'Data Input'!#REF!","v":{"$error":"#REF!"}},{"$f":"'Data Input'!#REF!","v":{"$error":"#REF!"}},{"$f":"'Data Input'!#REF!","v":{"$error":"#REF!"}},{"$f":"'Data Input'!#REF!","v":{"$error":"#REF!"}},{"$f":"'Data Input'!#REF!","v":{"$error":"#REF!"}},{"$f":"'Data Input'!#REF!","v":{"$error":"#REF!"}}]
[null,{"$f":"'Data Input'!$Z$8","v":"B"},{"$f":"'Data Input'!$Z$1","v":3},{"$f":"'Data Input'!$Z$7","v":"_"},{"$f":"'Data Input'!$Z$6","v":"Instrument blackbird played?"},{"$f":"'Data Input'!$Z$2","v":0},{"$f":"'Data Input'!$Z$5","v":0},{"$f":"'Data Input'!$Z$3","v":0},{"$f":"'Data Input'!$Z$4","v":0}]
[null,{"$f":"'Data Input'!$AF$8","v":"A"},{"$f":"'Data Input'!$AF$1","v":8},{"$f":"'Data Input'!$AF$7","v":"_"},{"$f":"'Data Input'!$AF$6","v":"Two words show king scared. "},{"$f":"'Data Input'!$AF$2","v":0},{"$f":"'Data Input'!$AF$5","v":0},{"$f":"'Data Input'!$AF$3","v":0},{"$f":"'Data Input'!$AF$4","v":0}]
[null,{"$f":"'Data Input'!$AG$8","v":"B"},{"$f":"'Data Input'!$AG$1","v":9},{"$f":"'Data Input'!$AG$7","v":"_"},{"$f":"'Data Input'!$AG$6","v":"When plastics first made?"},{"$f":"'Data Input'!$AG$2","v":0},{"$f":"'Data Input'!$AG$5","v":0},{"$f":"'Data Input'!$AG$3","v":0},{"$f":"'Data Input'!$AG$4","v":0}]
[null,{"$f":"'Data Input'!$AH$8","v":"B"},{"$f":"'Data Input'!$AH$1","v":10},{"$f":"'Data Input'!$AH$7","v":"_"},{"$f":"'Data Input'!$AH$6","v":"Two good points about plastics. "},{"$f":"'Data Input'!$AH$2","v":0},{"$f":"'Data Input'!$AH$5","v":0},{"$f":"'Data Input'!$AH$3","v":0},{"$f":"'Data Input'!$AH$4","v":0}]
[null,{"$f":"'Data Input'!$AJ$8","v":"B"},{"$f":"'Data Input'!$AJ$1","v":12},{"$f":"'Data Input'!$AJ$7","v":"_"},{"$f":"'Data Input'!$AJ$6","v":"Two problems with landfills"},{"$f":"'Data Input'!$AJ$2","v":0},{"$f":"'Data Input'!$AJ$5","v":0},{"$f":"'Data Input'!$AJ$3","v":0},{"$f":"'Data Input'!$AJ$4","v":0}]
[null,{"$f":"'Data Input'!#REF!","v":{"$error":"#REF!"}},{"$f":"'Data Input'!#REF!","v":{"$error":"#REF!"}},{"$f":"'Data Input'!#REF!","v":{"$error":"#REF!"}},{"$f":"'Data Input'!#REF!","v":{"$error":"#REF!"}},{"$f":"'Data Input'!#REF!","v":{"$error":"#REF!"}},{"$f":"'Data Input'!#REF!","v":{"$error":"#REF!"}},{"$f":"'Data Input'!#REF!","v":{"$error":"#REF!"}},{"$f":"'Data Input'!#REF!","v":{"$error":"#REF!"}}]
[null,{"$f":"'Data Input'!#REF!","v":{"$error":"#REF!"}},{"$f":"'Data Input'!#REF!","v":{"$error":"#REF!"}},{"$f":"'Data Input'!#REF!","v":{"$error":"#REF!"}},{"$f":"'Data Input'!#REF!","v":{"$error":"#REF!"}},{"$f":"'Data Input'!#REF!","v":{"$error":"#REF!"}},{"$f":"'Data Input'!#REF!","v":{"$error":"#REF!"}},{"$f":"'Data Input'!#REF!","v":{"$error":"#REF!"}},{"$f":"'Data Input'!#REF!","v":{"$error":"#REF!"}}]
[null,{"$f":"'Data Input'!#REF!","v":{"$error":"#REF!"}},{"$f":"'Data Input'!#REF!","v":{"$error":"#REF!"}},{"$f":"'Data Input'!#REF!","v":{"$error":"#REF!"}},{"$f":"'Data Input'!#REF!","v":{"$error":"#REF!"}},{"$f":"'Data Input'!#REF!","v":{"$error":"#REF!"}},{"$f":"'Data Input'!#REF!","v":{"$error":"#REF!"}},{"$f":"'Data Input'!#REF!","v":{"$error":"#REF!"}},{"$f":"'Data Input'!#REF!","v":{"$error":"#REF!"}}]
[]
[]
[]
[null,null,null,"Sorted by Correct",null,null,null,null,null,null,null,null,null,null,"Sorted by Correct"]
[null,null,null,"Strand","Question Number","Sub Category","Short Q","Correct","Incorrect or Unanswered","Incorrect","Unanswered",null,null,null,"Strand","Question Number","Sub Category","Short Q","Correct","Incorrect or unanswered","Incorrect","Unanswered"]
[null,{"$f":"RANK(C77,$C$77:$C$146)","v":1},{"$f":" H77 - ROW()*0.000000001","v":-7.7000000000000001E-8},{"$f":"'Data Input'!$X$8","v":"B"},{"$f":"'Data Input'!$X$1","v":1},{"$f":"'Data Input'!$X$7","v":"_"},{"$f":"'Data Input'!$X$6","v":"Why king wanted blackbirds?"},{"$f":"'Data Input'!$X$2","v":0},{"$f":"'Data Input'!$X$5","v":0},{"$f":"'Data Input'!$X$3","v":0},{"$f":"'Data Input'!$X$4","v":0},null,{"$f":"VLOOKUP(ROW()-ROW(M$76),$B$77:$J$146,1,FALSE)","v":1},{"$f":"VLOOKUP(ROW()-ROW(M$76),$B$77:$J$146,2,FALSE)","v":-7.7000000000000001E-8},{"$f":"VLOOKUP(ROW()-ROW(M$76),$B$77:$J$146,3,FALSE)","v":"B"},{"$f":"VLOOKUP(ROW()-ROW(M$76),$B$77:$J$146,4,FALSE)","v":1},{"$f":"VLOOKUP(ROW()-ROW(M$76),$B$77:$J$146,5,FALSE)","v":"_"},{"$f":"VLOOKUP(ROW()-ROW(M$76),$B$77:$J$146,6,FALSE)","v":"Why king wanted blackbirds?"},{"$f":"VLOOKUP(ROW()-ROW(M$76),$B$77:$J$146,7,FALSE)","v":0},{"$f":"VLOOKUP(ROW()-ROW(M$76),$B$77:$J$146,8,FALSE)","v":0},{"$f":"VLOOKUP(ROW()-ROW(M$76),$B$77:$K$146,9,FALSE)","v":0},{"$f":"VLOOKUP(ROW()-ROW(M$76),$B$77:$K$146,10,FALSE)","v":0}]
[null,2,{"$f":" H78 - ROW()*0.000000001","v":-7.800000000000001E-8},{"$f":"'Data Input'!$Y$8","v":"D"},{"$f":"'Data Input'!$Y$1","v":2},{"$f":"'Data Input'!$Y$7","v":"_"},{"$f":"'Data Input'!$Y$6","v":"Why blackbird's wife sad?"},{"$f":"'Data Input'!$Y$2","v":0},{"$f":"'Data Input'!$Y$5","v":0},{"$f":"'Data Input'!$Y$3","v":0},{"$f":"'Data Input'!$Y$4","v":0},null,2,-7.800000000000001E-8,{"$f":"VLOOKUP(ROW()-ROW(M$76),$B$77:$J$146,3,FALSE)","v":"D"},{"$f":"VLOOKUP(ROW()-ROW(M$76),$B$77:$J$146,4,FALSE)","v":2},{"$f":"VLOOKUP(ROW()-ROW(M$76),$B$77:$J$146,5,FALSE)","v":"_"},{"$f":"VLOOKUP(ROW()-ROW(M$76),$B$77:$J$146,6,FALSE)","v":"Why blackbird's wife sad?"},{"$f":"VLOOKUP(ROW()-ROW(M$76),$B$77:$J$146,7,FALSE)","v":0},{"$f":"VLOOKUP(ROW()-ROW(M$76),$B$77:$J$146,8,FALSE)","v":0},{"$f":"VLOOKUP(ROW()-ROW(M$76),$B$77:$K$146,9,FALSE)","v":0},{"$f":"VLOOKUP(ROW()-ROW(M$76),$B$77:$K$146,10,FALSE)","v":0}]
[null,3,-7.9000000000000006E-8,{"$f":"'Data Input'!$Z$8","v":"B"},{"$f":"'Data Input'!$Z$1","v":3},{"$f":"'Data Input'!$Z$7","v":"_"},{"$f":"'Data Input'!$Z$6","v":"Instrument blackbird played?"},{"$f":"'Data Input'!$Z$2","v":0},{"$f":"'Data Input'!$Z$5","v":0},{"$f":"'Data Input'!$Z$3","v":0},{"$f":"'Data Input'!$Z$4","v":0},null,3,-7.9000000000000006E-8,"B",3,"_","Instrument blackbird played?",0,0,0,0]
[null,4,-8.0000000000000002E-8,{"$f":"'Data Input'!$AA$8","v":"B"},{"$f":"'Data Input'!$AA$1","v":"4a"},{"$f":"'Data Input'!$AA$7","v":"_"},{"$f":"'Data Input'!$AA$6","v":"What had king done to fox?"},{"$f":"'Data Input'!$AA$2","v":0},{"$f":"'Data Input'!$AA$5","v":0},{"$f":"'Data Input'!$AA$3","v":0},{"$f":"'Data Input'!$AA$4","v":0},null,4,-8.0000000000000002E-8,"B","4a","_","What had king done to fox?",0,0,0,0]
[null,5,-8.1000000000000011E-8,{"$f":"'Data Input'!$AB$8","v":"B"},{"$f":"'Data Input'!$AB$1","v":"4b"},{"$f":"'Data Input'!$AB$7","v":"_"},{"$f":"'Data Input'!$AB$6","v":"What had king done to ants?"},{"$f":"'Data Input'!$AB$2","v":0},{"$f":"'Data Input'!$AB$5","v":0},{"$f":"'Data Input'!$AB$3","v":0},{"$f":"'Data Input'!$AB$4","v":0},null,5,-8.1000000000000011E-8,"B","4b","_","What had king done to ants?",0,0,0,0]
[null,6,-8.2000000000000006E-8,{"$f":"'Data Input'!$AC$8","v":"A"},{"$f":"'Data Input'!$AC$1","v":5},{"$f":"'Data Input'!$AC$7","v":"_"},{"$f":"'Data Input'!$AC$6","v":"Drained' meaning?"},{"$f":"'Data Input'!$AC$2","v":0},{"$f":"'Data Input'!$AC$5","v":0},{"$f":"'Data Input'!$AC$3","v":0},{"$f":"'Data Input'!$AC$4","v":0},null,6,-8.2000000000000006E-8,"A",5,"_","Drained' meaning?",0,0,0,0]
[null,7,-8.3000000000000002E-8,{"$f":"'Data Input'!$AD$8","v":"D"},{"$f":"'Data Input'!$AD$1","v":6},{"$f":"'Data Input'!$AD$7","v":"_"},{"$f":"'Data Input'!$AD$6","v":"How know king not worried?"},{"$f":"'Data Input'!$AD$2","v":0},{"$f":"'Data Input'!$AD$5","v":0},{"$f":"'Data Input'!$AD$3","v":0},{"$f":"'Data Input'!$AD$4","v":0},null,7,-8.3000000000000002E-8,"D",6,"_","How know king not worried?",0,0,0,0]
[null,8,-8.4000000000000011E-8,{"$f":"'Data Input'!$AE$8","v":"B"},{"$f":"'Data Input'!$AE$1","v":7},{"$f":"'Data Input'!$AE$7","v":"_"},{"$f":"'Data Input'!$AE$6","v":"Match characters to help given."},{"$f":"'Data Input'!$AE$2","v":0},{"$f":"'Data Input'!$AE$5","v":0},{"$f":"'Data Input'!$AE$3","v":0},{"$f":"'Data Input'!$AE$4","v":0},null,8,-8.4000000000000011E-8,"B",7,"_","Match characters to help given.",0,0,0,0]
[null,9,-8.5000000000000007E-8,{"$f":"'Data Input'!$AF$8","v":"A"},{"$f":"'Data Input'!$AF$1","v":8},{"$f":"'Data Input'!$AF$7","v":"_"},{"$f":"'Data Input'!$AF$6","v":"Two words show king scared. "},{"$f":"'Data Input'!$AF$2","v":0},{"$f":"'Data Input'!$AF$5","v":0},{"$f":"'Data Input'!$AF$3","v":0},{"$f":"'Data Input'!$AF$4","v":0},null,9,-8.5000000000000007E-8,"A",8,"_","Two words show king scared. ",0,0,0,0]
[null,10,-8.6000000000000002E-8,{"$f":"'Data Input'!$AG$8","v":"B"},{"$f":"'Data Input'!$AG$1","v":9},{"$f":"'Data Input'!$AG$7","v":"_"},{"$f":"'Data Input'!$AG$6","v":"When plastics first made?"},{"$f":"'Data Input'!$AG$2","v":0},{"$f":"'Data Input'!$AG$5","v":0},{"$f":"'Data Input'!$AG$3","v":0},{"$f":"'Data Input'!$AG$4","v":0},null,10,-8.6000000000000002E-8,"B",9,"_","When plastics first made?",0,0,0,0]
[null,11,-8.7000000000000011E-8,{"$f":"'Data Input'!$AH$8","v":"B"},{"$f":"'Data Input'!$AH$1","v":10},{"$f":"'Data Input'!$AH$7","v":"_"},{"$f":"'Data Input'!$AH$6","v":"Two good points about plastics. "},{"$f":"'Data Input'!$AH$2","v":0},{"$f":"'Data Input'!$AH$5","v":0},{"$f":"'Data Input'!$AH$3","v":0},{"$f":"'Data Input'!$AH$4","v":0},null,11,-8.7000000000000011E-8,"B",10,"_","Two good points about plastics. ",0,0,0,0]
[null,12,-8.8000000000000007E-8,{"$f":"'Data Input'!$AI$8","v":"D"},{"$f":"'Data Input'!$AI$1","v":11},{"$f":"'Data Input'!$AI$7","v":"_"},{"$f":"'Data Input'!$AI$6","v":"Why plastics dangerous (melt)?"},{"$f":"'Data Input'!$AI$2","v":0},{"$f":"'Data Input'!$AI$5","v":0},{"$f":"'Data Input'!$AI$3","v":0},{"$f":"'Data Input'!$AI$4","v":0},null,12,-8.8000000000000007E-8,"D",11,"_","Why plastics dangerous (melt)?",0,0,0,0]
[null,13,-8.9000000000000003E-8,{"$f":"'Data Input'!$AJ$8","v":"B"},{"$f":"'Data Input'!$AJ$1","v":12},{"$f":"'Data Input'!$AJ$7","v":"_"},{"$f":"'Data Input'!$AJ$6","v":"Two problems with landfills"},{"$f":"'Data Input'!$AJ$2","v":0},{"$f":"'Data Input'!$AJ$5","v":0},{"$f":"'Data Input'!$AJ$3","v":0},{"$f":"'Data Input'!$AJ$4","v":0},null,13,-8.9000000000000003E-8,"B",12,"_","Two problems with landfills",0,0,0,0]
[null,14,-9.0000000000000012E-8,{"$f":"'Data Input'!$AK$8","v":"B"},{"$f":"'Data Input'!$AK$1","v":13},{"$f":"'Data Input'!$AK$7","v":"_"},{"$f":"'Data Input'!$AK$6","v":"Today, plastics made from?"},{"$f":"'Data Input'!$AK$2","v":0},{"$f":"'Data Input'!$AK$5","v":0},{"$f":"'Data Input'!$AK$3","v":0},{"$f":"'Data Input'!$AK$4","v":0},null,14,-9.0000000000000012E-8,"B",13,"_","Today, plastics made from?",0,0,0,0]
[null,15,-9.1000000000000008E-8,{"$f":"'Data Input'!$AL$8","v":"B"},{"$f":"'Data Input'!$AL$1","v":14},{"$f":"'Data Input'!$AL$7","v":"_"},{"$f":"'Data Input'!$AL$6","v":"Future, plastics made from?"},{"$f":"'Data Input'!$AL$2","v":0},{"$f":"'Data Input'!$AL$5","v":0},{"$f":"'Data Input'!$AL$3","v":0},{"$f":"'Data Input'!$AL$4","v":0},null,15,-9.1000000000000008E-8,"B",14,"_","Future, plastics made from?",0,0,0,0]
[null,16,-9.2000000000000003E-8,{"$f":"'Data Input'!$AM$8","v":"A"},{"$f":"'Data Input'!$AM$1","v":15},{"$f":"'Data Input'!$AM$7","v":"_"},{"$f":"'Data Input'!$AM$6","v":"Word meaning 'given away'. "},{"$f":"'Data Input'!$AM$2","v":0},{"$f":"'Data Input'!$AM$5","v":0},{"$f":"'Data Input'!$AM$3","v":0},{"$f":"'Data Input'!$AM$4","v":0},null,16,-9.2000000000000003E-8,"A",15,"_","Word meaning 'given away'. ",0,0,0,0]
[null,17,-9.3000000000000012E-8,{"$f":"'Data Input'!$AN$8","v":"B"},{"$f":"'Data Input'!$AN$1","v":16},{"$f":"'Data Input'!$AN$7","v":"_"},{"$f":"'Data Input'!$AN$6","v":"Thing made from recycled plastic. "},{"$f":"'Data Input'!$AN$2","v":0},{"$f":"'Data Input'!$AN$5","v":0},{"$f":"'Data Input'!$AN$3","v":0},{"$f":"'Data Input'!$AN$4","v":0},null,17,-9.3000000000000012E-8,"B",16,"_","Thing made from recycled plastic. ",0,0,0,0]
[null,18,-9.4000000000000008E-8,{"$f":"'Data Input'!$AO$8","v":"A"},{"$f":"'Data Input'!$AO$1","v":17},{"$f":"'Data Input'!$AO$7","v":"_"},{"$f":"'Data Input'!$AO$6","v":"Match words to meaning. "},{"$f":"'Data Input'!$AO$2","v":0},{"$f":"'Data Input'!$AO$5","v":0},{"$f":"'Data Input'!$AO$3","v":0},{"$f":"'Data Input'!$AO$4","v":0},null,18,-9.4000000000000008E-8,"A",17,"_","Match words to meaning. ",0,0,0,0]
[null,19,-9.5000000000000004E-8,{"$f":"'Data Input'!$AP$8","v":"D"},{"$f":"'Data Input'!$AP$1","v":"18i"},{"$f":"'Data Input'!$AP$7","v":"_"},{"$f":"'Data Input'!$AP$6","v":"Information true or false."},{"$f":"'Data Input'!$AP$2","v":0},{"$f":"'Data Input'!$AP$5","v":0},{"$f":"'Data Input'!$AP$3","v":0},{"$f":"'Data Input'!$AP$4","v":0},null,19,-9.5000000000000004E-8,"D","18i","_","Information true or false.",0,0,0,0]
[null,20,-9.6000000000000013E-8,{"$f":"'Data Input'!$AQ$8","v":"D"},{"$f":"'Data Input'!$AQ$1","v":"18ii"},{"$f":"'Data Input'!$AQ$7","v":"_"},{"$f":"'Data Input'!$AQ$6","v":"Information true or false."},{"$f":"'Data Input'!$AQ$2","v":0},{"$f":"'Data Input'!$AQ$5","v":0},{"$f":"'Data Input'!$AQ$3","v":0},{"$f":"'Data Input'!$AQ$4","v":0},null,20,-9.6000000000000013E-8,"D","18ii","_","Information true or false.",0,0,0,0]

{"sheet":"Pupil Summary","index":4,"n_rows":556,"n_cols":16,"rows_kept":556,"cut":false,"hidden":false,"merged":[[2,1,2,7],[1,8,1,9],[1,10,1,11],[1,12,1,13],[1,14,1,15],[2,8,2,9],[2,10,2,11],[2,12,2,13],[2,14,2,15]]}
[null,null,"Green: <10, Amber: <20, Red: >20",null,"Green %>",0.6,"Amber %>",0.5,"Red %<",{"$f":"H1","v":0.5},null,null,null,null,null,"Individual Summary in Each Overall Area"]
[null,null,null,null,null,null,null,null,"A",null,"B",null,"C",null,"D"]
[{"$f":"\"Total Pupils: \" & COUNTA('Data Input'!A10:A558)","v":"Total Pupils: 0"},"Overall",null,null,null,null,null,null,"Vocabulary",null,"Key Facts",null,"Sequence",null,"Inference"]
["Name:","Unanswered","Incorrect","Incorrecr or Unanswered","Paper 1 Total /20","Paper 2 Total /20",{"$f":"\"Total Score \"&COUNTA('Data Input'!C8:AQ8)-1","v":"Total Score 40"},"Percent",{"$f":"\"Score /\" & COUNTIF('Data Input'!$C$8:$AQ$8,$I$2)","v":"Score /7"},"Percent",{"$f":"\"Score /\" & COUNTIF('Data Input'!$C$8:$AQ$8,$K$2)","v":"Score /20"},"Percent",{"$f":"\"Score /\" & COUNTIF('Data Input'!$C$8:$AQ$8,$M$2)","v":"Score /1"},"Percent",{"$f":"\"Score /\" & COUNTIF('Data Input'!$C$8:$AQ$8,$O$2)","v":"Score /12"},"Percent "]
[]
[{"$f":"IF('Data Input'!A10=0,\"\",'Data Input'!A10)","v":""},{"$f":"IF(ISBLANK('Data Input'!A10),\"\",COUNTIF('Data Input'!C10:AQ10,\"\")-1)","v":""},{"$f":"IF(ISBLANK('Data Input'!A10),\"\",COUNTIF('Data Input'!C10:AQ10,\"0\"))","v":""},{"$f":"IF(ISBLANK('Data Input'!A10),\"\",SUM(B6,C6))","v":""},{"$f":"IF(ISBLANK('Data Input'!A10),\"\",SUM('Data Input'!C10:V10))","v":""},{"$f":"IF(ISBLANK('Data Input'!A10),\"\",SUM('Data Input'!X10:AQ10))","v":""},{"$f":"IF(ISBLANK('Data Input'!A10),\"\",SUM('Data Input'!C10:AQ10))","v":""},{"$f":"IF(G6=\"\",\"\",G6/(COUNTA('Data Input'!$C$8:$AQ$8)-1))","v":""},{"$f":"IF(ISBLANK('Data Input'!A10),\"\",SUM('Data Input'!C10,'Data Input'!K10,'Data Input'!L10,'Data Input'!AC10,'Data Input'!AF10,'Data Input'!AM10,'Data Input'!AO10))","v":""},{"$f":"IF(I6=\"\",\"\",I6/COUNTIF('Data Input'!$C$8:$AQ$8,$I$2))","v":""},{"$f":"IF(ISBLANK('Data Input'!A10),\"\",SUM('Data Input'!D10,'Data Input'!E10,'Data Input'!F10,'Data Input'!G10,'Data Input'!J10,'Data Input'!O10,'Data Input'!P10,'Data Input'!S10,'Data Input'!U10,'Data Input'!X10,'Data Input'!Z10,'Data Input'!AA10,'Data Input'!AB10,'Data Input'!AE10,'Data Input'!AG10,'Data Input'!AH10,'Data Input'!AJ10,'Data Input'!AK10,'Data Input'!AL10,'Data Input'!AN10))","v":""},{"$f":"IF(K6=\"\",\"\",K6/COUNTIF('Data Input'!$C$8:$AQ$8,$K$2))","v":""},{"$f":"IF(ISBLANK('Data Input'!A10),\"\",SUM('Data Input'!V10))","v":""},{"$f":"IF(M6=\"\",\"\",M6/COUNTIF('Data Input'!$C$8:$AQ$8,$M$2))","v":""},{"$f":"IF(ISBLANK('Data Input'!A10),\"\",SUM('Data Input'!H10,'Data Input'!I10,'Data Input'!M10,'Data Input'!N10,'Data Input'!Q10,'Data Input'!R10,'Data Input'!T10,'Data Input'!Y10,'Data Input'!AD10,'Data Input'!AI10,'Data Input'!AP10,'Data Input'!AQ10))","v":""},{"$f":"IF(O6=\"\",\"\",O6/COUNTIF('Data Input'!$C$8:$AQ$8,$O$2))","v":""}]
[{"$f":"IF('Data Input'!A11=0,\"\",'Data Input'!A11)","v":""},{"$f":"IF(ISBLANK('Data Input'!A11),\"\",COUNTIF('Data Input'!C11:AQ11,\"\")-1)","v":""},{"$f":"IF(ISBLANK('Data Input'!A11),\"\",COUNTIF('Data Input'!C11:AQ11,\"0\"))","v":""},{"$f":"IF(ISBLANK('Data Input'!A11),\"\",SUM(B7,C7))","v":""},{"$f":"IF(ISBLANK('Data Input'!A11),\"\",SUM('Data Input'!C11:V11))","v":""},{"$f":"IF(ISBLANK('Data Input'!A11),\"\",SUM('Data Input'!X11:AQ11))","v":""},{"$f":"IF(ISBLANK('Data Input'!A11),\"\",SUM('Data Input'!C11:AQ11))","v":""},{"$f":"IF(G7=\"\",\"\",G7/(COUNTA('Data Input'!$C$8:$AQ$8)-1))","v":""},{"$f":"IF(ISBLANK('Data Input'!A11),\"\",SUM('Data Input'!C11,'Data Input'!K11,'Data Input'!L11,'Data Input'!AC11,'Data Input'!AF11,'Data Input'!AM11,'Data Input'!AO11))","v":""},{"$f":"IF(I7=\"\",\"\",I7/COUNTIF('Data Input'!$C$8:$AQ$8,$I$2))","v":""},{"$f":"IF(ISBLANK('Data Input'!A11),\"\",SUM('Data Input'!D11,'Data Input'!E11,'Data Input'!F11,'Data Input'!G11,'Data Input'!J11,'Data Input'!O11,'Data Input'!P11,'Data Input'!S11,'Data Input'!U11,'Data Input'!X11,'Data Input'!Z11,'Data Input'!AA11,'Data Input'!AB11,'Data Input'!AE11,'Data Input'!AG11,'Data Input'!AH11,'Data Input'!AJ11,'Data Input'!AK11,'Data Input'!AL11,'Data Input'!AN11))","v":""},{"$f":"IF(K7=\"\",\"\",K7/COUNTIF('Data Input'!$C$8:$AQ$8,$K$2))","v":""},{"$f":"IF(ISBLANK('Data Input'!A11),\"\",SUM('Data Input'!V11))","v":""},{"$f":"IF(M7=\"\",\"\",M7/COUNTIF('Data Input'!$C$8:$AQ$8,$M$2))","v":""},{"$f":"IF(ISBLANK('Data Input'!A11),\"\",SUM('Data Input'!H11,'Data Input'!I11,'Data Input'!M11,'Data Input'!N11,'Data Input'!Q11,'Data Input'!R11,'Data Input'!T11,'Data Input'!Y11,'Data Input'!AD11,'Data Input'!AI11,'Data Input'!AP11,'Data Input'!AQ11))","v":""},{"$f":"IF(O7=\"\",\"\",O7/COUNTIF('Data Input'!$C$8:$AQ$8,$O$2))","v":""}]
[{"$f":"IF('Data Input'!A12=0,\"\",'Data Input'!A12)","v":""},{"$f":"IF(ISBLANK('Data Input'!A12),\"\",COUNTIF('Data Input'!C12:AQ12,\"\")-1)","v":""},{"$f":"IF(ISBLANK('Data Input'!A12),\"\",COUNTIF('Data Input'!C12:AQ12,\"0\"))","v":""},{"$f":"IF(ISBLANK('Data Input'!A12),\"\",SUM(B8,C8))","v":""},{"$f":"IF(ISBLANK('Data Input'!A12),\"\",SUM('Data Input'!C12:V12))","v":""},{"$f":"IF(ISBLANK('Data Input'!A12),\"\",SUM('Data Input'!X12:AQ12))","v":""},{"$f":"IF(ISBLANK('Data Input'!A12),\"\",SUM('Data Input'!C12:AQ12))","v":""},{"$f":"IF(G8=\"\",\"\",G8/(COUNTA('Data Input'!$C$8:$AQ$8)-1))","v":""},{"$f":"IF(ISBLANK('Data Input'!A12),\"\",SUM('Data Input'!C12,'Data Input'!K12,'Data Input'!L12,'Data Input'!AC12,'Data Input'!AF12,'Data Input'!AM12,'Data Input'!AO12))","v":""},{"$f":"IF(I8=\"\",\"\",I8/COUNTIF('Data Input'!$C$8:$AQ$8,$I$2))","v":""},{"$f":"IF(ISBLANK('Data Input'!A12),\"\",SUM('Data Input'!D12,'Data Input'!E12,'Data Input'!F12,'Data Input'!G12,'Data Input'!J12,'Data Input'!O12,'Data Input'!P12,'Data Input'!S12,'Data Input'!U12,'Data Input'!X12,'Data Input'!Z12,'Data Input'!AA12,'Data Input'!AB12,'Data Input'!AE12,'Data Input'!AG12,'Data Input'!AH12,'Data Input'!AJ12,'Data Input'!AK12,'Data Input'!AL12,'Data Input'!AN12))","v":""},{"$f":"IF(K8=\"\",\"\",K8/COUNTIF('Data Input'!$C$8:$AQ$8,$K$2))","v":""},{"$f":"IF(ISBLANK('Data Input'!A12),\"\",SUM('Data Input'!V12))","v":""},{"$f":"IF(M8=\"\",\"\",M8/COUNTIF('Data Input'!$C$8:$AQ$8,$M$2))","v":""},{"$f":"IF(ISBLANK('Data Input'!A12),\"\",SUM('Data Input'!H12,'Data Input'!I12,'Data Input'!M12,'Data Input'!N12,'Data Input'!Q12,'Data Input'!R12,'Data Input'!T12,'Data Input'!Y12,'Data Input'!AD12,'Data Input'!AI12,'Data Input'!AP12,'Data Input'!AQ12))","v":""},{"$f":"IF(O8=\"\",\"\",O8/COUNTIF('Data Input'!$C$8:$AQ$8,$O$2))","v":""}]
[{"$f":"IF('Data Input'!A13=0,\"\",'Data Input'!A13)","v":""},{"$f":"IF(ISBLANK('Data Input'!A13),\"\",COUNTIF('Data Input'!C13:AQ13,\"\")-1)","v":""},{"$f":"IF(ISBLANK('Data Input'!A13),\"\",COUNTIF('Data Input'!C13:AQ13,\"0\"))","v":""},{"$f":"IF(ISBLANK('Data Input'!A13),\"\",SUM(B9,C9))","v":""},{"$f":"IF(ISBLANK('Data Input'!A13),\"\",SUM('Data Input'!C13:V13))","v":""},{"$f":"IF(ISBLANK('Data Input'!A13),\"\",SUM('Data Input'!X13:AQ13))","v":""},{"$f":"IF(ISBLANK('Data Input'!A13),\"\",SUM('Data Input'!C13:AQ13))","v":""},{"$f":"IF(G9=\"\",\"\",G9/(COUNTA('Data Input'!$C$8:$AQ$8)-1))","v":""},{"$f":"IF(ISBLANK('Data Input'!A13),\"\",SUM('Data Input'!C13,'Data Input'!K13,'Data Input'!L13,'Data Input'!AC13,'Data Input'!AF13,'Data Input'!AM13,'Data Input'!AO13))","v":""},{"$f":"IF(I9=\"\",\"\",I9/COUNTIF('Data Input'!$C$8:$AQ$8,$I$2))","v":""},{"$f":"IF(ISBLANK('Data Input'!A13),\"\",SUM('Data Input'!D13,'Data Input'!E13,'Data Input'!F13,'Data Input'!G13,'Data Input'!J13,'Data Input'!O13,'Data Input'!P13,'Data Input'!S13,'Data Input'!U13,'Data Input'!X13,'Data Input'!Z13,'Data Input'!AA13,'Data Input'!AB13,'Data Input'!AE13,'Data Input'!AG13,'Data Input'!AH13,'Data Input'!AJ13,'Data Input'!AK13,'Data Input'!AL13,'Data Input'!AN13))","v":""},{"$f":"IF(K9=\"\",\"\",K9/COUNTIF('Data Input'!$C$8:$AQ$8,$K$2))","v":""},{"$f":"IF(ISBLANK('Data Input'!A13),\"\",SUM('Data Input'!V13))","v":""},{"$f":"IF(M9=\"\",\"\",M9/COUNTIF('Data Input'!$C$8:$AQ$8,$M$2))","v":""},{"$f":"IF(ISBLANK('Data Input'!A13),\"\",SUM('Data Input'!H13,'Data Input'!I13,'Data Input'!M13,'Data Input'!N13,'Data Input'!Q13,'Data Input'!R13,'Data Input'!T13,'Data Input'!Y13,'Data Input'!AD13,'Data Input'!AI13,'Data Input'!AP13,'Data Input'!AQ13))","v":""},{"$f":"IF(O9=\"\",\"\",O9/COUNTIF('Data Input'!$C$8:$AQ$8,$O$2))","v":""}]
[{"$f":"IF('Data Input'!A14=0,\"\",'Data Input'!A14)","v":""},{"$f":"IF(ISBLANK('Data Input'!A14),\"\",COUNTIF('Data Input'!C14:AQ14,\"\")-1)","v":""},{"$f":"IF(ISBLANK('Data Input'!A14),\"\",COUNTIF('Data Input'!C14:AQ14,\"0\"))","v":""},{"$f":"IF(ISBLANK('Data Input'!A14),\"\",SUM(B10,C10))","v":""},{"$f":"IF(ISBLANK('Data Input'!A14),\"\",SUM('Data Input'!C14:V14))","v":""},{"$f":"IF(ISBLANK('Data Input'!A14),\"\",SUM('Data Input'!X14:AQ14))","v":""},{"$f":"IF(ISBLANK('Data Input'!A14),\"\",SUM('Data Input'!C14:AQ14))","v":""},{"$f":"IF(G10=\"\",\"\",G10/(COUNTA('Data Input'!$C$8:$AQ$8)-1))","v":""},{"$f":"IF(ISBLANK('Data Input'!A14),\"\",SUM('Data Input'!C14,'Data Input'!K14,'Data Input'!L14,'Data Input'!AC14,'Data Input'!AF14,'Data Input'!AM14,'Data Input'!AO14))","v":""},{"$f":"IF(I10=\"\",\"\",I10/COUNTIF('Data Input'!$C$8:$AQ$8,$I$2))","v":""},{"$f":"IF(ISBLANK('Data Input'!A14),\"\",SUM('Data Input'!D14,'Data Input'!E14,'Data Input'!F14,'Data Input'!G14,'Data Input'!J14,'Data Input'!O14,'Data Input'!P14,'Data Input'!S14,'Data Input'!U14,'Data Input'!X14,'Data Input'!Z14,'Data Input'!AA14,'Data Input'!AB14,'Data Input'!AE14,'Data Input'!AG14,'Data Input'!AH14,'Data Input'!AJ14,'Data Input'!AK14,'Data Input'!AL14,'Data Input'!AN14))","v":""},{"$f":"IF(K10=\"\",\"\",K10/COUNTIF('Data Input'!$C$8:$AQ$8,$K$2))","v":""},{"$f":"IF(ISBLANK('Data Input'!A14),\"\",SUM('Data Input'!V14))","v":""},{"$f":"IF(M10=\"\",\"\",M10/COUNTIF('Data Input'!$C$8:$AQ$8,$M$2))","v":""},{"$f":"IF(ISBLANK('Data Input'!A14),\"\",SUM('Data Input'!H14,'Data Input'!I14,'Data Input'!M14,'Data Input'!N14,'Data Input'!Q14,'Data Input'!R14,'Data Input'!T14,'Data Input'!Y14,'Data Input'!AD14,'Data Input'!AI14,'Data Input'!AP14,'Data Input'!AQ14))","v":""},{"$f":"IF(O10=\"\",\"\",O10/COUNTIF('Data Input'!$C$8:$AQ$8,$O$2))","v":""}]
[{"$f":"IF('Data Input'!A15=0,\"\",'Data Input'!A15)","v":""},{"$f":"IF(ISBLANK('Data Input'!A15),\"\",COUNTIF('Data Input'!C15:AQ15,\"\")-1)","v":""},{"$f":"IF(ISBLANK('Data Input'!A15),\"\",COUNTIF('Data Input'!C15:AQ15,\"0\"))","v":""},{"$f":"IF(ISBLANK('Data Input'!A15),\"\",SUM(B11,C11))","v":""},{"$f":"IF(ISBLANK('Data Input'!A15),\"\",SUM('Data Input'!C15:V15))","v":""},{"$f":"IF(ISBLANK('Data Input'!A15),\"\",SUM('Data Input'!X15:AQ15))","v":""},{"$f":"IF(ISBLANK('Data Input'!A15),\"\",SUM('Data Input'!C15:AQ15))","v":""},{"$f":"IF(G11=\"\",\"\",G11/(COUNTA('Data Input'!$C$8:$AQ$8)-1))","v":""},{"$f":"IF(ISBLANK('Data Input'!A15),\"\",SUM('Data Input'!C15,'Data Input'!K15,'Data Input'!L15,'Data Input'!AC15,'Data Input'!AF15,'Data Input'!AM15,'Data Input'!AO15))","v":""},{"$f":"IF(I11=\"\",\"\",I11/COUNTIF('Data Input'!$C$8:$AQ$8,$I$2))","v":""},{"$f":"IF(ISBLANK('Data Input'!A15),\"\",SUM('Data Input'!D15,'Data Input'!E15,'Data Input'!F15,'Data Input'!G15,'Data Input'!J15,'Data Input'!O15,'Data Input'!P15,'Data Input'!S15,'Data Input'!U15,'Data Input'!X15,'Data Input'!Z15,'Data Input'!AA15,'Data Input'!AB15,'Data Input'!AE15,'Data Input'!AG15,'Data Input'!AH15,'Data Input'!AJ15,'Data Input'!AK15,'Data Input'!AL15,'Data Input'!AN15))","v":""},{"$f":"IF(K11=\"\",\"\",K11/COUNTIF('Data Input'!$C$8:$AQ$8,$K$2))","v":""},{"$f":"IF(ISBLANK('Data Input'!A15),\"\",SUM('Data Input'!V15))","v":""},{"$f":"IF(M11=\"\",\"\",M11/COUNTIF('Data Input'!$C$8:$AQ$8,$M$2))","v":""},{"$f":"IF(ISBLANK('Data Input'!A15),\"\",SUM('Data Input'!H15,'Data Input'!I15,'Data Input'!M15,'Data Input'!N15,'Data Input'!Q15,'Data Input'!R15,'Data Input'!T15,'Data Input'!Y15,'Data Input'!AD15,'Data Input'!AI15,'Data Input'!AP15,'Data Input'!AQ15))","v":""},{"$f":"IF(O11=\"\",\"\",O11/COUNTIF('Data Input'!$C$8:$AQ$8,$O$2))","v":""}]
[{"$f":"IF('Data Input'!A16=0,\"\",'Data Input'!A16)","v":""},{"$f":"IF(ISBLANK('Data Input'!A16),\"\",COUNTIF('Data Input'!C16:AQ16,\"\")-1)","v":""},{"$f":"IF(ISBLANK('Data Input'!A16),\"\",COUNTIF('Data Input'!C16:AQ16,\"0\"))","v":""},{"$f":"IF(ISBLANK('Data Input'!A16),\"\",SUM(B12,C12))","v":""},{"$f":"IF(ISBLANK('Data Input'!A16),\"\",SUM('Data Input'!C16:V16))","v":""},{"$f":"IF(ISBLANK('Data Input'!A16),\"\",SUM('Data Input'!X16:AQ16))","v":""},{"$f":"IF(ISBLANK('Data Input'!A16),\"\",SUM('Data Input'!C16:AQ16))","v":""},{"$f":"IF(G12=\"\",\"\",G12/(COUNTA('Data Input'!$C$8:$AQ$8)-1))","v":""},{"$f":"IF(ISBLANK('Data Input'!A16),\"\",SUM('Data Input'!C16,'Data Input'!K16,'Data Input'!L16,'Data Input'!AC16,'Data Input'!AF16,'Data Input'!AM16,'Data Input'!AO16))","v":""},{"$f":"IF(I12=\"\",\"\",I12/COUNTIF('Data Input'!$C$8:$AQ$8,$I$2))","v":""},{"$f":"IF(ISBLANK('Data Input'!A16),\"\",SUM('Data Input'!D16,'Data Input'!E16,'Data Input'!F16,'Data Input'!G16,'Data Input'!J16,'Data Input'!O16,'Data Input'!P16,'Data Input'!S16,'Data Input'!U16,'Data Input'!X16,'Data Input'!Z16,'Data Input'!AA16,'Data Input'!AB16,'Data Input'!AE16,'Data Input'!AG16,'Data Input'!AH16,'Data Input'!AJ16,'Data Input'!AK16,'Data Input'!AL16,'Data Input'!AN16))","v":""},{"$f":"IF(K12=\"\",\"\",K12/COUNTIF('Data Input'!$C$8:$AQ$8,$K$2))","v":""},{"$f":"IF(ISBLANK('Data Input'!A16),\"\",SUM('Data Input'!V16))","v":""},{"$f":"IF(M12=\"\",\"\",M12/COUNTIF('Data Input'!$C$8:$AQ$8,$M$2))","v":""},{"$f":"IF(ISBLANK('Data Input'!A16),\"\",SUM('Data Input'!H16,'Data Input'!I16,'Data Input'!M16,'Data Input'!N16,'Data Input'!Q16,'Data Input'!R16,'Data Input'!T16,'Data Input'!Y16,'Data Input'!AD16,'Data Input'!AI16,'Data Input'!AP16,'Data Input'!AQ16))","v":""},{"$f":"IF(O12=\"\",\"\",O12/COUNTIF('Data Input'!$C$8:$AQ$8,$O$2))","v":""}]
[{"$f":"IF('Data Input'!A17=0,\"\",'Data Input'!A17)","v":""},{"$f":"IF(ISBLANK('Data Input'!A17),\"\",COUNTIF('Data Input'!C17:AQ17,\"\")-1)","v":""},{"$f":"IF(ISBLANK('Data Input'!A17),\"\",COUNTIF('Data Input'!C17:AQ17,\"0\"))","v":""},{"$f":"IF(ISBLANK('Data Input'!A17),\"\",SUM(B13,C13))","v":""},{"$f":"IF(ISBLANK('Data Input'!A17),\"\",SUM('Data Input'!C17:V17))","v":""},{"$f":"IF(ISBLANK('Data Input'!A17),\"\",SUM('Data Input'!X17:AQ17))","v":""},{"$f":"IF(ISBLANK('Data Input'!A17),\"\",SUM('Data Input'!C17:AQ17))","v":""},{"$f":"IF(G13=\"\",\"\",G13/(COUNTA('Data Input'!$C$8:$AQ$8)-1))","v":""},{"$f":"IF(ISBLANK('Data Input'!A17),\"\",SUM('Data Input'!C17,'Data Input'!K17,'Data Input'!L17,'Data Input'!AC17,'Data Input'!AF17,'Data Input'!AM17,'Data Input'!AO17))","v":""},{"$f":"IF(I13=\"\",\"\",I13/COUNTIF('Data Input'!$C$8:$AQ$8,$I$2))","v":""},{"$f":"IF(ISBLANK('Data Input'!A17),\"\",SUM('Data Input'!D17,'Data Input'!E17,'Data Input'!F17,'Data Input'!G17,'Data Input'!J17,'Data Input'!O17,'Data Input'!P17,'Data Input'!S17,'Data Input'!U17,'Data Input'!X17,'Data Input'!Z17,'Data Input'!AA17,'Data Input'!AB17,'Data Input'!AE17,'Data Input'!AG17,'Data Input'!AH17,'Data Input'!AJ17,'Data Input'!AK17,'Data Input'!AL17,'Data Input'!AN17))","v":""},{"$f":"IF(K13=\"\",\"\",K13/COUNTIF('Data Input'!$C$8:$AQ$8,$K$2))","v":""},{"$f":"IF(ISBLANK('Data Input'!A17),\"\",SUM('Data Input'!V17))","v":""},{"$f":"IF(M13=\"\",\"\",M13/COUNTIF('Data Input'!$C$8:$AQ$8,$M$2))","v":""},{"$f":"IF(ISBLANK('Data Input'!A17),\"\",SUM('Data Input'!H17,'Data Input'!I17,'Data Input'!M17,'Data Input'!N17,'Data Input'!Q17,'Data Input'!R17,'Data Input'!T17,'Data Input'!Y17,'Data Input'!AD17,'Data Input'!AI17,'Data Input'!AP17,'Data Input'!AQ17))","v":""},{"$f":"IF(O13=\"\",\"\",O13/COUNTIF('Data Input'!$C$8:$AQ$8,$O$2))","v":""}]
[{"$f":"IF('Data Input'!A18=0,\"\",'Data Input'!A18)","v":""},{"$f":"IF(ISBLANK('Data Input'!A18),\"\",COUNTIF('Data Input'!C18:AQ18,\"\")-1)","v":""},{"$f":"IF(ISBLANK('Data Input'!A18),\"\",COUNTIF('Data Input'!C18:AQ18,\"0\"))","v":""},{"$f":"IF(ISBLANK('Data Input'!A18),\"\",SUM(B14,C14))","v":""},{"$f":"IF(ISBLANK('Data Input'!A18),\"\",SUM('Data Input'!C18:V18))","v":""},{"$f":"IF(ISBLANK('Data Input'!A18),\"\",SUM('Data Input'!X18:AQ18))","v":""},{"$f":"IF(ISBLANK('Data Input'!A18),\"\",SUM('Data Input'!C18:AQ18))","v":""},{"$f":"IF(G14=\"\",\"\",G14/(COUNTA('Data Input'!$C$8:$AQ$8)-1))","v":""},{"$f":"IF(ISBLANK('Data Input'!A18),\"\",SUM('Data Input'!C18,'Data Input'!K18,'Data Input'!L18,'Data Input'!AC18,'Data Input'!AF18,'Data Input'!AM18,'Data Input'!AO18))","v":""},{"$f":"IF(I14=\"\",\"\",I14/COUNTIF('Data Input'!$C$8:$AQ$8,$I$2))","v":""},{"$f":"IF(ISBLANK('Data Input'!A18),\"\",SUM('Data Input'!D18,'Data Input'!E18,'Data Input'!F18,'Data Input'!G18,'Data Input'!J18,'Data Input'!O18,'Data Input'!P18,'Data Input'!S18,'Data Input'!U18,'Data Input'!X18,'Data Input'!Z18,'Data Input'!AA18,'Data Input'!AB18,'Data Input'!AE18,'Data Input'!AG18,'Data Input'!AH18,'Data Input'!AJ18,'Data Input'!AK18,'Data Input'!AL18,'Data Input'!AN18))","v":""},{"$f":"IF(K14=\"\",\"\",K14/COUNTIF('Data Input'!$C$8:$AQ$8,$K$2))","v":""},{"$f":"IF(ISBLANK('Data Input'!A18),\"\",SUM('Data Input'!V18))","v":""},{"$f":"IF(M14=\"\",\"\",M14/COUNTIF('Data Input'!$C$8:$AQ$8,$M$2))","v":""},{"$f":"IF(ISBLANK('Data Input'!A18),\"\",SUM('Data Input'!H18,'Data Input'!I18,'Data Input'!M18,'Data Input'!N18,'Data Input'!Q18,'Data Input'!R18,'Data Input'!T18,'Data Input'!Y18,'Data Input'!AD18,'Data Input'!AI18,'Data Input'!AP18,'Data Input'!AQ18))","v":""},{"$f":"IF(O14=\"\",\"\",O14/COUNTIF('Data Input'!$C$8:$AQ$8,$O$2))","v":""}]
[{"$f":"IF('Data Input'!A19=0,\"\",'Data Input'!A19)","v":""},{"$f":"IF(ISBLANK('Data Input'!A19),\"\",COUNTIF('Data Input'!C19:AQ19,\"\")-1)","v":""},{"$f":"IF(ISBLANK('Data Input'!A19),\"\",COUNTIF('Data Input'!C19:AQ19,\"0\"))","v":""},{"$f":"IF(ISBLANK('Data Input'!A19),\"\",SUM(B15,C15))","v":""},{"$f":"IF(ISBLANK('Data Input'!A19),\"\",SUM('Data Input'!C19:V19))","v":""},{"$f":"IF(ISBLANK('Data Input'!A19),\"\",SUM('Data Input'!X19:AQ19))","v":""},{"$f":"IF(ISBLANK('Data Input'!A19),\"\",SUM('Data Input'!C19:AQ19))","v":""},{"$f":"IF(G15=\"\",\"\",G15/(COUNTA('Data Input'!$C$8:$AQ$8)-1))","v":""},{"$f":"IF(ISBLANK('Data Input'!A19),\"\",SUM('Data Input'!C19,'Data Input'!K19,'Data Input'!L19,'Data Input'!AC19,'Data Input'!AF19,'Data Input'!AM19,'Data Input'!AO19))","v":""},{"$f":"IF(I15=\"\",\"\",I15/COUNTIF('Data Input'!$C$8:$AQ$8,$I$2))","v":""},{"$f":"IF(ISBLANK('Data Input'!A19),\"\",SUM('Data Input'!D19,'Data Input'!E19,'Data Input'!F19,'Data Input'!G19,'Data Input'!J19,'Data Input'!O19,'Data Input'!P19,'Data Input'!S19,'Data Input'!U19,'Data Input'!X19,'Data Input'!Z19,'Data Input'!AA19,'Data Input'!AB19,'Data Input'!AE19,'Data Input'!AG19,'Data Input'!AH19,'Data Input'!AJ19,'Data Input'!AK19,'Data Input'!AL19,'Data Input'!AN19))","v":""},{"$f":"IF(K15=\"\",\"\",K15/COUNTIF('Data Input'!$C$8:$AQ$8,$K$2))","v":""},{"$f":"IF(ISBLANK('Data Input'!A19),\"\",SUM('Data Input'!V19))","v":""},{"$f":"IF(M15=\"\",\"\",M15/COUNTIF('Data Input'!$C$8:$AQ$8,$M$2))","v":""},{"$f":"IF(ISBLANK('Data Input'!A19),\"\",SUM('Data Input'!H19,'Data Input'!I19,'Data Input'!M19,'Data Input'!N19,'Data Input'!Q19,'Data Input'!R19,'Data Input'!T19,'Data Input'!Y19,'Data Input'!AD19,'Data Input'!AI19,'Data Input'!AP19,'Data Input'!AQ19))","v":""},{"$f":"IF(O15=\"\",\"\",O15/COUNTIF('Data Input'!$C$8:$AQ$8,$O$2))","v":""}]
[{"$f":"IF('Data Input'!A20=0,\"\",'Data Input'!A20)","v":""},{"$f":"IF(ISBLANK('Data Input'!A20),\"\",COUNTIF('Data Input'!C20:AQ20,\"\")-1)","v":""},{"$f":"IF(ISBLANK('Data Input'!A20),\"\",COUNTIF('Data Input'!C20:AQ20,\"0\"))","v":""},{"$f":"IF(ISBLANK('Data Input'!A20),\"\",SUM(B16,C16))","v":""},{"$f":"IF(ISBLANK('Data Input'!A20),\"\",SUM('Data Input'!C20:V20))","v":""},{"$f":"IF(ISBLANK('Data Input'!A20),\"\",SUM('Data Input'!X20:AQ20))","v":""},{"$f":"IF(ISBLANK('Data Input'!A20),\"\",SUM('Data Input'!C20:AQ20))","v":""},{"$f":"IF(G16=\"\",\"\",G16/(COUNTA('Data Input'!$C$8:$AQ$8)-1))","v":""},{"$f":"IF(ISBLANK('Data Input'!A20),\"\",SUM('Data Input'!C20,'Data Input'!K20,'Data Input'!L20,'Data Input'!AC20,'Data Input'!AF20,'Data Input'!AM20,'Data Input'!AO20))","v":""},{"$f":"IF(I16=\"\",\"\",I16/COUNTIF('Data Input'!$C$8:$AQ$8,$I$2))","v":""},{"$f":"IF(ISBLANK('Data Input'!A20),\"\",SUM('Data Input'!D20,'Data Input'!E20,'Data Input'!F20,'Data Input'!G20,'Data Input'!J20,'Data Input'!O20,'Data Input'!P20,'Data Input'!S20,'Data Input'!U20,'Data Input'!X20,'Data Input'!Z20,'Data Input'!AA20,'Data Input'!AB20,'Data Input'!AE20,'Data Input'!AG20,'Data Input'!AH20,'Data Input'!AJ20,'Data Input'!AK20,'Data Input'!AL20,'Data Input'!AN20))","v":""},{"$f":"IF(K16=\"\",\"\",K16/COUNTIF('Data Input'!$C$8:$AQ$8,$K$2))","v":""},{"$f":"IF(ISBLANK('Data Input'!A20),\"\",SUM('Data Input'!V20))","v":""},{"$f":"IF(M16=\"\",\"\",M16/COUNTIF('Data Input'!$C$8:$AQ$8,$M$2))","v":""},{"$f":"IF(ISBLANK('Data Input'!A20),\"\",SUM('Data Input'!H20,'Data Input'!I20,'Data Input'!M20,'Data Input'!N20,'Data Input'!Q20,'Data Input'!R20,'Data Input'!T20,'Data Input'!Y20,'Data Input'!AD20,'Data Input'!AI20,'Data Input'!AP20,'Data Input'!AQ20))","v":""},{"$f":"IF(O16=\"\",\"\",O16/COUNTIF('Data Input'!$C$8:$AQ$8,$O$2))","v":""}]
[{"$f":"IF('Data Input'!A21=0,\"\",'Data Input'!A21)","v":""},{"$f":"IF(ISBLANK('Data Input'!A21),\"\",COUNTIF('Data Input'!C21:AQ21,\"\")-1)","v":""},{"$f":"IF(ISBLANK('Data Input'!A21),\"\",COUNTIF('Data Input'!C21:AQ21,\"0\"))","v":""},{"$f":"IF(ISBLANK('Data Input'!A21),\"\",SUM(B17,C17))","v":""},{"$f":"IF(ISBLANK('Data Input'!A21),\"\",SUM('Data Input'!C21:V21))","v":""},{"$f":"IF(ISBLANK('Data Input'!A21),\"\",SUM('Data Input'!X21:AQ21))","v":""},{"$f":"IF(ISBLANK('Data Input'!A21),\"\",SUM('Data Input'!C21:AQ21))","v":""},{"$f":"IF(G17=\"\",\"\",G17/(COUNTA('Data Input'!$C$8:$AQ$8)-1))","v":""},{"$f":"IF(ISBLANK('Data Input'!A21),\"\",SUM('Data Input'!C21,'Data Input'!K21,'Data Input'!L21,'Data Input'!AC21,'Data Input'!AF21,'Data Input'!AM21,'Data Input'!AO21))","v":""},{"$f":"IF(I17=\"\",\"\",I17/COUNTIF('Data Input'!$C$8:$AQ$8,$I$2))","v":""},{"$f":"IF(ISBLANK('Data Input'!A21),\"\",SUM('Data Input'!D21,'Data Input'!E21,'Data Input'!F21,'Data Input'!G21,'Data Input'!J21,'Data Input'!O21,'Data Input'!P21,'Data Input'!S21,'Data Input'!U21,'Data Input'!X21,'Data Input'!Z21,'Data Input'!AA21,'Data Input'!AB21,'Data Input'!AE21,'Data Input'!AG21,'Data Input'!AH21,'Data Input'!AJ21,'Data Input'!AK21,'Data Input'!AL21,'Data Input'!AN21))","v":""},{"$f":"IF(K17=\"\",\"\",K17/COUNTIF('Data Input'!$C$8:$AQ$8,$K$2))","v":""},{"$f":"IF(ISBLANK('Data Input'!A21),\"\",SUM('Data Input'!V21))","v":""},{"$f":"IF(M17=\"\",\"\",M17/COUNTIF('Data Input'!$C$8:$AQ$8,$M$2))","v":""},{"$f":"IF(ISBLANK('Data Input'!A21),\"\",SUM('Data Input'!H21,'Data Input'!I21,'Data Input'!M21,'Data Input'!N21,'Data Input'!Q21,'Data Input'!R21,'Data Input'!T21,'Data Input'!Y21,'Data Input'!AD21,'Data Input'!AI21,'Data Input'!AP21,'Data Input'!AQ21))","v":""},{"$f":"IF(O17=\"\",\"\",O17/COUNTIF('Data Input'!$C$8:$AQ$8,$O$2))","v":""}]
[{"$f":"IF('Data Input'!A22=0,\"\",'Data Input'!A22)","v":""},{"$f":"IF(ISBLANK('Data Input'!A22),\"\",COUNTIF('Data Input'!C22:AQ22,\"\")-1)","v":""},{"$f":"IF(ISBLANK('Data Input'!A22),\"\",COUNTIF('Data Input'!C22:AQ22,\"0\"))","v":""},{"$f":"IF(ISBLANK('Data Input'!A22),\"\",SUM(B18,C18))","v":""},{"$f":"IF(ISBLANK('Data Input'!A22),\"\",SUM('Data Input'!C22:V22))","v":""},{"$f":"IF(ISBLANK('Data Input'!A22),\"\",SUM('Data Input'!X22:AQ22))","v":""},{"$f":"IF(ISBLANK('Data Input'!A22),\"\",SUM('Data Input'!C22:AQ22))","v":""},{"$f":"IF(G18=\"\",\"\",G18/(COUNTA('Data Input'!$C$8:$AQ$8)-1))","v":""},{"$f":"IF(ISBLANK('Data Input'!A22),\"\",SUM('Data Input'!C22,'Data Input'!K22,'Data Input'!L22,'Data Input'!AC22,'Data Input'!AF22,'Data Input'!AM22,'Data Input'!AO22))","v":""},{"$f":"IF(I18=\"\",\"\",I18/COUNTIF('Data Input'!$C$8:$AQ$8,$I$2))","v":""},{"$f":"IF(ISBLANK('Data Input'!A22),\"\",SUM('Data Input'!D22,'Data Input'!E22,'Data Input'!F22,'Data Input'!G22,'Data Input'!J22,'Data Input'!O22,'Data Input'!P22,'Data Input'!S22,'Data Input'!U22,'Data Input'!X22,'Data Input'!Z22,'Data Input'!AA22,'Data Input'!AB22,'Data Input'!AE22,'Data Input'!AG22,'Data Input'!AH22,'Data Input'!AJ22,'Data Input'!AK22,'Data Input'!AL22,'Data Input'!AN22))","v":""},{"$f":"IF(K18=\"\",\"\",K18/COUNTIF('Data Input'!$C$8:$AQ$8,$K$2))","v":""},{"$f":"IF(ISBLANK('Data Input'!A22),\"\",SUM('Data Input'!V22))","v":""},{"$f":"IF(M18=\"\",\"\",M18/COUNTIF('Data Input'!$C$8:$AQ$8,$M$2))","v":""},{"$f":"IF(ISBLANK('Data Input'!A22),\"\",SUM('Data Input'!H22,'Data Input'!I22,'Data Input'!M22,'Data Input'!N22,'Data Input'!Q22,'Data Input'!R22,'Data Input'!T22,'Data Input'!Y22,'Data Input'!AD22,'Data Input'!AI22,'Data Input'!AP22,'Data Input'!AQ22))","v":""},{"$f":"IF(O18=\"\",\"\",O18/COUNTIF('Data Input'!$C$8:$AQ$8,$O$2))","v":""}]
[{"$f":"IF('Data Input'!A23=0,\"\",'Data Input'!A23)","v":""},{"$f":"IF(ISBLANK('Data Input'!A23),\"\",COUNTIF('Data Input'!C23:AQ23,\"\")-1)","v":""},{"$f":"IF(ISBLANK('Data Input'!A23),\"\",COUNTIF('Data Input'!C23:AQ23,\"0\"))","v":""},{"$f":"IF(ISBLANK('Data Input'!A23),\"\",SUM(B19,C19))","v":""},{"$f":"IF(ISBLANK('Data Input'!A23),\"\",SUM('Data Input'!C23:V23))","v":""},{"$f":"IF(ISBLANK('Data Input'!A23),\"\",SUM('Data Input'!X23:AQ23))","v":""},{"$f":"IF(ISBLANK('Data Input'!A23),\"\",SUM('Data Input'!C23:AQ23))","v":""},{"$f":"IF(G19=\"\",\"\",G19/(COUNTA('Data Input'!$C$8:$AQ$8)-1))","v":""},{"$f":"IF(ISBLANK('Data Input'!A23),\"\",SUM('Data Input'!C23,'Data Input'!K23,'Data Input'!L23,'Data Input'!AC23,'Data Input'!AF23,'Data Input'!AM23,'Data Input'!AO23))","v":""},{"$f":"IF(I19=\"\",\"\",I19/COUNTIF('Data Input'!$C$8:$AQ$8,$I$2))","v":""},{"$f":"IF(ISBLANK('Data Input'!A23),\"\",SUM('Data Input'!D23,'Data Input'!E23,'Data Input'!F23,'Data Input'!G23,'Data Input'!J23,'Data Input'!O23,'Data Input'!P23,'Data Input'!S23,'Data Input'!U23,'Data Input'!X23,'Data Input'!Z23,'Data Input'!AA23,'Data Input'!AB23,'Data Input'!AE23,'Data Input'!AG23,'Data Input'!AH23,'Data Input'!AJ23,'Data Input'!AK23,'Data Input'!AL23,'Data Input'!AN23))","v":""},{"$f":"IF(K19=\"\",\"\",K19/COUNTIF('Data Input'!$C$8:$AQ$8,$K$2))","v":""},{"$f":"IF(ISBLANK('Data Input'!A23),\"\",SUM('Data Input'!V23))","v":""},{"$f":"IF(M19=\"\",\"\",M19/COUNTIF('Data Input'!$C$8:$AQ$8,$M$2))","v":""},{"$f":"IF(ISBLANK('Data Input'!A23),\"\",SUM('Data Input'!H23,'Data Input'!I23,'Data Input'!M23,'Data Input'!N23,'Data Input'!Q23,'Data Input'!R23,'Data Input'!T23,'Data Input'!Y23,'Data Input'!AD23,'Data Input'!AI23,'Data Input'!AP23,'Data Input'!AQ23))","v":""},{"$f":"IF(O19=\"\",\"\",O19/COUNTIF('Data Input'!$C$8:$AQ$8,$O$2))","v":""}]
[{"$f":"IF('Data Input'!A24=0,\"\",'Data Input'!A24)","v":""},{"$f":"IF(ISBLANK('Data Input'!A24),\"\",COUNTIF('Data Input'!C24:AQ24,\"\")-1)","v":""},{"$f":"IF(ISBLANK('Data Input'!A24),\"\",COUNTIF('Data Input'!C24:AQ24,\"0\"))","v":""},{"$f":"IF(ISBLANK('Data Input'!A24),\"\",SUM(B20,C20))","v":""},{"$f":"IF(ISBLANK('Data Input'!A24),\"\",SUM('Data Input'!C24:V24))","v":""},{"$f":"IF(ISBLANK('Data Input'!A24),\"\",SUM('Data Input'!X24:AQ24))","v":""},{"$f":"IF(ISBLANK('Data Input'!A24),\"\",SUM('Data Input'!C24:AQ24))","v":""},{"$f":"IF(G20=\"\",\"\",G20/(COUNTA('Data Input'!$C$8:$AQ$8)-1))","v":""},{"$f":"IF(ISBLANK('Data Input'!A24),\"\",SUM('Data Input'!C24,'Data Input'!K24,'Data Input'!L24,'Data Input'!AC24,'Data Input'!AF24,'Data Input'!AM24,'Data Input'!AO24))","v":""},{"$f":"IF(I20=\"\",\"\",I20/COUNTIF('Data Input'!$C$8:$AQ$8,$I$2))","v":""},{"$f":"IF(ISBLANK('Data Input'!A24),\"\",SUM('Data Input'!D24,'Data Input'!E24,'Data Input'!F24,'Data Input'!G24,'Data Input'!J24,'Data Input'!O24,'Data Input'!P24,'Data Input'!S24,'Data Input'!U24,'Data Input'!X24,'Data Input'!Z24,'Data Input'!AA24,'Data Input'!AB24,'Data Input'!AE24,'Data Input'!AG24,'Data Input'!AH24,'Data Input'!AJ24,'Data Input'!AK24,'Data Input'!AL24,'Data Input'!AN24))","v":""},{"$f":"IF(K20=\"\",\"\",K20/COUNTIF('Data Input'!$C$8:$AQ$8,$K$2))","v":""},{"$f":"IF(ISBLANK('Data Input'!A24),\"\",SUM('Data Input'!V24))","v":""},{"$f":"IF(M20=\"\",\"\",M20/COUNTIF('Data Input'!$C$8:$AQ$8,$M$2))","v":""},{"$f":"IF(ISBLANK('Data Input'!A24),\"\",SUM('Data Input'!H24,'Data Input'!I24,'Data Input'!M24,'Data Input'!N24,'Data Input'!Q24,'Data Input'!R24,'Data Input'!T24,'Data Input'!Y24,'Data Input'!AD24,'Data Input'!AI24,'Data Input'!AP24,'Data Input'!AQ24))","v":""},{"$f":"IF(O20=\"\",\"\",O20/COUNTIF('Data Input'!$C$8:$AQ$8,$O$2))","v":""}]
[{"$f":"IF('Data Input'!A25=0,\"\",'Data Input'!A25)","v":""},{"$f":"IF(ISBLANK('Data Input'!A25),\"\",COUNTIF('Data Input'!C25:AQ25,\"\")-1)","v":""},{"$f":"IF(ISBLANK('Data Input'!A25),\"\",COUNTIF('Data Input'!C25:AQ25,\"0\"))","v":""},{"$f":"IF(ISBLANK('Data Input'!A25),\"\",SUM(B21,C21))","v":""},{"$f":"IF(ISBLANK('Data Input'!A25),\"\",SUM('Data Input'!C25:V25))","v":""},{"$f":"IF(ISBLANK('Data Input'!A25),\"\",SUM('Data Input'!X25:AQ25))","v":""},{"$f":"IF(ISBLANK('Data Input'!A25),\"\",SUM('Data Input'!C25:AQ25))","v":""},{"$f":"IF(G21=\"\",\"\",G21/(COUNTA('Data Input'!$C$8:$AQ$8)-1))","v":""},{"$f":"IF(ISBLANK('Data Input'!A25),\"\",SUM('Data Input'!C25,'Data Input'!K25,'Data Input'!L25,'Data Input'!AC25,'Data Input'!AF25,'Data Input'!AM25,'Data Input'!AO25))","v":""},{"$f":"IF(I21=\"\",\"\",I21/COUNTIF('Data Input'!$C$8:$AQ$8,$I$2))","v":""},{"$f":"IF(ISBLANK('Data Input'!A25),\"\",SUM('Data Input'!D25,'Data Input'!E25,'Data Input'!F25,'Data Input'!G25,'Data Input'!J25,'Data Input'!O25,'Data Input'!P25,'Data Input'!S25,'Data Input'!U25,'Data Input'!X25,'Data Input'!Z25,'Data Input'!AA25,'Data Input'!AB25,'Data Input'!AE25,'Data Input'!AG25,'Data Input'!AH25,'Data Input'!AJ25,'Data Input'!AK25,'Data Input'!AL25,'Data Input'!AN25))","v":""},{"$f":"IF(K21=\"\",\"\",K21/COUNTIF('Data Input'!$C$8:$AQ$8,$K$2))","v":""},{"$f":"IF(ISBLANK('Data Input'!A25),\"\",SUM('Data Input'!V25))","v":""},{"$f":"IF(M21=\"\",\"\",M21/COUNTIF('Data Input'!$C$8:$AQ$8,$M$2))","v":""},{"$f":"IF(ISBLANK('Data Input'!A25),\"\",SUM('Data Input'!H25,'Data Input'!I25,'Data Input'!M25,'Data Input'!N25,'Data Input'!Q25,'Data Input'!R25,'Data Input'!T25,'Data Input'!Y25,'Data Input'!AD25,'Data Input'!AI25,'Data Input'!AP25,'Data Input'!AQ25))","v":""},{"$f":"IF(O21=\"\",\"\",O21/COUNTIF('Data Input'!$C$8:$AQ$8,$O$2))","v":""}]
[{"$f":"IF('Data Input'!A26=0,\"\",'Data Input'!A26)","v":""},{"$f":"IF(ISBLANK('Data Input'!A26),\"\",COUNTIF('Data Input'!C26:AQ26,\"\")-1)","v":""},{"$f":"IF(ISBLANK('Data Input'!A26),\"\",COUNTIF('Data Input'!C26:AQ26,\"0\"))","v":""},{"$f":"IF(ISBLANK('Data Input'!A26),\"\",SUM(B22,C22))","v":""},{"$f":"IF(ISBLANK('Data Input'!A26),\"\",SUM('Data Input'!C26:V26))","v":""},{"$f":"IF(ISBLANK('Data Input'!A26),\"\",SUM('Data Input'!X26:AQ26))","v":""},{"$f":"IF(ISBLANK('Data Input'!A26),\"\",SUM('Data Input'!C26:AQ26))","v":""},{"$f":"IF(G22=\"\",\"\",G22/(COUNTA('Data Input'!$C$8:$AQ$8)-1))","v":""},{"$f":"IF(ISBLANK('Data Input'!A26),\"\",SUM('Data Input'!C26,'Data Input'!K26,'Data Input'!L26,'Data Input'!AC26,'Data Input'!AF26,'Data Input'!AM26,'Data Input'!AO26))","v":""},{"$f":"IF(I22=\"\",\"\",I22/COUNTIF('Data Input'!$C$8:$AQ$8,$I$2))","v":""},{"$f":"IF(ISBLANK('Data Input'!A26),\"\",SUM('Data Input'!D26,'Data Input'!E26,'Data Input'!F26,'Data Input'!G26,'Data Input'!J26,'Data Input'!O26,'Data Input'!P26,'Data Input'!S26,'Data Input'!U26,'Data Input'!X26,'Data Input'!Z26,'Data Input'!AA26,'Data Input'!AB26,'Data Input'!AE26,'Data Input'!AG26,'Data Input'!AH26,'Data Input'!AJ26,'Data Input'!AK26,'Data Input'!AL26,'Data Input'!AN26))","v":""},{"$f":"IF(K22=\"\",\"\",K22/COUNTIF('Data Input'!$C$8:$AQ$8,$K$2))","v":""},{"$f":"IF(ISBLANK('Data Input'!A26),\"\",SUM('Data Input'!V26))","v":""},{"$f":"IF(M22=\"\",\"\",M22/COUNTIF('Data Input'!$C$8:$AQ$8,$M$2))","v":""},{"$f":"IF(ISBLANK('Data Input'!A26),\"\",SUM('Data Input'!H26,'Data Input'!I26,'Data Input'!M26,'Data Input'!N26,'Data Input'!Q26,'Data Input'!R26,'Data Input'!T26,'Data Input'!Y26,'Data Input'!AD26,'Data Input'!AI26,'Data Input'!AP26,'Data Input'!AQ26))","v":""},{"$f":"IF(O22=\"\",\"\",O22/COUNTIF('Data Input'!$C$8:$AQ$8,$O$2))","v":""}]
[{"$f":"IF('Data Input'!A27=0,\"\",'Data Input'!A27)","v":""},{"$f":"IF(ISBLANK('Data Input'!A27),\"\",COUNTIF('Data Input'!C27:AQ27,\"\")-1)","v":""},{"$f":"IF(ISBLANK('Data Input'!A27),\"\",COUNTIF('Data Input'!C27:AQ27,\"0\"))","v":""},{"$f":"IF(ISBLANK('Data Input'!A27),\"\",SUM(B23,C23))","v":""},{"$f":"IF(ISBLANK('Data Input'!A27),\"\",SUM('Data Input'!C27:V27))","v":""},{"$f":"IF(ISBLANK('Data Input'!A27),\"\",SUM('Data Input'!X27:AQ27))","v":""},{"$f":"IF(ISBLANK('Data Input'!A27),\"\",SUM('Data Input'!C27:AQ27))","v":""},{"$f":"IF(G23=\"\",\"\",G23/(COUNTA('Data Input'!$C$8:$AQ$8)-1))","v":""},{"$f":"IF(ISBLANK('Data Input'!A27),\"\",SUM('Data Input'!C27,'Data Input'!K27,'Data Input'!L27,'Data Input'!AC27,'Data Input'!AF27,'Data Input'!AM27,'Data Input'!AO27))","v":""},{"$f":"IF(I23=\"\",\"\",I23/COUNTIF('Data Input'!$C$8:$AQ$8,$I$2))","v":""},{"$f":"IF(ISBLANK('Data Input'!A27),\"\",SUM('Data Input'!D27,'Data Input'!E27,'Data Input'!F27,'Data Input'!G27,'Data Input'!J27,'Data Input'!O27,'Data Input'!P27,'Data Input'!S27,'Data Input'!U27,'Data Input'!X27,'Data Input'!Z27,'Data Input'!AA27,'Data Input'!AB27,'Data Input'!AE27,'Data Input'!AG27,'Data Input'!AH27,'Data Input'!AJ27,'Data Input'!AK27,'Data Input'!AL27,'Data Input'!AN27))","v":""},{"$f":"IF(K23=\"\",\"\",K23/COUNTIF('Data Input'!$C$8:$AQ$8,$K$2))","v":""},{"$f":"IF(ISBLANK('Data Input'!A27),\"\",SUM('Data Input'!V27))","v":""},{"$f":"IF(M23=\"\",\"\",M23/COUNTIF('Data Input'!$C$8:$AQ$8,$M$2))","v":""},{"$f":"IF(ISBLANK('Data Input'!A27),\"\",SUM('Data Input'!H27,'Data Input'!I27,'Data Input'!M27,'Data Input'!N27,'Data Input'!Q27,'Data Input'!R27,'Data Input'!T27,'Data Input'!Y27,'Data Input'!AD27,'Data Input'!AI27,'Data Input'!AP27,'Data Input'!AQ27))","v":""},{"$f":"IF(O23=\"\",\"\",O23/COUNTIF('Data Input'!$C$8:$AQ$8,$O$2))","v":""}]
[{"$f":"IF('Data Input'!A28=0,\"\",'Data Input'!A28)","v":""},{"$f":"IF(ISBLANK('Data Input'!A28),\"\",COUNTIF('Data Input'!C28:AQ28,\"\")-1)","v":""},{"$f":"IF(ISBLANK('Data Input'!A28),\"\",COUNTIF('Data Input'!C28:AQ28,\"0\"))","v":""},{"$f":"IF(ISBLANK('Data Input'!A28),\"\",SUM(B24,C24))","v":""},{"$f":"IF(ISBLANK('Data Input'!A28),\"\",SUM('Data Input'!C28:V28))","v":""},{"$f":"IF(ISBLANK('Data Input'!A28),\"\",SUM('Data Input'!X28:AQ28))","v":""},{"$f":"IF(ISBLANK('Data Input'!A28),\"\",SUM('Data Input'!C28:AQ28))","v":""},{"$f":"IF(G24=\"\",\"\",G24/(COUNTA('Data Input'!$C$8:$AQ$8)-1))","v":""},{"$f":"IF(ISBLANK('Data Input'!A28),\"\",SUM('Data Input'!C28,'Data Input'!K28,'Data Input'!L28,'Data Input'!AC28,'Data Input'!AF28,'Data Input'!AM28,'Data Input'!AO28))","v":""},{"$f":"IF(I24=\"\",\"\",I24/COUNTIF('Data Input'!$C$8:$AQ$8,$I$2))","v":""},{"$f":"IF(ISBLANK('Data Input'!A28),\"\",SUM('Data Input'!D28,'Data Input'!E28,'Data Input'!F28,'Data Input'!G28,'Data Input'!J28,'Data Input'!O28,'Data Input'!P28,'Data Input'!S28,'Data Input'!U28,'Data Input'!X28,'Data Input'!Z28,'Data Input'!AA28,'Data Input'!AB28,'Data Input'!AE28,'Data Input'!AG28,'Data Input'!AH28,'Data Input'!AJ28,'Data Input'!AK28,'Data Input'!AL28,'Data Input'!AN28))","v":""},{"$f":"IF(K24=\"\",\"\",K24/COUNTIF('Data Input'!$C$8:$AQ$8,$K$2))","v":""},{"$f":"IF(ISBLANK('Data Input'!A28),\"\",SUM('Data Input'!V28))","v":""},{"$f":"IF(M24=\"\",\"\",M24/COUNTIF('Data Input'!$C$8:$AQ$8,$M$2))","v":""},{"$f":"IF(ISBLANK('Data Input'!A28),\"\",SUM('Data Input'!H28,'Data Input'!I28,'Data Input'!M28,'Data Input'!N28,'Data Input'!Q28,'Data Input'!R28,'Data Input'!T28,'Data Input'!Y28,'Data Input'!AD28,'Data Input'!AI28,'Data Input'!AP28,'Data Input'!AQ28))","v":""},{"$f":"IF(O24=\"\",\"\",O24/COUNTIF('Data Input'!$C$8:$AQ$8,$O$2))","v":""}]
[{"$f":"IF('Data Input'!A29=0,\"\",'Data Input'!A29)","v":""},{"$f":"IF(ISBLANK('Data Input'!A29),\"\",COUNTIF('Data Input'!C29:AQ29,\"\")-1)","v":""},{"$f":"IF(ISBLANK('Data Input'!A29),\"\",COUNTIF('Data Input'!C29:AQ29,\"0\"))","v":""},{"$f":"IF(ISBLANK('Data Input'!A29),\"\",SUM(B25,C25))","v":""},{"$f":"IF(ISBLANK('Data Input'!A29),\"\",SUM('Data Input'!C29:V29))","v":""},{"$f":"IF(ISBLANK('Data Input'!A29),\"\",SUM('Data Input'!X29:AQ29))","v":""},{"$f":"IF(ISBLANK('Data Input'!A29),\"\",SUM('Data Input'!C29:AQ29))","v":""},{"$f":"IF(G25=\"\",\"\",G25/(COUNTA('Data Input'!$C$8:$AQ$8)-1))","v":""},{"$f":"IF(ISBLANK('Data Input'!A29),\"\",SUM('Data Input'!C29,'Data Input'!K29,'Data Input'!L29,'Data Input'!AC29,'Data Input'!AF29,'Data Input'!AM29,'Data Input'!AO29))","v":""},{"$f":"IF(I25=\"\",\"\",I25/COUNTIF('Data Input'!$C$8:$AQ$8,$I$2))","v":""},{"$f":"IF(ISBLANK('Data Input'!A29),\"\",SUM('Data Input'!D29,'Data Input'!E29,'Data Input'!F29,'Data Input'!G29,'Data Input'!J29,'Data Input'!O29,'Data Input'!P29,'Data Input'!S29,'Data Input'!U29,'Data Input'!X29,'Data Input'!Z29,'Data Input'!AA29,'Data Input'!AB29,'Data Input'!AE29,'Data Input'!AG29,'Data Input'!AH29,'Data Input'!AJ29,'Data Input'!AK29,'Data Input'!AL29,'Data Input'!AN29))","v":""},{"$f":"IF(K25=\"\",\"\",K25/COUNTIF('Data Input'!$C$8:$AQ$8,$K$2))","v":""},{"$f":"IF(ISBLANK('Data Input'!A29),\"\",SUM('Data Input'!V29))","v":""},{"$f":"IF(M25=\"\",\"\",M25/COUNTIF('Data Input'!$C$8:$AQ$8,$M$2))","v":""},{"$f":"IF(ISBLANK('Data Input'!A29),\"\",SUM('Data Input'!H29,'Data Input'!I29,'Data Input'!M29,'Data Input'!N29,'Data Input'!Q29,'Data Input'!R29,'Data Input'!T29,'Data Input'!Y29,'Data Input'!AD29,'Data Input'!AI29,'Data Input'!AP29,'Data Input'!AQ29))","v":""},{"$f":"IF(O25=\"\",\"\",O25/COUNTIF('Data Input'!$C$8:$AQ$8,$O$2))","v":""}]
[{"$f":"IF('Data Input'!A30=0,\"\",'Data Input'!A30)","v":""},{"$f":"IF(ISBLANK('Data Input'!A30),\"\",COUNTIF('Data Input'!C30:AQ30,\"\")-1)","v":""},{"$f":"IF(ISBLANK('Data Input'!A30),\"\",COUNTIF('Data Input'!C30:AQ30,\"0\"))","v":""},{"$f":"IF(ISBLANK('Data Input'!A30),\"\",SUM(B26,C26))","v":""},{"$f":"IF(ISBLANK('Data Input'!A30),\"\",SUM('Data Input'!C30:V30))","v":""},{"$f":"IF(ISBLANK('Data Input'!A30),\"\",SUM('Data Input'!X30:AQ30))","v":""},{"$f":"IF(ISBLANK('Data Input'!A30),\"\",SUM('Data Input'!C30:AQ30))","v":""},{"$f":"IF(G26=\"\",\"\",G26/(COUNTA('Data Input'!$C$8:$AQ$8)-1))","v":""},{"$f":"IF(ISBLANK('Data Input'!A30),\"\",SUM('Data Input'!C30,'Data Input'!K30,'Data Input'!L30,'Data Input'!AC30,'Data Input'!AF30,'Data Input'!AM30,'Data Input'!AO30))","v":""},{"$f":"IF(I26=\"\",\"\",I26/COUNTIF('Data Input'!$C$8:$AQ$8,$I$2))","v":""},{"$f":"IF(ISBLANK('Data Input'!A30),\"\",SUM('Data Input'!D30,'Data Input'!E30,'Data Input'!F30,'Data Input'!G30,'Data Input'!J30,'Data Input'!O30,'Data Input'!P30,'Data Input'!S30,'Data Input'!U30,'Data Input'!X30,'Data Input'!Z30,'Data Input'!AA30,'Data Input'!AB30,'Data Input'!AE30,'Data Input'!AG30,'Data Input'!AH30,'Data Input'!AJ30,'Data Input'!AK30,'Data Input'!AL30,'Data Input'!AN30))","v":""},{"$f":"IF(K26=\"\",\"\",K26/COUNTIF('Data Input'!$C$8:$AQ$8,$K$2))","v":""},{"$f":"IF(ISBLANK('Data Input'!A30),\"\",SUM('Data Input'!V30))","v":""},{"$f":"IF(M26=\"\",\"\",M26/COUNTIF('Data Input'!$C$8:$AQ$8,$M$2))","v":""},{"$f":"IF(ISBLANK('Data Input'!A30),\"\",SUM('Data Input'!H30,'Data Input'!I30,'Data Input'!M30,'Data Input'!N30,'Data Input'!Q30,'Data Input'!R30,'Data Input'!T30,'Data Input'!Y30,'Data Input'!AD30,'Data Input'!AI30,'Data Input'!AP30,'Data Input'!AQ30))","v":""},{"$f":"IF(O26=\"\",\"\",O26/COUNTIF('Data Input'!$C$8:$AQ$8,$O$2))","v":""}]
[{"$f":"IF('Data Input'!A31=0,\"\",'Data Input'!A31)","v":""},{"$f":"IF(ISBLANK('Data Input'!A31),\"\",COUNTIF('Data Input'!C31:AQ31,\"\")-1)","v":""},{"$f":"IF(ISBLANK('Data Input'!A31),\"\",COUNTIF('Data Input'!C31:AQ31,\"0\"))","v":""},{"$f":"IF(ISBLANK('Data Input'!A31),\"\",SUM(B27,C27))","v":""},{"$f":"IF(ISBLANK('Data Input'!A31),\"\",SUM('Data Input'!C31:V31))","v":""},{"$f":"IF(ISBLANK('Data Input'!A31),\"\",SUM('Data Input'!X31:AQ31))","v":""},{"$f":"IF(ISBLANK('Data Input'!A31),\"\",SUM('Data Input'!C31:AQ31))","v":""},{"$f":"IF(G27=\"\",\"\",G27/(COUNTA('Data Input'!$C$8:$AQ$8)-1))","v":""},{"$f":"IF(ISBLANK('Data Input'!A31),\"\",SUM('Data Input'!C31,'Data Input'!K31,'Data Input'!L31,'Data Input'!AC31,'Data Input'!AF31,'Data Input'!AM31,'Data Input'!AO31))","v":""},{"$f":"IF(I27=\"\",\"\",I27/COUNTIF('Data Input'!$C$8:$AQ$8,$I$2))","v":""},{"$f":"IF(ISBLANK('Data Input'!A31),\"\",SUM('Data Input'!D31,'Data Input'!E31,'Data Input'!F31,'Data Input'!G31,'Data Input'!J31,'Data Input'!O31,'Data Input'!P31,'Data Input'!S31,'Data Input'!U31,'Data Input'!X31,'Data Input'!Z31,'Data Input'!AA31,'Data Input'!AB31,'Data Input'!AE31,'Data Input'!AG31,'Data Input'!AH31,'Data Input'!AJ31,'Data Input'!AK31,'Data Input'!AL31,'Data Input'!AN31))","v":""},{"$f":"IF(K27=\"\",\"\",K27/COUNTIF('Data Input'!$C$8:$AQ$8,$K$2))","v":""},{"$f":"IF(ISBLANK('Data Input'!A31),\"\",SUM('Data Input'!V31))","v":""},{"$f":"IF(M27=\"\",\"\",M27/COUNTIF('Data Input'!$C$8:$AQ$8,$M$2))","v":""},{"$f":"IF(ISBLANK('Data Input'!A31),\"\",SUM('Data Input'!H31,'Data Input'!I31,'Data Input'!M31,'Data Input'!N31,'Data Input'!Q31,'Data Input'!R31,'Data Input'!T31,'Data Input'!Y31,'Data Input'!AD31,'Data Input'!AI31,'Data Input'!AP31,'Data Input'!AQ31))","v":""},{"$f":"IF(O27=\"\",\"\",O27/COUNTIF('Data Input'!$C$8:$AQ$8,$O$2))","v":""}]
[{"$f":"IF('Data Input'!A32=0,\"\",'Data Input'!A32)","v":""},{"$f":"IF(ISBLANK('Data Input'!A32),\"\",COUNTIF('Data Input'!C32:AQ32,\"\")-1)","v":""},{"$f":"IF(ISBLANK('Data Input'!A32),\"\",COUNTIF('Data Input'!C32:AQ32,\"0\"))","v":""},{"$f":"IF(ISBLANK('Data Input'!A32),\"\",SUM(B28,C28))","v":""},{"$f":"IF(ISBLANK('Data Input'!A32),\"\",SUM('Data Input'!C32:V32))","v":""},{"$f":"IF(ISBLANK('Data Input'!A32),\"\",SUM('Data Input'!X32:AQ32))","v":""},{"$f":"IF(ISBLANK('Data Input'!A32),\"\",SUM('Data Input'!C32:AQ32))","v":""},{"$f":"IF(G28=\"\",\"\",G28/(COUNTA('Data Input'!$C$8:$AQ$8)-1))","v":""},{"$f":"IF(ISBLANK('Data Input'!A32),\"\",SUM('Data Input'!C32,'Data Input'!K32,'Data Input'!L32,'Data Input'!AC32,'Data Input'!AF32,'Data Input'!AM32,'Data Input'!AO32))","v":""},{"$f":"IF(I28=\"\",\"\",I28/COUNTIF('Data Input'!$C$8:$AQ$8,$I$2))","v":""},{"$f":"IF(ISBLANK('Data Input'!A32),\"\",SUM('Data Input'!D32,'Data Input'!E32,'Data Input'!F32,'Data Input'!G32,'Data Input'!J32,'Data Input'!O32,'Data Input'!P32,'Data Input'!S32,'Data Input'!U32,'Data Input'!X32,'Data Input'!Z32,'Data Input'!AA32,'Data Input'!AB32,'Data Input'!AE32,'Data Input'!AG32,'Data Input'!AH32,'Data Input'!AJ32,'Data Input'!AK32,'Data Input'!AL32,'Data Input'!AN32))","v":""},{"$f":"IF(K28=\"\",\"\",K28/COUNTIF('Data Input'!$C$8:$AQ$8,$K$2))","v":""},{"$f":"IF(ISBLANK('Data Input'!A32),\"\",SUM('Data Input'!V32))","v":""},{"$f":"IF(M28=\"\",\"\",M28/COUNTIF('Data Input'!$C$8:$AQ$8,$M$2))","v":""},{"$f":"IF(ISBLANK('Data Input'!A32),\"\",SUM('Data Input'!H32,'Data Input'!I32,'Data Input'!M32,'Data Input'!N32,'Data Input'!Q32,'Data Input'!R32,'Data Input'!T32,'Data Input'!Y32,'Data Input'!AD32,'Data Input'!AI32,'Data Input'!AP32,'Data Input'!AQ32))","v":""},{"$f":"IF(O28=\"\",\"\",O28/COUNTIF('Data Input'!$C$8:$AQ$8,$O$2))","v":""}]
[{"$f":"IF('Data Input'!A33=0,\"\",'Data Input'!A33)","v":""},{"$f":"IF(ISBLANK('Data Input'!A33),\"\",COUNTIF('Data Input'!C33:AQ33,\"\")-1)","v":""},{"$f":"IF(ISBLANK('Data Input'!A33),\"\",COUNTIF('Data Input'!C33:AQ33,\"0\"))","v":""},{"$f":"IF(ISBLANK('Data Input'!A33),\"\",SUM(B29,C29))","v":""},{"$f":"IF(ISBLANK('Data Input'!A33),\"\",SUM('Data Input'!C33:V33))","v":""},{"$f":"IF(ISBLANK('Data Input'!A33),\"\",SUM('Data Input'!X33:AQ33))","v":""},{"$f":"IF(ISBLANK('Data Input'!A33),\"\",SUM('Data Input'!C33:AQ33))","v":""},{"$f":"IF(G29=\"\",\"\",G29/(COUNTA('Data Input'!$C$8:$AQ$8)-1))","v":""},{"$f":"IF(ISBLANK('Data Input'!A33),\"\",SUM('Data Input'!C33,'Data Input'!K33,'Data Input'!L33,'Data Input'!AC33,'Data Input'!AF33,'Data Input'!AM33,'Data Input'!AO33))","v":""},{"$f":"IF(I29=\"\",\"\",I29/COUNTIF('Data Input'!$C$8:$AQ$8,$I$2))","v":""},{"$f":"IF(ISBLANK('Data Input'!A33),\"\",SUM('Data Input'!D33,'Data Input'!E33,'Data Input'!F33,'Data Input'!G33,'Data Input'!J33,'Data Input'!O33,'Data Input'!P33,'Data Input'!S33,'Data Input'!U33,'Data Input'!X33,'Data Input'!Z33,'Data Input'!AA33,'Data Input'!AB33,'Data Input'!AE33,'Data Input'!AG33,'Data Input'!AH33,'Data Input'!AJ33,'Data Input'!AK33,'Data Input'!AL33,'Data Input'!AN33))","v":""},{"$f":"IF(K29=\"\",\"\",K29/COUNTIF('Data Input'!$C$8:$AQ$8,$K$2))","v":""},{"$f":"IF(ISBLANK('Data Input'!A33),\"\",SUM('Data Input'!V33))","v":""},{"$f":"IF(M29=\"\",\"\",M29/COUNTIF('Data Input'!$C$8:$AQ$8,$M$2))","v":""},{"$f":"IF(ISBLANK('Data Input'!A33),\"\",SUM('Data Input'!H33,'Data Input'!I33,'Data Input'!M33,'Data Input'!N33,'Data Input'!Q33,'Data Input'!R33,'Data Input'!T33,'Data Input'!Y33,'Data Input'!AD33,'Data Input'!AI33,'Data Input'!AP33,'Data Input'!AQ33))","v":""},{"$f":"IF(O29=\"\",\"\",O29/COUNTIF('Data Input'!$C$8:$AQ$8,$O$2))","v":""}]
[{"$f":"IF('Data Input'!A34=0,\"\",'Data Input'!A34)","v":""},{"$f":"IF(ISBLANK('Data Input'!A34),\"\",COUNTIF('Data Input'!C34:AQ34,\"\")-1)","v":""},{"$f":"IF(ISBLANK('Data Input'!A34),\"\",COUNTIF('Data Input'!C34:AQ34,\"0\"))","v":""},{"$f":"IF(ISBLANK('Data Input'!A34),\"\",SUM(B30,C30))","v":""},{"$f":"IF(ISBLANK('Data Input'!A34),\"\",SUM('Data Input'!C34:V34))","v":""},{"$f":"IF(ISBLANK('Data Input'!A34),\"\",SUM('Data Input'!X34:AQ34))","v":""},{"$f":"IF(ISBLANK('Data Input'!A34),\"\",SUM('Data Input'!C34:AQ34))","v":""},{"$f":"IF(G30=\"\",\"\",G30/(COUNTA('Data Input'!$C$8:$AQ$8)-1))","v":""},{"$f":"IF(ISBLANK('Data Input'!A34),\"\",SUM('Data Input'!C34,'Data Input'!K34,'Data Input'!L34,'Data Input'!AC34,'Data Input'!AF34,'Data Input'!AM34,'Data Input'!AO34))","v":""},{"$f":"IF(I30=\"\",\"\",I30/COUNTIF('Data Input'!$C$8:$AQ$8,$I$2))","v":""},{"$f":"IF(ISBLANK('Data Input'!A34),\"\",SUM('Data Input'!D34,'Data Input'!E34,'Data Input'!F34,'Data Input'!G34,'Data Input'!J34,'Data Input'!O34,'Data Input'!P34,'Data Input'!S34,'Data Input'!U34,'Data Input'!X34,'Data Input'!Z34,'Data Input'!AA34,'Data Input'!AB34,'Data Input'!AE34,'Data Input'!AG34,'Data Input'!AH34,'Data Input'!AJ34,'Data Input'!AK34,'Data Input'!AL34,'Data Input'!AN34))","v":""},{"$f":"IF(K30=\"\",\"\",K30/COUNTIF('Data Input'!$C$8:$AQ$8,$K$2))","v":""},{"$f":"IF(ISBLANK('Data Input'!A34),\"\",SUM('Data Input'!V34))","v":""},{"$f":"IF(M30=\"\",\"\",M30/COUNTIF('Data Input'!$C$8:$AQ$8,$M$2))","v":""},{"$f":"IF(ISBLANK('Data Input'!A34),\"\",SUM('Data Input'!H34,'Data Input'!I34,'Data Input'!M34,'Data Input'!N34,'Data Input'!Q34,'Data Input'!R34,'Data Input'!T34,'Data Input'!Y34,'Data Input'!AD34,'Data Input'!AI34,'Data Input'!AP34,'Data Input'!AQ34))","v":""},{"$f":"IF(O30=\"\",\"\",O30/COUNTIF('Data Input'!$C$8:$AQ$8,$O$2))","v":""}]
[{"$f":"IF('Data Input'!A35=0,\"\",'Data Input'!A35)","v":""},{"$f":"IF(ISBLANK('Data Input'!A35),\"\",COUNTIF('Data Input'!C35:AQ35,\"\")-1)","v":""},{"$f":"IF(ISBLANK('Data Input'!A35),\"\",COUNTIF('Data Input'!C35:AQ35,\"0\"))","v":""},{"$f":"IF(ISBLANK('Data Input'!A35),\"\",SUM(B31,C31))","v":""},{"$f":"IF(ISBLANK('Data Input'!A35),\"\",SUM('Data Input'!C35:V35))","v":""},{"$f":"IF(ISBLANK('Data Input'!A35),\"\",SUM('Data Input'!X35:AQ35))","v":""},{"$f":"IF(ISBLANK('Data Input'!A35),\"\",SUM('Data Input'!C35:AQ35))","v":""},{"$f":"IF(G31=\"\",\"\",G31/(COUNTA('Data Input'!$C$8:$AQ$8)-1))","v":""},{"$f":"IF(ISBLANK('Data Input'!A35),\"\",SUM('Data Input'!C35,'Data Input'!K35,'Data Input'!L35,'Data Input'!AC35,'Data Input'!AF35,'Data Input'!AM35,'Data Input'!AO35))","v":""},{"$f":"IF(I31=\"\",\"\",I31/COUNTIF('Data Input'!$C$8:$AQ$8,$I$2))","v":""},{"$f":"IF(ISBLANK('Data Input'!A35),\"\",SUM('Data Input'!D35,'Data Input'!E35,'Data Input'!F35,'Data Input'!G35,'Data Input'!J35,'Data Input'!O35,'Data Input'!P35,'Data Input'!S35,'Data Input'!U35,'Data Input'!X35,'Data Input'!Z35,'Data Input'!AA35,'Data Input'!AB35,'Data Input'!AE35,'Data Input'!AG35,'Data Input'!AH35,'Data Input'!AJ35,'Data Input'!AK35,'Data Input'!AL35,'Data Input'!AN35))","v":""},{"$f":"IF(K31=\"\",\"\",K31/COUNTIF('Data Input'!$C$8:$AQ$8,$K$2))","v":""},{"$f":"IF(ISBLANK('Data Input'!A35),\"\",SUM('Data Input'!V35))","v":""},{"$f":"IF(M31=\"\",\"\",M31/COUNTIF('Data Input'!$C$8:$AQ$8,$M$2))","v":""},{"$f":"IF(ISBLANK('Data Input'!A35),\"\",SUM('Data Input'!H35,'Data Input'!I35,'Data Input'!M35,'Data Input'!N35,'Data Input'!Q35,'Data Input'!R35,'Data Input'!T35,'Data Input'!Y35,'Data Input'!AD35,'Data Input'!AI35,'Data Input'!AP35,'Data Input'!AQ35))","v":""},{"$f":"IF(O31=\"\",\"\",O31/COUNTIF('Data Input'!$C$8:$AQ$8,$O$2))","v":""}]
[{"$f":"IF('Data Input'!A36=0,\"\",'Data Input'!A36)","v":""},{"$f":"IF(ISBLANK('Data Input'!A36),\"\",COUNTIF('Data Input'!C36:AQ36,\"\")-1)","v":""},{"$f":"IF(ISBLANK('Data Input'!A36),\"\",COUNTIF('Data Input'!C36:AQ36,\"0\"))","v":""},{"$f":"IF(ISBLANK('Data Input'!A36),\"\",SUM(B32,C32))","v":""},{"$f":"IF(ISBLANK('Data Input'!A36),\"\",SUM('Data Input'!C36:V36))","v":""},{"$f":"IF(ISBLANK('Data Input'!A36),\"\",SUM('Data Input'!X36:AQ36))","v":""},{"$f":"IF(ISBLANK('Data Input'!A36),\"\",SUM('Data Input'!C36:AQ36))","v":""},{"$f":"IF(G32=\"\",\"\",G32/(COUNTA('Data Input'!$C$8:$AQ$8)-1))","v":""},{"$f":"IF(ISBLANK('Data Input'!A36),\"\",SUM('Data Input'!C36,'Data Input'!K36,'Data Input'!L36,'Data Input'!AC36,'Data Input'!AF36,'Data Input'!AM36,'Data Input'!AO36))","v":""},{"$f":"IF(I32=\"\",\"\",I32/COUNTIF('Data Input'!$C$8:$AQ$8,$I$2))","v":""},{"$f":"IF(ISBLANK('Data Input'!A36),\"\",SUM('Data Input'!D36,'Data Input'!E36,'Data Input'!F36,'Data Input'!G36,'Data Input'!J36,'Data Input'!O36,'Data Input'!P36,'Data Input'!S36,'Data Input'!U36,'Data Input'!X36,'Data Input'!Z36,'Data Input'!AA36,'Data Input'!AB36,'Data Input'!AE36,'Data Input'!AG36,'Data Input'!AH36,'Data Input'!AJ36,'Data Input'!AK36,'Data Input'!AL36,'Data Input'!AN36))","v":""},{"$f":"IF(K32=\"\",\"\",K32/COUNTIF('Data Input'!$C$8:$AQ$8,$K$2))","v":""},{"$f":"IF(ISBLANK('Data Input'!A36),\"\",SUM('Data Input'!V36))","v":""},{"$f":"IF(M32=\"\",\"\",M32/COUNTIF('Data Input'!$C$8:$AQ$8,$M$2))","v":""},{"$f":"IF(ISBLANK('Data Input'!A36),\"\",SUM('Data Input'!H36,'Data Input'!I36,'Data Input'!M36,'Data Input'!N36,'Data Input'!Q36,'Data Input'!R36,'Data Input'!T36,'Data Input'!Y36,'Data Input'!AD36,'Data Input'!AI36,'Data Input'!AP36,'Data Input'!AQ36))","v":""},{"$f":"IF(O32=\"\",\"\",O32/COUNTIF('Data Input'!$C$8:$AQ$8,$O$2))","v":""}]
[{"$f":"IF('Data Input'!A37=0,\"\",'Data Input'!A37)","v":""},{"$f":"IF(ISBLANK('Data Input'!A37),\"\",COUNTIF('Data Input'!C37:AQ37,\"\")-1)","v":""},{"$f":"IF(ISBLANK('Data Input'!A37),\"\",COUNTIF('Data Input'!C37:AQ37,\"0\"))","v":""},{"$f":"IF(ISBLANK('Data Input'!A37),\"\",SUM(B33,C33))","v":""},{"$f":"IF(ISBLANK('Data Input'!A37),\"\",SUM('Data Input'!C37:V37))","v":""},{"$f":"IF(ISBLANK('Data Input'!A37),\"\",SUM('Data Input'!X37:AQ37))","v":""},{"$f":"IF(ISBLANK('Data Input'!A37),\"\",SUM('Data Input'!C37:AQ37))","v":""},{"$f":"IF(G33=\"\",\"\",G33/(COUNTA('Data Input'!$C$8:$AQ$8)-1))","v":""},{"$f":"IF(ISBLANK('Data Input'!A37),\"\",SUM('Data Input'!C37,'Data Input'!K37,'Data Input'!L37,'Data Input'!AC37,'Data Input'!AF37,'Data Input'!AM37,'Data Input'!AO37))","v":""},{"$f":"IF(I33=\"\",\"\",I33/COUNTIF('Data Input'!$C$8:$AQ$8,$I$2))","v":""},{"$f":"IF(ISBLANK('Data Input'!A37),\"\",SUM('Data Input'!D37,'Data Input'!E37,'Data Input'!F37,'Data Input'!G37,'Data Input'!J37,'Data Input'!O37,'Data Input'!P37,'Data Input'!S37,'Data Input'!U37,'Data Input'!X37,'Data Input'!Z37,'Data Input'!AA37,'Data Input'!AB37,'Data Input'!AE37,'Data Input'!AG37,'Data Input'!AH37,'Data Input'!AJ37,'Data Input'!AK37,'Data Input'!AL37,'Data Input'!AN37))","v":""},{"$f":"IF(K33=\"\",\"\",K33/COUNTIF('Data Input'!$C$8:$AQ$8,$K$2))","v":""},{"$f":"IF(ISBLANK('Data Input'!A37),\"\",SUM('Data Input'!V37))","v":""},{"$f":"IF(M33=\"\",\"\",M33/COUNTIF('Data Input'!$C$8:$AQ$8,$M$2))","v":""},{"$f":"IF(ISBLANK('Data Input'!A37),\"\",SUM('Data Input'!H37,'Data Input'!I37,'Data Input'!M37,'Data Input'!N37,'Data Input'!Q37,'Data Input'!R37,'Data Input'!T37,'Data Input'!Y37,'Data Input'!AD37,'Data Input'!AI37,'Data Input'!AP37,'Data Input'!AQ37))","v":""},{"$f":"IF(O33=\"\",\"\",O33/COUNTIF('Data Input'!$C$8:$AQ$8,$O$2))","v":""}]
[{"$f":"IF('Data Input'!A38=0,\"\",'Data Input'!A38)","v":""},{"$f":"IF(ISBLANK('Data Input'!A38),\"\",COUNTIF('Data Input'!C38:AQ38,\"\")-1)","v":""},{"$f":"IF(ISBLANK('Data Input'!A38),\"\",COUNTIF('Data Input'!C38:AQ38,\"0\"))","v":""},{"$f":"IF(ISBLANK('Data Input'!A38),\"\",SUM(B34,C34))","v":""},{"$f":"IF(ISBLANK('Data Input'!A38),\"\",SUM('Data Input'!C38:V38))","v":""},{"$f":"IF(ISBLANK('Data Input'!A38),\"\",SUM('Data Input'!X38:AQ38))","v":""},{"$f":"IF(ISBLANK('Data Input'!A38),\"\",SUM('Data Input'!C38:AQ38))","v":""},{"$f":"IF(G34=\"\",\"\",G34/(COUNTA('Data Input'!$C$8:$AQ$8)-1))","v":""},{"$f":"IF(ISBLANK('Data Input'!A38),\"\",SUM('Data Input'!C38,'Data Input'!K38,'Data Input'!L38,'Data Input'!AC38,'Data Input'!AF38,'Data Input'!AM38,'Data Input'!AO38))","v":""},{"$f":"IF(I34=\"\",\"\",I34/COUNTIF('Data Input'!$C$8:$AQ$8,$I$2))","v":""},{"$f":"IF(ISBLANK('Data Input'!A38),\"\",SUM('Data Input'!D38,'Data Input'!E38,'Data Input'!F38,'Data Input'!G38,'Data Input'!J38,'Data Input'!O38,'Data Input'!P38,'Data Input'!S38,'Data Input'!U38,'Data Input'!X38,'Data Input'!Z38,'Data Input'!AA38,'Data Input'!AB38,'Data Input'!AE38,'Data Input'!AG38,'Data Input'!AH38,'Data Input'!AJ38,'Data Input'!AK38,'Data Input'!AL38,'Data Input'!AN38))","v":""},{"$f":"IF(K34=\"\",\"\",K34/COUNTIF('Data Input'!$C$8:$AQ$8,$K$2))","v":""},{"$f":"IF(ISBLANK('Data Input'!A38),\"\",SUM('Data Input'!V38))","v":""},{"$f":"IF(M34=\"\",\"\",M34/COUNTIF('Data Input'!$C$8:$AQ$8,$M$2))","v":""},{"$f":"IF(ISBLANK('Data Input'!A38),\"\",SUM('Data Input'!H38,'Data Input'!I38,'Data Input'!M38,'Data Input'!N38,'Data Input'!Q38,'Data Input'!R38,'Data Input'!T38,'Data Input'!Y38,'Data Input'!AD38,'Data Input'!AI38,'Data Input'!AP38,'Data Input'!AQ38))","v":""},{"$f":"IF(O34=\"\",\"\",O34/COUNTIF('Data Input'!$C$8:$AQ$8,$O$2))","v":""}]
[{"$f":"IF('Data Input'!A39=0,\"\",'Data Input'!A39)","v":""},{"$f":"IF(ISBLANK('Data Input'!A39),\"\",COUNTIF('Data Input'!C39:AQ39,\"\")-1)","v":""},{"$f":"IF(ISBLANK('Data Input'!A39),\"\",COUNTIF('Data Input'!C39:AQ39,\"0\"))","v":""},{"$f":"IF(ISBLANK('Data Input'!A39),\"\",SUM(B35,C35))","v":""},{"$f":"IF(ISBLANK('Data Input'!A39),\"\",SUM('Data Input'!C39:V39))","v":""},{"$f":"IF(ISBLANK('Data Input'!A39),\"\",SUM('Data Input'!X39:AQ39))","v":""},{"$f":"IF(ISBLANK('Data Input'!A39),\"\",SUM('Data Input'!C39:AQ39))","v":""},{"$f":"IF(G35=\"\",\"\",G35/(COUNTA('Data Input'!$C$8:$AQ$8)-1))","v":""},{"$f":"IF(ISBLANK('Data Input'!A39),\"\",SUM('Data Input'!C39,'Data Input'!K39,'Data Input'!L39,'Data Input'!AC39,'Data Input'!AF39,'Data Input'!AM39,'Data Input'!AO39))","v":""},{"$f":"IF(I35=\"\",\"\",I35/COUNTIF('Data Input'!$C$8:$AQ$8,$I$2))","v":""},{"$f":"IF(ISBLANK('Data Input'!A39),\"\",SUM('Data Input'!D39,'Data Input'!E39,'Data Input'!F39,'Data Input'!G39,'Data Input'!J39,'Data Input'!O39,'Data Input'!P39,'Data Input'!S39,'Data Input'!U39,'Data Input'!X39,'Data Input'!Z39,'Data Input'!AA39,'Data Input'!AB39,'Data Input'!AE39,'Data Input'!AG39,'Data Input'!AH39,'Data Input'!AJ39,'Data Input'!AK39,'Data Input'!AL39,'Data Input'!AN39))","v":""},{"$f":"IF(K35=\"\",\"\",K35/COUNTIF('Data Input'!$C$8:$AQ$8,$K$2))","v":""},{"$f":"IF(ISBLANK('Data Input'!A39),\"\",SUM('Data Input'!V39))","v":""},{"$f":"IF(M35=\"\",\"\",M35/COUNTIF('Data Input'!$C$8:$AQ$8,$M$2))","v":""},{"$f":"IF(ISBLANK('Data Input'!A39),\"\",SUM('Data Input'!H39,'Data Input'!I39,'Data Input'!M39,'Data Input'!N39,'Data Input'!Q39,'Data Input'!R39,'Data Input'!T39,'Data Input'!Y39,'Data Input'!AD39,'Data Input'!AI39,'Data Input'!AP39,'Data Input'!AQ39))","v":""},{"$f":"IF(O35=\"\",\"\",O35/COUNTIF('Data Input'!$C$8:$AQ$8,$O$2))","v":""}]
[{"$f":"IF('Data Input'!A40=0,\"\",'Data Input'!A40)","v":""},{"$f":"IF(ISBLANK('Data Input'!A40),\"\",COUNTIF('Data Input'!C40:AQ40,\"\")-1)","v":""},{"$f":"IF(ISBLANK('Data Input'!A40),\"\",COUNTIF('Data Input'!C40:AQ40,\"0\"))","v":""},{"$f":"IF(ISBLANK('Data Input'!A40),\"\",SUM(B36,C36))","v":""},{"$f":"IF(ISBLANK('Data Input'!A40),\"\",SUM('Data Input'!C40:V40))","v":""},{"$f":"IF(ISBLANK('Data Input'!A40),\"\",SUM('Data Input'!X40:AQ40))","v":""},{"$f":"IF(ISBLANK('Data Input'!A40),\"\",SUM('Data Input'!C40:AQ40))","v":""},{"$f":"IF(G36=\"\",\"\",G36/(COUNTA('Data Input'!$C$8:$AQ$8)-1))","v":""},{"$f":"IF(ISBLANK('Data Input'!A40),\"\",SUM('Data Input'!C40,'Data Input'!K40,'Data Input'!L40,'Data Input'!AC40,'Data Input'!AF40,'Data Input'!AM40,'Data Input'!AO40))","v":""},{"$f":"IF(I36=\"\",\"\",I36/COUNTIF('Data Input'!$C$8:$AQ$8,$I$2))","v":""},{"$f":"IF(ISBLANK('Data Input'!A40),\"\",SUM('Data Input'!D40,'Data Input'!E40,'Data Input'!F40,'Data Input'!G40,'Data Input'!J40,'Data Input'!O40,'Data Input'!P40,'Data Input'!S40,'Data Input'!U40,'Data Input'!X40,'Data Input'!Z40,'Data Input'!AA40,'Data Input'!AB40,'Data Input'!AE40,'Data Input'!AG40,'Data Input'!AH40,'Data Input'!AJ40,'Data Input'!AK40,'Data Input'!AL40,'Data Input'!AN40))","v":""},{"$f":"IF(K36=\"\",\"\",K36/COUNTIF('Data Input'!$C$8:$AQ$8,$K$2))","v":""},{"$f":"IF(ISBLANK('Data Input'!A40),\"\",SUM('Data Input'!V40))","v":""},{"$f":"IF(M36=\"\",\"\",M36/COUNTIF('Data Input'!$C$8:$AQ$8,$M$2))","v":""},{"$f":"IF(ISBLANK('Data Input'!A40),\"\",SUM('Data Input'!H40,'Data Input'!I40,'Data Input'!M40,'Data Input'!N40,'Data Input'!Q40,'Data Input'!R40,'Data Input'!T40,'Data Input'!Y40,'Data Input'!AD40,'Data Input'!AI40,'Data Input'!AP40,'Data Input'!AQ40))","v":""},{"$f":"IF(O36=\"\",\"\",O36/COUNTIF('Data Input'!$C$8:$AQ$8,$O$2))","v":""}]
[{"$f":"IF('Data Input'!A41=0,\"\",'Data Input'!A41)","v":""},{"$f":"IF(ISBLANK('Data Input'!A41),\"\",COUNTIF('Data Input'!C41:AQ41,\"\")-1)","v":""},{"$f":"IF(ISBLANK('Data Input'!A41),\"\",COUNTIF('Data Input'!C41:AQ41,\"0\"))","v":""},{"$f":"IF(ISBLANK('Data Input'!A41),\"\",SUM(B37,C37))","v":""},{"$f":"IF(ISBLANK('Data Input'!A41),\"\",SUM('Data Input'!C41:V41))","v":""},{"$f":"IF(ISBLANK('Data Input'!A41),\"\",SUM('Data Input'!X41:AQ41))","v":""},{"$f":"IF(ISBLANK('Data Input'!A41),\"\",SUM('Data Input'!C41:AQ41))","v":""},{"$f":"IF(G37=\"\",\"\",G37/(COUNTA('Data Input'!$C$8:$AQ$8)-1))","v":""},{"$f":"IF(ISBLANK('Data Input'!A41),\"\",SUM('Data Input'!C41,'Data Input'!K41,'Data Input'!L41,'Data Input'!AC41,'Data Input'!AF41,'Data Input'!AM41,'Data Input'!AO41))","v":""},{"$f":"IF(I37=\"\",\"\",I37/COUNTIF('Data Input'!$C$8:$AQ$8,$I$2))","v":""},{"$f":"IF(ISBLANK('Data Input'!A41),\"\",SUM('Data Input'!D41,'Data Input'!E41,'Data Input'!F41,'Data Input'!G41,'Data Input'!J41,'Data Input'!O41,'Data Input'!P41,'Data Input'!S41,'Data Input'!U41,'Data Input'!X41,'Data Input'!Z41,'Data Input'!AA41,'Data Input'!AB41,'Data Input'!AE41,'Data Input'!AG41,'Data Input'!AH41,'Data Input'!AJ41,'Data Input'!AK41,'Data Input'!AL41,'Data Input'!AN41))","v":""},{"$f":"IF(K37=\"\",\"\",K37/COUNTIF('Data Input'!$C$8:$AQ$8,$K$2))","v":""},{"$f":"IF(ISBLANK('Data Input'!A41),\"\",SUM('Data Input'!V41))","v":""},{"$f":"IF(M37=\"\",\"\",M37/COUNTIF('Data Input'!$C$8:$AQ$8,$M$2))","v":""},{"$f":"IF(ISBLANK('Data Input'!A41),\"\",SUM('Data Input'!H41,'Data Input'!I41,'Data Input'!M41,'Data Input'!N41,'Data Input'!Q41,'Data Input'!R41,'Data Input'!T41,'Data Input'!Y41,'Data Input'!AD41,'Data Input'!AI41,'Data Input'!AP41,'Data Input'!AQ41))","v":""},{"$f":"IF(O37=\"\",\"\",O37/COUNTIF('Data Input'!$C$8:$AQ$8,$O$2))","v":""}]
[{"$f":"IF('Data Input'!A42=0,\"\",'Data Input'!A42)","v":""},{"$f":"IF(ISBLANK('Data Input'!A42),\"\",COUNTIF('Data Input'!C42:AQ42,\"\")-1)","v":""},{"$f":"IF(ISBLANK('Data Input'!A42),\"\",COUNTIF('Data Input'!C42:AQ42,\"0\"))","v":""},{"$f":"IF(ISBLANK('Data Input'!A42),\"\",SUM(B38,C38))","v":""},{"$f":"IF(ISBLANK('Data Input'!A42),\"\",SUM('Data Input'!C42:V42))","v":""},{"$f":"IF(ISBLANK('Data Input'!A42),\"\",SUM('Data Input'!X42:AQ42))","v":""},{"$f":"IF(ISBLANK('Data Input'!A42),\"\",SUM('Data Input'!C42:AQ42))","v":""},{"$f":"IF(G38=\"\",\"\",G38/(COUNTA('Data Input'!$C$8:$AQ$8)-1))","v":""},{"$f":"IF(ISBLANK('Data Input'!A42),\"\",SUM('Data Input'!C42,'Data Input'!K42,'Data Input'!L42,'Data Input'!AC42,'Data Input'!AF42,'Data Input'!AM42,'Data Input'!AO42))","v":""},{"$f":"IF(I38=\"\",\"\",I38/COUNTIF('Data Input'!$C$8:$AQ$8,$I$2))","v":""},{"$f":"IF(ISBLANK('Data Input'!A42),\"\",SUM('Data Input'!D42,'Data Input'!E42,'Data Input'!F42,'Data Input'!G42,'Data Input'!J42,'Data Input'!O42,'Data Input'!P42,'Data Input'!S42,'Data Input'!U42,'Data Input'!X42,'Data Input'!Z42,'Data Input'!AA42,'Data Input'!AB42,'Data Input'!AE42,'Data Input'!AG42,'Data Input'!AH42,'Data Input'!AJ42,'Data Input'!AK42,'Data Input'!AL42,'Data Input'!AN42))","v":""},{"$f":"IF(K38=\"\",\"\",K38/COUNTIF('Data Input'!$C$8:$AQ$8,$K$2))","v":""},{"$f":"IF(ISBLANK('Data Input'!A42),\"\",SUM('Data Input'!V42))","v":""},{"$f":"IF(M38=\"\",\"\",M38/COUNTIF('Data Input'!$C$8:$AQ$8,$M$2))","v":""},{"$f":"IF(ISBLANK('Data Input'!A42),\"\",SUM('Data Input'!H42,'Data Input'!I42,'Data Input'!M42,'Data Input'!N42,'Data Input'!Q42,'Data Input'!R42,'Data Input'!T42,'Data Input'!Y42,'Data Input'!AD42,'Data Input'!AI42,'Data Input'!AP42,'Data Input'!AQ42))","v":""},{"$f":"IF(O38=\"\",\"\",O38/COUNTIF('Data Input'!$C$8:$AQ$8,$O$2))","v":""}]
[{"$f":"IF('Data Input'!A43=0,\"\",'Data Input'!A43)","v":""},{"$f":"IF(ISBLANK('Data Input'!A43),\"\",COUNTIF('Data Input'!C43:AQ43,\"\")-1)","v":""},{"$f":"IF(ISBLANK('Data Input'!A43),\"\",COUNTIF('Data Input'!C43:AQ43,\"0\"))","v":""},{"$f":"IF(ISBLANK('Data Input'!A43),\"\",SUM(B39,C39))","v":""},{"$f":"IF(ISBLANK('Data Input'!A43),\"\",SUM('Data Input'!C43:V43))","v":""},{"$f":"IF(ISBLANK('Data Input'!A43),\"\",SUM('Data Input'!X43:AQ43))","v":""},{"$f":"IF(ISBLANK('Data Input'!A43),\"\",SUM('Data Input'!C43:AQ43))","v":""},{"$f":"IF(G39=\"\",\"\",G39/(COUNTA('Data Input'!$C$8:$AQ$8)-1))","v":""},{"$f":"IF(ISBLANK('Data Input'!A43),\"\",SUM('Data Input'!C43,'Data Input'!K43,'Data Input'!L43,'Data Input'!AC43,'Data Input'!AF43,'Data Input'!AM43,'Data Input'!AO43))","v":""},{"$f":"IF(I39=\"\",\"\",I39/COUNTIF('Data Input'!$C$8:$AQ$8,$I$2))","v":""},{"$f":"IF(ISBLANK('Data Input'!A43),\"\",SUM('Data Input'!D43,'Data Input'!E43,'Data Input'!F43,'Data Input'!G43,'Data Input'!J43,'Data Input'!O43,'Data Input'!P43,'Data Input'!S43,'Data Input'!U43,'Data Input'!X43,'Data Input'!Z43,'Data Input'!AA43,'Data Input'!AB43,'Data Input'!AE43,'Data Input'!AG43,'Data Input'!AH43,'Data Input'!AJ43,'Data Input'!AK43,'Data Input'!AL43,'Data Input'!AN43))","v":""},{"$f":"IF(K39=\"\",\"\",K39/COUNTIF('Data Input'!$C$8:$AQ$8,$K$2))","v":""},{"$f":"IF(ISBLANK('Data Input'!A43),\"\",SUM('Data Input'!V43))","v":""},{"$f":"IF(M39=\"\",\"\",M39/COUNTIF('Data Input'!$C$8:$AQ$8,$M$2))","v":""},{"$f":"IF(ISBLANK('Data Input'!A43),\"\",SUM('Data Input'!H43,'Data Input'!I43,'Data Input'!M43,'Data Input'!N43,'Data Input'!Q43,'Data Input'!R43,'Data Input'!T43,'Data Input'!Y43,'Data Input'!AD43,'Data Input'!AI43,'Data Input'!AP43,'Data Input'!AQ43))","v":""},{"$f":"IF(O39=\"\",\"\",O39/COUNTIF('Data Input'!$C$8:$AQ$8,$O$2))","v":""}]
[{"$f":"IF('Data Input'!A44=0,\"\",'Data Input'!A44)","v":""},{"$f":"IF(ISBLANK('Data Input'!A44),\"\",COUNTIF('Data Input'!C44:AQ44,\"\")-1)","v":""},{"$f":"IF(ISBLANK('Data Input'!A44),\"\",COUNTIF('Data Input'!C44:AQ44,\"0\"))","v":""},{"$f":"IF(ISBLANK('Data Input'!A44),\"\",SUM(B40,C40))","v":""},{"$f":"IF(ISBLANK('Data Input'!A44),\"\",SUM('Data Input'!C44:V44))","v":""},{"$f":"IF(ISBLANK('Data Input'!A44),\"\",SUM('Data Input'!X44:AQ44))","v":""},{"$f":"IF(ISBLANK('Data Input'!A44),\"\",SUM('Data Input'!C44:AQ44))","v":""},{"$f":"IF(G40=\"\",\"\",G40/(COUNTA('Data Input'!$C$8:$AQ$8)-1))","v":""},{"$f":"IF(ISBLANK('Data Input'!A44),\"\",SUM('Data Input'!C44,'Data Input'!K44,'Data Input'!L44,'Data Input'!AC44,'Data Input'!AF44,'Data Input'!AM44,'Data Input'!AO44))","v":""},{"$f":"IF(I40=\"\",\"\",I40/COUNTIF('Data Input'!$C$8:$AQ$8,$I$2))","v":""},{"$f":"IF(ISBLANK('Data Input'!A44),\"\",SUM('Data Input'!D44,'Data Input'!E44,'Data Input'!F44,'Data Input'!G44,'Data Input'!J44,'Data Input'!O44,'Data Input'!P44,'Data Input'!S44,'Data Input'!U44,'Data Input'!X44,'Data Input'!Z44,'Data Input'!AA44,'Data Input'!AB44,'Data Input'!AE44,'Data Input'!AG44,'Data Input'!AH44,'Data Input'!AJ44,'Data Input'!AK44,'Data Input'!AL44,'Data Input'!AN44))","v":""},{"$f":"IF(K40=\"\",\"\",K40/COUNTIF('Data Input'!$C$8:$AQ$8,$K$2))","v":""},{"$f":"IF(ISBLANK('Data Input'!A44),\"\",SUM('Data Input'!V44))","v":""},{"$f":"IF(M40=\"\",\"\",M40/COUNTIF('Data Input'!$C$8:$AQ$8,$M$2))","v":""},{"$f":"IF(ISBLANK('Data Input'!A44),\"\",SUM('Data Input'!H44,'Data Input'!I44,'Data Input'!M44,'Data Input'!N44,'Data Input'!Q44,'Data Input'!R44,'Data Input'!T44,'Data Input'!Y44,'Data Input'!AD44,'Data Input'!AI44,'Data Input'!AP44,'Data Input'!AQ44))","v":""},{"$f":"IF(O40=\"\",\"\",O40/COUNTIF('Data Input'!$C$8:$AQ$8,$O$2))","v":""}]
[{"$f":"IF('Data Input'!A45=0,\"\",'Data Input'!A45)","v":""},{"$f":"IF(ISBLANK('Data Input'!A45),\"\",COUNTIF('Data Input'!C45:AQ45,\"\")-1)","v":""},{"$f":"IF(ISBLANK('Data Input'!A45),\"\",COUNTIF('Data Input'!C45:AQ45,\"0\"))","v":""},{"$f":"IF(ISBLANK('Data Input'!A45),\"\",SUM(B41,C41))","v":""},{"$f":"IF(ISBLANK('Data Input'!A45),\"\",SUM('Data Input'!C45:V45))","v":""},{"$f":"IF(ISBLANK('Data Input'!A45),\"\",SUM('Data Input'!X45:AQ45))","v":""},{"$f":"IF(ISBLANK('Data Input'!A45),\"\",SUM('Data Input'!C45:AQ45))","v":""},{"$f":"IF(G41=\"\",\"\",G41/(COUNTA('Data Input'!$C$8:$AQ$8)-1))","v":""},{"$f":"IF(ISBLANK('Data Input'!A45),\"\",SUM('Data Input'!C45,'Data Input'!K45,'Data Input'!L45,'Data Input'!AC45,'Data Input'!AF45,'Data Input'!AM45,'Data Input'!AO45))","v":""},{"$f":"IF(I41=\"\",\"\",I41/COUNTIF('Data Input'!$C$8:$AQ$8,$I$2))","v":""},{"$f":"IF(ISBLANK('Data Input'!A45),\"\",SUM('Data Input'!D45,'Data Input'!E45,'Data Input'!F45,'Data Input'!G45,'Data Input'!J45,'Data Input'!O45,'Data Input'!P45,'Data Input'!S45,'Data Input'!U45,'Data Input'!X45,'Data Input'!Z45,'Data Input'!AA45,'Data Input'!AB45,'Data Input'!AE45,'Data Input'!AG45,'Data Input'!AH45,'Data Input'!AJ45,'Data Input'!AK45,'Data Input'!AL45,'Data Input'!AN45))","v":""},{"$f":"IF(K41=\"\",\"\",K41/COUNTIF('Data Input'!$C$8:$AQ$8,$K$2))","v":""},{"$f":"IF(ISBLANK('Data Input'!A45),\"\",SUM('Data Input'!V45))","v":""},{"$f":"IF(M41=\"\",\"\",M41/COUNTIF('Data Input'!$C$8:$AQ$8,$M$2))","v":""},{"$f":"IF(ISBLANK('Data Input'!A45),\"\",SUM('Data Input'!H45,'Data Input'!I45,'Data Input'!M45,'Data Input'!N45,'Data Input'!Q45,'Data Input'!R45,'Data Input'!T45,'Data Input'!Y45,'Data Input'!AD45,'Data Input'!AI45,'Data Input'!AP45,'Data Input'!AQ45))","v":""},{"$f":"IF(O41=\"\",\"\",O41/COUNTIF('Data Input'!$C$8:$AQ$8,$O$2))","v":""}]
[{"$f":"IF('Data Input'!A46=0,\"\",'Data Input'!A46)","v":""},{"$f":"IF(ISBLANK('Data Input'!A46),\"\",COUNTIF('Data Input'!C46:AQ46,\"\")-1)","v":""},{"$f":"IF(ISBLANK('Data Input'!A46),\"\",COUNTIF('Data Input'!C46:AQ46,\"0\"))","v":""},{"$f":"IF(ISBLANK('Data Input'!A46),\"\",SUM(B42,C42))","v":""},{"$f":"IF(ISBLANK('Data Input'!A46),\"\",SUM('Data Input'!C46:V46))","v":""},{"$f":"IF(ISBLANK('Data Input'!A46),\"\",SUM('Data Input'!X46:AQ46))","v":""},{"$f":"IF(ISBLANK('Data Input'!A46),\"\",SUM('Data Input'!C46:AQ46))","v":""},{"$f":"IF(G42=\"\",\"\",G42/(COUNTA('Data Input'!$C$8:$AQ$8)-1))","v":""},{"$f":"IF(ISBLANK('Data Input'!A46),\"\",SUM('Data Input'!C46,'Data Input'!K46,'Data Input'!L46,'Data Input'!AC46,'Data Input'!AF46,'Data Input'!AM46,'Data Input'!AO46))","v":""},{"$f":"IF(I42=\"\",\"\",I42/COUNTIF('Data Input'!$C$8:$AQ$8,$I$2))","v":""},{"$f":"IF(ISBLANK('Data Input'!A46),\"\",SUM('Data Input'!D46,'Data Input'!E46,'Data Input'!F46,'Data Input'!G46,'Data Input'!J46,'Data Input'!O46,'Data Input'!P46,'Data Input'!S46,'Data Input'!U46,'Data Input'!X46,'Data Input'!Z46,'Data Input'!AA46,'Data Input'!AB46,'Data Input'!AE46,'Data Input'!AG46,'Data Input'!AH46,'Data Input'!AJ46,'Data Input'!AK46,'Data Input'!AL46,'Data Input'!AN46))","v":""},{"$f":"IF(K42=\"\",\"\",K42/COUNTIF('Data Input'!$C$8:$AQ$8,$K$2))","v":""},{"$f":"IF(ISBLANK('Data Input'!A46),\"\",SUM('Data Input'!V46))","v":""},{"$f":"IF(M42=\"\",\"\",M42/COUNTIF('Data Input'!$C$8:$AQ$8,$M$2))","v":""},{"$f":"IF(ISBLANK('Data Input'!A46),\"\",SUM('Data Input'!H46,'Data Input'!I46,'Data Input'!M46,'Data Input'!N46,'Data Input'!Q46,'Data Input'!R46,'Data Input'!T46,'Data Input'!Y46,'Data Input'!AD46,'Data Input'!AI46,'Data Input'!AP46,'Data Input'!AQ46))","v":""},{"$f":"IF(O42=\"\",\"\",O42/COUNTIF('Data Input'!$C$8:$AQ$8,$O$2))","v":""}]
[{"$f":"IF('Data Input'!A47=0,\"\",'Data Input'!A47)","v":""},{"$f":"IF(ISBLANK('Data Input'!A47),\"\",COUNTIF('Data Input'!C47:AQ47,\"\")-1)","v":""},{"$f":"IF(ISBLANK('Data Input'!A47),\"\",COUNTIF('Data Input'!C47:AQ47,\"0\"))","v":""},{"$f":"IF(ISBLANK('Data Input'!A47),\"\",SUM(B43,C43))","v":""},{"$f":"IF(ISBLANK('Data Input'!A47),\"\",SUM('Data Input'!C47:V47))","v":""},{"$f":"IF(ISBLANK('Data Input'!A47),\"\",SUM('Data Input'!X47:AQ47))","v":""},{"$f":"IF(ISBLANK('Data Input'!A47),\"\",SUM('Data Input'!C47:AQ47))","v":""},{"$f":"IF(G43=\"\",\"\",G43/(COUNTA('Data Input'!$C$8:$AQ$8)-1))","v":""},{"$f":"IF(ISBLANK('Data Input'!A47),\"\",SUM('Data Input'!C47,'Data Input'!K47,'Data Input'!L47,'Data Input'!AC47,'Data Input'!AF47,'Data Input'!AM47,'Data Input'!AO47))","v":""},{"$f":"IF(I43=\"\",\"\",I43/COUNTIF('Data Input'!$C$8:$AQ$8,$I$2))","v":""},{"$f":"IF(ISBLANK('Data Input'!A47),\"\",SUM('Data Input'!D47,'Data Input'!E47,'Data Input'!F47,'Data Input'!G47,'Data Input'!J47,'Data Input'!O47,'Data Input'!P47,'Data Input'!S47,'Data Input'!U47,'Data Input'!X47,'Data Input'!Z47,'Data Input'!AA47,'Data Input'!AB47,'Data Input'!AE47,'Data Input'!AG47,'Data Input'!AH47,'Data Input'!AJ47,'Data Input'!AK47,'Data Input'!AL47,'Data Input'!AN47))","v":""},{"$f":"IF(K43=\"\",\"\",K43/COUNTIF('Data Input'!$C$8:$AQ$8,$K$2))","v":""},{"$f":"IF(ISBLANK('Data Input'!A47),\"\",SUM('Data Input'!V47))","v":""},{"$f":"IF(M43=\"\",\"\",M43/COUNTIF('Data Input'!$C$8:$AQ$8,$M$2))","v":""},{"$f":"IF(ISBLANK('Data Input'!A47),\"\",SUM('Data Input'!H47,'Data Input'!I47,'Data Input'!M47,'Data Input'!N47,'Data Input'!Q47,'Data Input'!R47,'Data Input'!T47,'Data Input'!Y47,'Data Input'!AD47,'Data Input'!AI47,'Data Input'!AP47,'Data Input'!AQ47))","v":""},{"$f":"IF(O43=\"\",\"\",O43/COUNTIF('Data Input'!$C$8:$AQ$8,$O$2))","v":""}]
[{"$f":"IF('Data Input'!A48=0,\"\",'Data Input'!A48)","v":""},{"$f":"IF(ISBLANK('Data Input'!A48),\"\",COUNTIF('Data Input'!C48:AQ48,\"\")-1)","v":""},{"$f":"IF(ISBLANK('Data Input'!A48),\"\",COUNTIF('Data Input'!C48:AQ48,\"0\"))","v":""},{"$f":"IF(ISBLANK('Data Input'!A48),\"\",SUM(B44,C44))","v":""},{"$f":"IF(ISBLANK('Data Input'!A48),\"\",SUM('Data Input'!C48:V48))","v":""},{"$f":"IF(ISBLANK('Data Input'!A48),\"\",SUM('Data Input'!X48:AQ48))","v":""},{"$f":"IF(ISBLANK('Data Input'!A48),\"\",SUM('Data Input'!C48:AQ48))","v":""},{"$f":"IF(G44=\"\",\"\",G44/(COUNTA('Data Input'!$C$8:$AQ$8)-1))","v":""},{"$f":"IF(ISBLANK('Data Input'!A48),\"\",SUM('Data Input'!C48,'Data Input'!K48,'Data Input'!L48,'Data Input'!AC48,'Data Input'!AF48,'Data Input'!AM48,'Data Input'!AO48))","v":""},{"$f":"IF(I44=\"\",\"\",I44/COUNTIF('Data Input'!$C$8:$AQ$8,$I$2))","v":""},{"$f":"IF(ISBLANK('Data Input'!A48),\"\",SUM('Data Input'!D48,'Data Input'!E48,'Data Input'!F48,'Data Input'!G48,'Data Input'!J48,'Data Input'!O48,'Data Input'!P48,'Data Input'!S48,'Data Input'!U48,'Data Input'!X48,'Data Input'!Z48,'Data Input'!AA48,'Data Input'!AB48,'Data Input'!AE48,'Data Input'!AG48,'Data Input'!AH48,'Data Input'!AJ48,'Data Input'!AK48,'Data Input'!AL48,'Data Input'!AN48))","v":""},{"$f":"IF(K44=\"\",\"\",K44/COUNTIF('Data Input'!$C$8:$AQ$8,$K$2))","v":""},{"$f":"IF(ISBLANK('Data Input'!A48),\"\",SUM('Data Input'!V48))","v":""},{"$f":"IF(M44=\"\",\"\",M44/COUNTIF('Data Input'!$C$8:$AQ$8,$M$2))","v":""},{"$f":"IF(ISBLANK('Data Input'!A48),\"\",SUM('Data Input'!H48,'Data Input'!I48,'Data Input'!M48,'Data Input'!N48,'Data Input'!Q48,'Data Input'!R48,'Data Input'!T48,'Data Input'!Y48,'Data Input'!AD48,'Data Input'!AI48,'Data Input'!AP48,'Data Input'!AQ48))","v":""},{"$f":"IF(O44=\"\",\"\",O44/COUNTIF('Data Input'!$C$8:$AQ$8,$O$2))","v":""}]
[{"$f":"IF('Data Input'!A49=0,\"\",'Data Input'!A49)","v":""},{"$f":"IF(ISBLANK('Data Input'!A49),\"\",COUNTIF('Data Input'!C49:AQ49,\"\")-1)","v":""},{"$f":"IF(ISBLANK('Data Input'!A49),\"\",COUNTIF('Data Input'!C49:AQ49,\"0\"))","v":""},{"$f":"IF(ISBLANK('Data Input'!A49),\"\",SUM(B45,C45))","v":""},{"$f":"IF(ISBLANK('Data Input'!A49),\"\",SUM('Data Input'!C49:V49))","v":""},{"$f":"IF(ISBLANK('Data Input'!A49),\"\",SUM('Data Input'!X49:AQ49))","v":""},{"$f":"IF(ISBLANK('Data Input'!A49),\"\",SUM('Data Input'!C49:AQ49))","v":""},{"$f":"IF(G45=\"\",\"\",G45/(COUNTA('Data Input'!$C$8:$AQ$8)-1))","v":""},{"$f":"IF(ISBLANK('Data Input'!A49),\"\",SUM('Data Input'!C49,'Data Input'!K49,'Data Input'!L49,'Data Input'!AC49,'Data Input'!AF49,'Data Input'!AM49,'Data Input'!AO49))","v":""},{"$f":"IF(I45=\"\",\"\",I45/COUNTIF('Data Input'!$C$8:$AQ$8,$I$2))","v":""},{"$f":"IF(ISBLANK('Data Input'!A49),\"\",SUM('Data Input'!D49,'Data Input'!E49,'Data Input'!F49,'Data Input'!G49,'Data Input'!J49,'Data Input'!O49,'Data Input'!P49,'Data Input'!S49,'Data Input'!U49,'Data Input'!X49,'Data Input'!Z49,'Data Input'!AA49,'Data Input'!AB49,'Data Input'!AE49,'Data Input'!AG49,'Data Input'!AH49,'Data Input'!AJ49,'Data Input'!AK49,'Data Input'!AL49,'Data Input'!AN49))","v":""},{"$f":"IF(K45=\"\",\"\",K45/COUNTIF('Data Input'!$C$8:$AQ$8,$K$2))","v":""},{"$f":"IF(ISBLANK('Data Input'!A49),\"\",SUM('Data Input'!V49))","v":""},{"$f":"IF(M45=\"\",\"\",M45/COUNTIF('Data Input'!$C$8:$AQ$8,$M$2))","v":""},{"$f":"IF(ISBLANK('Data Input'!A49),\"\",SUM('Data Input'!H49,'Data Input'!I49,'Data Input'!M49,'Data Input'!N49,'Data Input'!Q49,'Data Input'!R49,'Data Input'!T49,'Data Input'!Y49,'Data Input'!AD49,'Data Input'!AI49,'Data Input'!AP49,'Data Input'!AQ49))","v":""},{"$f":"IF(O45=\"\",\"\",O45/COUNTIF('Data Input'!$C$8:$AQ$8,$O$2))","v":""}]
[{"$f":"IF('Data Input'!A50=0,\"\",'Data Input'!A50)","v":""},{"$f":"IF(ISBLANK('Data Input'!A50),\"\",COUNTIF('Data Input'!C50:AQ50,\"\")-1)","v":""},{"$f":"IF(ISBLANK('Data Input'!A50),\"\",COUNTIF('Data Input'!C50:AQ50,\"0\"))","v":""},{"$f":"IF(ISBLANK('Data Input'!A50),\"\",SUM(B46,C46))","v":""},{"$f":"IF(ISBLANK('Data Input'!A50),\"\",SUM('Data Input'!C50:V50))","v":""},{"$f":"IF(ISBLANK('Data Input'!A50),\"\",SUM('Data Input'!X50:AQ50))","v":""},{"$f":"IF(ISBLANK('Data Input'!A50),\"\",SUM('Data Input'!C50:AQ50))","v":""},{"$f":"IF(G46=\"\",\"\",G46/(COUNTA('Data Input'!$C$8:$AQ$8)-1))","v":""},{"$f":"IF(ISBLANK('Data Input'!A50),\"\",SUM('Data Input'!C50,'Data Input'!K50,'Data Input'!L50,'Data Input'!AC50,'Data Input'!AF50,'Data Input'!AM50,'Data Input'!AO50))","v":""},{"$f":"IF(I46=\"\",\"\",I46/COUNTIF('Data Input'!$C$8:$AQ$8,$I$2))","v":""},{"$f":"IF(ISBLANK('Data Input'!A50),\"\",SUM('Data Input'!D50,'Data Input'!E50,'Data Input'!F50,'Data Input'!G50,'Data Input'!J50,'Data Input'!O50,'Data Input'!P50,'Data Input'!S50,'Data Input'!U50,'Data Input'!X50,'Data Input'!Z50,'Data Input'!AA50,'Data Input'!AB50,'Data Input'!AE50,'Data Input'!AG50,'Data Input'!AH50,'Data Input'!AJ50,'Data Input'!AK50,'Data Input'!AL50,'Data Input'!AN50))","v":""},{"$f":"IF(K46=\"\",\"\",K46/COUNTIF('Data Input'!$C$8:$AQ$8,$K$2))","v":""},{"$f":"IF(ISBLANK('Data Input'!A50),\"\",SUM('Data Input'!V50))","v":""},{"$f":"IF(M46=\"\",\"\",M46/COUNTIF('Data Input'!$C$8:$AQ$8,$M$2))","v":""},{"$f":"IF(ISBLANK('Data Input'!A50),\"\",SUM('Data Input'!H50,'Data Input'!I50,'Data Input'!M50,'Data Input'!N50,'Data Input'!Q50,'Data Input'!R50,'Data Input'!T50,'Data Input'!Y50,'Data Input'!AD50,'Data Input'!AI50,'Data Input'!AP50,'Data Input'!AQ50))","v":""},{"$f":"IF(O46=\"\",\"\",O46/COUNTIF('Data Input'!$C$8:$AQ$8,$O$2))","v":""}]
[{"$f":"IF('Data Input'!A51=0,\"\",'Data Input'!A51)","v":""},{"$f":"IF(ISBLANK('Data Input'!A51),\"\",COUNTIF('Data Input'!C51:AQ51,\"\")-1)","v":""},{"$f":"IF(ISBLANK('Data Input'!A51),\"\",COUNTIF('Data Input'!C51:AQ51,\"0\"))","v":""},{"$f":"IF(ISBLANK('Data Input'!A51),\"\",SUM(B47,C47))","v":""},{"$f":"IF(ISBLANK('Data Input'!A51),\"\",SUM('Data Input'!C51:V51))","v":""},{"$f":"IF(ISBLANK('Data Input'!A51),\"\",SUM('Data Input'!X51:AQ51))","v":""},{"$f":"IF(ISBLANK('Data Input'!A51),\"\",SUM('Data Input'!C51:AQ51))","v":""},{"$f":"IF(G47=\"\",\"\",G47/(COUNTA('Data Input'!$C$8:$AQ$8)-1))","v":""},{"$f":"IF(ISBLANK('Data Input'!A51),\"\",SUM('Data Input'!C51,'Data Input'!K51,'Data Input'!L51,'Data Input'!AC51,'Data Input'!AF51,'Data Input'!AM51,'Data Input'!AO51))","v":""},{"$f":"IF(I47=\"\",\"\",I47/COUNTIF('Data Input'!$C$8:$AQ$8,$I$2))","v":""},{"$f":"IF(ISBLANK('Data Input'!A51),\"\",SUM('Data Input'!D51,'Data Input'!E51,'Data Input'!F51,'Data Input'!G51,'Data Input'!J51,'Data Input'!O51,'Data Input'!P51,'Data Input'!S51,'Data Input'!U51,'Data Input'!X51,'Data Input'!Z51,'Data Input'!AA51,'Data Input'!AB51,'Data Input'!AE51,'Data Input'!AG51,'Data Input'!AH51,'Data Input'!AJ51,'Data Input'!AK51,'Data Input'!AL51,'Data Input'!AN51))","v":""},{"$f":"IF(K47=\"\",\"\",K47/COUNTIF('Data Input'!$C$8:$AQ$8,$K$2))","v":""},{"$f":"IF(ISBLANK('Data Input'!A51),\"\",SUM('Data Input'!V51))","v":""},{"$f":"IF(M47=\"\",\"\",M47/COUNTIF('Data Input'!$C$8:$AQ$8,$M$2))","v":""},{"$f":"IF(ISBLANK('Data Input'!A51),\"\",SUM('Data Input'!H51,'Data Input'!I51,'Data Input'!M51,'Data Input'!N51,'Data Input'!Q51,'Data Input'!R51,'Data Input'!T51,'Data Input'!Y51,'Data Input'!AD51,'Data Input'!AI51,'Data Input'!AP51,'Data Input'!AQ51))","v":""},{"$f":"IF(O47=\"\",\"\",O47/COUNTIF('Data Input'!$C$8:$AQ$8,$O$2))","v":""}]
[{"$f":"IF('Data Input'!A52=0,\"\",'Data Input'!A52)","v":""},{"$f":"IF(ISBLANK('Data Input'!A52),\"\",COUNTIF('Data Input'!C52:AQ52,\"\")-1)","v":""},{"$f":"IF(ISBLANK('Data Input'!A52),\"\",COUNTIF('Data Input'!C52:AQ52,\"0\"))","v":""},{"$f":"IF(ISBLANK('Data Input'!A52),\"\",SUM(B48,C48))","v":""},{"$f":"IF(ISBLANK('Data Input'!A52),\"\",SUM('Data Input'!C52:V52))","v":""},{"$f":"IF(ISBLANK('Data Input'!A52),\"\",SUM('Data Input'!X52:AQ52))","v":""},{"$f":"IF(ISBLANK('Data Input'!A52),\"\",SUM('Data Input'!C52:AQ52))","v":""},{"$f":"IF(G48=\"\",\"\",G48/(COUNTA('Data Input'!$C$8:$AQ$8)-1))","v":""},{"$f":"IF(ISBLANK('Data Input'!A52),\"\",SUM('Data Input'!C52,'Data Input'!K52,'Data Input'!L52,'Data Input'!AC52,'Data Input'!AF52,'Data Input'!AM52,'Data Input'!AO52))","v":""},{"$f":"IF(I48=\"\",\"\",I48/COUNTIF('Data Input'!$C$8:$AQ$8,$I$2))","v":""},{"$f":"IF(ISBLANK('Data Input'!A52),\"\",SUM('Data Input'!D52,'Data Input'!E52,'Data Input'!F52,'Data Input'!G52,'Data Input'!J52,'Data Input'!O52,'Data Input'!P52,'Data Input'!S52,'Data Input'!U52,'Data Input'!X52,'Data Input'!Z52,'Data Input'!AA52,'Data Input'!AB52,'Data Input'!AE52,'Data Input'!AG52,'Data Input'!AH52,'Data Input'!AJ52,'Data Input'!AK52,'Data Input'!AL52,'Data Input'!AN52))","v":""},{"$f":"IF(K48=\"\",\"\",K48/COUNTIF('Data Input'!$C$8:$AQ$8,$K$2))","v":""},{"$f":"IF(ISBLANK('Data Input'!A52),\"\",SUM('Data Input'!V52))","v":""},{"$f":"IF(M48=\"\",\"\",M48/COUNTIF('Data Input'!$C$8:$AQ$8,$M$2))","v":""},{"$f":"IF(ISBLANK('Data Input'!A52),\"\",SUM('Data Input'!H52,'Data Input'!I52,'Data Input'!M52,'Data Input'!N52,'Data Input'!Q52,'Data Input'!R52,'Data Input'!T52,'Data Input'!Y52,'Data Input'!AD52,'Data Input'!AI52,'Data Input'!AP52,'Data Input'!AQ52))","v":""},{"$f":"IF(O48=\"\",\"\",O48/COUNTIF('Data Input'!$C$8:$AQ$8,$O$2))","v":""}]
[{"$f":"IF('Data Input'!A53=0,\"\",'Data Input'!A53)","v":""},{"$f":"IF(ISBLANK('Data Input'!A53),\"\",COUNTIF('Data Input'!C53:AQ53,\"\")-1)","v":""},{"$f":"IF(ISBLANK('Data Input'!A53),\"\",COUNTIF('Data Input'!C53:AQ53,\"0\"))","v":""},{"$f":"IF(ISBLANK('Data Input'!A53),\"\",SUM(B49,C49))","v":""},{"$f":"IF(ISBLANK('Data Input'!A53),\"\",SUM('Data Input'!C53:V53))","v":""},{"$f":"IF(ISBLANK('Data Input'!A53),\"\",SUM('Data Input'!X53:AQ53))","v":""},{"$f":"IF(ISBLANK('Data Input'!A53),\"\",SUM('Data Input'!C53:AQ53))","v":""},{"$f":"IF(G49=\"\",\"\",G49/(COUNTA('Data Input'!$C$8:$AQ$8)-1))","v":""},{"$f":"IF(ISBLANK('Data Input'!A53),\"\",SUM('Data Input'!C53,'Data Input'!K53,'Data Input'!L53,'Data Input'!AC53,'Data Input'!AF53,'Data Input'!AM53,'Data Input'!AO53))","v":""},{"$f":"IF(I49=\"\",\"\",I49/COUNTIF('Data Input'!$C$8:$AQ$8,$I$2))","v":""},{"$f":"IF(ISBLANK('Data Input'!A53),\"\",SUM('Data Input'!D53,'Data Input'!E53,'Data Input'!F53,'Data Input'!G53,'Data Input'!J53,'Data Input'!O53,'Data Input'!P53,'Data Input'!S53,'Data Input'!U53,'Data Input'!X53,'Data Input'!Z53,'Data Input'!AA53,'Data Input'!AB53,'Data Input'!AE53,'Data Input'!AG53,'Data Input'!AH53,'Data Input'!AJ53,'Data Input'!AK53,'Data Input'!AL53,'Data Input'!AN53))","v":""},{"$f":"IF(K49=\"\",\"\",K49/COUNTIF('Data Input'!$C$8:$AQ$8,$K$2))","v":""},{"$f":"IF(ISBLANK('Data Input'!A53),\"\",SUM('Data Input'!V53))","v":""},{"$f":"IF(M49=\"\",\"\",M49/COUNTIF('Data Input'!$C$8:$AQ$8,$M$2))","v":""},{"$f":"IF(ISBLANK('Data Input'!A53),\"\",SUM('Data Input'!H53,'Data Input'!I53,'Data Input'!M53,'Data Input'!N53,'Data Input'!Q53,'Data Input'!R53,'Data Input'!T53,'Data Input'!Y53,'Data Input'!AD53,'Data Input'!AI53,'Data Input'!AP53,'Data Input'!AQ53))","v":""},{"$f":"IF(O49=\"\",\"\",O49/COUNTIF('Data Input'!$C$8:$AQ$8,$O$2))","v":""}]
[{"$f":"IF('Data Input'!A54=0,\"\",'Data Input'!A54)","v":""},{"$f":"IF(ISBLANK('Data Input'!A54),\"\",COUNTIF('Data Input'!C54:AQ54,\"\")-1)","v":""},{"$f":"IF(ISBLANK('Data Input'!A54),\"\",COUNTIF('Data Input'!C54:AQ54,\"0\"))","v":""},{"$f":"IF(ISBLANK('Data Input'!A54),\"\",SUM(B50,C50))","v":""},{"$f":"IF(ISBLANK('Data Input'!A54),\"\",SUM('Data Input'!C54:V54))","v":""},{"$f":"IF(ISBLANK('Data Input'!A54),\"\",SUM('Data Input'!X54:AQ54))","v":""},{"$f":"IF(ISBLANK('Data Input'!A54),\"\",SUM('Data Input'!C54:AQ54))","v":""},{"$f":"IF(G50=\"\",\"\",G50/(COUNTA('Data Input'!$C$8:$AQ$8)-1))","v":""},{"$f":"IF(ISBLANK('Data Input'!A54),\"\",SUM('Data Input'!C54,'Data Input'!K54,'Data Input'!L54,'Data Input'!AC54,'Data Input'!AF54,'Data Input'!AM54,'Data Input'!AO54))","v":""},{"$f":"IF(I50=\"\",\"\",I50/COUNTIF('Data Input'!$C$8:$AQ$8,$I$2))","v":""},{"$f":"IF(ISBLANK('Data Input'!A54),\"\",SUM('Data Input'!D54,'Data Input'!E54,'Data Input'!F54,'Data Input'!G54,'Data Input'!J54,'Data Input'!O54,'Data Input'!P54,'Data Input'!S54,'Data Input'!U54,'Data Input'!X54,'Data Input'!Z54,'Data Input'!AA54,'Data Input'!AB54,'Data Input'!AE54,'Data Input'!AG54,'Data Input'!AH54,'Data Input'!AJ54,'Data Input'!AK54,'Data Input'!AL54,'Data Input'!AN54))","v":""},{"$f":"IF(K50=\"\",\"\",K50/COUNTIF('Data Input'!$C$8:$AQ$8,$K$2))","v":""},{"$f":"IF(ISBLANK('Data Input'!A54),\"\",SUM('Data Input'!V54))","v":""},{"$f":"IF(M50=\"\",\"\",M50/COUNTIF('Data Input'!$C$8:$AQ$8,$M$2))","v":""},{"$f":"IF(ISBLANK('Data Input'!A54),\"\",SUM('Data Input'!H54,'Data Input'!I54,'Data Input'!M54,'Data Input'!N54,'Data Input'!Q54,'Data Input'!R54,'Data Input'!T54,'Data Input'!Y54,'Data Input'!AD54,'Data Input'!AI54,'Data Input'!AP54,'Data Input'!AQ54))","v":""},{"$f":"IF(O50=\"\",\"\",O50/COUNTIF('Data Input'!$C$8:$AQ$8,$O$2))","v":""}]
[{"$f":"IF('Data Input'!A55=0,\"\",'Data Input'!A55)","v":""},{"$f":"IF(ISBLANK('Data Input'!A55),\"\",COUNTIF('Data Input'!C55:AQ55,\"\")-1)","v":""},{"$f":"IF(ISBLANK('Data Input'!A55),\"\",COUNTIF('Data Input'!C55:AQ55,\"0\"))","v":""},{"$f":"IF(ISBLANK('Data Input'!A55),\"\",SUM(B51,C51))","v":""},{"$f":"IF(ISBLANK('Data Input'!A55),\"\",SUM('Data Input'!C55:V55))","v":""},{"$f":"IF(ISBLANK('Data Input'!A55),\"\",SUM('Data Input'!X55:AQ55))","v":""},{"$f":"IF(ISBLANK('Data Input'!A55),\"\",SUM('Data Input'!C55:AQ55))","v":""},{"$f":"IF(G51=\"\",\"\",G51/(COUNTA('Data Input'!$C$8:$AQ$8)-1))","v":""},{"$f":"IF(ISBLANK('Data Input'!A55),\"\",SUM('Data Input'!C55,'Data Input'!K55,'Data Input'!L55,'Data Input'!AC55,'Data Input'!AF55,'Data Input'!AM55,'Data Input'!AO55))","v":""},{"$f":"IF(I51=\"\",\"\",I51/COUNTIF('Data Input'!$C$8:$AQ$8,$I$2))","v":""},{"$f":"IF(ISBLANK('Data Input'!A55),\"\",SUM('Data Input'!D55,'Data Input'!E55,'Data Input'!F55,'Data Input'!G55,'Data Input'!J55,'Data Input'!O55,'Data Input'!P55,'Data Input'!S55,'Data Input'!U55,'Data Input'!X55,'Data Input'!Z55,'Data Input'!AA55,'Data Input'!AB55,'Data Input'!AE55,'Data Input'!AG55,'Data Input'!AH55,'Data Input'!AJ55,'Data Input'!AK55,'Data Input'!AL55,'Data Input'!AN55))","v":""},{"$f":"IF(K51=\"\",\"\",K51/COUNTIF('Data Input'!$C$8:$AQ$8,$K$2))","v":""},{"$f":"IF(ISBLANK('Data Input'!A55),\"\",SUM('Data Input'!V55))","v":""},{"$f":"IF(M51=\"\",\"\",M51/COUNTIF('Data Input'!$C$8:$AQ$8,$M$2))","v":""},{"$f":"IF(ISBLANK('Data Input'!A55),\"\",SUM('Data Input'!H55,'Data Input'!I55,'Data Input'!M55,'Data Input'!N55,'Data Input'!Q55,'Data Input'!R55,'Data Input'!T55,'Data Input'!Y55,'Data Input'!AD55,'Data Input'!AI55,'Data Input'!AP55,'Data Input'!AQ55))","v":""},{"$f":"IF(O51=\"\",\"\",O51/COUNTIF('Data Input'!$C$8:$AQ$8,$O$2))","v":""}]
[{"$f":"IF('Data Input'!A56=0,\"\",'Data Input'!A56)","v":""},{"$f":"IF(ISBLANK('Data Input'!A56),\"\",COUNTIF('Data Input'!C56:AQ56,\"\")-1)","v":""},{"$f":"IF(ISBLANK('Data Input'!A56),\"\",COUNTIF('Data Input'!C56:AQ56,\"0\"))","v":""},{"$f":"IF(ISBLANK('Data Input'!A56),\"\",SUM(B52,C52))","v":""},{"$f":"IF(ISBLANK('Data Input'!A56),\"\",SUM('Data Input'!C56:V56))","v":""},{"$f":"IF(ISBLANK('Data Input'!A56),\"\",SUM('Data Input'!X56:AQ56))","v":""},{"$f":"IF(ISBLANK('Data Input'!A56),\"\",SUM('Data Input'!C56:AQ56))","v":""},{"$f":"IF(G52=\"\",\"\",G52/(COUNTA('Data Input'!$C$8:$AQ$8)-1))","v":""},{"$f":"IF(ISBLANK('Data Input'!A56),\"\",SUM('Data Input'!C56,'Data Input'!K56,'Data Input'!L56,'Data Input'!AC56,'Data Input'!AF56,'Data Input'!AM56,'Data Input'!AO56))","v":""},{"$f":"IF(I52=\"\",\"\",I52/COUNTIF('Data Input'!$C$8:$AQ$8,$I$2))","v":""},{"$f":"IF(ISBLANK('Data Input'!A56),\"\",SUM('Data Input'!D56,'Data Input'!E56,'Data Input'!F56,'Data Input'!G56,'Data Input'!J56,'Data Input'!O56,'Data Input'!P56,'Data Input'!S56,'Data Input'!U56,'Data Input'!X56,'Data Input'!Z56,'Data Input'!AA56,'Data Input'!AB56,'Data Input'!AE56,'Data Input'!AG56,'Data Input'!AH56,'Data Input'!AJ56,'Data Input'!AK56,'Data Input'!AL56,'Data Input'!AN56))","v":""},{"$f":"IF(K52=\"\",\"\",K52/COUNTIF('Data Input'!$C$8:$AQ$8,$K$2))","v":""},{"$f":"IF(ISBLANK('Data Input'!A56),\"\",SUM('Data Input'!V56))","v":""},{"$f":"IF(M52=\"\",\"\",M52/COUNTIF('Data Input'!$C$8:$AQ$8,$M$2))","v":""},{"$f":"IF(ISBLANK('Data Input'!A56),\"\",SUM('Data Input'!H56,'Data Input'!I56,'Data Input'!M56,'Data Input'!N56,'Data Input'!Q56,'Data Input'!R56,'Data Input'!T56,'Data Input'!Y56,'Data Input'!AD56,'Data Input'!AI56,'Data Input'!AP56,'Data Input'!AQ56))","v":""},{"$f":"IF(O52=\"\",\"\",O52/COUNTIF('Data Input'!$C$8:$AQ$8,$O$2))","v":""}]
[{"$f":"IF('Data Input'!A57=0,\"\",'Data Input'!A57)","v":""},{"$f":"IF(ISBLANK('Data Input'!A57),\"\",COUNTIF('Data Input'!C57:AQ57,\"\")-1)","v":""},{"$f":"IF(ISBLANK('Data Input'!A57),\"\",COUNTIF('Data Input'!C57:AQ57,\"0\"))","v":""},{"$f":"IF(ISBLANK('Data Input'!A57),\"\",SUM(B53,C53))","v":""},{"$f":"IF(ISBLANK('Data Input'!A57),\"\",SUM('Data Input'!C57:V57))","v":""},{"$f":"IF(ISBLANK('Data Input'!A57),\"\",SUM('Data Input'!X57:AQ57))","v":""},{"$f":"IF(ISBLANK('Data Input'!A57),\"\",SUM('Data Input'!C57:AQ57))","v":""},{"$f":"IF(G53=\"\",\"\",G53/(COUNTA('Data Input'!$C$8:$AQ$8)-1))","v":""},{"$f":"IF(ISBLANK('Data Input'!A57),\"\",SUM('Data Input'!C57,'Data Input'!K57,'Data Input'!L57,'Data Input'!AC57,'Data Input'!AF57,'Data Input'!AM57,'Data Input'!AO57))","v":""},{"$f":"IF(I53=\"\",\"\",I53/COUNTIF('Data Input'!$C$8:$AQ$8,$I$2))","v":""},{"$f":"IF(ISBLANK('Data Input'!A57),\"\",SUM('Data Input'!D57,'Data Input'!E57,'Data Input'!F57,'Data Input'!G57,'Data Input'!J57,'Data Input'!O57,'Data Input'!P57,'Data Input'!S57,'Data Input'!U57,'Data Input'!X57,'Data Input'!Z57,'Data Input'!AA57,'Data Input'!AB57,'Data Input'!AE57,'Data Input'!AG57,'Data Input'!AH57,'Data Input'!AJ57,'Data Input'!AK57,'Data Input'!AL57,'Data Input'!AN57))","v":""},{"$f":"IF(K53=\"\",\"\",K53/COUNTIF('Data Input'!$C$8:$AQ$8,$K$2))","v":""},{"$f":"IF(ISBLANK('Data Input'!A57),\"\",SUM('Data Input'!V57))","v":""},{"$f":"IF(M53=\"\",\"\",M53/COUNTIF('Data Input'!$C$8:$AQ$8,$M$2))","v":""},{"$f":"IF(ISBLANK('Data Input'!A57),\"\",SUM('Data Input'!H57,'Data Input'!I57,'Data Input'!M57,'Data Input'!N57,'Data Input'!Q57,'Data Input'!R57,'Data Input'!T57,'Data Input'!Y57,'Data Input'!AD57,'Data Input'!AI57,'Data Input'!AP57,'Data Input'!AQ57))","v":""},{"$f":"IF(O53=\"\",\"\",O53/COUNTIF('Data Input'!$C$8:$AQ$8,$O$2))","v":""}]
[{"$f":"IF('Data Input'!A58=0,\"\",'Data Input'!A58)","v":""},{"$f":"IF(ISBLANK('Data Input'!A58),\"\",COUNTIF('Data Input'!C58:AQ58,\"\")-1)","v":""},{"$f":"IF(ISBLANK('Data Input'!A58),\"\",COUNTIF('Data Input'!C58:AQ58,\"0\"))","v":""},{"$f":"IF(ISBLANK('Data Input'!A58),\"\",SUM(B54,C54))","v":""},{"$f":"IF(ISBLANK('Data Input'!A58),\"\",SUM('Data Input'!C58:V58))","v":""},{"$f":"IF(ISBLANK('Data Input'!A58),\"\",SUM('Data Input'!X58:AQ58))","v":""},{"$f":"IF(ISBLANK('Data Input'!A58),\"\",SUM('Data Input'!C58:AQ58))","v":""},{"$f":"IF(G54=\"\",\"\",G54/(COUNTA('Data Input'!$C$8:$AQ$8)-1))","v":""},{"$f":"IF(ISBLANK('Data Input'!A58),\"\",SUM('Data Input'!C58,'Data Input'!K58,'Data Input'!L58,'Data Input'!AC58,'Data Input'!AF58,'Data Input'!AM58,'Data Input'!AO58))","v":""},{"$f":"IF(I54=\"\",\"\",I54/COUNTIF('Data Input'!$C$8:$AQ$8,$I$2))","v":""},{"$f":"IF(ISBLANK('Data Input'!A58),\"\",SUM('Data Input'!D58,'Data Input'!E58,'Data Input'!F58,'Data Input'!G58,'Data Input'!J58,'Data Input'!O58,'Data Input'!P58,'Data Input'!S58,'Data Input'!U58,'Data Input'!X58,'Data Input'!Z58,'Data Input'!AA58,'Data Input'!AB58,'Data Input'!AE58,'Data Input'!AG58,'Data Input'!AH58,'Data Input'!AJ58,'Data Input'!AK58,'Data Input'!AL58,'Data Input'!AN58))","v":""},{"$f":"IF(K54=\"\",\"\",K54/COUNTIF('Data Input'!$C$8:$AQ$8,$K$2))","v":""},{"$f":"IF(ISBLANK('Data Input'!A58),\"\",SUM('Data Input'!V58))","v":""},{"$f":"IF(M54=\"\",\"\",M54/COUNTIF('Data Input'!$C$8:$AQ$8,$M$2))","v":""},{"$f":"IF(ISBLANK('Data Input'!A58),\"\",SUM('Data Input'!H58,'Data Input'!I58,'Data Input'!M58,'Data Input'!N58,'Data Input'!Q58,'Data Input'!R58,'Data Input'!T58,'Data Input'!Y58,'Data Input'!AD58,'Data Input'!AI58,'Data Input'!AP58,'Data Input'!AQ58))","v":""},{"$f":"IF(O54=\"\",\"\",O54/COUNTIF('Data Input'!$C$8:$AQ$8,$O$2))","v":""}]
[{"$f":"IF('Data Input'!A59=0,\"\",'Data Input'!A59)","v":""},{"$f":"IF(ISBLANK('Data Input'!A59),\"\",COUNTIF('Data Input'!C59:AQ59,\"\")-1)","v":""},{"$f":"IF(ISBLANK('Data Input'!A59),\"\",COUNTIF('Data Input'!C59:AQ59,\"0\"))","v":""},{"$f":"IF(ISBLANK('Data Input'!A59),\"\",SUM(B55,C55))","v":""},{"$f":"IF(ISBLANK('Data Input'!A59),\"\",SUM('Data Input'!C59:V59))","v":""},{"$f":"IF(ISBLANK('Data Input'!A59),\"\",SUM('Data Input'!X59:AQ59))","v":""},{"$f":"IF(ISBLANK('Data Input'!A59),\"\",SUM('Data Input'!C59:AQ59))","v":""},{"$f":"IF(G55=\"\",\"\",G55/(COUNTA('Data Input'!$C$8:$AQ$8)-1))","v":""},{"$f":"IF(ISBLANK('Data Input'!A59),\"\",SUM('Data Input'!C59,'Data Input'!K59,'Data Input'!L59,'Data Input'!AC59,'Data Input'!AF59,'Data Input'!AM59,'Data Input'!AO59))","v":""},{"$f":"IF(I55=\"\",\"\",I55/COUNTIF('Data Input'!$C$8:$AQ$8,$I$2))","v":""},{"$f":"IF(ISBLANK('Data Input'!A59),\"\",SUM('Data Input'!D59,'Data Input'!E59,'Data Input'!F59,'Data Input'!G59,'Data Input'!J59,'Data Input'!O59,'Data Input'!P59,'Data Input'!S59,'Data Input'!U59,'Data Input'!X59,'Data Input'!Z59,'Data Input'!AA59,'Data Input'!AB59,'Data Input'!AE59,'Data Input'!AG59,'Data Input'!AH59,'Data Input'!AJ59,'Data Input'!AK59,'Data Input'!AL59,'Data Input'!AN59))","v":""},{"$f":"IF(K55=\"\",\"\",K55/COUNTIF('Data Input'!$C$8:$AQ$8,$K$2))","v":""},{"$f":"IF(ISBLANK('Data Input'!A59),\"\",SUM('Data Input'!V59))","v":""},{"$f":"IF(M55=\"\",\"\",M55/COUNTIF('Data Input'!$C$8:$AQ$8,$M$2))","v":""},{"$f":"IF(ISBLANK('Data Input'!A59),\"\",SUM('Data Input'!H59,'Data Input'!I59,'Data Input'!M59,'Data Input'!N59,'Data Input'!Q59,'Data Input'!R59,'Data Input'!T59,'Data Input'!Y59,'Data Input'!AD59,'Data Input'!AI59,'Data Input'!AP59,'Data Input'!AQ59))","v":""},{"$f":"IF(O55=\"\",\"\",O55/COUNTIF('Data Input'!$C$8:$AQ$8,$O$2))","v":""}]
[{"$f":"IF('Data Input'!A60=0,\"\",'Data Input'!A60)","v":""},{"$f":"IF(ISBLANK('Data Input'!A60),\"\",COUNTIF('Data Input'!C60:AQ60,\"\")-1)","v":""},{"$f":"IF(ISBLANK('Data Input'!A60),\"\",COUNTIF('Data Input'!C60:AQ60,\"0\"))","v":""},{"$f":"IF(ISBLANK('Data Input'!A60),\"\",SUM(B56,C56))","v":""},{"$f":"IF(ISBLANK('Data Input'!A60),\"\",SUM('Data Input'!C60:V60))","v":""},{"$f":"IF(ISBLANK('Data Input'!A60),\"\",SUM('Data Input'!X60:AQ60))","v":""},{"$f":"IF(ISBLANK('Data Input'!A60),\"\",SUM('Data Input'!C60:AQ60))","v":""},{"$f":"IF(G56=\"\",\"\",G56/(COUNTA('Data Input'!$C$8:$AQ$8)-1))","v":""},{"$f":"IF(ISBLANK('Data Input'!A60),\"\",SUM('Data Input'!C60,'Data Input'!K60,'Data Input'!L60,'Data Input'!AC60,'Data Input'!AF60,'Data Input'!AM60,'Data Input'!AO60))","v":""},{"$f":"IF(I56=\"\",\"\",I56/COUNTIF('Data Input'!$C$8:$AQ$8,$I$2))","v":""},{"$f":"IF(ISBLANK('Data Input'!A60),\"\",SUM('Data Input'!D60,'Data Input'!E60,'Data Input'!F60,'Data Input'!G60,'Data Input'!J60,'Data Input'!O60,'Data Input'!P60,'Data Input'!S60,'Data Input'!U60,'Data Input'!X60,'Data Input'!Z60,'Data Input'!AA60,'Data Input'!AB60,'Data Input'!AE60,'Data Input'!AG60,'Data Input'!AH60,'Data Input'!AJ60,'Data Input'!AK60,'Data Input'!AL60,'Data Input'!AN60))","v":""},{"$f":"IF(K56=\"\",\"\",K56/COUNTIF('Data Input'!$C$8:$AQ$8,$K$2))","v":""},{"$f":"IF(ISBLANK('Data Input'!A60),\"\",SUM('Data Input'!V60))","v":""},{"$f":"IF(M56=\"\",\"\",M56/COUNTIF('Data Input'!$C$8:$AQ$8,$M$2))","v":""},{"$f":"IF(ISBLANK('Data Input'!A60),\"\",SUM('Data Input'!H60,'Data Input'!I60,'Data Input'!M60,'Data Input'!N60,'Data Input'!Q60,'Data Input'!R60,'Data Input'!T60,'Data Input'!Y60,'Data Input'!AD60,'Data Input'!AI60,'Data Input'!AP60,'Data Input'!AQ60))","v":""},{"$f":"IF(O56=\"\",\"\",O56/COUNTIF('Data Input'!$C$8:$AQ$8,$O$2))","v":""}]
[{"$f":"IF('Data Input'!A61=0,\"\",'Data Input'!A61)","v":""},{"$f":"IF(ISBLANK('Data Input'!A61),\"\",COUNTIF('Data Input'!C61:AQ61,\"\")-1)","v":""},{"$f":"IF(ISBLANK('Data Input'!A61),\"\",COUNTIF('Data Input'!C61:AQ61,\"0\"))","v":""},{"$f":"IF(ISBLANK('Data Input'!A61),\"\",SUM(B57,C57))","v":""},{"$f":"IF(ISBLANK('Data Input'!A61),\"\",SUM('Data Input'!C61:V61))","v":""},{"$f":"IF(ISBLANK('Data Input'!A61),\"\",SUM('Data Input'!X61:AQ61))","v":""},{"$f":"IF(ISBLANK('Data Input'!A61),\"\",SUM('Data Input'!C61:AQ61))","v":""},{"$f":"IF(G57=\"\",\"\",G57/(COUNTA('Data Input'!$C$8:$AQ$8)-1))","v":""},{"$f":"IF(ISBLANK('Data Input'!A61),\"\",SUM('Data Input'!C61,'Data Input'!K61,'Data Input'!L61,'Data Input'!AC61,'Data Input'!AF61,'Data Input'!AM61,'Data Input'!AO61))","v":""},{"$f":"IF(I57=\"\",\"\",I57/COUNTIF('Data Input'!$C$8:$AQ$8,$I$2))","v":""},{"$f":"IF(ISBLANK('Data Input'!A61),\"\",SUM('Data Input'!D61,'Data Input'!E61,'Data Input'!F61,'Data Input'!G61,'Data Input'!J61,'Data Input'!O61,'Data Input'!P61,'Data Input'!S61,'Data Input'!U61,'Data Input'!X61,'Data Input'!Z61,'Data Input'!AA61,'Data Input'!AB61,'Data Input'!AE61,'Data Input'!AG61,'Data Input'!AH61,'Data Input'!AJ61,'Data Input'!AK61,'Data Input'!AL61,'Data Input'!AN61))","v":""},{"$f":"IF(K57=\"\",\"\",K57/COUNTIF('Data Input'!$C$8:$AQ$8,$K$2))","v":""},{"$f":"IF(ISBLANK('Data Input'!A61),\"\",SUM('Data Input'!V61))","v":""},{"$f":"IF(M57=\"\",\"\",M57/COUNTIF('Data Input'!$C$8:$AQ$8,$M$2))","v":""},{"$f":"IF(ISBLANK('Data Input'!A61),\"\",SUM('Data Input'!H61,'Data Input'!I61,'Data Input'!M61,'Data Input'!N61,'Data Input'!Q61,'Data Input'!R61,'Data Input'!T61,'Data Input'!Y61,'Data Input'!AD61,'Data Input'!AI61,'Data Input'!AP61,'Data Input'!AQ61))","v":""},{"$f":"IF(O57=\"\",\"\",O57/COUNTIF('Data Input'!$C$8:$AQ$8,$O$2))","v":""}]
[{"$f":"IF('Data Input'!A62=0,\"\",'Data Input'!A62)","v":""},{"$f":"IF(ISBLANK('Data Input'!A62),\"\",COUNTIF('Data Input'!C62:AQ62,\"\")-1)","v":""},{"$f":"IF(ISBLANK('Data Input'!A62),\"\",COUNTIF('Data Input'!C62:AQ62,\"0\"))","v":""},{"$f":"IF(ISBLANK('Data Input'!A62),\"\",SUM(B58,C58))","v":""},{"$f":"IF(ISBLANK('Data Input'!A62),\"\",SUM('Data Input'!C62:V62))","v":""},{"$f":"IF(ISBLANK('Data Input'!A62),\"\",SUM('Data Input'!X62:AQ62))","v":""},{"$f":"IF(ISBLANK('Data Input'!A62),\"\",SUM('Data Input'!C62:AQ62))","v":""},{"$f":"IF(G58=\"\",\"\",G58/(COUNTA('Data Input'!$C$8:$AQ$8)-1))","v":""},{"$f":"IF(ISBLANK('Data Input'!A62),\"\",SUM('Data Input'!C62,'Data Input'!K62,'Data Input'!L62,'Data Input'!AC62,'Data Input'!AF62,'Data Input'!AM62,'Data Input'!AO62))","v":""},{"$f":"IF(I58=\"\",\"\",I58/COUNTIF('Data Input'!$C$8:$AQ$8,$I$2))","v":""},{"$f":"IF(ISBLANK('Data Input'!A62),\"\",SUM('Data Input'!D62,'Data Input'!E62,'Data Input'!F62,'Data Input'!G62,'Data Input'!J62,'Data Input'!O62,'Data Input'!P62,'Data Input'!S62,'Data Input'!U62,'Data Input'!X62,'Data Input'!Z62,'Data Input'!AA62,'Data Input'!AB62,'Data Input'!AE62,'Data Input'!AG62,'Data Input'!AH62,'Data Input'!AJ62,'Data Input'!AK62,'Data Input'!AL62,'Data Input'!AN62))","v":""},{"$f":"IF(K58=\"\",\"\",K58/COUNTIF('Data Input'!$C$8:$AQ$8,$K$2))","v":""},{"$f":"IF(ISBLANK('Data Input'!A62),\"\",SUM('Data Input'!V62))","v":""},{"$f":"IF(M58=\"\",\"\",M58/COUNTIF('Data Input'!$C$8:$AQ$8,$M$2))","v":""},{"$f":"IF(ISBLANK('Data Input'!A62),\"\",SUM('Data Input'!H62,'Data Input'!I62,'Data Input'!M62,'Data Input'!N62,'Data Input'!Q62,'Data Input'!R62,'Data Input'!T62,'Data Input'!Y62,'Data Input'!AD62,'Data Input'!AI62,'Data Input'!AP62,'Data Input'!AQ62))","v":""},{"$f":"IF(O58=\"\",\"\",O58/COUNTIF('Data Input'!$C$8:$AQ$8,$O$2))","v":""}]
[{"$f":"IF('Data Input'!A63=0,\"\",'Data Input'!A63)","v":""},{"$f":"IF(ISBLANK('Data Input'!A63),\"\",COUNTIF('Data Input'!C63:AQ63,\"\")-1)","v":""},{"$f":"IF(ISBLANK('Data Input'!A63),\"\",COUNTIF('Data Input'!C63:AQ63,\"0\"))","v":""},{"$f":"IF(ISBLANK('Data Input'!A63),\"\",SUM(B59,C59))","v":""},{"$f":"IF(ISBLANK('Data Input'!A63),\"\",SUM('Data Input'!C63:V63))","v":""},{"$f":"IF(ISBLANK('Data Input'!A63),\"\",SUM('Data Input'!X63:AQ63))","v":""},{"$f":"IF(ISBLANK('Data Input'!A63),\"\",SUM('Data Input'!C63:AQ63))","v":""},{"$f":"IF(G59=\"\",\"\",G59/(COUNTA('Data Input'!$C$8:$AQ$8)-1))","v":""},{"$f":"IF(ISBLANK('Data Input'!A63),\"\",SUM('Data Input'!C63,'Data Input'!K63,'Data Input'!L63,'Data Input'!AC63,'Data Input'!AF63,'Data Input'!AM63,'Data Input'!AO63))","v":""},{"$f":"IF(I59=\"\",\"\",I59/COUNTIF('Data Input'!$C$8:$AQ$8,$I$2))","v":""},{"$f":"IF(ISBLANK('Data Input'!A63),\"\",SUM('Data Input'!D63,'Data Input'!E63,'Data Input'!F63,'Data Input'!G63,'Data Input'!J63,'Data Input'!O63,'Data Input'!P63,'Data Input'!S63,'Data Input'!U63,'Data Input'!X63,'Data Input'!Z63,'Data Input'!AA63,'Data Input'!AB63,'Data Input'!AE63,'Data Input'!AG63,'Data Input'!AH63,'Data Input'!AJ63,'Data Input'!AK63,'Data Input'!AL63,'Data Input'!AN63))","v":""},{"$f":"IF(K59=\"\",\"\",K59/COUNTIF('Data Input'!$C$8:$AQ$8,$K$2))","v":""},{"$f":"IF(ISBLANK('Data Input'!A63),\"\",SUM('Data Input'!V63))","v":""},{"$f":"IF(M59=\"\",\"\",M59/COUNTIF('Data Input'!$C$8:$AQ$8,$M$2))","v":""},{"$f":"IF(ISBLANK('Data Input'!A63),\"\",SUM('Data Input'!H63,'Data Input'!I63,'Data Input'!M63,'Data Input'!N63,'Data Input'!Q63,'Data Input'!R63,'Data Input'!T63,'Data Input'!Y63,'Data Input'!AD63,'Data Input'!AI63,'Data Input'!AP63,'Data Input'!AQ63))","v":""},{"$f":"IF(O59=\"\",\"\",O59/COUNTIF('Data Input'!$C$8:$AQ$8,$O$2))","v":""}]
[{"$f":"IF('Data Input'!A64=0,\"\",'Data Input'!A64)","v":""},{"$f":"IF(ISBLANK('Data Input'!A64),\"\",COUNTIF('Data Input'!C64:AQ64,\"\")-1)","v":""},{"$f":"IF(ISBLANK('Data Input'!A64),\"\",COUNTIF('Data Input'!C64:AQ64,\"0\"))","v":""},{"$f":"IF(ISBLANK('Data Input'!A64),\"\",SUM(B60,C60))","v":""},{"$f":"IF(ISBLANK('Data Input'!A64),\"\",SUM('Data Input'!C64:V64))","v":""},{"$f":"IF(ISBLANK('Data Input'!A64),\"\",SUM('Data Input'!X64:AQ64))","v":""},{"$f":"IF(ISBLANK('Data Input'!A64),\"\",SUM('Data Input'!C64:AQ64))","v":""},{"$f":"IF(G60=\"\",\"\",G60/(COUNTA('Data Input'!$C$8:$AQ$8)-1))","v":""},{"$f":"IF(ISBLANK('Data Input'!A64),\"\",SUM('Data Input'!C64,'Data Input'!K64,'Data Input'!L64,'Data Input'!AC64,'Data Input'!AF64,'Data Input'!AM64,'Data Input'!AO64))","v":""},{"$f":"IF(I60=\"\",\"\",I60/COUNTIF('Data Input'!$C$8:$AQ$8,$I$2))","v":""},{"$f":"IF(ISBLANK('Data Input'!A64),\"\",SUM('Data Input'!D64,'Data Input'!E64,'Data Input'!F64,'Data Input'!G64,'Data Input'!J64,'Data Input'!O64,'Data Input'!P64,'Data Input'!S64,'Data Input'!U64,'Data Input'!X64,'Data Input'!Z64,'Data Input'!AA64,'Data Input'!AB64,'Data Input'!AE64,'Data Input'!AG64,'Data Input'!AH64,'Data Input'!AJ64,'Data Input'!AK64,'Data Input'!AL64,'Data Input'!AN64))","v":""},{"$f":"IF(K60=\"\",\"\",K60/COUNTIF('Data Input'!$C$8:$AQ$8,$K$2))","v":""},{"$f":"IF(ISBLANK('Data Input'!A64),\"\",SUM('Data Input'!V64))","v":""},{"$f":"IF(M60=\"\",\"\",M60/COUNTIF('Data Input'!$C$8:$AQ$8,$M$2))","v":""},{"$f":"IF(ISBLANK('Data Input'!A64),\"\",SUM('Data Input'!H64,'Data Input'!I64,'Data Input'!M64,'Data Input'!N64,'Data Input'!Q64,'Data Input'!R64,'Data Input'!T64,'Data Input'!Y64,'Data Input'!AD64,'Data Input'!AI64,'Data Input'!AP64,'Data Input'!AQ64))","v":""},{"$f":"IF(O60=\"\",\"\",O60/COUNTIF('Data Input'!$C$8:$AQ$8,$O$2))","v":""}]
[{"$f":"IF('Data Input'!A65=0,\"\",'Data Input'!A65)","v":""},{"$f":"IF(ISBLANK('Data Input'!A65),\"\",COUNTIF('Data Input'!C65:AQ65,\"\")-1)","v":""},{"$f":"IF(ISBLANK('Data Input'!A65),\"\",COUNTIF('Data Input'!C65:AQ65,\"0\"))","v":""},{"$f":"IF(ISBLANK('Data Input'!A65),\"\",SUM(B61,C61))","v":""},{"$f":"IF(ISBLANK('Data Input'!A65),\"\",SUM('Data Input'!C65:V65))","v":""},{"$f":"IF(ISBLANK('Data Input'!A65),\"\",SUM('Data Input'!X65:AQ65))","v":""},{"$f":"IF(ISBLANK('Data Input'!A65),\"\",SUM('Data Input'!C65:AQ65))","v":""},{"$f":"IF(G61=\"\",\"\",G61/(COUNTA('Data Input'!$C$8:$AQ$8)-1))","v":""},{"$f":"IF(ISBLANK('Data Input'!A65),\"\",SUM('Data Input'!C65,'Data Input'!K65,'Data Input'!L65,'Data Input'!AC65,'Data Input'!AF65,'Data Input'!AM65,'Data Input'!AO65))","v":""},{"$f":"IF(I61=\"\",\"\",I61/COUNTIF('Data Input'!$C$8:$AQ$8,$I$2))","v":""},{"$f":"IF(ISBLANK('Data Input'!A65),\"\",SUM('Data Input'!D65,'Data Input'!E65,'Data Input'!F65,'Data Input'!G65,'Data Input'!J65,'Data Input'!O65,'Data Input'!P65,'Data Input'!S65,'Data Input'!U65,'Data Input'!X65,'Data Input'!Z65,'Data Input'!AA65,'Data Input'!AB65,'Data Input'!AE65,'Data Input'!AG65,'Data Input'!AH65,'Data Input'!AJ65,'Data Input'!AK65,'Data Input'!AL65,'Data Input'!AN65))","v":""},{"$f":"IF(K61=\"\",\"\",K61/COUNTIF('Data Input'!$C$8:$AQ$8,$K$2))","v":""},{"$f":"IF(ISBLANK('Data Input'!A65),\"\",SUM('Data Input'!V65))","v":""},{"$f":"IF(M61=\"\",\"\",M61/COUNTIF('Data Input'!$C$8:$AQ$8,$M$2))","v":""},{"$f":"IF(ISBLANK('Data Input'!A65),\"\",SUM('Data Input'!H65,'Data Input'!I65,'Data Input'!M65,'Data Input'!N65,'Data Input'!Q65,'Data Input'!R65,'Data Input'!T65,'Data Input'!Y65,'Data Input'!AD65,'Data Input'!AI65,'Data Input'!AP65,'Data Input'!AQ65))","v":""},{"$f":"IF(O61=\"\",\"\",O61/COUNTIF('Data Input'!$C$8:$AQ$8,$O$2))","v":""}]
[{"$f":"IF('Data Input'!A66=0,\"\",'Data Input'!A66)","v":""},{"$f":"IF(ISBLANK('Data Input'!A66),\"\",COUNTIF('Data Input'!C66:AQ66,\"\")-1)","v":""},{"$f":"IF(ISBLANK('Data Input'!A66),\"\",COUNTIF('Data Input'!C66:AQ66,\"0\"))","v":""},{"$f":"IF(ISBLANK('Data Input'!A66),\"\",SUM(B62,C62))","v":""},{"$f":"IF(ISBLANK('Data Input'!A66),\"\",SUM('Data Input'!C66:V66))","v":""},{"$f":"IF(ISBLANK('Data Input'!A66),\"\",SUM('Data Input'!X66:AQ66))","v":""},{"$f":"IF(ISBLANK('Data Input'!A66),\"\",SUM('Data Input'!C66:AQ66))","v":""},{"$f":"IF(G62=\"\",\"\",G62/(COUNTA('Data Input'!$C$8:$AQ$8)-1))","v":""},{"$f":"IF(ISBLANK('Data Input'!A66),\"\",SUM('Data Input'!C66,'Data Input'!K66,'Data Input'!L66,'Data Input'!AC66,'Data Input'!AF66,'Data Input'!AM66,'Data Input'!AO66))","v":""},{"$f":"IF(I62=\"\",\"\",I62/COUNTIF('Data Input'!$C$8:$AQ$8,$I$2))","v":""},{"$f":"IF(ISBLANK('Data Input'!A66),\"\",SUM('Data Input'!D66,'Data Input'!E66,'Data Input'!F66,'Data Input'!G66,'Data Input'!J66,'Data Input'!O66,'Data Input'!P66,'Data Input'!S66,'Data Input'!U66,'Data Input'!X66,'Data Input'!Z66,'Data Input'!AA66,'Data Input'!AB66,'Data Input'!AE66,'Data Input'!AG66,'Data Input'!AH66,'Data Input'!AJ66,'Data Input'!AK66,'Data Input'!AL66,'Data Input'!AN66))","v":""},{"$f":"IF(K62=\"\",\"\",K62/COUNTIF('Data Input'!$C$8:$AQ$8,$K$2))","v":""},{"$f":"IF(ISBLANK('Data Input'!A66),\"\",SUM('Data Input'!V66))","v":""},{"$f":"IF(M62=\"\",\"\",M62/COUNTIF('Data Input'!$C$8:$AQ$8,$M$2))","v":""},{"$f":"IF(ISBLANK('Data Input'!A66),\"\",SUM('Data Input'!H66,'Data Input'!I66,'Data Input'!M66,'Data Input'!N66,'Data Input'!Q66,'Data Input'!R66,'Data Input'!T66,'Data Input'!Y66,'Data Input'!AD66,'Data Input'!AI66,'Data Input'!AP66,'Data Input'!AQ66))","v":""},{"$f":"IF(O62=\"\",\"\",O62/COUNTIF('Data Input'!$C$8:$AQ$8,$O$2))","v":""}]
[{"$f":"IF('Data Input'!A67=0,\"\",'Data Input'!A67)","v":""},{"$f":"IF(ISBLANK('Data Input'!A67),\"\",COUNTIF('Data Input'!C67:AQ67,\"\")-1)","v":""},{"$f":"IF(ISBLANK('Data Input'!A67),\"\",COUNTIF('Data Input'!C67:AQ67,\"0\"))","v":""},{"$f":"IF(ISBLANK('Data Input'!A67),\"\",SUM(B63,C63))","v":""},{"$f":"IF(ISBLANK('Data Input'!A67),\"\",SUM('Data Input'!C67:V67))","v":""},{"$f":"IF(ISBLANK('Data Input'!A67),\"\",SUM('Data Input'!X67:AQ67))","v":""},{"$f":"IF(ISBLANK('Data Input'!A67),\"\",SUM('Data Input'!C67:AQ67))","v":""},{"$f":"IF(G63=\"\",\"\",G63/(COUNTA('Data Input'!$C$8:$AQ$8)-1))","v":""},{"$f":"IF(ISBLANK('Data Input'!A67),\"\",SUM('Data Input'!C67,'Data Input'!K67,'Data Input'!L67,'Data Input'!AC67,'Data Input'!AF67,'Data Input'!AM67,'Data Input'!AO67))","v":""},{"$f":"IF(I63=\"\",\"\",I63/COUNTIF('Data Input'!$C$8:$AQ$8,$I$2))","v":""},{"$f":"IF(ISBLANK('Data Input'!A67),\"\",SUM('Data Input'!D67,'Data Input'!E67,'Data Input'!F67,'Data Input'!G67,'Data Input'!J67,'Data Input'!O67,'Data Input'!P67,'Data Input'!S67,'Data Input'!U67,'Data Input'!X67,'Data Input'!Z67,'Data Input'!AA67,'Data Input'!AB67,'Data Input'!AE67,'Data Input'!AG67,'Data Input'!AH67,'Data Input'!AJ67,'Data Input'!AK67,'Data Input'!AL67,'Data Input'!AN67))","v":""},{"$f":"IF(K63=\"\",\"\",K63/COUNTIF('Data Input'!$C$8:$AQ$8,$K$2))","v":""},{"$f":"IF(ISBLANK('Data Input'!A67),\"\",SUM('Data Input'!V67))","v":""},{"$f":"IF(M63=\"\",\"\",M63/COUNTIF('Data Input'!$C$8:$AQ$8,$M$2))","v":""},{"$f":"IF(ISBLANK('Data Input'!A67),\"\",SUM('Data Input'!H67,'Data Input'!I67,'Data Input'!M67,'Data Input'!N67,'Data Input'!Q67,'Data Input'!R67,'Data Input'!T67,'Data Input'!Y67,'Data Input'!AD67,'Data Input'!AI67,'Data Input'!AP67,'Data Input'!AQ67))","v":""},{"$f":"IF(O63=\"\",\"\",O63/COUNTIF('Data Input'!$C$8:$AQ$8,$O$2))","v":""}]
[{"$f":"IF('Data Input'!A68=0,\"\",'Data Input'!A68)","v":""},{"$f":"IF(ISBLANK('Data Input'!A68),\"\",COUNTIF('Data Input'!C68:AQ68,\"\")-1)","v":""},{"$f":"IF(ISBLANK('Data Input'!A68),\"\",COUNTIF('Data Input'!C68:AQ68,\"0\"))","v":""},{"$f":"IF(ISBLANK('Data Input'!A68),\"\",SUM(B64,C64))","v":""},{"$f":"IF(ISBLANK('Data Input'!A68),\"\",SUM('Data Input'!C68:V68))","v":""},{"$f":"IF(ISBLANK('Data Input'!A68),\"\",SUM('Data Input'!X68:AQ68))","v":""},{"$f":"IF(ISBLANK('Data Input'!A68),\"\",SUM('Data Input'!C68:AQ68))","v":""},{"$f":"IF(G64=\"\",\"\",G64/(COUNTA('Data Input'!$C$8:$AQ$8)-1))","v":""},{"$f":"IF(ISBLANK('Data Input'!A68),\"\",SUM('Data Input'!C68,'Data Input'!K68,'Data Input'!L68,'Data Input'!AC68,'Data Input'!AF68,'Data Input'!AM68,'Data Input'!AO68))","v":""},{"$f":"IF(I64=\"\",\"\",I64/COUNTIF('Data Input'!$C$8:$AQ$8,$I$2))","v":""},{"$f":"IF(ISBLANK('Data Input'!A68),\"\",SUM('Data Input'!D68,'Data Input'!E68,'Data Input'!F68,'Data Input'!G68,'Data Input'!J68,'Data Input'!O68,'Data Input'!P68,'Data Input'!S68,'Data Input'!U68,'Data Input'!X68,'Data Input'!Z68,'Data Input'!AA68,'Data Input'!AB68,'Data Input'!AE68,'Data Input'!AG68,'Data Input'!AH68,'Data Input'!AJ68,'Data Input'!AK68,'Data Input'!AL68,'Data Input'!AN68))","v":""},{"$f":"IF(K64=\"\",\"\",K64/COUNTIF('Data Input'!$C$8:$AQ$8,$K$2))","v":""},{"$f":"IF(ISBLANK('Data Input'!A68),\"\",SUM('Data Input'!V68))","v":""},{"$f":"IF(M64=\"\",\"\",M64/COUNTIF('Data Input'!$C$8:$AQ$8,$M$2))","v":""},{"$f":"IF(ISBLANK('Data Input'!A68),\"\",SUM('Data Input'!H68,'Data Input'!I68,'Data Input'!M68,'Data Input'!N68,'Data Input'!Q68,'Data Input'!R68,'Data Input'!T68,'Data Input'!Y68,'Data Input'!AD68,'Data Input'!AI68,'Data Input'!AP68,'Data Input'!AQ68))","v":""},{"$f":"IF(O64=\"\",\"\",O64/COUNTIF('Data Input'!$C$8:$AQ$8,$O$2))","v":""}]
[{"$f":"IF('Data Input'!A69=0,\"\",'Data Input'!A69)","v":""},{"$f":"IF(ISBLANK('Data Input'!A69),\"\",COUNTIF('Data Input'!C69:AQ69,\"\")-1)","v":""},{"$f":"IF(ISBLANK('Data Input'!A69),\"\",COUNTIF('Data Input'!C69:AQ69,\"0\"))","v":""},{"$f":"IF(ISBLANK('Data Input'!A69),\"\",SUM(B65,C65))","v":""},{"$f":"IF(ISBLANK('Data Input'!A69),\"\",SUM('Data Input'!C69:V69))","v":""},{"$f":"IF(ISBLANK('Data Input'!A69),\"\",SUM('Data Input'!X69:AQ69))","v":""},{"$f":"IF(ISBLANK('Data Input'!A69),\"\",SUM('Data Input'!C69:AQ69))","v":""},{"$f":"IF(G65=\"\",\"\",G65/(COUNTA('Data Input'!$C$8:$AQ$8)-1))","v":""},{"$f":"IF(ISBLANK('Data Input'!A69),\"\",SUM('Data Input'!C69,'Data Input'!K69,'Data Input'!L69,'Data Input'!AC69,'Data Input'!AF69,'Data Input'!AM69,'Data Input'!AO69))","v":""},{"$f":"IF(I65=\"\",\"\",I65/COUNTIF('Data Input'!$C$8:$AQ$8,$I$2))","v":""},{"$f":"IF(ISBLANK('Data Input'!A69),\"\",SUM('Data Input'!D69,'Data Input'!E69,'Data Input'!F69,'Data Input'!G69,'Data Input'!J69,'Data Input'!O69,'Data Input'!P69,'Data Input'!S69,'Data Input'!U69,'Data Input'!X69,'Data Input'!Z69,'Data Input'!AA69,'Data Input'!AB69,'Data Input'!AE69,'Data Input'!AG69,'Data Input'!AH69,'Data Input'!AJ69,'Data Input'!AK69,'Data Input'!AL69,'Data Input'!AN69))","v":""},{"$f":"IF(K65=\"\",\"\",K65/COUNTIF('Data Input'!$C$8:$AQ$8,$K$2))","v":""},{"$f":"IF(ISBLANK('Data Input'!A69),\"\",SUM('Data Input'!V69))","v":""},{"$f":"IF(M65=\"\",\"\",M65/COUNTIF('Data Input'!$C$8:$AQ$8,$M$2))","v":""},{"$f":"IF(ISBLANK('Data Input'!A69),\"\",SUM('Data Input'!H69,'Data Input'!I69,'Data Input'!M69,'Data Input'!N69,'Data Input'!Q69,'Data Input'!R69,'Data Input'!T69,'Data Input'!Y69,'Data Input'!AD69,'Data Input'!AI69,'Data Input'!AP69,'Data Input'!AQ69))","v":""},{"$f":"IF(O65=\"\",\"\",O65/COUNTIF('Data Input'!$C$8:$AQ$8,$O$2))","v":""}]
[{"$f":"IF('Data Input'!A70=0,\"\",'Data Input'!A70)","v":""},{"$f":"IF(ISBLANK('Data Input'!A70),\"\",COUNTIF('Data Input'!C70:AQ70,\"\")-1)","v":""},{"$f":"IF(ISBLANK('Data Input'!A70),\"\",COUNTIF('Data Input'!C70:AQ70,\"0\"))","v":""},{"$f":"IF(ISBLANK('Data Input'!A70),\"\",SUM(B66,C66))","v":""},{"$f":"IF(ISBLANK('Data Input'!A70),\"\",SUM('Data Input'!C70:V70))","v":""},{"$f":"IF(ISBLANK('Data Input'!A70),\"\",SUM('Data Input'!X70:AQ70))","v":""},{"$f":"IF(ISBLANK('Data Input'!A70),\"\",SUM('Data Input'!C70:AQ70))","v":""},{"$f":"IF(G66=\"\",\"\",G66/(COUNTA('Data Input'!$C$8:$AQ$8)-1))","v":""},{"$f":"IF(ISBLANK('Data Input'!A70),\"\",SUM('Data Input'!C70,'Data Input'!K70,'Data Input'!L70,'Data Input'!AC70,'Data Input'!AF70,'Data Input'!AM70,'Data Input'!AO70))","v":""},{"$f":"IF(I66=\"\",\"\",I66/COUNTIF('Data Input'!$C$8:$AQ$8,$I$2))","v":""},{"$f":"IF(ISBLANK('Data Input'!A70),\"\",SUM('Data Input'!D70,'Data Input'!E70,'Data Input'!F70,'Data Input'!G70,'Data Input'!J70,'Data Input'!O70,'Data Input'!P70,'Data Input'!S70,'Data Input'!U70,'Data Input'!X70,'Data Input'!Z70,'Data Input'!AA70,'Data Input'!AB70,'Data Input'!AE70,'Data Input'!AG70,'Data Input'!AH70,'Data Input'!AJ70,'Data Input'!AK70,'Data Input'!AL70,'Data Input'!AN70))","v":""},{"$f":"IF(K66=\"\",\"\",K66/COUNTIF('Data Input'!$C$8:$AQ$8,$K$2))","v":""},{"$f":"IF(ISBLANK('Data Input'!A70),\"\",SUM('Data Input'!V70))","v":""},{"$f":"IF(M66=\"\",\"\",M66/COUNTIF('Data Input'!$C$8:$AQ$8,$M$2))","v":""},{"$f":"IF(ISBLANK('Data Input'!A70),\"\",SUM('Data Input'!H70,'Data Input'!I70,'Data Input'!M70,'Data Input'!N70,'Data Input'!Q70,'Data Input'!R70,'Data Input'!T70,'Data Input'!Y70,'Data Input'!AD70,'Data Input'!AI70,'Data Input'!AP70,'Data Input'!AQ70))","v":""},{"$f":"IF(O66=\"\",\"\",O66/COUNTIF('Data Input'!$C$8:$AQ$8,$O$2))","v":""}]
[{"$f":"IF('Data Input'!A71=0,\"\",'Data Input'!A71)","v":""},{"$f":"IF(ISBLANK('Data Input'!A71),\"\",COUNTIF('Data Input'!C71:AQ71,\"\")-1)","v":""},{"$f":"IF(ISBLANK('Data Input'!A71),\"\",COUNTIF('Data Input'!C71:AQ71,\"0\"))","v":""},{"$f":"IF(ISBLANK('Data Input'!A71),\"\",SUM(B67,C67))","v":""},{"$f":"IF(ISBLANK('Data Input'!A71),\"\",SUM('Data Input'!C71:V71))","v":""},{"$f":"IF(ISBLANK('Data Input'!A71),\"\",SUM('Data Input'!X71:AQ71))","v":""},{"$f":"IF(ISBLANK('Data Input'!A71),\"\",SUM('Data Input'!C71:AQ71))","v":""},{"$f":"IF(G67=\"\",\"\",G67/(COUNTA('Data Input'!$C$8:$AQ$8)-1))","v":""},{"$f":"IF(ISBLANK('Data Input'!A71),\"\",SUM('Data Input'!C71,'Data Input'!K71,'Data Input'!L71,'Data Input'!AC71,'Data Input'!AF71,'Data Input'!AM71,'Data Input'!AO71))","v":""},{"$f":"IF(I67=\"\",\"\",I67/COUNTIF('Data Input'!$C$8:$AQ$8,$I$2))","v":""},{"$f":"IF(ISBLANK('Data Input'!A71),\"\",SUM('Data Input'!D71,'Data Input'!E71,'Data Input'!F71,'Data Input'!G71,'Data Input'!J71,'Data Input'!O71,'Data Input'!P71,'Data Input'!S71,'Data Input'!U71,'Data Input'!X71,'Data Input'!Z71,'Data Input'!AA71,'Data Input'!AB71,'Data Input'!AE71,'Data Input'!AG71,'Data Input'!AH71,'Data Input'!AJ71,'Data Input'!AK71,'Data Input'!AL71,'Data Input'!AN71))","v":""},{"$f":"IF(K67=\"\",\"\",K67/COUNTIF('Data Input'!$C$8:$AQ$8,$K$2))","v":""},{"$f":"IF(ISBLANK('Data Input'!A71),\"\",SUM('Data Input'!V71))","v":""},{"$f":"IF(M67=\"\",\"\",M67/COUNTIF('Data Input'!$C$8:$AQ$8,$M$2))","v":""},{"$f":"IF(ISBLANK('Data Input'!A71),\"\",SUM('Data Input'!H71,'Data Input'!I71,'Data Input'!M71,'Data Input'!N71,'Data Input'!Q71,'Data Input'!R71,'Data Input'!T71,'Data Input'!Y71,'Data Input'!AD71,'Data Input'!AI71,'Data Input'!AP71,'Data Input'!AQ71))","v":""},{"$f":"IF(O67=\"\",\"\",O67/COUNTIF('Data Input'!$C$8:$AQ$8,$O$2))","v":""}]
[{"$f":"IF('Data Input'!A72=0,\"\",'Data Input'!A72)","v":""},{"$f":"IF(ISBLANK('Data Input'!A72),\"\",COUNTIF('Data Input'!C72:AQ72,\"\")-1)","v":""},{"$f":"IF(ISBLANK('Data Input'!A72),\"\",COUNTIF('Data Input'!C72:AQ72,\"0\"))","v":""},{"$f":"IF(ISBLANK('Data Input'!A72),\"\",SUM(B68,C68))","v":""},{"$f":"IF(ISBLANK('Data Input'!A72),\"\",SUM('Data Input'!C72:V72))","v":""},{"$f":"IF(ISBLANK('Data Input'!A72),\"\",SUM('Data Input'!X72:AQ72))","v":""},{"$f":"IF(ISBLANK('Data Input'!A72),\"\",SUM('Data Input'!C72:AQ72))","v":""},{"$f":"IF(G68=\"\",\"\",G68/(COUNTA('Data Input'!$C$8:$AQ$8)-1))","v":""},{"$f":"IF(ISBLANK('Data Input'!A72),\"\",SUM('Data Input'!C72,'Data Input'!K72,'Data Input'!L72,'Data Input'!AC72,'Data Input'!AF72,'Data Input'!AM72,'Data Input'!AO72))","v":""},{"$f":"IF(I68=\"\",\"\",I68/COUNTIF('Data Input'!$C$8:$AQ$8,$I$2))","v":""},{"$f":"IF(ISBLANK('Data Input'!A72),\"\",SUM('Data Input'!D72,'Data Input'!E72,'Data Input'!F72,'Data Input'!G72,'Data Input'!J72,'Data Input'!O72,'Data Input'!P72,'Data Input'!S72,'Data Input'!U72,'Data Input'!X72,'Data Input'!Z72,'Data Input'!AA72,'Data Input'!AB72,'Data Input'!AE72,'Data Input'!AG72,'Data Input'!AH72,'Data Input'!AJ72,'Data Input'!AK72,'Data Input'!AL72,'Data Input'!AN72))","v":""},{"$f":"IF(K68=\"\",\"\",K68/COUNTIF('Data Input'!$C$8:$AQ$8,$K$2))","v":""},{"$f":"IF(ISBLANK('Data Input'!A72),\"\",SUM('Data Input'!V72))","v":""},{"$f":"IF(M68=\"\",\"\",M68/COUNTIF('Data Input'!$C$8:$AQ$8,$M$2))","v":""},{"$f":"IF(ISBLANK('Data Input'!A72),\"\",SUM('Data Input'!H72,'Data Input'!I72,'Data Input'!M72,'Data Input'!N72,'Data Input'!Q72,'Data Input'!R72,'Data Input'!T72,'Data Input'!Y72,'Data Input'!AD72,'Data Input'!AI72,'Data Input'!AP72,'Data Input'!AQ72))","v":""},{"$f":"IF(O68=\"\",\"\",O68/COUNTIF('Data Input'!$C$8:$AQ$8,$O$2))","v":""}]
[{"$f":"IF('Data Input'!A73=0,\"\",'Data Input'!A73)","v":""},{"$f":"IF(ISBLANK('Data Input'!A73),\"\",COUNTIF('Data Input'!C73:AQ73,\"\")-1)","v":""},{"$f":"IF(ISBLANK('Data Input'!A73),\"\",COUNTIF('Data Input'!C73:AQ73,\"0\"))","v":""},{"$f":"IF(ISBLANK('Data Input'!A73),\"\",SUM(B69,C69))","v":""},{"$f":"IF(ISBLANK('Data Input'!A73),\"\",SUM('Data Input'!C73:V73))","v":""},{"$f":"IF(ISBLANK('Data Input'!A73),\"\",SUM('Data Input'!X73:AQ73))","v":""},{"$f":"IF(ISBLANK('Data Input'!A73),\"\",SUM('Data Input'!C73:AQ73))","v":""},{"$f":"IF(G69=\"\",\"\",G69/(COUNTA('Data Input'!$C$8:$AQ$8)-1))","v":""},{"$f":"IF(ISBLANK('Data Input'!A73),\"\",SUM('Data Input'!C73,'Data Input'!K73,'Data Input'!L73,'Data Input'!AC73,'Data Input'!AF73,'Data Input'!AM73,'Data Input'!AO73))","v":""},{"$f":"IF(I69=\"\",\"\",I69/COUNTIF('Data Input'!$C$8:$AQ$8,$I$2))","v":""},{"$f":"IF(ISBLANK('Data Input'!A73),\"\",SUM('Data Input'!D73,'Data Input'!E73,'Data Input'!F73,'Data Input'!G73,'Data Input'!J73,'Data Input'!O73,'Data Input'!P73,'Data Input'!S73,'Data Input'!U73,'Data Input'!X73,'Data Input'!Z73,'Data Input'!AA73,'Data Input'!AB73,'Data Input'!AE73,'Data Input'!AG73,'Data Input'!AH73,'Data Input'!AJ73,'Data Input'!AK73,'Data Input'!AL73,'Data Input'!AN73))","v":""},{"$f":"IF(K69=\"\",\"\",K69/COUNTIF('Data Input'!$C$8:$AQ$8,$K$2))","v":""},{"$f":"IF(ISBLANK('Data Input'!A73),\"\",SUM('Data Input'!V73))","v":""},{"$f":"IF(M69=\"\",\"\",M69/COUNTIF('Data Input'!$C$8:$AQ$8,$M$2))","v":""},{"$f":"IF(ISBLANK('Data Input'!A73),\"\",SUM('Data Input'!H73,'Data Input'!I73,'Data Input'!M73,'Data Input'!N73,'Data Input'!Q73,'Data Input'!R73,'Data Input'!T73,'Data Input'!Y73,'Data Input'!AD73,'Data Input'!AI73,'Data Input'!AP73,'Data Input'!AQ73))","v":""},{"$f":"IF(O69=\"\",\"\",O69/COUNTIF('Data Input'!$C$8:$AQ$8,$O$2))","v":""}]
[{"$f":"IF('Data Input'!A74=0,\"\",'Data Input'!A74)","v":""},{"$f":"IF(ISBLANK('Data Input'!A74),\"\",COUNTIF('Data Input'!C74:AQ74,\"\")-1)","v":""},{"$f":"IF(ISBLANK('Data Input'!A74),\"\",COUNTIF('Data Input'!C74:AQ74,\"0\"))","v":""},{"$f":"IF(ISBLANK('Data Input'!A74),\"\",SUM(B70,C70))","v":""},{"$f":"IF(ISBLANK('Data Input'!A74),\"\",SUM('Data Input'!C74:V74))","v":""},{"$f":"IF(ISBLANK('Data Input'!A74),\"\",SUM('Data Input'!X74:AQ74))","v":""},{"$f":"IF(ISBLANK('Data Input'!A74),\"\",SUM('Data Input'!C74:AQ74))","v":""},{"$f":"IF(G70=\"\",\"\",G70/(COUNTA('Data Input'!$C$8:$AQ$8)-1))","v":""},{"$f":"IF(ISBLANK('Data Input'!A74),\"\",SUM('Data Input'!C74,'Data Input'!K74,'Data Input'!L74,'Data Input'!AC74,'Data Input'!AF74,'Data Input'!AM74,'Data Input'!AO74))","v":""},{"$f":"IF(I70=\"\",\"\",I70/COUNTIF('Data Input'!$C$8:$AQ$8,$I$2))","v":""},{"$f":"IF(ISBLANK('Data Input'!A74),\"\",SUM('Data Input'!D74,'Data Input'!E74,'Data Input'!F74,'Data Input'!G74,'Data Input'!J74,'Data Input'!O74,'Data Input'!P74,'Data Input'!S74,'Data Input'!U74,'Data Input'!X74,'Data Input'!Z74,'Data Input'!AA74,'Data Input'!AB74,'Data Input'!AE74,'Data Input'!AG74,'Data Input'!AH74,'Data Input'!AJ74,'Data Input'!AK74,'Data Input'!AL74,'Data Input'!AN74))","v":""},{"$f":"IF(K70=\"\",\"\",K70/COUNTIF('Data Input'!$C$8:$AQ$8,$K$2))","v":""},{"$f":"IF(ISBLANK('Data Input'!A74),\"\",SUM('Data Input'!V74))","v":""},{"$f":"IF(M70=\"\",\"\",M70/COUNTIF('Data Input'!$C$8:$AQ$8,$M$2))","v":""},{"$f":"IF(ISBLANK('Data Input'!A74),\"\",SUM('Data Input'!H74,'Data Input'!I74,'Data Input'!M74,'Data Input'!N74,'Data Input'!Q74,'Data Input'!R74,'Data Input'!T74,'Data Input'!Y74,'Data Input'!AD74,'Data Input'!AI74,'Data Input'!AP74,'Data Input'!AQ74))","v":""},{"$f":"IF(O70=\"\",\"\",O70/COUNTIF('Data Input'!$C$8:$AQ$8,$O$2))","v":""}]
[{"$f":"IF('Data Input'!A75=0,\"\",'Data Input'!A75)","v":""},{"$f":"IF(ISBLANK('Data Input'!A75),\"\",COUNTIF('Data Input'!C75:AQ75,\"\")-1)","v":""},{"$f":"IF(ISBLANK('Data Input'!A75),\"\",COUNTIF('Data Input'!C75:AQ75,\"0\"))","v":""},{"$f":"IF(ISBLANK('Data Input'!A75),\"\",SUM(B71,C71))","v":""},{"$f":"IF(ISBLANK('Data Input'!A75),\"\",SUM('Data Input'!C75:V75))","v":""},{"$f":"IF(ISBLANK('Data Input'!A75),\"\",SUM('Data Input'!X75:AQ75))","v":""},{"$f":"IF(ISBLANK('Data Input'!A75),\"\",SUM('Data Input'!C75:AQ75))","v":""},{"$f":"IF(G71=\"\",\"\",G71/(COUNTA('Data Input'!$C$8:$AQ$8)-1))","v":""},{"$f":"IF(ISBLANK('Data Input'!A75),\"\",SUM('Data Input'!C75,'Data Input'!K75,'Data Input'!L75,'Data Input'!AC75,'Data Input'!AF75,'Data Input'!AM75,'Data Input'!AO75))","v":""},{"$f":"IF(I71=\"\",\"\",I71/COUNTIF('Data Input'!$C$8:$AQ$8,$I$2))","v":""},{"$f":"IF(ISBLANK('Data Input'!A75),\"\",SUM('Data Input'!D75,'Data Input'!E75,'Data Input'!F75,'Data Input'!G75,'Data Input'!J75,'Data Input'!O75,'Data Input'!P75,'Data Input'!S75,'Data Input'!U75,'Data Input'!X75,'Data Input'!Z75,'Data Input'!AA75,'Data Input'!AB75,'Data Input'!AE75,'Data Input'!AG75,'Data Input'!AH75,'Data Input'!AJ75,'Data Input'!AK75,'Data Input'!AL75,'Data Input'!AN75))","v":""},{"$f":"IF(K71=\"\",\"\",K71/COUNTIF('Data Input'!$C$8:$AQ$8,$K$2))","v":""},{"$f":"IF(ISBLANK('Data Input'!A75),\"\",SUM('Data Input'!V75))","v":""},{"$f":"IF(M71=\"\",\"\",M71/COUNTIF('Data Input'!$C$8:$AQ$8,$M$2))","v":""},{"$f":"IF(ISBLANK('Data Input'!A75),\"\",SUM('Data Input'!H75,'Data Input'!I75,'Data Input'!M75,'Data Input'!N75,'Data Input'!Q75,'Data Input'!R75,'Data Input'!T75,'Data Input'!Y75,'Data Input'!AD75,'Data Input'!AI75,'Data Input'!AP75,'Data Input'!AQ75))","v":""},{"$f":"IF(O71=\"\",\"\",O71/COUNTIF('Data Input'!$C$8:$AQ$8,$O$2))","v":""}]
[{"$f":"IF('Data Input'!A76=0,\"\",'Data Input'!A76)","v":""},{"$f":"IF(ISBLANK('Data Input'!A76),\"\",COUNTIF('Data Input'!C76:AQ76,\"\")-1)","v":""},{"$f":"IF(ISBLANK('Data Input'!A76),\"\",COUNTIF('Data Input'!C76:AQ76,\"0\"))","v":""},{"$f":"IF(ISBLANK('Data Input'!A76),\"\",SUM(B72,C72))","v":""},{"$f":"IF(ISBLANK('Data Input'!A76),\"\",SUM('Data Input'!C76:V76))","v":""},{"$f":"IF(ISBLANK('Data Input'!A76),\"\",SUM('Data Input'!X76:AQ76))","v":""},{"$f":"IF(ISBLANK('Data Input'!A76),\"\",SUM('Data Input'!C76:AQ76))","v":""},{"$f":"IF(G72=\"\",\"\",G72/(COUNTA('Data Input'!$C$8:$AQ$8)-1))","v":""},{"$f":"IF(ISBLANK('Data Input'!A76),\"\",SUM('Data Input'!C76,'Data Input'!K76,'Data Input'!L76,'Data Input'!AC76,'Data Input'!AF76,'Data Input'!AM76,'Data Input'!AO76))","v":""},{"$f":"IF(I72=\"\",\"\",I72/COUNTIF('Data Input'!$C$8:$AQ$8,$I$2))","v":""},{"$f":"IF(ISBLANK('Data Input'!A76),\"\",SUM('Data Input'!D76,'Data Input'!E76,'Data Input'!F76,'Data Input'!G76,'Data Input'!J76,'Data Input'!O76,'Data Input'!P76,'Data Input'!S76,'Data Input'!U76,'Data Input'!X76,'Data Input'!Z76,'Data Input'!AA76,'Data Input'!AB76,'Data Input'!AE76,'Data Input'!AG76,'Data Input'!AH76,'Data Input'!AJ76,'Data Input'!AK76,'Data Input'!AL76,'Data Input'!AN76))","v":""},{"$f":"IF(K72=\"\",\"\",K72/COUNTIF('Data Input'!$C$8:$AQ$8,$K$2))","v":""},{"$f":"IF(ISBLANK('Data Input'!A76),\"\",SUM('Data Input'!V76))","v":""},{"$f":"IF(M72=\"\",\"\",M72/COUNTIF('Data Input'!$C$8:$AQ$8,$M$2))","v":""},{"$f":"IF(ISBLANK('Data Input'!A76),\"\",SUM('Data Input'!H76,'Data Input'!I76,'Data Input'!M76,'Data Input'!N76,'Data Input'!Q76,'Data Input'!R76,'Data Input'!T76,'Data Input'!Y76,'Data Input'!AD76,'Data Input'!AI76,'Data Input'!AP76,'Data Input'!AQ76))","v":""},{"$f":"IF(O72=\"\",\"\",O72/COUNTIF('Data Input'!$C$8:$AQ$8,$O$2))","v":""}]
[{"$f":"IF('Data Input'!A77=0,\"\",'Data Input'!A77)","v":""},{"$f":"IF(ISBLANK('Data Input'!A77),\"\",COUNTIF('Data Input'!C77:AQ77,\"\")-1)","v":""},{"$f":"IF(ISBLANK('Data Input'!A77),\"\",COUNTIF('Data Input'!C77:AQ77,\"0\"))","v":""},{"$f":"IF(ISBLANK('Data Input'!A77),\"\",SUM(B73,C73))","v":""},{"$f":"IF(ISBLANK('Data Input'!A77),\"\",SUM('Data Input'!C77:V77))","v":""},{"$f":"IF(ISBLANK('Data Input'!A77),\"\",SUM('Data Input'!X77:AQ77))","v":""},{"$f":"IF(ISBLANK('Data Input'!A77),\"\",SUM('Data Input'!C77:AQ77))","v":""},{"$f":"IF(G73=\"\",\"\",G73/(COUNTA('Data Input'!$C$8:$AQ$8)-1))","v":""},{"$f":"IF(ISBLANK('Data Input'!A77),\"\",SUM('Data Input'!C77,'Data Input'!K77,'Data Input'!L77,'Data Input'!AC77,'Data Input'!AF77,'Data Input'!AM77,'Data Input'!AO77))","v":""},{"$f":"IF(I73=\"\",\"\",I73/COUNTIF('Data Input'!$C$8:$AQ$8,$I$2))","v":""},{"$f":"IF(ISBLANK('Data Input'!A77),\"\",SUM('Data Input'!D77,'Data Input'!E77,'Data Input'!F77,'Data Input'!G77,'Data Input'!J77,'Data Input'!O77,'Data Input'!P77,'Data Input'!S77,'Data Input'!U77,'Data Input'!X77,'Data Input'!Z77,'Data Input'!AA77,'Data Input'!AB77,'Data Input'!AE77,'Data Input'!AG77,'Data Input'!AH77,'Data Input'!AJ77,'Data Input'!AK77,'Data Input'!AL77,'Data Input'!AN77))","v":""},{"$f":"IF(K73=\"\",\"\",K73/COUNTIF('Data Input'!$C$8:$AQ$8,$K$2))","v":""},{"$f":"IF(ISBLANK('Data Input'!A77),\"\",SUM('Data Input'!V77))","v":""},{"$f":"IF(M73=\"\",\"\",M73/COUNTIF('Data Input'!$C$8:$AQ$8,$M$2))","v":""},{"$f":"IF(ISBLANK('Data Input'!A77),\"\",SUM('Data Input'!H77,'Data Input'!I77,'Data Input'!M77,'Data Input'!N77,'Data Input'!Q77,'Data Input'!R77,'Data Input'!T77,'Data Input'!Y77,'Data Input'!AD77,'Data Input'!AI77,'Data Input'!AP77,'Data Input'!AQ77))","v":""},{"$f":"IF(O73=\"\",\"\",O73/COUNTIF('Data Input'!$C$8:$AQ$8,$O$2))","v":""}]
[{"$f":"IF('Data Input'!A78=0,\"\",'Data Input'!A78)","v":""},{"$f":"IF(ISBLANK('Data Input'!A78),\"\",COUNTIF('Data Input'!C78:AQ78,\"\")-1)","v":""},{"$f":"IF(ISBLANK('Data Input'!A78),\"\",COUNTIF('Data Input'!C78:AQ78,\"0\"))","v":""},{"$f":"IF(ISBLANK('Data Input'!A78),\"\",SUM(B74,C74))","v":""},{"$f":"IF(ISBLANK('Data Input'!A78),\"\",SUM('Data Input'!C78:V78))","v":""},{"$f":"IF(ISBLANK('Data Input'!A78),\"\",SUM('Data Input'!X78:AQ78))","v":""},{"$f":"IF(ISBLANK('Data Input'!A78),\"\",SUM('Data Input'!C78:AQ78))","v":""},{"$f":"IF(G74=\"\",\"\",G74/(COUNTA('Data Input'!$C$8:$AQ$8)-1))","v":""},{"$f":"IF(ISBLANK('Data Input'!A78),\"\",SUM('Data Input'!C78,'Data Input'!K78,'Data Input'!L78,'Data Input'!AC78,'Data Input'!AF78,'Data Input'!AM78,'Data Input'!AO78))","v":""},{"$f":"IF(I74=\"\",\"\",I74/COUNTIF('Data Input'!$C$8:$AQ$8,$I$2))","v":""},{"$f":"IF(ISBLANK('Data Input'!A78),\"\",SUM('Data Input'!D78,'Data Input'!E78,'Data Input'!F78,'Data Input'!G78,'Data Input'!J78,'Data Input'!O78,'Data Input'!P78,'Data Input'!S78,'Data Input'!U78,'Data Input'!X78,'Data Input'!Z78,'Data Input'!AA78,'Data Input'!AB78,'Data Input'!AE78,'Data Input'!AG78,'Data Input'!AH78,'Data Input'!AJ78,'Data Input'!AK78,'Data Input'!AL78,'Data Input'!AN78))","v":""},{"$f":"IF(K74=\"\",\"\",K74/COUNTIF('Data Input'!$C$8:$AQ$8,$K$2))","v":""},{"$f":"IF(ISBLANK('Data Input'!A78),\"\",SUM('Data Input'!V78))","v":""},{"$f":"IF(M74=\"\",\"\",M74/COUNTIF('Data Input'!$C$8:$AQ$8,$M$2))","v":""},{"$f":"IF(ISBLANK('Data Input'!A78),\"\",SUM('Data Input'!H78,'Data Input'!I78,'Data Input'!M78,'Data Input'!N78,'Data Input'!Q78,'Data Input'!R78,'Data Input'!T78,'Data Input'!Y78,'Data Input'!AD78,'Data Input'!AI78,'Data Input'!AP78,'Data Input'!AQ78))","v":""},{"$f":"IF(O74=\"\",\"\",O74/COUNTIF('Data Input'!$C$8:$AQ$8,$O$2))","v":""}]
[{"$f":"IF('Data Input'!A79=0,\"\",'Data Input'!A79)","v":""},{"$f":"IF(ISBLANK('Data Input'!A79),\"\",COUNTIF('Data Input'!C79:AQ79,\"\")-1)","v":""},{"$f":"IF(ISBLANK('Data Input'!A79),\"\",COUNTIF('Data Input'!C79:AQ79,\"0\"))","v":""},{"$f":"IF(ISBLANK('Data Input'!A79),\"\",SUM(B75,C75))","v":""},{"$f":"IF(ISBLANK('Data Input'!A79),\"\",SUM('Data Input'!C79:V79))","v":""},{"$f":"IF(ISBLANK('Data Input'!A79),\"\",SUM('Data Input'!X79:AQ79))","v":""},{"$f":"IF(ISBLANK('Data Input'!A79),\"\",SUM('Data Input'!C79:AQ79))","v":""},{"$f":"IF(G75=\"\",\"\",G75/(COUNTA('Data Input'!$C$8:$AQ$8)-1))","v":""},{"$f":"IF(ISBLANK('Data Input'!A79),\"\",SUM('Data Input'!C79,'Data Input'!K79,'Data Input'!L79,'Data Input'!AC79,'Data Input'!AF79,'Data Input'!AM79,'Data Input'!AO79))","v":""},{"$f":"IF(I75=\"\",\"\",I75/COUNTIF('Data Input'!$C$8:$AQ$8,$I$2))","v":""},{"$f":"IF(ISBLANK('Data Input'!A79),\"\",SUM('Data Input'!D79,'Data Input'!E79,'Data Input'!F79,'Data Input'!G79,'Data Input'!J79,'Data Input'!O79,'Data Input'!P79,'Data Input'!S79,'Data Input'!U79,'Data Input'!X79,'Data Input'!Z79,'Data Input'!AA79,'Data Input'!AB79,'Data Input'!AE79,'Data Input'!AG79,'Data Input'!AH79,'Data Input'!AJ79,'Data Input'!AK79,'Data Input'!AL79,'Data Input'!AN79))","v":""},{"$f":"IF(K75=\"\",\"\",K75/COUNTIF('Data Input'!$C$8:$AQ$8,$K$2))","v":""},{"$f":"IF(ISBLANK('Data Input'!A79),\"\",SUM('Data Input'!V79))","v":""},{"$f":"IF(M75=\"\",\"\",M75/COUNTIF('Data Input'!$C$8:$AQ$8,$M$2))","v":""},{"$f":"IF(ISBLANK('Data Input'!A79),\"\",SUM('Data Input'!H79,'Data Input'!I79,'Data Input'!M79,'Data Input'!N79,'Data Input'!Q79,'Data Input'!R79,'Data Input'!T79,'Data Input'!Y79,'Data Input'!AD79,'Data Input'!AI79,'Data Input'!AP79,'Data Input'!AQ79))","v":""},{"$f":"IF(O75=\"\",\"\",O75/COUNTIF('Data Input'!$C$8:$AQ$8,$O$2))","v":""}]
[{"$f":"IF('Data Input'!A80=0,\"\",'Data Input'!A80)","v":""},{"$f":"IF(ISBLANK('Data Input'!A80),\"\",COUNTIF('Data Input'!C80:AQ80,\"\")-1)","v":""},{"$f":"IF(ISBLANK('Data Input'!A80),\"\",COUNTIF('Data Input'!C80:AQ80,\"0\"))","v":""},{"$f":"IF(ISBLANK('Data Input'!A80),\"\",SUM(B76,C76))","v":""},{"$f":"IF(ISBLANK('Data Input'!A80),\"\",SUM('Data Input'!C80:V80))","v":""},{"$f":"IF(ISBLANK('Data Input'!A80),\"\",SUM('Data Input'!X80:AQ80))","v":""},{"$f":"IF(ISBLANK('Data Input'!A80),\"\",SUM('Data Input'!C80:AQ80))","v":""},{"$f":"IF(G76=\"\",\"\",G76/(COUNTA('Data Input'!$C$8:$AQ$8)-1))","v":""},{"$f":"IF(ISBLANK('Data Input'!A80),\"\",SUM('Data Input'!C80,'Data Input'!K80,'Data Input'!L80,'Data Input'!AC80,'Data Input'!AF80,'Data Input'!AM80,'Data Input'!AO80))","v":""},{"$f":"IF(I76=\"\",\"\",I76/COUNTIF('Data Input'!$C$8:$AQ$8,$I$2))","v":""},{"$f":"IF(ISBLANK('Data Input'!A80),\"\",SUM('Data Input'!D80,'Data Input'!E80,'Data Input'!F80,'Data Input'!G80,'Data Input'!J80,'Data Input'!O80,'Data Input'!P80,'Data Input'!S80,'Data Input'!U80,'Data Input'!X80,'Data Input'!Z80,'Data Input'!AA80,'Data Input'!AB80,'Data Input'!AE80,'Data Input'!AG80,'Data Input'!AH80,'Data Input'!AJ80,'Data Input'!AK80,'Data Input'!AL80,'Data Input'!AN80))","v":""},{"$f":"IF(K76=\"\",\"\",K76/COUNTIF('Data Input'!$C$8:$AQ$8,$K$2))","v":""},{"$f":"IF(ISBLANK('Data Input'!A80),\"\",SUM('Data Input'!V80))","v":""},{"$f":"IF(M76=\"\",\"\",M76/COUNTIF('Data Input'!$C$8:$AQ$8,$M$2))","v":""},{"$f":"IF(ISBLANK('Data Input'!A80),\"\",SUM('Data Input'!H80,'Data Input'!I80,'Data Input'!M80,'Data Input'!N80,'Data Input'!Q80,'Data Input'!R80,'Data Input'!T80,'Data Input'!Y80,'Data Input'!AD80,'Data Input'!AI80,'Data Input'!AP80,'Data Input'!AQ80))","v":""},{"$f":"IF(O76=\"\",\"\",O76/COUNTIF('Data Input'!$C$8:$AQ$8,$O$2))","v":""}]
[{"$f":"IF('Data Input'!A81=0,\"\",'Data Input'!A81)","v":""},{"$f":"IF(ISBLANK('Data Input'!A81),\"\",COUNTIF('Data Input'!C81:AQ81,\"\")-1)","v":""},{"$f":"IF(ISBLANK('Data Input'!A81),\"\",COUNTIF('Data Input'!C81:AQ81,\"0\"))","v":""},{"$f":"IF(ISBLANK('Data Input'!A81),\"\",SUM(B77,C77))","v":""},{"$f":"IF(ISBLANK('Data Input'!A81),\"\",SUM('Data Input'!C81:V81))","v":""},{"$f":"IF(ISBLANK('Data Input'!A81),\"\",SUM('Data Input'!X81:AQ81))","v":""},{"$f":"IF(ISBLANK('Data Input'!A81),\"\",SUM('Data Input'!C81:AQ81))","v":""},{"$f":"IF(G77=\"\",\"\",G77/(COUNTA('Data Input'!$C$8:$AQ$8)-1))","v":""},{"$f":"IF(ISBLANK('Data Input'!A81),\"\",SUM('Data Input'!C81,'Data Input'!K81,'Data Input'!L81,'Data Input'!AC81,'Data Input'!AF81,'Data Input'!AM81,'Data Input'!AO81))","v":""},{"$f":"IF(I77=\"\",\"\",I77/COUNTIF('Data Input'!$C$8:$AQ$8,$I$2))","v":""},{"$f":"IF(ISBLANK('Data Input'!A81),\"\",SUM('Data Input'!D81,'Data Input'!E81,'Data Input'!F81,'Data Input'!G81,'Data Input'!J81,'Data Input'!O81,'Data Input'!P81,'Data Input'!S81,'Data Input'!U81,'Data Input'!X81,'Data Input'!Z81,'Data Input'!AA81,'Data Input'!AB81,'Data Input'!AE81,'Data Input'!AG81,'Data Input'!AH81,'Data Input'!AJ81,'Data Input'!AK81,'Data Input'!AL81,'Data Input'!AN81))","v":""},{"$f":"IF(K77=\"\",\"\",K77/COUNTIF('Data Input'!$C$8:$AQ$8,$K$2))","v":""},{"$f":"IF(ISBLANK('Data Input'!A81),\"\",SUM('Data Input'!V81))","v":""},{"$f":"IF(M77=\"\",\"\",M77/COUNTIF('Data Input'!$C$8:$AQ$8,$M$2))","v":""},{"$f":"IF(ISBLANK('Data Input'!A81),\"\",SUM('Data Input'!H81,'Data Input'!I81,'Data Input'!M81,'Data Input'!N81,'Data Input'!Q81,'Data Input'!R81,'Data Input'!T81,'Data Input'!Y81,'Data Input'!AD81,'Data Input'!AI81,'Data Input'!AP81,'Data Input'!AQ81))","v":""},{"$f":"IF(O77=\"\",\"\",O77/COUNTIF('Data Input'!$C$8:$AQ$8,$O$2))","v":""}]
[{"$f":"IF('Data Input'!A82=0,\"\",'Data Input'!A82)","v":""},{"$f":"IF(ISBLANK('Data Input'!A82),\"\",COUNTIF('Data Input'!C82:AQ82,\"\")-1)","v":""},{"$f":"IF(ISBLANK('Data Input'!A82),\"\",COUNTIF('Data Input'!C82:AQ82,\"0\"))","v":""},{"$f":"IF(ISBLANK('Data Input'!A82),\"\",SUM(B78,C78))","v":""},{"$f":"IF(ISBLANK('Data Input'!A82),\"\",SUM('Data Input'!C82:V82))","v":""},{"$f":"IF(ISBLANK('Data Input'!A82),\"\",SUM('Data Input'!X82:AQ82))","v":""},{"$f":"IF(ISBLANK('Data Input'!A82),\"\",SUM('Data Input'!C82:AQ82))","v":""},{"$f":"IF(G78=\"\",\"\",G78/(COUNTA('Data Input'!$C$8:$AQ$8)-1))","v":""},{"$f":"IF(ISBLANK('Data Input'!A82),\"\",SUM('Data Input'!C82,'Data Input'!K82,'Data Input'!L82,'Data Input'!AC82,'Data Input'!AF82,'Data Input'!AM82,'Data Input'!AO82))","v":""},{"$f":"IF(I78=\"\",\"\",I78/COUNTIF('Data Input'!$C$8:$AQ$8,$I$2))","v":""},{"$f":"IF(ISBLANK('Data Input'!A82),\"\",SUM('Data Input'!D82,'Data Input'!E82,'Data Input'!F82,'Data Input'!G82,'Data Input'!J82,'Data Input'!O82,'Data Input'!P82,'Data Input'!S82,'Data Input'!U82,'Data Input'!X82,'Data Input'!Z82,'Data Input'!AA82,'Data Input'!AB82,'Data Input'!AE82,'Data Input'!AG82,'Data Input'!AH82,'Data Input'!AJ82,'Data Input'!AK82,'Data Input'!AL82,'Data Input'!AN82))","v":""},{"$f":"IF(K78=\"\",\"\",K78/COUNTIF('Data Input'!$C$8:$AQ$8,$K$2))","v":""},{"$f":"IF(ISBLANK('Data Input'!A82),\"\",SUM('Data Input'!V82))","v":""},{"$f":"IF(M78=\"\",\"\",M78/COUNTIF('Data Input'!$C$8:$AQ$8,$M$2))","v":""},{"$f":"IF(ISBLANK('Data Input'!A82),\"\",SUM('Data Input'!H82,'Data Input'!I82,'Data Input'!M82,'Data Input'!N82,'Data Input'!Q82,'Data Input'!R82,'Data Input'!T82,'Data Input'!Y82,'Data Input'!AD82,'Data Input'!AI82,'Data Input'!AP82,'Data Input'!AQ82))","v":""},{"$f":"IF(O78=\"\",\"\",O78/COUNTIF('Data Input'!$C$8:$AQ$8,$O$2))","v":""}]
[{"$f":"IF('Data Input'!A83=0,\"\",'Data Input'!A83)","v":""},{"$f":"IF(ISBLANK('Data Input'!A83),\"\",COUNTIF('Data Input'!C83:AQ83,\"\")-1)","v":""},{"$f":"IF(ISBLANK('Data Input'!A83),\"\",COUNTIF('Data Input'!C83:AQ83,\"0\"))","v":""},{"$f":"IF(ISBLANK('Data Input'!A83),\"\",SUM(B79,C79))","v":""},{"$f":"IF(ISBLANK('Data Input'!A83),\"\",SUM('Data Input'!C83:V83))","v":""},{"$f":"IF(ISBLANK('Data Input'!A83),\"\",SUM('Data Input'!X83:AQ83))","v":""},{"$f":"IF(ISBLANK('Data Input'!A83),\"\",SUM('Data Input'!C83:AQ83))","v":""},{"$f":"IF(G79=\"\",\"\",G79/(COUNTA('Data Input'!$C$8:$AQ$8)-1))","v":""},{"$f":"IF(ISBLANK('Data Input'!A83),\"\",SUM('Data Input'!C83,'Data Input'!K83,'Data Input'!L83,'Data Input'!AC83,'Data Input'!AF83,'Data Input'!AM83,'Data Input'!AO83))","v":""},{"$f":"IF(I79=\"\",\"\",I79/COUNTIF('Data Input'!$C$8:$AQ$8,$I$2))","v":""},{"$f":"IF(ISBLANK('Data Input'!A83),\"\",SUM('Data Input'!D83,'Data Input'!E83,'Data Input'!F83,'Data Input'!G83,'Data Input'!J83,'Data Input'!O83,'Data Input'!P83,'Data Input'!S83,'Data Input'!U83,'Data Input'!X83,'Data Input'!Z83,'Data Input'!AA83,'Data Input'!AB83,'Data Input'!AE83,'Data Input'!AG83,'Data Input'!AH83,'Data Input'!AJ83,'Data Input'!AK83,'Data Input'!AL83,'Data Input'!AN83))","v":""},{"$f":"IF(K79=\"\",\"\",K79/COUNTIF('Data Input'!$C$8:$AQ$8,$K$2))","v":""},{"$f":"IF(ISBLANK('Data Input'!A83),\"\",SUM('Data Input'!V83))","v":""},{"$f":"IF(M79=\"\",\"\",M79/COUNTIF('Data Input'!$C$8:$AQ$8,$M$2))","v":""},{"$f":"IF(ISBLANK('Data Input'!A83),\"\",SUM('Data Input'!H83,'Data Input'!I83,'Data Input'!M83,'Data Input'!N83,'Data Input'!Q83,'Data Input'!R83,'Data Input'!T83,'Data Input'!Y83,'Data Input'!AD83,'Data Input'!AI83,'Data Input'!AP83,'Data Input'!AQ83))","v":""},{"$f":"IF(O79=\"\",\"\",O79/COUNTIF('Data Input'!$C$8:$AQ$8,$O$2))","v":""}]
[{"$f":"IF('Data Input'!A84=0,\"\",'Data Input'!A84)","v":""},{"$f":"IF(ISBLANK('Data Input'!A84),\"\",COUNTIF('Data Input'!C84:AQ84,\"\")-1)","v":""},{"$f":"IF(ISBLANK('Data Input'!A84),\"\",COUNTIF('Data Input'!C84:AQ84,\"0\"))","v":""},{"$f":"IF(ISBLANK('Data Input'!A84),\"\",SUM(B80,C80))","v":""},{"$f":"IF(ISBLANK('Data Input'!A84),\"\",SUM('Data Input'!C84:V84))","v":""},{"$f":"IF(ISBLANK('Data Input'!A84),\"\",SUM('Data Input'!X84:AQ84))","v":""},{"$f":"IF(ISBLANK('Data Input'!A84),\"\",SUM('Data Input'!C84:AQ84))","v":""},{"$f":"IF(G80=\"\",\"\",G80/(COUNTA('Data Input'!$C$8:$AQ$8)-1))","v":""},{"$f":"IF(ISBLANK('Data Input'!A84),\"\",SUM('Data Input'!C84,'Data Input'!K84,'Data Input'!L84,'Data Input'!AC84,'Data Input'!AF84,'Data Input'!AM84,'Data Input'!AO84))","v":""},{"$f":"IF(I80=\"\",\"\",I80/COUNTIF('Data Input'!$C$8:$AQ$8,$I$2))","v":""},{"$f":"IF(ISBLANK('Data Input'!A84),\"\",SUM('Data Input'!D84,'Data Input'!E84,'Data Input'!F84,'Data Input'!G84,'Data Input'!J84,'Data Input'!O84,'Data Input'!P84,'Data Input'!S84,'Data Input'!U84,'Data Input'!X84,'Data Input'!Z84,'Data Input'!AA84,'Data Input'!AB84,'Data Input'!AE84,'Data Input'!AG84,'Data Input'!AH84,'Data Input'!AJ84,'Data Input'!AK84,'Data Input'!AL84,'Data Input'!AN84))","v":""},{"$f":"IF(K80=\"\",\"\",K80/COUNTIF('Data Input'!$C$8:$AQ$8,$K$2))","v":""},{"$f":"IF(ISBLANK('Data Input'!A84),\"\",SUM('Data Input'!V84))","v":""},{"$f":"IF(M80=\"\",\"\",M80/COUNTIF('Data Input'!$C$8:$AQ$8,$M$2))","v":""},{"$f":"IF(ISBLANK('Data Input'!A84),\"\",SUM('Data Input'!H84,'Data Input'!I84,'Data Input'!M84,'Data Input'!N84,'Data Input'!Q84,'Data Input'!R84,'Data Input'!T84,'Data Input'!Y84,'Data Input'!AD84,'Data Input'!AI84,'Data Input'!AP84,'Data Input'!AQ84))","v":""},{"$f":"IF(O80=\"\",\"\",O80/COUNTIF('Data Input'!$C$8:$AQ$8,$O$2))","v":""}]
[{"$f":"IF('Data Input'!A85=0,\"\",'Data Input'!A85)","v":""},{"$f":"IF(ISBLANK('Data Input'!A85),\"\",COUNTIF('Data Input'!C85:AQ85,\"\")-1)","v":""},{"$f":"IF(ISBLANK('Data Input'!A85),\"\",COUNTIF('Data Input'!C85:AQ85,\"0\"))","v":""},{"$f":"IF(ISBLANK('Data Input'!A85),\"\",SUM(B81,C81))","v":""},{"$f":"IF(ISBLANK('Data Input'!A85),\"\",SUM('Data Input'!C85:V85))","v":""},{"$f":"IF(ISBLANK('Data Input'!A85),\"\",SUM('Data Input'!X85:AQ85))","v":""},{"$f":"IF(ISBLANK('Data Input'!A85),\"\",SUM('Data Input'!C85:AQ85))","v":""},{"$f":"IF(G81=\"\",\"\",G81/(COUNTA('Data Input'!$C$8:$AQ$8)-1))","v":""},{"$f":"IF(ISBLANK('Data Input'!A85),\"\",SUM('Data Input'!C85,'Data Input'!K85,'Data Input'!L85,'Data Input'!AC85,'Data Input'!AF85,'Data Input'!AM85,'Data Input'!AO85))","v":""},{"$f":"IF(I81=\"\",\"\",I81/COUNTIF('Data Input'!$C$8:$AQ$8,$I$2))","v":""},{"$f":"IF(ISBLANK('Data Input'!A85),\"\",SUM('Data Input'!D85,'Data Input'!E85,'Data Input'!F85,'Data Input'!G85,'Data Input'!J85,'Data Input'!O85,'Data Input'!P85,'Data Input'!S85,'Data Input'!U85,'Data Input'!X85,'Data Input'!Z85,'Data Input'!AA85,'Data Input'!AB85,'Data Input'!AE85,'Data Input'!AG85,'Data Input'!AH85,'Data Input'!AJ85,'Data Input'!AK85,'Data Input'!AL85,'Data Input'!AN85))","v":""},{"$f":"IF(K81=\"\",\"\",K81/COUNTIF('Data Input'!$C$8:$AQ$8,$K$2))","v":""},{"$f":"IF(ISBLANK('Data Input'!A85),\"\",SUM('Data Input'!V85))","v":""},{"$f":"IF(M81=\"\",\"\",M81/COUNTIF('Data Input'!$C$8:$AQ$8,$M$2))","v":""},{"$f":"IF(ISBLANK('Data Input'!A85),\"\",SUM('Data Input'!H85,'Data Input'!I85,'Data Input'!M85,'Data Input'!N85,'Data Input'!Q85,'Data Input'!R85,'Data Input'!T85,'Data Input'!Y85,'Data Input'!AD85,'Data Input'!AI85,'Data Input'!AP85,'Data Input'!AQ85))","v":""},{"$f":"IF(O81=\"\",\"\",O81/COUNTIF('Data Input'!$C$8:$AQ$8,$O$2))","v":""}]
[{"$f":"IF('Data Input'!A86=0,\"\",'Data Input'!A86)","v":""},{"$f":"IF(ISBLANK('Data Input'!A86),\"\",COUNTIF('Data Input'!C86:AQ86,\"\")-1)","v":""},{"$f":"IF(ISBLANK('Data Input'!A86),\"\",COUNTIF('Data Input'!C86:AQ86,\"0\"))","v":""},{"$f":"IF(ISBLANK('Data Input'!A86),\"\",SUM(B82,C82))","v":""},{"$f":"IF(ISBLANK('Data Input'!A86),\"\",SUM('Data Input'!C86:V86))","v":""},{"$f":"IF(ISBLANK('Data Input'!A86),\"\",SUM('Data Input'!X86:AQ86))","v":""},{"$f":"IF(ISBLANK('Data Input'!A86),\"\",SUM('Data Input'!C86:AQ86))","v":""},{"$f":"IF(G82=\"\",\"\",G82/(COUNTA('Data Input'!$C$8:$AQ$8)-1))","v":""},{"$f":"IF(ISBLANK('Data Input'!A86),\"\",SUM('Data Input'!C86,'Data Input'!K86,'Data Input'!L86,'Data Input'!AC86,'Data Input'!AF86,'Data Input'!AM86,'Data Input'!AO86))","v":""},{"$f":"IF(I82=\"\",\"\",I82/COUNTIF('Data Input'!$C$8:$AQ$8,$I$2))","v":""},{"$f":"IF(ISBLANK('Data Input'!A86),\"\",SUM('Data Input'!D86,'Data Input'!E86,'Data Input'!F86,'Data Input'!G86,'Data Input'!J86,'Data Input'!O86,'Data Input'!P86,'Data Input'!S86,'Data Input'!U86,'Data Input'!X86,'Data Input'!Z86,'Data Input'!AA86,'Data Input'!AB86,'Data Input'!AE86,'Data Input'!AG86,'Data Input'!AH86,'Data Input'!AJ86,'Data Input'!AK86,'Data Input'!AL86,'Data Input'!AN86))","v":""},{"$f":"IF(K82=\"\",\"\",K82/COUNTIF('Data Input'!$C$8:$AQ$8,$K$2))","v":""},{"$f":"IF(ISBLANK('Data Input'!A86),\"\",SUM('Data Input'!V86))","v":""},{"$f":"IF(M82=\"\",\"\",M82/COUNTIF('Data Input'!$C$8:$AQ$8,$M$2))","v":""},{"$f":"IF(ISBLANK('Data Input'!A86),\"\",SUM('Data Input'!H86,'Data Input'!I86,'Data Input'!M86,'Data Input'!N86,'Data Input'!Q86,'Data Input'!R86,'Data Input'!T86,'Data Input'!Y86,'Data Input'!AD86,'Data Input'!AI86,'Data Input'!AP86,'Data Input'!AQ86))","v":""},{"$f":"IF(O82=\"\",\"\",O82/COUNTIF('Data Input'!$C$8:$AQ$8,$O$2))","v":""}]
[{"$f":"IF('Data Input'!A87=0,\"\",'Data Input'!A87)","v":""},{"$f":"IF(ISBLANK('Data Input'!A87),\"\",COUNTIF('Data Input'!C87:AQ87,\"\")-1)","v":""},{"$f":"IF(ISBLANK('Data Input'!A87),\"\",COUNTIF('Data Input'!C87:AQ87,\"0\"))","v":""},{"$f":"IF(ISBLANK('Data Input'!A87),\"\",SUM(B83,C83))","v":""},{"$f":"IF(ISBLANK('Data Input'!A87),\"\",SUM('Data Input'!C87:V87))","v":""},{"$f":"IF(ISBLANK('Data Input'!A87),\"\",SUM('Data Input'!X87:AQ87))","v":""},{"$f":"IF(ISBLANK('Data Input'!A87),\"\",SUM('Data Input'!C87:AQ87))","v":""},{"$f":"IF(G83=\"\",\"\",G83/(COUNTA('Data Input'!$C$8:$AQ$8)-1))","v":""},{"$f":"IF(ISBLANK('Data Input'!A87),\"\",SUM('Data Input'!C87,'Data Input'!K87,'Data Input'!L87,'Data Input'!AC87,'Data Input'!AF87,'Data Input'!AM87,'Data Input'!AO87))","v":""},{"$f":"IF(I83=\"\",\"\",I83/COUNTIF('Data Input'!$C$8:$AQ$8,$I$2))","v":""},{"$f":"IF(ISBLANK('Data Input'!A87),\"\",SUM('Data Input'!D87,'Data Input'!E87,'Data Input'!F87,'Data Input'!G87,'Data Input'!J87,'Data Input'!O87,'Data Input'!P87,'Data Input'!S87,'Data Input'!U87,'Data Input'!X87,'Data Input'!Z87,'Data Input'!AA87,'Data Input'!AB87,'Data Input'!AE87,'Data Input'!AG87,'Data Input'!AH87,'Data Input'!AJ87,'Data Input'!AK87,'Data Input'!AL87,'Data Input'!AN87))","v":""},{"$f":"IF(K83=\"\",\"\",K83/COUNTIF('Data Input'!$C$8:$AQ$8,$K$2))","v":""},{"$f":"IF(ISBLANK('Data Input'!A87),\"\",SUM('Data Input'!V87))","v":""},{"$f":"IF(M83=\"\",\"\",M83/COUNTIF('Data Input'!$C$8:$AQ$8,$M$2))","v":""},{"$f":"IF(ISBLANK('Data Input'!A87),\"\",SUM('Data Input'!H87,'Data Input'!I87,'Data Input'!M87,'Data Input'!N87,'Data Input'!Q87,'Data Input'!R87,'Data Input'!T87,'Data Input'!Y87,'Data Input'!AD87,'Data Input'!AI87,'Data Input'!AP87,'Data Input'!AQ87))","v":""},{"$f":"IF(O83=\"\",\"\",O83/COUNTIF('Data Input'!$C$8:$AQ$8,$O$2))","v":""}]
[{"$f":"IF('Data Input'!A88=0,\"\",'Data Input'!A88)","v":""},{"$f":"IF(ISBLANK('Data Input'!A88),\"\",COUNTIF('Data Input'!C88:AQ88,\"\")-1)","v":""},{"$f":"IF(ISBLANK('Data Input'!A88),\"\",COUNTIF('Data Input'!C88:AQ88,\"0\"))","v":""},{"$f":"IF(ISBLANK('Data Input'!A88),\"\",SUM(B84,C84))","v":""},{"$f":"IF(ISBLANK('Data Input'!A88),\"\",SUM('Data Input'!C88:V88))","v":""},{"$f":"IF(ISBLANK('Data Input'!A88),\"\",SUM('Data Input'!X88:AQ88))","v":""},{"$f":"IF(ISBLANK('Data Input'!A88),\"\",SUM('Data Input'!C88:AQ88))","v":""},{"$f":"IF(G84=\"\",\"\",G84/(COUNTA('Data Input'!$C$8:$AQ$8)-1))","v":""},{"$f":"IF(ISBLANK('Data Input'!A88),\"\",SUM('Data Input'!C88,'Data Input'!K88,'Data Input'!L88,'Data Input'!AC88,'Data Input'!AF88,'Data Input'!AM88,'Data Input'!AO88))","v":""},{"$f":"IF(I84=\"\",\"\",I84/COUNTIF('Data Input'!$C$8:$AQ$8,$I$2))","v":""},{"$f":"IF(ISBLANK('Data Input'!A88),\"\",SUM('Data Input'!D88,'Data Input'!E88,'Data Input'!F88,'Data Input'!G88,'Data Input'!J88,'Data Input'!O88,'Data Input'!P88,'Data Input'!S88,'Data Input'!U88,'Data Input'!X88,'Data Input'!Z88,'Data Input'!AA88,'Data Input'!AB88,'Data Input'!AE88,'Data Input'!AG88,'Data Input'!AH88,'Data Input'!AJ88,'Data Input'!AK88,'Data Input'!AL88,'Data Input'!AN88))","v":""},{"$f":"IF(K84=\"\",\"\",K84/COUNTIF('Data Input'!$C$8:$AQ$8,$K$2))","v":""},{"$f":"IF(ISBLANK('Data Input'!A88),\"\",SUM('Data Input'!V88))","v":""},{"$f":"IF(M84=\"\",\"\",M84/COUNTIF('Data Input'!$C$8:$AQ$8,$M$2))","v":""},{"$f":"IF(ISBLANK('Data Input'!A88),\"\",SUM('Data Input'!H88,'Data Input'!I88,'Data Input'!M88,'Data Input'!N88,'Data Input'!Q88,'Data Input'!R88,'Data Input'!T88,'Data Input'!Y88,'Data Input'!AD88,'Data Input'!AI88,'Data Input'!AP88,'Data Input'!AQ88))","v":""},{"$f":"IF(O84=\"\",\"\",O84/COUNTIF('Data Input'!$C$8:$AQ$8,$O$2))","v":""}]
[{"$f":"IF('Data Input'!A89=0,\"\",'Data Input'!A89)","v":""},{"$f":"IF(ISBLANK('Data Input'!A89),\"\",COUNTIF('Data Input'!C89:AQ89,\"\")-1)","v":""},{"$f":"IF(ISBLANK('Data Input'!A89),\"\",COUNTIF('Data Input'!C89:AQ89,\"0\"))","v":""},{"$f":"IF(ISBLANK('Data Input'!A89),\"\",SUM(B85,C85))","v":""},{"$f":"IF(ISBLANK('Data Input'!A89),\"\",SUM('Data Input'!C89:V89))","v":""},{"$f":"IF(ISBLANK('Data Input'!A89),\"\",SUM('Data Input'!X89:AQ89))","v":""},{"$f":"IF(ISBLANK('Data Input'!A89),\"\",SUM('Data Input'!C89:AQ89))","v":""},{"$f":"IF(G85=\"\",\"\",G85/(COUNTA('Data Input'!$C$8:$AQ$8)-1))","v":""},{"$f":"IF(ISBLANK('Data Input'!A89),\"\",SUM('Data Input'!C89,'Data Input'!K89,'Data Input'!L89,'Data Input'!AC89,'Data Input'!AF89,'Data Input'!AM89,'Data Input'!AO89))","v":""},{"$f":"IF(I85=\"\",\"\",I85/COUNTIF('Data Input'!$C$8:$AQ$8,$I$2))","v":""},{"$f":"IF(ISBLANK('Data Input'!A89),\"\",SUM('Data Input'!D89,'Data Input'!E89,'Data Input'!F89,'Data Input'!G89,'Data Input'!J89,'Data Input'!O89,'Data Input'!P89,'Data Input'!S89,'Data Input'!U89,'Data Input'!X89,'Data Input'!Z89,'Data Input'!AA89,'Data Input'!AB89,'Data Input'!AE89,'Data Input'!AG89,'Data Input'!AH89,'Data Input'!AJ89,'Data Input'!AK89,'Data Input'!AL89,'Data Input'!AN89))","v":""},{"$f":"IF(K85=\"\",\"\",K85/COUNTIF('Data Input'!$C$8:$AQ$8,$K$2))","v":""},{"$f":"IF(ISBLANK('Data Input'!A89),\"\",SUM('Data Input'!V89))","v":""},{"$f":"IF(M85=\"\",\"\",M85/COUNTIF('Data Input'!$C$8:$AQ$8,$M$2))","v":""},{"$f":"IF(ISBLANK('Data Input'!A89),\"\",SUM('Data Input'!H89,'Data Input'!I89,'Data Input'!M89,'Data Input'!N89,'Data Input'!Q89,'Data Input'!R89,'Data Input'!T89,'Data Input'!Y89,'Data Input'!AD89,'Data Input'!AI89,'Data Input'!AP89,'Data Input'!AQ89))","v":""},{"$f":"IF(O85=\"\",\"\",O85/COUNTIF('Data Input'!$C$8:$AQ$8,$O$2))","v":""}]
[{"$f":"IF('Data Input'!A90=0,\"\",'Data Input'!A90)","v":""},{"$f":"IF(ISBLANK('Data Input'!A90),\"\",COUNTIF('Data Input'!C90:AQ90,\"\")-1)","v":""},{"$f":"IF(ISBLANK('Data Input'!A90),\"\",COUNTIF('Data Input'!C90:AQ90,\"0\"))","v":""},{"$f":"IF(ISBLANK('Data Input'!A90),\"\",SUM(B86,C86))","v":""},{"$f":"IF(ISBLANK('Data Input'!A90),\"\",SUM('Data Input'!C90:V90))","v":""},{"$f":"IF(ISBLANK('Data Input'!A90),\"\",SUM('Data Input'!X90:AQ90))","v":""},{"$f":"IF(ISBLANK('Data Input'!A90),\"\",SUM('Data Input'!C90:AQ90))","v":""},{"$f":"IF(G86=\"\",\"\",G86/(COUNTA('Data Input'!$C$8:$AQ$8)-1))","v":""},{"$f":"IF(ISBLANK('Data Input'!A90),\"\",SUM('Data Input'!C90,'Data Input'!K90,'Data Input'!L90,'Data Input'!AC90,'Data Input'!AF90,'Data Input'!AM90,'Data Input'!AO90))","v":""},{"$f":"IF(I86=\"\",\"\",I86/COUNTIF('Data Input'!$C$8:$AQ$8,$I$2))","v":""},{"$f":"IF(ISBLANK('Data Input'!A90),\"\",SUM('Data Input'!D90,'Data Input'!E90,'Data Input'!F90,'Data Input'!G90,'Data Input'!J90,'Data Input'!O90,'Data Input'!P90,'Data Input'!S90,'Data Input'!U90,'Data Input'!X90,'Data Input'!Z90,'Data Input'!AA90,'Data Input'!AB90,'Data Input'!AE90,'Data Input'!AG90,'Data Input'!AH90,'Data Input'!AJ90,'Data Input'!AK90,'Data Input'!AL90,'Data Input'!AN90))","v":""},{"$f":"IF(K86=\"\",\"\",K86/COUNTIF('Data Input'!$C$8:$AQ$8,$K$2))","v":""},{"$f":"IF(ISBLANK('Data Input'!A90),\"\",SUM('Data Input'!V90))","v":""},{"$f":"IF(M86=\"\",\"\",M86/COUNTIF('Data Input'!$C$8:$AQ$8,$M$2))","v":""},{"$f":"IF(ISBLANK('Data Input'!A90),\"\",SUM('Data Input'!H90,'Data Input'!I90,'Data Input'!M90,'Data Input'!N90,'Data Input'!Q90,'Data Input'!R90,'Data Input'!T90,'Data Input'!Y90,'Data Input'!AD90,'Data Input'!AI90,'Data Input'!AP90,'Data Input'!AQ90))","v":""},{"$f":"IF(O86=\"\",\"\",O86/COUNTIF('Data Input'!$C$8:$AQ$8,$O$2))","v":""}]
[{"$f":"IF('Data Input'!A91=0,\"\",'Data Input'!A91)","v":""},{"$f":"IF(ISBLANK('Data Input'!A91),\"\",COUNTIF('Data Input'!C91:AQ91,\"\")-1)","v":""},{"$f":"IF(ISBLANK('Data Input'!A91),\"\",COUNTIF('Data Input'!C91:AQ91,\"0\"))","v":""},{"$f":"IF(ISBLANK('Data Input'!A91),\"\",SUM(B87,C87))","v":""},{"$f":"IF(ISBLANK('Data Input'!A91),\"\",SUM('Data Input'!C91:V91))","v":""},{"$f":"IF(ISBLANK('Data Input'!A91),\"\",SUM('Data Input'!X91:AQ91))","v":""},{"$f":"IF(ISBLANK('Data Input'!A91),\"\",SUM('Data Input'!C91:AQ91))","v":""},{"$f":"IF(G87=\"\",\"\",G87/(COUNTA('Data Input'!$C$8:$AQ$8)-1))","v":""},{"$f":"IF(ISBLANK('Data Input'!A91),\"\",SUM('Data Input'!C91,'Data Input'!K91,'Data Input'!L91,'Data Input'!AC91,'Data Input'!AF91,'Data Input'!AM91,'Data Input'!AO91))","v":""},{"$f":"IF(I87=\"\",\"\",I87/COUNTIF('Data Input'!$C$8:$AQ$8,$I$2))","v":""},{"$f":"IF(ISBLANK('Data Input'!A91),\"\",SUM('Data Input'!D91,'Data Input'!E91,'Data Input'!F91,'Data Input'!G91,'Data Input'!J91,'Data Input'!O91,'Data Input'!P91,'Data Input'!S91,'Data Input'!U91,'Data Input'!X91,'Data Input'!Z91,'Data Input'!AA91,'Data Input'!AB91,'Data Input'!AE91,'Data Input'!AG91,'Data Input'!AH91,'Data Input'!AJ91,'Data Input'!AK91,'Data Input'!AL91,'Data Input'!AN91))","v":""},{"$f":"IF(K87=\"\",\"\",K87/COUNTIF('Data Input'!$C$8:$AQ$8,$K$2))","v":""},{"$f":"IF(ISBLANK('Data Input'!A91),\"\",SUM('Data Input'!V91))","v":""},{"$f":"IF(M87=\"\",\"\",M87/COUNTIF('Data Input'!$C$8:$AQ$8,$M$2))","v":""},{"$f":"IF(ISBLANK('Data Input'!A91),\"\",SUM('Data Input'!H91,'Data Input'!I91,'Data Input'!M91,'Data Input'!N91,'Data Input'!Q91,'Data Input'!R91,'Data Input'!T91,'Data Input'!Y91,'Data Input'!AD91,'Data Input'!AI91,'Data Input'!AP91,'Data Input'!AQ91))","v":""},{"$f":"IF(O87=\"\",\"\",O87/COUNTIF('Data Input'!$C$8:$AQ$8,$O$2))","v":""}]
[{"$f":"IF('Data Input'!A92=0,\"\",'Data Input'!A92)","v":""},{"$f":"IF(ISBLANK('Data Input'!A92),\"\",COUNTIF('Data Input'!C92:AQ92,\"\")-1)","v":""},{"$f":"IF(ISBLANK('Data Input'!A92),\"\",COUNTIF('Data Input'!C92:AQ92,\"0\"))","v":""},{"$f":"IF(ISBLANK('Data Input'!A92),\"\",SUM(B88,C88))","v":""},{"$f":"IF(ISBLANK('Data Input'!A92),\"\",SUM('Data Input'!C92:V92))","v":""},{"$f":"IF(ISBLANK('Data Input'!A92),\"\",SUM('Data Input'!X92:AQ92))","v":""},{"$f":"IF(ISBLANK('Data Input'!A92),\"\",SUM('Data Input'!C92:AQ92))","v":""},{"$f":"IF(G88=\"\",\"\",G88/(COUNTA('Data Input'!$C$8:$AQ$8)-1))","v":""},{"$f":"IF(ISBLANK('Data Input'!A92),\"\",SUM('Data Input'!C92,'Data Input'!K92,'Data Input'!L92,'Data Input'!AC92,'Data Input'!AF92,'Data Input'!AM92,'Data Input'!AO92))","v":""},{"$f":"IF(I88=\"\",\"\",I88/COUNTIF('Data Input'!$C$8:$AQ$8,$I$2))","v":""},{"$f":"IF(ISBLANK('Data Input'!A92),\"\",SUM('Data Input'!D92,'Data Input'!E92,'Data Input'!F92,'Data Input'!G92,'Data Input'!J92,'Data Input'!O92,'Data Input'!P92,'Data Input'!S92,'Data Input'!U92,'Data Input'!X92,'Data Input'!Z92,'Data Input'!AA92,'Data Input'!AB92,'Data Input'!AE92,'Data Input'!AG92,'Data Input'!AH92,'Data Input'!AJ92,'Data Input'!AK92,'Data Input'!AL92,'Data Input'!AN92))","v":""},{"$f":"IF(K88=\"\",\"\",K88/COUNTIF('Data Input'!$C$8:$AQ$8,$K$2))","v":""},{"$f":"IF(ISBLANK('Data Input'!A92),\"\",SUM('Data Input'!V92))","v":""},{"$f":"IF(M88=\"\",\"\",M88/COUNTIF('Data Input'!$C$8:$AQ$8,$M$2))","v":""},{"$f":"IF(ISBLANK('Data Input'!A92),\"\",SUM('Data Input'!H92,'Data Input'!I92,'Data Input'!M92,'Data Input'!N92,'Data Input'!Q92,'Data Input'!R92,'Data Input'!T92,'Data Input'!Y92,'Data Input'!AD92,'Data Input'!AI92,'Data Input'!AP92,'Data Input'!AQ92))","v":""},{"$f":"IF(O88=\"\",\"\",O88/COUNTIF('Data Input'!$C$8:$AQ$8,$O$2))","v":""}]
[{"$f":"IF('Data Input'!A93=0,\"\",'Data Input'!A93)","v":""},{"$f":"IF(ISBLANK('Data Input'!A93),\"\",COUNTIF('Data Input'!C93:AQ93,\"\")-1)","v":""},{"$f":"IF(ISBLANK('Data Input'!A93),\"\",COUNTIF('Data Input'!C93:AQ93,\"0\"))","v":""},{"$f":"IF(ISBLANK('Data Input'!A93),\"\",SUM(B89,C89))","v":""},{"$f":"IF(ISBLANK('Data Input'!A93),\"\",SUM('Data Input'!C93:V93))","v":""},{"$f":"IF(ISBLANK('Data Input'!A93),\"\",SUM('Data Input'!X93:AQ93))","v":""},{"$f":"IF(ISBLANK('Data Input'!A93),\"\",SUM('Data Input'!C93:AQ93))","v":""},{"$f":"IF(G89=\"\",\"\",G89/(COUNTA('Data Input'!$C$8:$AQ$8)-1))","v":""},{"$f":"IF(ISBLANK('Data Input'!A93),\"\",SUM('Data Input'!C93,'Data Input'!K93,'Data Input'!L93,'Data Input'!AC93,'Data Input'!AF93,'Data Input'!AM93,'Data Input'!AO93))","v":""},{"$f":"IF(I89=\"\",\"\",I89/COUNTIF('Data Input'!$C$8:$AQ$8,$I$2))","v":""},{"$f":"IF(ISBLANK('Data Input'!A93),\"\",SUM('Data Input'!D93,'Data Input'!E93,'Data Input'!F93,'Data Input'!G93,'Data Input'!J93,'Data Input'!O93,'Data Input'!P93,'Data Input'!S93,'Data Input'!U93,'Data Input'!X93,'Data Input'!Z93,'Data Input'!AA93,'Data Input'!AB93,'Data Input'!AE93,'Data Input'!AG93,'Data Input'!AH93,'Data Input'!AJ93,'Data Input'!AK93,'Data Input'!AL93,'Data Input'!AN93))","v":""},{"$f":"IF(K89=\"\",\"\",K89/COUNTIF('Data Input'!$C$8:$AQ$8,$K$2))","v":""},{"$f":"IF(ISBLANK('Data Input'!A93),\"\",SUM('Data Input'!V93))","v":""},{"$f":"IF(M89=\"\",\"\",M89/COUNTIF('Data Input'!$C$8:$AQ$8,$M$2))","v":""},{"$f":"IF(ISBLANK('Data Input'!A93),\"\",SUM('Data Input'!H93,'Data Input'!I93,'Data Input'!M93,'Data Input'!N93,'Data Input'!Q93,'Data Input'!R93,'Data Input'!T93,'Data Input'!Y93,'Data Input'!AD93,'Data Input'!AI93,'Data Input'!AP93,'Data Input'!AQ93))","v":""},{"$f":"IF(O89=\"\",\"\",O89/COUNTIF('Data Input'!$C$8:$AQ$8,$O$2))","v":""}]
[{"$f":"IF('Data Input'!A94=0,\"\",'Data Input'!A94)","v":""},{"$f":"IF(ISBLANK('Data Input'!A94),\"\",COUNTIF('Data Input'!C94:AQ94,\"\")-1)","v":""},{"$f":"IF(ISBLANK('Data Input'!A94),\"\",COUNTIF('Data Input'!C94:AQ94,\"0\"))","v":""},{"$f":"IF(ISBLANK('Data Input'!A94),\"\",SUM(B90,C90))","v":""},{"$f":"IF(ISBLANK('Data Input'!A94),\"\",SUM('Data Input'!C94:V94))","v":""},{"$f":"IF(ISBLANK('Data Input'!A94),\"\",SUM('Data Input'!X94:AQ94))","v":""},{"$f":"IF(ISBLANK('Data Input'!A94),\"\",SUM('Data Input'!C94:AQ94))","v":""},{"$f":"IF(G90=\"\",\"\",G90/(COUNTA('Data Input'!$C$8:$AQ$8)-1))","v":""},{"$f":"IF(ISBLANK('Data Input'!A94),\"\",SUM('Data Input'!C94,'Data Input'!K94,'Data Input'!L94,'Data Input'!AC94,'Data Input'!AF94,'Data Input'!AM94,'Data Input'!AO94))","v":""},{"$f":"IF(I90=\"\",\"\",I90/COUNTIF('Data Input'!$C$8:$AQ$8,$I$2))","v":""},{"$f":"IF(ISBLANK('Data Input'!A94),\"\",SUM('Data Input'!D94,'Data Input'!E94,'Data Input'!F94,'Data Input'!G94,'Data Input'!J94,'Data Input'!O94,'Data Input'!P94,'Data Input'!S94,'Data Input'!U94,'Data Input'!X94,'Data Input'!Z94,'Data Input'!AA94,'Data Input'!AB94,'Data Input'!AE94,'Data Input'!AG94,'Data Input'!AH94,'Data Input'!AJ94,'Data Input'!AK94,'Data Input'!AL94,'Data Input'!AN94))","v":""},{"$f":"IF(K90=\"\",\"\",K90/COUNTIF('Data Input'!$C$8:$AQ$8,$K$2))","v":""},{"$f":"IF(ISBLANK('Data Input'!A94),\"\",SUM('Data Input'!V94))","v":""},{"$f":"IF(M90=\"\",\"\",M90/COUNTIF('Data Input'!$C$8:$AQ$8,$M$2))","v":""},{"$f":"IF(ISBLANK('Data Input'!A94),\"\",SUM('Data Input'!H94,'Data Input'!I94,'Data Input'!M94,'Data Input'!N94,'Data Input'!Q94,'Data Input'!R94,'Data Input'!T94,'Data Input'!Y94,'Data Input'!AD94,'Data Input'!AI94,'Data Input'!AP94,'Data Input'!AQ94))","v":""},{"$f":"IF(O90=\"\",\"\",O90/COUNTIF('Data Input'!$C$8:$AQ$8,$O$2))","v":""}]
[{"$f":"IF('Data Input'!A95=0,\"\",'Data Input'!A95)","v":""},{"$f":"IF(ISBLANK('Data Input'!A95),\"\",COUNTIF('Data Input'!C95:AQ95,\"\")-1)","v":""},{"$f":"IF(ISBLANK('Data Input'!A95),\"\",COUNTIF('Data Input'!C95:AQ95,\"0\"))","v":""},{"$f":"IF(ISBLANK('Data Input'!A95),\"\",SUM(B91,C91))","v":""},{"$f":"IF(ISBLANK('Data Input'!A95),\"\",SUM('Data Input'!C95:V95))","v":""},{"$f":"IF(ISBLANK('Data Input'!A95),\"\",SUM('Data Input'!X95:AQ95))","v":""},{"$f":"IF(ISBLANK('Data Input'!A95),\"\",SUM('Data Input'!C95:AQ95))","v":""},{"$f":"IF(G91=\"\",\"\",G91/(COUNTA('Data Input'!$C$8:$AQ$8)-1))","v":""},{"$f":"IF(ISBLANK('Data Input'!A95),\"\",SUM('Data Input'!C95,'Data Input'!K95,'Data Input'!L95,'Data Input'!AC95,'Data Input'!AF95,'Data Input'!AM95,'Data Input'!AO95))","v":""},{"$f":"IF(I91=\"\",\"\",I91/COUNTIF('Data Input'!$C$8:$AQ$8,$I$2))","v":""},{"$f":"IF(ISBLANK('Data Input'!A95),\"\",SUM('Data Input'!D95,'Data Input'!E95,'Data Input'!F95,'Data Input'!G95,'Data Input'!J95,'Data Input'!O95,'Data Input'!P95,'Data Input'!S95,'Data Input'!U95,'Data Input'!X95,'Data Input'!Z95,'Data Input'!AA95,'Data Input'!AB95,'Data Input'!AE95,'Data Input'!AG95,'Data Input'!AH95,'Data Input'!AJ95,'Data Input'!AK95,'Data Input'!AL95,'Data Input'!AN95))","v":""},{"$f":"IF(K91=\"\",\"\",K91/COUNTIF('Data Input'!$C$8:$AQ$8,$K$2))","v":""},{"$f":"IF(ISBLANK('Data Input'!A95),\"\",SUM('Data Input'!V95))","v":""},{"$f":"IF(M91=\"\",\"\",M91/COUNTIF('Data Input'!$C$8:$AQ$8,$M$2))","v":""},{"$f":"IF(ISBLANK('Data Input'!A95),\"\",SUM('Data Input'!H95,'Data Input'!I95,'Data Input'!M95,'Data Input'!N95,'Data Input'!Q95,'Data Input'!R95,'Data Input'!T95,'Data Input'!Y95,'Data Input'!AD95,'Data Input'!AI95,'Data Input'!AP95,'Data Input'!AQ95))","v":""},{"$f":"IF(O91=\"\",\"\",O91/COUNTIF('Data Input'!$C$8:$AQ$8,$O$2))","v":""}]
[{"$f":"IF('Data Input'!A96=0,\"\",'Data Input'!A96)","v":""},{"$f":"IF(ISBLANK('Data Input'!A96),\"\",COUNTIF('Data Input'!C96:AQ96,\"\")-1)","v":""},{"$f":"IF(ISBLANK('Data Input'!A96),\"\",COUNTIF('Data Input'!C96:AQ96,\"0\"))","v":""},{"$f":"IF(ISBLANK('Data Input'!A96),\"\",SUM(B92,C92))","v":""},{"$f":"IF(ISBLANK('Data Input'!A96),\"\",SUM('Data Input'!C96:V96))","v":""},{"$f":"IF(ISBLANK('Data Input'!A96),\"\",SUM('Data Input'!X96:AQ96))","v":""},{"$f":"IF(ISBLANK('Data Input'!A96),\"\",SUM('Data Input'!C96:AQ96))","v":""},{"$f":"IF(G92=\"\",\"\",G92/(COUNTA('Data Input'!$C$8:$AQ$8)-1))","v":""},{"$f":"IF(ISBLANK('Data Input'!A96),\"\",SUM('Data Input'!C96,'Data Input'!K96,'Data Input'!L96,'Data Input'!AC96,'Data Input'!AF96,'Data Input'!AM96,'Data Input'!AO96))","v":""},{"$f":"IF(I92=\"\",\"\",I92/COUNTIF('Data Input'!$C$8:$AQ$8,$I$2))","v":""},{"$f":"IF(ISBLANK('Data Input'!A96),\"\",SUM('Data Input'!D96,'Data Input'!E96,'Data Input'!F96,'Data Input'!G96,'Data Input'!J96,'Data Input'!O96,'Data Input'!P96,'Data Input'!S96,'Data Input'!U96,'Data Input'!X96,'Data Input'!Z96,'Data Input'!AA96,'Data Input'!AB96,'Data Input'!AE96,'Data Input'!AG96,'Data Input'!AH96,'Data Input'!AJ96,'Data Input'!AK96,'Data Input'!AL96,'Data Input'!AN96))","v":""},{"$f":"IF(K92=\"\",\"\",K92/COUNTIF('Data Input'!$C$8:$AQ$8,$K$2))","v":""},{"$f":"IF(ISBLANK('Data Input'!A96),\"\",SUM('Data Input'!V96))","v":""},{"$f":"IF(M92=\"\",\"\",M92/COUNTIF('Data Input'!$C$8:$AQ$8,$M$2))","v":""},{"$f":"IF(ISBLANK('Data Input'!A96),\"\",SUM('Data Input'!H96,'Data Input'!I96,'Data Input'!M96,'Data Input'!N96,'Data Input'!Q96,'Data Input'!R96,'Data Input'!T96,'Data Input'!Y96,'Data Input'!AD96,'Data Input'!AI96,'Data Input'!AP96,'Data Input'!AQ96))","v":""},{"$f":"IF(O92=\"\",\"\",O92/COUNTIF('Data Input'!$C$8:$AQ$8,$O$2))","v":""}]
[{"$f":"IF('Data Input'!A97=0,\"\",'Data Input'!A97)","v":""},{"$f":"IF(ISBLANK('Data Input'!A97),\"\",COUNTIF('Data Input'!C97:AQ97,\"\")-1)","v":""},{"$f":"IF(ISBLANK('Data Input'!A97),\"\",COUNTIF('Data Input'!C97:AQ97,\"0\"))","v":""},{"$f":"IF(ISBLANK('Data Input'!A97),\"\",SUM(B93,C93))","v":""},{"$f":"IF(ISBLANK('Data Input'!A97),\"\",SUM('Data Input'!C97:V97))","v":""},{"$f":"IF(ISBLANK('Data Input'!A97),\"\",SUM('Data Input'!X97:AQ97))","v":""},{"$f":"IF(ISBLANK('Data Input'!A97),\"\",SUM('Data Input'!C97:AQ97))","v":""},{"$f":"IF(G93=\"\",\"\",G93/(COUNTA('Data Input'!$C$8:$AQ$8)-1))","v":""},{"$f":"IF(ISBLANK('Data Input'!A97),\"\",SUM('Data Input'!C97,'Data Input'!K97,'Data Input'!L97,'Data Input'!AC97,'Data Input'!AF97,'Data Input'!AM97,'Data Input'!AO97))","v":""},{"$f":"IF(I93=\"\",\"\",I93/COUNTIF('Data Input'!$C$8:$AQ$8,$I$2))","v":""},{"$f":"IF(ISBLANK('Data Input'!A97),\"\",SUM('Data Input'!D97,'Data Input'!E97,'Data Input'!F97,'Data Input'!G97,'Data Input'!J97,'Data Input'!O97,'Data Input'!P97,'Data Input'!S97,'Data Input'!U97,'Data Input'!X97,'Data Input'!Z97,'Data Input'!AA97,'Data Input'!AB97,'Data Input'!AE97,'Data Input'!AG97,'Data Input'!AH97,'Data Input'!AJ97,'Data Input'!AK97,'Data Input'!AL97,'Data Input'!AN97))","v":""},{"$f":"IF(K93=\"\",\"\",K93/COUNTIF('Data Input'!$C$8:$AQ$8,$K$2))","v":""},{"$f":"IF(ISBLANK('Data Input'!A97),\"\",SUM('Data Input'!V97))","v":""},{"$f":"IF(M93=\"\",\"\",M93/COUNTIF('Data Input'!$C$8:$AQ$8,$M$2))","v":""},{"$f":"IF(ISBLANK('Data Input'!A97),\"\",SUM('Data Input'!H97,'Data Input'!I97,'Data Input'!M97,'Data Input'!N97,'Data Input'!Q97,'Data Input'!R97,'Data Input'!T97,'Data Input'!Y97,'Data Input'!AD97,'Data Input'!AI97,'Data Input'!AP97,'Data Input'!AQ97))","v":""},{"$f":"IF(O93=\"\",\"\",O93/COUNTIF('Data Input'!$C$8:$AQ$8,$O$2))","v":""}]
[{"$f":"IF('Data Input'!A98=0,\"\",'Data Input'!A98)","v":""},{"$f":"IF(ISBLANK('Data Input'!A98),\"\",COUNTIF('Data Input'!C98:AQ98,\"\")-1)","v":""},{"$f":"IF(ISBLANK('Data Input'!A98),\"\",COUNTIF('Data Input'!C98:AQ98,\"0\"))","v":""},{"$f":"IF(ISBLANK('Data Input'!A98),\"\",SUM(B94,C94))","v":""},{"$f":"IF(ISBLANK('Data Input'!A98),\"\",SUM('Data Input'!C98:V98))","v":""},{"$f":"IF(ISBLANK('Data Input'!A98),\"\",SUM('Data Input'!X98:AQ98))","v":""},{"$f":"IF(ISBLANK('Data Input'!A98),\"\",SUM('Data Input'!C98:AQ98))","v":""},{"$f":"IF(G94=\"\",\"\",G94/(COUNTA('Data Input'!$C$8:$AQ$8)-1))","v":""},{"$f":"IF(ISBLANK('Data Input'!A98),\"\",SUM('Data Input'!C98,'Data Input'!K98,'Data Input'!L98,'Data Input'!AC98,'Data Input'!AF98,'Data Input'!AM98,'Data Input'!AO98))","v":""},{"$f":"IF(I94=\"\",\"\",I94/COUNTIF('Data Input'!$C$8:$AQ$8,$I$2))","v":""},{"$f":"IF(ISBLANK('Data Input'!A98),\"\",SUM('Data Input'!D98,'Data Input'!E98,'Data Input'!F98,'Data Input'!G98,'Data Input'!J98,'Data Input'!O98,'Data Input'!P98,'Data Input'!S98,'Data Input'!U98,'Data Input'!X98,'Data Input'!Z98,'Data Input'!AA98,'Data Input'!AB98,'Data Input'!AE98,'Data Input'!AG98,'Data Input'!AH98,'Data Input'!AJ98,'Data Input'!AK98,'Data Input'!AL98,'Data Input'!AN98))","v":""},{"$f":"IF(K94=\"\",\"\",K94/COUNTIF('Data Input'!$C$8:$AQ$8,$K$2))","v":""},{"$f":"IF(ISBLANK('Data Input'!A98),\"\",SUM('Data Input'!V98))","v":""},{"$f":"IF(M94=\"\",\"\",M94/COUNTIF('Data Input'!$C$8:$AQ$8,$M$2))","v":""},{"$f":"IF(ISBLANK('Data Input'!A98),\"\",SUM('Data Input'!H98,'Data Input'!I98,'Data Input'!M98,'Data Input'!N98,'Data Input'!Q98,'Data Input'!R98,'Data Input'!T98,'Data Input'!Y98,'Data Input'!AD98,'Data Input'!AI98,'Data Input'!AP98,'Data Input'!AQ98))","v":""},{"$f":"IF(O94=\"\",\"\",O94/COUNTIF('Data Input'!$C$8:$AQ$8,$O$2))","v":""}]
[{"$f":"IF('Data Input'!A99=0,\"\",'Data Input'!A99)","v":""},{"$f":"IF(ISBLANK('Data Input'!A99),\"\",COUNTIF('Data Input'!C99:AQ99,\"\")-1)","v":""},{"$f":"IF(ISBLANK('Data Input'!A99),\"\",COUNTIF('Data Input'!C99:AQ99,\"0\"))","v":""},{"$f":"IF(ISBLANK('Data Input'!A99),\"\",SUM(B95,C95))","v":""},{"$f":"IF(ISBLANK('Data Input'!A99),\"\",SUM('Data Input'!C99:V99))","v":""},{"$f":"IF(ISBLANK('Data Input'!A99),\"\",SUM('Data Input'!X99:AQ99))","v":""},{"$f":"IF(ISBLANK('Data Input'!A99),\"\",SUM('Data Input'!C99:AQ99))","v":""},{"$f":"IF(G95=\"\",\"\",G95/(COUNTA('Data Input'!$C$8:$AQ$8)-1))","v":""},{"$f":"IF(ISBLANK('Data Input'!A99),\"\",SUM('Data Input'!C99,'Data Input'!K99,'Data Input'!L99,'Data Input'!AC99,'Data Input'!AF99,'Data Input'!AM99,'Data Input'!AO99))","v":""},{"$f":"IF(I95=\"\",\"\",I95/COUNTIF('Data Input'!$C$8:$AQ$8,$I$2))","v":""},{"$f":"IF(ISBLANK('Data Input'!A99),\"\",SUM('Data Input'!D99,'Data Input'!E99,'Data Input'!F99,'Data Input'!G99,'Data Input'!J99,'Data Input'!O99,'Data Input'!P99,'Data Input'!S99,'Data Input'!U99,'Data Input'!X99,'Data Input'!Z99,'Data Input'!AA99,'Data Input'!AB99,'Data Input'!AE99,'Data Input'!AG99,'Data Input'!AH99,'Data Input'!AJ99,'Data Input'!AK99,'Data Input'!AL99,'Data Input'!AN99))","v":""},{"$f":"IF(K95=\"\",\"\",K95/COUNTIF('Data Input'!$C$8:$AQ$8,$K$2))","v":""},{"$f":"IF(ISBLANK('Data Input'!A99),\"\",SUM('Data Input'!V99))","v":""},{"$f":"IF(M95=\"\",\"\",M95/COUNTIF('Data Input'!$C$8:$AQ$8,$M$2))","v":""},{"$f":"IF(ISBLANK('Data Input'!A99),\"\",SUM('Data Input'!H99,'Data Input'!I99,'Data Input'!M99,'Data Input'!N99,'Data Input'!Q99,'Data Input'!R99,'Data Input'!T99,'Data Input'!Y99,'Data Input'!AD99,'Data Input'!AI99,'Data Input'!AP99,'Data Input'!AQ99))","v":""},{"$f":"IF(O95=\"\",\"\",O95/COUNTIF('Data Input'!$C$8:$AQ$8,$O$2))","v":""}]
[{"$f":"IF('Data Input'!A100=0,\"\",'Data Input'!A100)","v":""},{"$f":"IF(ISBLANK('Data Input'!A100),\"\",COUNTIF('Data Input'!C100:AQ100,\"\")-1)","v":""},{"$f":"IF(ISBLANK('Data Input'!A100),\"\",COUNTIF('Data Input'!C100:AQ100,\"0\"))","v":""},{"$f":"IF(ISBLANK('Data Input'!A100),\"\",SUM(B96,C96))","v":""},{"$f":"IF(ISBLANK('Data Input'!A100),\"\",SUM('Data Input'!C100:V100))","v":""},{"$f":"IF(ISBLANK('Data Input'!A100),\"\",SUM('Data Input'!X100:AQ100))","v":""},{"$f":"IF(ISBLANK('Data Input'!A100),\"\",SUM('Data Input'!C100:AQ100))","v":""},{"$f":"IF(G96=\"\",\"\",G96/(COUNTA('Data Input'!$C$8:$AQ$8)-1))","v":""},{"$f":"IF(ISBLANK('Data Input'!A100),\"\",SUM('Data Input'!C100,'Data Input'!K100,'Data Input'!L100,'Data Input'!AC100,'Data Input'!AF100,'Data Input'!AM100,'Data Input'!AO100))","v":""},{"$f":"IF(I96=\"\",\"\",I96/COUNTIF('Data Input'!$C$8:$AQ$8,$I$2))","v":""},{"$f":"IF(ISBLANK('Data Input'!A100),\"\",SUM('Data Input'!D100,'Data Input'!E100,'Data Input'!F100,'Data Input'!G100,'Data Input'!J100,'Data Input'!O100,'Data Input'!P100,'Data Input'!S100,'Data Input'!U100,'Data Input'!X100,'Data Input'!Z100,'Data Input'!AA100,'Data Input'!AB100,'Data Input'!AE100,'Data Input'!AG100,'Data Input'!AH100,'Data Input'!AJ100,'Data Input'!AK100,'Data Input'!AL100,'Data Input'!AN100))","v":""},{"$f":"IF(K96=\"\",\"\",K96/COUNTIF('Data Input'!$C$8:$AQ$8,$K$2))","v":""},{"$f":"IF(ISBLANK('Data Input'!A100),\"\",SUM('Data Input'!V100))","v":""},{"$f":"IF(M96=\"\",\"\",M96/COUNTIF('Data Input'!$C$8:$AQ$8,$M$2))","v":""},{"$f":"IF(ISBLANK('Data Input'!A100),\"\",SUM('Data Input'!H100,'Data Input'!I100,'Data Input'!M100,'Data Input'!N100,'Data Input'!Q100,'Data Input'!R100,'Data Input'!T100,'Data Input'!Y100,'Data Input'!AD100,'Data Input'!AI100,'Data Input'!AP100,'Data Input'!AQ100))","v":""},{"$f":"IF(O96=\"\",\"\",O96/COUNTIF('Data Input'!$C$8:$AQ$8,$O$2))","v":""}]
[{"$f":"IF('Data Input'!A101=0,\"\",'Data Input'!A101)","v":""},{"$f":"IF(ISBLANK('Data Input'!A101),\"\",COUNTIF('Data Input'!C101:AQ101,\"\")-1)","v":""},{"$f":"IF(ISBLANK('Data Input'!A101),\"\",COUNTIF('Data Input'!C101:AQ101,\"0\"))","v":""},{"$f":"IF(ISBLANK('Data Input'!A101),\"\",SUM(B97,C97))","v":""},{"$f":"IF(ISBLANK('Data Input'!A101),\"\",SUM('Data Input'!C101:V101))","v":""},{"$f":"IF(ISBLANK('Data Input'!A101),\"\",SUM('Data Input'!X101:AQ101))","v":""},{"$f":"IF(ISBLANK('Data Input'!A101),\"\",SUM('Data Input'!C101:AQ101))","v":""},{"$f":"IF(G97=\"\",\"\",G97/(COUNTA('Data Input'!$C$8:$AQ$8)-1))","v":""},{"$f":"IF(ISBLANK('Data Input'!A101),\"\",SUM('Data Input'!C101,'Data Input'!K101,'Data Input'!L101,'Data Input'!AC101,'Data Input'!AF101,'Data Input'!AM101,'Data Input'!AO101))","v":""},{"$f":"IF(I97=\"\",\"\",I97/COUNTIF('Data Input'!$C$8:$AQ$8,$I$2))","v":""},{"$f":"IF(ISBLANK('Data Input'!A101),\"\",SUM('Data Input'!D101,'Data Input'!E101,'Data Input'!F101,'Data Input'!G101,'Data Input'!J101,'Data Input'!O101,'Data Input'!P101,'Data Input'!S101,'Data Input'!U101,'Data Input'!X101,'Data Input'!Z101,'Data Input'!AA101,'Data Input'!AB101,'Data Input'!AE101,'Data Input'!AG101,'Data Input'!AH101,'Data Input'!AJ101,'Data Input'!AK101,'Data Input'!AL101,'Data Input'!AN101))","v":""},{"$f":"IF(K97=\"\",\"\",K97/COUNTIF('Data Input'!$C$8:$AQ$8,$K$2))","v":""},{"$f":"IF(ISBLANK('Data Input'!A101),\"\",SUM('Data Input'!V101))","v":""},{"$f":"IF(M97=\"\",\"\",M97/COUNTIF('Data Input'!$C$8:$AQ$8,$M$2))","v":""},{"$f":"IF(ISBLANK('Data Input'!A101),\"\",SUM('Data Input'!H101,'Data Input'!I101,'Data Input'!M101,'Data Input'!N101,'Data Input'!Q101,'Data Input'!R101,'Data Input'!T101,'Data Input'!Y101,'Data Input'!AD101,'Data Input'!AI101,'Data Input'!AP101,'Data Input'!AQ101))","v":""},{"$f":"IF(O97=\"\",\"\",O97/COUNTIF('Data Input'!$C$8:$AQ$8,$O$2))","v":""}]
[{"$f":"IF('Data Input'!A102=0,\"\",'Data Input'!A102)","v":""},{"$f":"IF(ISBLANK('Data Input'!A102),\"\",COUNTIF('Data Input'!C102:AQ102,\"\")-1)","v":""},{"$f":"IF(ISBLANK('Data Input'!A102),\"\",COUNTIF('Data Input'!C102:AQ102,\"0\"))","v":""},{"$f":"IF(ISBLANK('Data Input'!A102),\"\",SUM(B98,C98))","v":""},{"$f":"IF(ISBLANK('Data Input'!A102),\"\",SUM('Data Input'!C102:V102))","v":""},{"$f":"IF(ISBLANK('Data Input'!A102),\"\",SUM('Data Input'!X102:AQ102))","v":""},{"$f":"IF(ISBLANK('Data Input'!A102),\"\",SUM('Data Input'!C102:AQ102))","v":""},{"$f":"IF(G98=\"\",\"\",G98/(COUNTA('Data Input'!$C$8:$AQ$8)-1))","v":""},{"$f":"IF(ISBLANK('Data Input'!A102),\"\",SUM('Data Input'!C102,'Data Input'!K102,'Data Input'!L102,'Data Input'!AC102,'Data Input'!AF102,'Data Input'!AM102,'Data Input'!AO102))","v":""},{"$f":"IF(I98=\"\",\"\",I98/COUNTIF('Data Input'!$C$8:$AQ$8,$I$2))","v":""},{"$f":"IF(ISBLANK('Data Input'!A102),\"\",SUM('Data Input'!D102,'Data Input'!E102,'Data Input'!F102,'Data Input'!G102,'Data Input'!J102,'Data Input'!O102,'Data Input'!P102,'Data Input'!S102,'Data Input'!U102,'Data Input'!X102,'Data Input'!Z102,'Data Input'!AA102,'Data Input'!AB102,'Data Input'!AE102,'Data Input'!AG102,'Data Input'!AH102,'Data Input'!AJ102,'Data Input'!AK102,'Data Input'!AL102,'Data Input'!AN102))","v":""},{"$f":"IF(K98=\"\",\"\",K98/COUNTIF('Data Input'!$C$8:$AQ$8,$K$2))","v":""},{"$f":"IF(ISBLANK('Data Input'!A102),\"\",SUM('Data Input'!V102))","v":""},{"$f":"IF(M98=\"\",\"\",M98/COUNTIF('Data Input'!$C$8:$AQ$8,$M$2))","v":""},{"$f":"IF(ISBLANK('Data Input'!A102),\"\",SUM('Data Input'!H102,'Data Input'!I102,'Data Input'!M102,'Data Input'!N102,'Data Input'!Q102,'Data Input'!R102,'Data Input'!T102,'Data Input'!Y102,'Data Input'!AD102,'Data Input'!AI102,'Data Input'!AP102,'Data Input'!AQ102))","v":""},{"$f":"IF(O98=\"\",\"\",O98/COUNTIF('Data Input'!$C$8:$AQ$8,$O$2))","v":""}]
[{"$f":"IF('Data Input'!A103=0,\"\",'Data Input'!A103)","v":""},{"$f":"IF(ISBLANK('Data Input'!A103),\"\",COUNTIF('Data Input'!C103:AQ103,\"\")-1)","v":""},{"$f":"IF(ISBLANK('Data Input'!A103),\"\",COUNTIF('Data Input'!C103:AQ103,\"0\"))","v":""},{"$f":"IF(ISBLANK('Data Input'!A103),\"\",SUM(B99,C99))","v":""},{"$f":"IF(ISBLANK('Data Input'!A103),\"\",SUM('Data Input'!C103:V103))","v":""},{"$f":"IF(ISBLANK('Data Input'!A103),\"\",SUM('Data Input'!X103:AQ103))","v":""},{"$f":"IF(ISBLANK('Data Input'!A103),\"\",SUM('Data Input'!C103:AQ103))","v":""},{"$f":"IF(G99=\"\",\"\",G99/(COUNTA('Data Input'!$C$8:$AQ$8)-1))","v":""},{"$f":"IF(ISBLANK('Data Input'!A103),\"\",SUM('Data Input'!C103,'Data Input'!K103,'Data Input'!L103,'Data Input'!AC103,'Data Input'!AF103,'Data Input'!AM103,'Data Input'!AO103))","v":""},{"$f":"IF(I99=\"\",\"\",I99/COUNTIF('Data Input'!$C$8:$AQ$8,$I$2))","v":""},{"$f":"IF(ISBLANK('Data Input'!A103),\"\",SUM('Data Input'!D103,'Data Input'!E103,'Data Input'!F103,'Data Input'!G103,'Data Input'!J103,'Data Input'!O103,'Data Input'!P103,'Data Input'!S103,'Data Input'!U103,'Data Input'!X103,'Data Input'!Z103,'Data Input'!AA103,'Data Input'!AB103,'Data Input'!AE103,'Data Input'!AG103,'Data Input'!AH103,'Data Input'!AJ103,'Data Input'!AK103,'Data Input'!AL103,'Data Input'!AN103))","v":""},{"$f":"IF(K99=\"\",\"\",K99/COUNTIF('Data Input'!$C$8:$AQ$8,$K$2))","v":""},{"$f":"IF(ISBLANK('Data Input'!A103),\"\",SUM('Data Input'!V103))","v":""},{"$f":"IF(M99=\"\",\"\",M99/COUNTIF('Data Input'!$C$8:$AQ$8,$M$2))","v":""},{"$f":"IF(ISBLANK('Data Input'!A103),\"\",SUM('Data Input'!H103,'Data Input'!I103,'Data Input'!M103,'Data Input'!N103,'Data Input'!Q103,'Data Input'!R103,'Data Input'!T103,'Data Input'!Y103,'Data Input'!AD103,'Data Input'!AI103,'Data Input'!AP103,'Data Input'!AQ103))","v":""},{"$f":"IF(O99=\"\",\"\",O99/COUNTIF('Data Input'!$C$8:$AQ$8,$O$2))","v":""}]
[{"$f":"IF('Data Input'!A104=0,\"\",'Data Input'!A104)","v":""},{"$f":"IF(ISBLANK('Data Input'!A104),\"\",COUNTIF('Data Input'!C104:AQ104,\"\")-1)","v":""},{"$f":"IF(ISBLANK('Data Input'!A104),\"\",COUNTIF('Data Input'!C104:AQ104,\"0\"))","v":""},{"$f":"IF(ISBLANK('Data Input'!A104),\"\",SUM(B100,C100))","v":""},{"$f":"IF(ISBLANK('Data Input'!A104),\"\",SUM('Data Input'!C104:V104))","v":""},{"$f":"IF(ISBLANK('Data Input'!A104),\"\",SUM('Data Input'!X104:AQ104))","v":""},{"$f":"IF(ISBLANK('Data Input'!A104),\"\",SUM('Data Input'!C104:AQ104))","v":""},{"$f":"IF(G100=\"\",\"\",G100/(COUNTA('Data Input'!$C$8:$AQ$8)-1))","v":""},{"$f":"IF(ISBLANK('Data Input'!A104),\"\",SUM('Data Input'!C104,'Data Input'!K104,'Data Input'!L104,'Data Input'!AC104,'Data Input'!AF104,'Data Input'!AM104,'Data Input'!AO104))","v":""},{"$f":"IF(I100=\"\",\"\",I100/COUNTIF('Data Input'!$C$8:$AQ$8,$I$2))","v":""},{"$f":"IF(ISBLANK('Data Input'!A104),\"\",SUM('Data Input'!D104,'Data Input'!E104,'Data Input'!F104,'Data Input'!G104,'Data Input'!J104,'Data Input'!O104,'Data Input'!P104,'Data Input'!S104,'Data Input'!U104,'Data Input'!X104,'Data Input'!Z104,'Data Input'!AA104,'Data Input'!AB104,'Data Input'!AE104,'Data Input'!AG104,'Data Input'!AH104,'Data Input'!AJ104,'Data Input'!AK104,'Data Input'!AL104,'Data Input'!AN104))","v":""},{"$f":"IF(K100=\"\",\"\",K100/COUNTIF('Data Input'!$C$8:$AQ$8,$K$2))","v":""},{"$f":"IF(ISBLANK('Data Input'!A104),\"\",SUM('Data Input'!V104))","v":""},{"$f":"IF(M100=\"\",\"\",M100/COUNTIF('Data Input'!$C$8:$AQ$8,$M$2))","v":""},{"$f":"IF(ISBLANK('Data Input'!A104),\"\",SUM('Data Input'!H104,'Data Input'!I104,'Data Input'!M104,'Data Input'!N104,'Data Input'!Q104,'Data Input'!R104,'Data Input'!T104,'Data Input'!Y104,'Data Input'!AD104,'Data Input'!AI104,'Data Input'!AP104,'Data Input'!AQ104))","v":""},{"$f":"IF(O100=\"\",\"\",O100/COUNTIF('Data Input'!$C$8:$AQ$8,$O$2))","v":""}]
[{"$f":"IF('Data Input'!A105=0,\"\",'Data Input'!A105)","v":""},{"$f":"IF(ISBLANK('Data Input'!A105),\"\",COUNTIF('Data Input'!C105:AQ105,\"\")-1)","v":""},{"$f":"IF(ISBLANK('Data Input'!A105),\"\",COUNTIF('Data Input'!C105:AQ105,\"0\"))","v":""},{"$f":"IF(ISBLANK('Data Input'!A105),\"\",SUM(B101,C101))","v":""},{"$f":"IF(ISBLANK('Data Input'!A105),\"\",SUM('Data Input'!C105:V105))","v":""},{"$f":"IF(ISBLANK('Data Input'!A105),\"\",SUM('Data Input'!X105:AQ105))","v":""},{"$f":"IF(ISBLANK('Data Input'!A105),\"\",SUM('Data Input'!C105:AQ105))","v":""},{"$f":"IF(G101=\"\",\"\",G101/(COUNTA('Data Input'!$C$8:$AQ$8)-1))","v":""},{"$f":"IF(ISBLANK('Data Input'!A105),\"\",SUM('Data Input'!C105,'Data Input'!K105,'Data Input'!L105,'Data Input'!AC105,'Data Input'!AF105,'Data Input'!AM105,'Data Input'!AO105))","v":""},{"$f":"IF(I101=\"\",\"\",I101/COUNTIF('Data Input'!$C$8:$AQ$8,$I$2))","v":""},{"$f":"IF(ISBLANK('Data Input'!A105),\"\",SUM('Data Input'!D105,'Data Input'!E105,'Data Input'!F105,'Data Input'!G105,'Data Input'!J105,'Data Input'!O105,'Data Input'!P105,'Data Input'!S105,'Data Input'!U105,'Data Input'!X105,'Data Input'!Z105,'Data Input'!AA105,'Data Input'!AB105,'Data Input'!AE105,'Data Input'!AG105,'Data Input'!AH105,'Data Input'!AJ105,'Data Input'!AK105,'Data Input'!AL105,'Data Input'!AN105))","v":""},{"$f":"IF(K101=\"\",\"\",K101/COUNTIF('Data Input'!$C$8:$AQ$8,$K$2))","v":""},{"$f":"IF(ISBLANK('Data Input'!A105),\"\",SUM('Data Input'!V105))","v":""},{"$f":"IF(M101=\"\",\"\",M101/COUNTIF('Data Input'!$C$8:$AQ$8,$M$2))","v":""},{"$f":"IF(ISBLANK('Data Input'!A105),\"\",SUM('Data Input'!H105,'Data Input'!I105,'Data Input'!M105,'Data Input'!N105,'Data Input'!Q105,'Data Input'!R105,'Data Input'!T105,'Data Input'!Y105,'Data Input'!AD105,'Data Input'!AI105,'Data Input'!AP105,'Data Input'!AQ105))","v":""},{"$f":"IF(O101=\"\",\"\",O101/COUNTIF('Data Input'!$C$8:$AQ$8,$O$2))","v":""}]
[{"$f":"IF('Data Input'!A106=0,\"\",'Data Input'!A106)","v":""},{"$f":"IF(ISBLANK('Data Input'!A106),\"\",COUNTIF('Data Input'!C106:AQ106,\"\")-1)","v":""},{"$f":"IF(ISBLANK('Data Input'!A106),\"\",COUNTIF('Data Input'!C106:AQ106,\"0\"))","v":""},{"$f":"IF(ISBLANK('Data Input'!A106),\"\",SUM(B102,C102))","v":""},{"$f":"IF(ISBLANK('Data Input'!A106),\"\",SUM('Data Input'!C106:V106))","v":""},{"$f":"IF(ISBLANK('Data Input'!A106),\"\",SUM('Data Input'!X106:AQ106))","v":""},{"$f":"IF(ISBLANK('Data Input'!A106),\"\",SUM('Data Input'!C106:AQ106))","v":""},{"$f":"IF(G102=\"\",\"\",G102/(COUNTA('Data Input'!$C$8:$AQ$8)-1))","v":""},{"$f":"IF(ISBLANK('Data Input'!A106),\"\",SUM('Data Input'!C106,'Data Input'!K106,'Data Input'!L106,'Data Input'!AC106,'Data Input'!AF106,'Data Input'!AM106,'Data Input'!AO106))","v":""},{"$f":"IF(I102=\"\",\"\",I102/COUNTIF('Data Input'!$C$8:$AQ$8,$I$2))","v":""},{"$f":"IF(ISBLANK('Data Input'!A106),\"\",SUM('Data Input'!D106,'Data Input'!E106,'Data Input'!F106,'Data Input'!G106,'Data Input'!J106,'Data Input'!O106,'Data Input'!P106,'Data Input'!S106,'Data Input'!U106,'Data Input'!X106,'Data Input'!Z106,'Data Input'!AA106,'Data Input'!AB106,'Data Input'!AE106,'Data Input'!AG106,'Data Input'!AH106,'Data Input'!AJ106,'Data Input'!AK106,'Data Input'!AL106,'Data Input'!AN106))","v":""},{"$f":"IF(K102=\"\",\"\",K102/COUNTIF('Data Input'!$C$8:$AQ$8,$K$2))","v":""},{"$f":"IF(ISBLANK('Data Input'!A106),\"\",SUM('Data Input'!V106))","v":""},{"$f":"IF(M102=\"\",\"\",M102/COUNTIF('Data Input'!$C$8:$AQ$8,$M$2))","v":""},{"$f":"IF(ISBLANK('Data Input'!A106),\"\",SUM('Data Input'!H106,'Data Input'!I106,'Data Input'!M106,'Data Input'!N106,'Data Input'!Q106,'Data Input'!R106,'Data Input'!T106,'Data Input'!Y106,'Data Input'!AD106,'Data Input'!AI106,'Data Input'!AP106,'Data Input'!AQ106))","v":""},{"$f":"IF(O102=\"\",\"\",O102/COUNTIF('Data Input'!$C$8:$AQ$8,$O$2))","v":""}]
[{"$f":"IF('Data Input'!A107=0,\"\",'Data Input'!A107)","v":""},{"$f":"IF(ISBLANK('Data Input'!A107),\"\",COUNTIF('Data Input'!C107:AQ107,\"\")-1)","v":""},{"$f":"IF(ISBLANK('Data Input'!A107),\"\",COUNTIF('Data Input'!C107:AQ107,\"0\"))","v":""},{"$f":"IF(ISBLANK('Data Input'!A107),\"\",SUM(B103,C103))","v":""},{"$f":"IF(ISBLANK('Data Input'!A107),\"\",SUM('Data Input'!C107:V107))","v":""},{"$f":"IF(ISBLANK('Data Input'!A107),\"\",SUM('Data Input'!X107:AQ107))","v":""},{"$f":"IF(ISBLANK('Data Input'!A107),\"\",SUM('Data Input'!C107:AQ107))","v":""},{"$f":"IF(G103=\"\",\"\",G103/(COUNTA('Data Input'!$C$8:$AQ$8)-1))","v":""},{"$f":"IF(ISBLANK('Data Input'!A107),\"\",SUM('Data Input'!C107,'Data Input'!K107,'Data Input'!L107,'Data Input'!AC107,'Data Input'!AF107,'Data Input'!AM107,'Data Input'!AO107))","v":""},{"$f":"IF(I103=\"\",\"\",I103/COUNTIF('Data Input'!$C$8:$AQ$8,$I$2))","v":""},{"$f":"IF(ISBLANK('Data Input'!A107),\"\",SUM('Data Input'!D107,'Data Input'!E107,'Data Input'!F107,'Data Input'!G107,'Data Input'!J107,'Data Input'!O107,'Data Input'!P107,'Data Input'!S107,'Data Input'!U107,'Data Input'!X107,'Data Input'!Z107,'Data Input'!AA107,'Data Input'!AB107,'Data Input'!AE107,'Data Input'!AG107,'Data Input'!AH107,'Data Input'!AJ107,'Data Input'!AK107,'Data Input'!AL107,'Data Input'!AN107))","v":""},{"$f":"IF(K103=\"\",\"\",K103/COUNTIF('Data Input'!$C$8:$AQ$8,$K$2))","v":""},{"$f":"IF(ISBLANK('Data Input'!A107),\"\",SUM('Data Input'!V107))","v":""},{"$f":"IF(M103=\"\",\"\",M103/COUNTIF('Data Input'!$C$8:$AQ$8,$M$2))","v":""},{"$f":"IF(ISBLANK('Data Input'!A107),\"\",SUM('Data Input'!H107,'Data Input'!I107,'Data Input'!M107,'Data Input'!N107,'Data Input'!Q107,'Data Input'!R107,'Data Input'!T107,'Data Input'!Y107,'Data Input'!AD107,'Data Input'!AI107,'Data Input'!AP107,'Data Input'!AQ107))","v":""},{"$f":"IF(O103=\"\",\"\",O103/COUNTIF('Data Input'!$C$8:$AQ$8,$O$2))","v":""}]
[{"$f":"IF('Data Input'!A108=0,\"\",'Data Input'!A108)","v":""},{"$f":"IF(ISBLANK('Data Input'!A108),\"\",COUNTIF('Data Input'!C108:AQ108,\"\")-1)","v":""},{"$f":"IF(ISBLANK('Data Input'!A108),\"\",COUNTIF('Data Input'!C108:AQ108,\"0\"))","v":""},{"$f":"IF(ISBLANK('Data Input'!A108),\"\",SUM(B104,C104))","v":""},{"$f":"IF(ISBLANK('Data Input'!A108),\"\",SUM('Data Input'!C108:V108))","v":""},{"$f":"IF(ISBLANK('Data Input'!A108),\"\",SUM('Data Input'!X108:AQ108))","v":""},{"$f":"IF(ISBLANK('Data Input'!A108),\"\",SUM('Data Input'!C108:AQ108))","v":""},{"$f":"IF(G104=\"\",\"\",G104/(COUNTA('Data Input'!$C$8:$AQ$8)-1))","v":""},{"$f":"IF(ISBLANK('Data Input'!A108),\"\",SUM('Data Input'!C108,'Data Input'!K108,'Data Input'!L108,'Data Input'!AC108,'Data Input'!AF108,'Data Input'!AM108,'Data Input'!AO108))","v":""},{"$f":"IF(I104=\"\",\"\",I104/COUNTIF('Data Input'!$C$8:$AQ$8,$I$2))","v":""},{"$f":"IF(ISBLANK('Data Input'!A108),\"\",SUM('Data Input'!D108,'Data Input'!E108,'Data Input'!F108,'Data Input'!G108,'Data Input'!J108,'Data Input'!O108,'Data Input'!P108,'Data Input'!S108,'Data Input'!U108,'Data Input'!X108,'Data Input'!Z108,'Data Input'!AA108,'Data Input'!AB108,'Data Input'!AE108,'Data Input'!AG108,'Data Input'!AH108,'Data Input'!AJ108,'Data Input'!AK108,'Data Input'!AL108,'Data Input'!AN108))","v":""},{"$f":"IF(K104=\"\",\"\",K104/COUNTIF('Data Input'!$C$8:$AQ$8,$K$2))","v":""},{"$f":"IF(ISBLANK('Data Input'!A108),\"\",SUM('Data Input'!V108))","v":""},{"$f":"IF(M104=\"\",\"\",M104/COUNTIF('Data Input'!$C$8:$AQ$8,$M$2))","v":""},{"$f":"IF(ISBLANK('Data Input'!A108),\"\",SUM('Data Input'!H108,'Data Input'!I108,'Data Input'!M108,'Data Input'!N108,'Data Input'!Q108,'Data Input'!R108,'Data Input'!T108,'Data Input'!Y108,'Data Input'!AD108,'Data Input'!AI108,'Data Input'!AP108,'Data Input'!AQ108))","v":""},{"$f":"IF(O104=\"\",\"\",O104/COUNTIF('Data Input'!$C$8:$AQ$8,$O$2))","v":""}]
[{"$f":"IF('Data Input'!A109=0,\"\",'Data Input'!A109)","v":""},{"$f":"IF(ISBLANK('Data Input'!A109),\"\",COUNTIF('Data Input'!C109:AQ109,\"\")-1)","v":""},{"$f":"IF(ISBLANK('Data Input'!A109),\"\",COUNTIF('Data Input'!C109:AQ109,\"0\"))","v":""},{"$f":"IF(ISBLANK('Data Input'!A109),\"\",SUM(B105,C105))","v":""},{"$f":"IF(ISBLANK('Data Input'!A109),\"\",SUM('Data Input'!C109:V109))","v":""},{"$f":"IF(ISBLANK('Data Input'!A109),\"\",SUM('Data Input'!X109:AQ109))","v":""},{"$f":"IF(ISBLANK('Data Input'!A109),\"\",SUM('Data Input'!C109:AQ109))","v":""},{"$f":"IF(G105=\"\",\"\",G105/(COUNTA('Data Input'!$C$8:$AQ$8)-1))","v":""},{"$f":"IF(ISBLANK('Data Input'!A109),\"\",SUM('Data Input'!C109,'Data Input'!K109,'Data Input'!L109,'Data Input'!AC109,'Data Input'!AF109,'Data Input'!AM109,'Data Input'!AO109))","v":""},{"$f":"IF(I105=\"\",\"\",I105/COUNTIF('Data Input'!$C$8:$AQ$8,$I$2))","v":""},{"$f":"IF(ISBLANK('Data Input'!A109),\"\",SUM('Data Input'!D109,'Data Input'!E109,'Data Input'!F109,'Data Input'!G109,'Data Input'!J109,'Data Input'!O109,'Data Input'!P109,'Data Input'!S109,'Data Input'!U109,'Data Input'!X109,'Data Input'!Z109,'Data Input'!AA109,'Data Input'!AB109,'Data Input'!AE109,'Data Input'!AG109,'Data Input'!AH109,'Data Input'!AJ109,'Data Input'!AK109,'Data Input'!AL109,'Data Input'!AN109))","v":""},{"$f":"IF(K105=\"\",\"\",K105/COUNTIF('Data Input'!$C$8:$AQ$8,$K$2))","v":""},{"$f":"IF(ISBLANK('Data Input'!A109),\"\",SUM('Data Input'!V109))","v":""},{"$f":"IF(M105=\"\",\"\",M105/COUNTIF('Data Input'!$C$8:$AQ$8,$M$2))","v":""},{"$f":"IF(ISBLANK('Data Input'!A109),\"\",SUM('Data Input'!H109,'Data Input'!I109,'Data Input'!M109,'Data Input'!N109,'Data Input'!Q109,'Data Input'!R109,'Data Input'!T109,'Data Input'!Y109,'Data Input'!AD109,'Data Input'!AI109,'Data Input'!AP109,'Data Input'!AQ109))","v":""},{"$f":"IF(O105=\"\",\"\",O105/COUNTIF('Data Input'!$C$8:$AQ$8,$O$2))","v":""}]
[{"$f":"IF('Data Input'!A110=0,\"\",'Data Input'!A110)","v":""},{"$f":"IF(ISBLANK('Data Input'!A110),\"\",COUNTIF('Data Input'!C110:AQ110,\"\")-1)","v":""},{"$f":"IF(ISBLANK('Data Input'!A110),\"\",COUNTIF('Data Input'!C110:AQ110,\"0\"))","v":""},{"$f":"IF(ISBLANK('Data Input'!A110),\"\",SUM(B106,C106))","v":""},{"$f":"IF(ISBLANK('Data Input'!A110),\"\",SUM('Data Input'!C110:V110))","v":""},{"$f":"IF(ISBLANK('Data Input'!A110),\"\",SUM('Data Input'!X110:AQ110))","v":""},{"$f":"IF(ISBLANK('Data Input'!A110),\"\",SUM('Data Input'!C110:AQ110))","v":""},{"$f":"IF(G106=\"\",\"\",G106/(COUNTA('Data Input'!$C$8:$AQ$8)-1))","v":""},{"$f":"IF(ISBLANK('Data Input'!A110),\"\",SUM('Data Input'!C110,'Data Input'!K110,'Data Input'!L110,'Data Input'!AC110,'Data Input'!AF110,'Data Input'!AM110,'Data Input'!AO110))","v":""},{"$f":"IF(I106=\"\",\"\",I106/COUNTIF('Data Input'!$C$8:$AQ$8,$I$2))","v":""},{"$f":"IF(ISBLANK('Data Input'!A110),\"\",SUM('Data Input'!D110,'Data Input'!E110,'Data Input'!F110,'Data Input'!G110,'Data Input'!J110,'Data Input'!O110,'Data Input'!P110,'Data Input'!S110,'Data Input'!U110,'Data Input'!X110,'Data Input'!Z110,'Data Input'!AA110,'Data Input'!AB110,'Data Input'!AE110,'Data Input'!AG110,'Data Input'!AH110,'Data Input'!AJ110,'Data Input'!AK110,'Data Input'!AL110,'Data Input'!AN110))","v":""},{"$f":"IF(K106=\"\",\"\",K106/COUNTIF('Data Input'!$C$8:$AQ$8,$K$2))","v":""},{"$f":"IF(ISBLANK('Data Input'!A110),\"\",SUM('Data Input'!V110))","v":""},{"$f":"IF(M106=\"\",\"\",M106/COUNTIF('Data Input'!$C$8:$AQ$8,$M$2))","v":""},{"$f":"IF(ISBLANK('Data Input'!A110),\"\",SUM('Data Input'!H110,'Data Input'!I110,'Data Input'!M110,'Data Input'!N110,'Data Input'!Q110,'Data Input'!R110,'Data Input'!T110,'Data Input'!Y110,'Data Input'!AD110,'Data Input'!AI110,'Data Input'!AP110,'Data Input'!AQ110))","v":""},{"$f":"IF(O106=\"\",\"\",O106/COUNTIF('Data Input'!$C$8:$AQ$8,$O$2))","v":""}]
[{"$f":"IF('Data Input'!A111=0,\"\",'Data Input'!A111)","v":""},{"$f":"IF(ISBLANK('Data Input'!A111),\"\",COUNTIF('Data Input'!C111:AQ111,\"\")-1)","v":""},{"$f":"IF(ISBLANK('Data Input'!A111),\"\",COUNTIF('Data Input'!C111:AQ111,\"0\"))","v":""},{"$f":"IF(ISBLANK('Data Input'!A111),\"\",SUM(B107,C107))","v":""},{"$f":"IF(ISBLANK('Data Input'!A111),\"\",SUM('Data Input'!C111:V111))","v":""},{"$f":"IF(ISBLANK('Data Input'!A111),\"\",SUM('Data Input'!X111:AQ111))","v":""},{"$f":"IF(ISBLANK('Data Input'!A111),\"\",SUM('Data Input'!C111:AQ111))","v":""},{"$f":"IF(G107=\"\",\"\",G107/(COUNTA('Data Input'!$C$8:$AQ$8)-1))","v":""},{"$f":"IF(ISBLANK('Data Input'!A111),\"\",SUM('Data Input'!C111,'Data Input'!K111,'Data Input'!L111,'Data Input'!AC111,'Data Input'!AF111,'Data Input'!AM111,'Data Input'!AO111))","v":""},{"$f":"IF(I107=\"\",\"\",I107/COUNTIF('Data Input'!$C$8:$AQ$8,$I$2))","v":""},{"$f":"IF(ISBLANK('Data Input'!A111),\"\",SUM('Data Input'!D111,'Data Input'!E111,'Data Input'!F111,'Data Input'!G111,'Data Input'!J111,'Data Input'!O111,'Data Input'!P111,'Data Input'!S111,'Data Input'!U111,'Data Input'!X111,'Data Input'!Z111,'Data Input'!AA111,'Data Input'!AB111,'Data Input'!AE111,'Data Input'!AG111,'Data Input'!AH111,'Data Input'!AJ111,'Data Input'!AK111,'Data Input'!AL111,'Data Input'!AN111))","v":""},{"$f":"IF(K107=\"\",\"\",K107/COUNTIF('Data Input'!$C$8:$AQ$8,$K$2))","v":""},{"$f":"IF(ISBLANK('Data Input'!A111),\"\",SUM('Data Input'!V111))","v":""},{"$f":"IF(M107=\"\",\"\",M107/COUNTIF('Data Input'!$C$8:$AQ$8,$M$2))","v":""},{"$f":"IF(ISBLANK('Data Input'!A111),\"\",SUM('Data Input'!H111,'Data Input'!I111,'Data Input'!M111,'Data Input'!N111,'Data Input'!Q111,'Data Input'!R111,'Data Input'!T111,'Data Input'!Y111,'Data Input'!AD111,'Data Input'!AI111,'Data Input'!AP111,'Data Input'!AQ111))","v":""},{"$f":"IF(O107=\"\",\"\",O107/COUNTIF('Data Input'!$C$8:$AQ$8,$O$2))","v":""}]
[{"$f":"IF('Data Input'!A112=0,\"\",'Data Input'!A112)","v":""},{"$f":"IF(ISBLANK('Data Input'!A112),\"\",COUNTIF('Data Input'!C112:AQ112,\"\")-1)","v":""},{"$f":"IF(ISBLANK('Data Input'!A112),\"\",COUNTIF('Data Input'!C112:AQ112,\"0\"))","v":""},{"$f":"IF(ISBLANK('Data Input'!A112),\"\",SUM(B108,C108))","v":""},{"$f":"IF(ISBLANK('Data Input'!A112),\"\",SUM('Data Input'!C112:V112))","v":""},{"$f":"IF(ISBLANK('Data Input'!A112),\"\",SUM('Data Input'!X112:AQ112))","v":""},{"$f":"IF(ISBLANK('Data Input'!A112),\"\",SUM('Data Input'!C112:AQ112))","v":""},{"$f":"IF(G108=\"\",\"\",G108/(COUNTA('Data Input'!$C$8:$AQ$8)-1))","v":""},{"$f":"IF(ISBLANK('Data Input'!A112),\"\",SUM('Data Input'!C112,'Data Input'!K112,'Data Input'!L112,'Data Input'!AC112,'Data Input'!AF112,'Data Input'!AM112,'Data Input'!AO112))","v":""},{"$f":"IF(I108=\"\",\"\",I108/COUNTIF('Data Input'!$C$8:$AQ$8,$I$2))","v":""},{"$f":"IF(ISBLANK('Data Input'!A112),\"\",SUM('Data Input'!D112,'Data Input'!E112,'Data Input'!F112,'Data Input'!G112,'Data Input'!J112,'Data Input'!O112,'Data Input'!P112,'Data Input'!S112,'Data Input'!U112,'Data Input'!X112,'Data Input'!Z112,'Data Input'!AA112,'Data Input'!AB112,'Data Input'!AE112,'Data Input'!AG112,'Data Input'!AH112,'Data Input'!AJ112,'Data Input'!AK112,'Data Input'!AL112,'Data Input'!AN112))","v":""},{"$f":"IF(K108=\"\",\"\",K108/COUNTIF('Data Input'!$C$8:$AQ$8,$K$2))","v":""},{"$f":"IF(ISBLANK('Data Input'!A112),\"\",SUM('Data Input'!V112))","v":""},{"$f":"IF(M108=\"\",\"\",M108/COUNTIF('Data Input'!$C$8:$AQ$8,$M$2))","v":""},{"$f":"IF(ISBLANK('Data Input'!A112),\"\",SUM('Data Input'!H112,'Data Input'!I112,'Data Input'!M112,'Data Input'!N112,'Data Input'!Q112,'Data Input'!R112,'Data Input'!T112,'Data Input'!Y112,'Data Input'!AD112,'Data Input'!AI112,'Data Input'!AP112,'Data Input'!AQ112))","v":""},{"$f":"IF(O108=\"\",\"\",O108/COUNTIF('Data Input'!$C$8:$AQ$8,$O$2))","v":""}]
[{"$f":"IF('Data Input'!A113=0,\"\",'Data Input'!A113)","v":""},{"$f":"IF(ISBLANK('Data Input'!A113),\"\",COUNTIF('Data Input'!C113:AQ113,\"\")-1)","v":""},{"$f":"IF(ISBLANK('Data Input'!A113),\"\",COUNTIF('Data Input'!C113:AQ113,\"0\"))","v":""},{"$f":"IF(ISBLANK('Data Input'!A113),\"\",SUM(B109,C109))","v":""},{"$f":"IF(ISBLANK('Data Input'!A113),\"\",SUM('Data Input'!C113:V113))","v":""},{"$f":"IF(ISBLANK('Data Input'!A113),\"\",SUM('Data Input'!X113:AQ113))","v":""},{"$f":"IF(ISBLANK('Data Input'!A113),\"\",SUM('Data Input'!C113:AQ113))","v":""},{"$f":"IF(G109=\"\",\"\",G109/(COUNTA('Data Input'!$C$8:$AQ$8)-1))","v":""},{"$f":"IF(ISBLANK('Data Input'!A113),\"\",SUM('Data Input'!C113,'Data Input'!K113,'Data Input'!L113,'Data Input'!AC113,'Data Input'!AF113,'Data Input'!AM113,'Data Input'!AO113))","v":""},{"$f":"IF(I109=\"\",\"\",I109/COUNTIF('Data Input'!$C$8:$AQ$8,$I$2))","v":""},{"$f":"IF(ISBLANK('Data Input'!A113),\"\",SUM('Data Input'!D113,'Data Input'!E113,'Data Input'!F113,'Data Input'!G113,'Data Input'!J113,'Data Input'!O113,'Data Input'!P113,'Data Input'!S113,'Data Input'!U113,'Data Input'!X113,'Data Input'!Z113,'Data Input'!AA113,'Data Input'!AB113,'Data Input'!AE113,'Data Input'!AG113,'Data Input'!AH113,'Data Input'!AJ113,'Data Input'!AK113,'Data Input'!AL113,'Data Input'!AN113))","v":""},{"$f":"IF(K109=\"\",\"\",K109/COUNTIF('Data Input'!$C$8:$AQ$8,$K$2))","v":""},{"$f":"IF(ISBLANK('Data Input'!A113),\"\",SUM('Data Input'!V113))","v":""},{"$f":"IF(M109=\"\",\"\",M109/COUNTIF('Data Input'!$C$8:$AQ$8,$M$2))","v":""},{"$f":"IF(ISBLANK('Data Input'!A113),\"\",SUM('Data Input'!H113,'Data Input'!I113,'Data Input'!M113,'Data Input'!N113,'Data Input'!Q113,'Data Input'!R113,'Data Input'!T113,'Data Input'!Y113,'Data Input'!AD113,'Data Input'!AI113,'Data Input'!AP113,'Data Input'!AQ113))","v":""},{"$f":"IF(O109=\"\",\"\",O109/COUNTIF('Data Input'!$C$8:$AQ$8,$O$2))","v":""}]
[{"$f":"IF('Data Input'!A114=0,\"\",'Data Input'!A114)","v":""},{"$f":"IF(ISBLANK('Data Input'!A114),\"\",COUNTIF('Data Input'!C114:AQ114,\"\")-1)","v":""},{"$f":"IF(ISBLANK('Data Input'!A114),\"\",COUNTIF('Data Input'!C114:AQ114,\"0\"))","v":""},{"$f":"IF(ISBLANK('Data Input'!A114),\"\",SUM(B110,C110))","v":""},{"$f":"IF(ISBLANK('Data Input'!A114),\"\",SUM('Data Input'!C114:V114))","v":""},{"$f":"IF(ISBLANK('Data Input'!A114),\"\",SUM('Data Input'!X114:AQ114))","v":""},{"$f":"IF(ISBLANK('Data Input'!A114),\"\",SUM('Data Input'!C114:AQ114))","v":""},{"$f":"IF(G110=\"\",\"\",G110/(COUNTA('Data Input'!$C$8:$AQ$8)-1))","v":""},{"$f":"IF(ISBLANK('Data Input'!A114),\"\",SUM('Data Input'!C114,'Data Input'!K114,'Data Input'!L114,'Data Input'!AC114,'Data Input'!AF114,'Data Input'!AM114,'Data Input'!AO114))","v":""},{"$f":"IF(I110=\"\",\"\",I110/COUNTIF('Data Input'!$C$8:$AQ$8,$I$2))","v":""},{"$f":"IF(ISBLANK('Data Input'!A114),\"\",SUM('Data Input'!D114,'Data Input'!E114,'Data Input'!F114,'Data Input'!G114,'Data Input'!J114,'Data Input'!O114,'Data Input'!P114,'Data Input'!S114,'Data Input'!U114,'Data Input'!X114,'Data Input'!Z114,'Data Input'!AA114,'Data Input'!AB114,'Data Input'!AE114,'Data Input'!AG114,'Data Input'!AH114,'Data Input'!AJ114,'Data Input'!AK114,'Data Input'!AL114,'Data Input'!AN114))","v":""},{"$f":"IF(K110=\"\",\"\",K110/COUNTIF('Data Input'!$C$8:$AQ$8,$K$2))","v":""},{"$f":"IF(ISBLANK('Data Input'!A114),\"\",SUM('Data Input'!V114))","v":""},{"$f":"IF(M110=\"\",\"\",M110/COUNTIF('Data Input'!$C$8:$AQ$8,$M$2))","v":""},{"$f":"IF(ISBLANK('Data Input'!A114),\"\",SUM('Data Input'!H114,'Data Input'!I114,'Data Input'!M114,'Data Input'!N114,'Data Input'!Q114,'Data Input'!R114,'Data Input'!T114,'Data Input'!Y114,'Data Input'!AD114,'Data Input'!AI114,'Data Input'!AP114,'Data Input'!AQ114))","v":""},{"$f":"IF(O110=\"\",\"\",O110/COUNTIF('Data Input'!$C$8:$AQ$8,$O$2))","v":""}]
[{"$f":"IF('Data Input'!A115=0,\"\",'Data Input'!A115)","v":""},{"$f":"IF(ISBLANK('Data Input'!A115),\"\",COUNTIF('Data Input'!C115:AQ115,\"\")-1)","v":""},{"$f":"IF(ISBLANK('Data Input'!A115),\"\",COUNTIF('Data Input'!C115:AQ115,\"0\"))","v":""},{"$f":"IF(ISBLANK('Data Input'!A115),\"\",SUM(B111,C111))","v":""},{"$f":"IF(ISBLANK('Data Input'!A115),\"\",SUM('Data Input'!C115:V115))","v":""},{"$f":"IF(ISBLANK('Data Input'!A115),\"\",SUM('Data Input'!X115:AQ115))","v":""},{"$f":"IF(ISBLANK('Data Input'!A115),\"\",SUM('Data Input'!C115:AQ115))","v":""},{"$f":"IF(G111=\"\",\"\",G111/(COUNTA('Data Input'!$C$8:$AQ$8)-1))","v":""},{"$f":"IF(ISBLANK('Data Input'!A115),\"\",SUM('Data Input'!C115,'Data Input'!K115,'Data Input'!L115,'Data Input'!AC115,'Data Input'!AF115,'Data Input'!AM115,'Data Input'!AO115))","v":""},{"$f":"IF(I111=\"\",\"\",I111/COUNTIF('Data Input'!$C$8:$AQ$8,$I$2))","v":""},{"$f":"IF(ISBLANK('Data Input'!A115),\"\",SUM('Data Input'!D115,'Data Input'!E115,'Data Input'!F115,'Data Input'!G115,'Data Input'!J115,'Data Input'!O115,'Data Input'!P115,'Data Input'!S115,'Data Input'!U115,'Data Input'!X115,'Data Input'!Z115,'Data Input'!AA115,'Data Input'!AB115,'Data Input'!AE115,'Data Input'!AG115,'Data Input'!AH115,'Data Input'!AJ115,'Data Input'!AK115,'Data Input'!AL115,'Data Input'!AN115))","v":""},{"$f":"IF(K111=\"\",\"\",K111/COUNTIF('Data Input'!$C$8:$AQ$8,$K$2))","v":""},{"$f":"IF(ISBLANK('Data Input'!A115),\"\",SUM('Data Input'!V115))","v":""},{"$f":"IF(M111=\"\",\"\",M111/COUNTIF('Data Input'!$C$8:$AQ$8,$M$2))","v":""},{"$f":"IF(ISBLANK('Data Input'!A115),\"\",SUM('Data Input'!H115,'Data Input'!I115,'Data Input'!M115,'Data Input'!N115,'Data Input'!Q115,'Data Input'!R115,'Data Input'!T115,'Data Input'!Y115,'Data Input'!AD115,'Data Input'!AI115,'Data Input'!AP115,'Data Input'!AQ115))","v":""},{"$f":"IF(O111=\"\",\"\",O111/COUNTIF('Data Input'!$C$8:$AQ$8,$O$2))","v":""}]
[{"$f":"IF('Data Input'!A116=0,\"\",'Data Input'!A116)","v":""},{"$f":"IF(ISBLANK('Data Input'!A116),\"\",COUNTIF('Data Input'!C116:AQ116,\"\")-1)","v":""},{"$f":"IF(ISBLANK('Data Input'!A116),\"\",COUNTIF('Data Input'!C116:AQ116,\"0\"))","v":""},{"$f":"IF(ISBLANK('Data Input'!A116),\"\",SUM(B112,C112))","v":""},{"$f":"IF(ISBLANK('Data Input'!A116),\"\",SUM('Data Input'!C116:V116))","v":""},{"$f":"IF(ISBLANK('Data Input'!A116),\"\",SUM('Data Input'!X116:AQ116))","v":""},{"$f":"IF(ISBLANK('Data Input'!A116),\"\",SUM('Data Input'!C116:AQ116))","v":""},{"$f":"IF(G112=\"\",\"\",G112/(COUNTA('Data Input'!$C$8:$AQ$8)-1))","v":""},{"$f":"IF(ISBLANK('Data Input'!A116),\"\",SUM('Data Input'!C116,'Data Input'!K116,'Data Input'!L116,'Data Input'!AC116,'Data Input'!AF116,'Data Input'!AM116,'Data Input'!AO116))","v":""},{"$f":"IF(I112=\"\",\"\",I112/COUNTIF('Data Input'!$C$8:$AQ$8,$I$2))","v":""},{"$f":"IF(ISBLANK('Data Input'!A116),\"\",SUM('Data Input'!D116,'Data Input'!E116,'Data Input'!F116,'Data Input'!G116,'Data Input'!J116,'Data Input'!O116,'Data Input'!P116,'Data Input'!S116,'Data Input'!U116,'Data Input'!X116,'Data Input'!Z116,'Data Input'!AA116,'Data Input'!AB116,'Data Input'!AE116,'Data Input'!AG116,'Data Input'!AH116,'Data Input'!AJ116,'Data Input'!AK116,'Data Input'!AL116,'Data Input'!AN116))","v":""},{"$f":"IF(K112=\"\",\"\",K112/COUNTIF('Data Input'!$C$8:$AQ$8,$K$2))","v":""},{"$f":"IF(ISBLANK('Data Input'!A116),\"\",SUM('Data Input'!V116))","v":""},{"$f":"IF(M112=\"\",\"\",M112/COUNTIF('Data Input'!$C$8:$AQ$8,$M$2))","v":""},{"$f":"IF(ISBLANK('Data Input'!A116),\"\",SUM('Data Input'!H116,'Data Input'!I116,'Data Input'!M116,'Data Input'!N116,'Data Input'!Q116,'Data Input'!R116,'Data Input'!T116,'Data Input'!Y116,'Data Input'!AD116,'Data Input'!AI116,'Data Input'!AP116,'Data Input'!AQ116))","v":""},{"$f":"IF(O112=\"\",\"\",O112/COUNTIF('Data Input'!$C$8:$AQ$8,$O$2))","v":""}]
[{"$f":"IF('Data Input'!A117=0,\"\",'Data Input'!A117)","v":""},{"$f":"IF(ISBLANK('Data Input'!A117),\"\",COUNTIF('Data Input'!C117:AQ117,\"\")-1)","v":""},{"$f":"IF(ISBLANK('Data Input'!A117),\"\",COUNTIF('Data Input'!C117:AQ117,\"0\"))","v":""},{"$f":"IF(ISBLANK('Data Input'!A117),\"\",SUM(B113,C113))","v":""},{"$f":"IF(ISBLANK('Data Input'!A117),\"\",SUM('Data Input'!C117:V117))","v":""},{"$f":"IF(ISBLANK('Data Input'!A117),\"\",SUM('Data Input'!X117:AQ117))","v":""},{"$f":"IF(ISBLANK('Data Input'!A117),\"\",SUM('Data Input'!C117:AQ117))","v":""},{"$f":"IF(G113=\"\",\"\",G113/(COUNTA('Data Input'!$C$8:$AQ$8)-1))","v":""},{"$f":"IF(ISBLANK('Data Input'!A117),\"\",SUM('Data Input'!C117,'Data Input'!K117,'Data Input'!L117,'Data Input'!AC117,'Data Input'!AF117,'Data Input'!AM117,'Data Input'!AO117))","v":""},{"$f":"IF(I113=\"\",\"\",I113/COUNTIF('Data Input'!$C$8:$AQ$8,$I$2))","v":""},{"$f":"IF(ISBLANK('Data Input'!A117),\"\",SUM('Data Input'!D117,'Data Input'!E117,'Data Input'!F117,'Data Input'!G117,'Data Input'!J117,'Data Input'!O117,'Data Input'!P117,'Data Input'!S117,'Data Input'!U117,'Data Input'!X117,'Data Input'!Z117,'Data Input'!AA117,'Data Input'!AB117,'Data Input'!AE117,'Data Input'!AG117,'Data Input'!AH117,'Data Input'!AJ117,'Data Input'!AK117,'Data Input'!AL117,'Data Input'!AN117))","v":""},{"$f":"IF(K113=\"\",\"\",K113/COUNTIF('Data Input'!$C$8:$AQ$8,$K$2))","v":""},{"$f":"IF(ISBLANK('Data Input'!A117),\"\",SUM('Data Input'!V117))","v":""},{"$f":"IF(M113=\"\",\"\",M113/COUNTIF('Data Input'!$C$8:$AQ$8,$M$2))","v":""},{"$f":"IF(ISBLANK('Data Input'!A117),\"\",SUM('Data Input'!H117,'Data Input'!I117,'Data Input'!M117,'Data Input'!N117,'Data Input'!Q117,'Data Input'!R117,'Data Input'!T117,'Data Input'!Y117,'Data Input'!AD117,'Data Input'!AI117,'Data Input'!AP117,'Data Input'!AQ117))","v":""},{"$f":"IF(O113=\"\",\"\",O113/COUNTIF('Data Input'!$C$8:$AQ$8,$O$2))","v":""}]
[{"$f":"IF('Data Input'!A118=0,\"\",'Data Input'!A118)","v":""},{"$f":"IF(ISBLANK('Data Input'!A118),\"\",COUNTIF('Data Input'!C118:AQ118,\"\")-1)","v":""},{"$f":"IF(ISBLANK('Data Input'!A118),\"\",COUNTIF('Data Input'!C118:AQ118,\"0\"))","v":""},{"$f":"IF(ISBLANK('Data Input'!A118),\"\",SUM(B114,C114))","v":""},{"$f":"IF(ISBLANK('Data Input'!A118),\"\",SUM('Data Input'!C118:V118))","v":""},{"$f":"IF(ISBLANK('Data Input'!A118),\"\",SUM('Data Input'!X118:AQ118))","v":""},{"$f":"IF(ISBLANK('Data Input'!A118),\"\",SUM('Data Input'!C118:AQ118))","v":""},{"$f":"IF(G114=\"\",\"\",G114/(COUNTA('Data Input'!$C$8:$AQ$8)-1))","v":""},{"$f":"IF(ISBLANK('Data Input'!A118),\"\",SUM('Data Input'!C118,'Data Input'!K118,'Data Input'!L118,'Data Input'!AC118,'Data Input'!AF118,'Data Input'!AM118,'Data Input'!AO118))","v":""},{"$f":"IF(I114=\"\",\"\",I114/COUNTIF('Data Input'!$C$8:$AQ$8,$I$2))","v":""},{"$f":"IF(ISBLANK('Data Input'!A118),\"\",SUM('Data Input'!D118,'Data Input'!E118,'Data Input'!F118,'Data Input'!G118,'Data Input'!J118,'Data Input'!O118,'Data Input'!P118,'Data Input'!S118,'Data Input'!U118,'Data Input'!X118,'Data Input'!Z118,'Data Input'!AA118,'Data Input'!AB118,'Data Input'!AE118,'Data Input'!AG118,'Data Input'!AH118,'Data Input'!AJ118,'Data Input'!AK118,'Data Input'!AL118,'Data Input'!AN118))","v":""},{"$f":"IF(K114=\"\",\"\",K114/COUNTIF('Data Input'!$C$8:$AQ$8,$K$2))","v":""},{"$f":"IF(ISBLANK('Data Input'!A118),\"\",SUM('Data Input'!V118))","v":""},{"$f":"IF(M114=\"\",\"\",M114/COUNTIF('Data Input'!$C$8:$AQ$8,$M$2))","v":""},{"$f":"IF(ISBLANK('Data Input'!A118),\"\",SUM('Data Input'!H118,'Data Input'!I118,'Data Input'!M118,'Data Input'!N118,'Data Input'!Q118,'Data Input'!R118,'Data Input'!T118,'Data Input'!Y118,'Data Input'!AD118,'Data Input'!AI118,'Data Input'!AP118,'Data Input'!AQ118))","v":""},{"$f":"IF(O114=\"\",\"\",O114/COUNTIF('Data Input'!$C$8:$AQ$8,$O$2))","v":""}]
[{"$f":"IF('Data Input'!A119=0,\"\",'Data Input'!A119)","v":""},{"$f":"IF(ISBLANK('Data Input'!A119),\"\",COUNTIF('Data Input'!C119:AQ119,\"\")-1)","v":""},{"$f":"IF(ISBLANK('Data Input'!A119),\"\",COUNTIF('Data Input'!C119:AQ119,\"0\"))","v":""},{"$f":"IF(ISBLANK('Data Input'!A119),\"\",SUM(B115,C115))","v":""},{"$f":"IF(ISBLANK('Data Input'!A119),\"\",SUM('Data Input'!C119:V119))","v":""},{"$f":"IF(ISBLANK('Data Input'!A119),\"\",SUM('Data Input'!X119:AQ119))","v":""},{"$f":"IF(ISBLANK('Data Input'!A119),\"\",SUM('Data Input'!C119:AQ119))","v":""},{"$f":"IF(G115=\"\",\"\",G115/(COUNTA('Data Input'!$C$8:$AQ$8)-1))","v":""},{"$f":"IF(ISBLANK('Data Input'!A119),\"\",SUM('Data Input'!C119,'Data Input'!K119,'Data Input'!L119,'Data Input'!AC119,'Data Input'!AF119,'Data Input'!AM119,'Data Input'!AO119))","v":""},{"$f":"IF(I115=\"\",\"\",I115/COUNTIF('Data Input'!$C$8:$AQ$8,$I$2))","v":""},{"$f":"IF(ISBLANK('Data Input'!A119),\"\",SUM('Data Input'!D119,'Data Input'!E119,'Data Input'!F119,'Data Input'!G119,'Data Input'!J119,'Data Input'!O119,'Data Input'!P119,'Data Input'!S119,'Data Input'!U119,'Data Input'!X119,'Data Input'!Z119,'Data Input'!AA119,'Data Input'!AB119,'Data Input'!AE119,'Data Input'!AG119,'Data Input'!AH119,'Data Input'!AJ119,'Data Input'!AK119,'Data Input'!AL119,'Data Input'!AN119))","v":""},{"$f":"IF(K115=\"\",\"\",K115/COUNTIF('Data Input'!$C$8:$AQ$8,$K$2))","v":""},{"$f":"IF(ISBLANK('Data Input'!A119),\"\",SUM('Data Input'!V119))","v":""},{"$f":"IF(M115=\"\",\"\",M115/COUNTIF('Data Input'!$C$8:$AQ$8,$M$2))","v":""},{"$f":"IF(ISBLANK('Data Input'!A119),\"\",SUM('Data Input'!H119,'Data Input'!I119,'Data Input'!M119,'Data Input'!N119,'Data Input'!Q119,'Data Input'!R119,'Data Input'!T119,'Data Input'!Y119,'Data Input'!AD119,'Data Input'!AI119,'Data Input'!AP119,'Data Input'!AQ119))","v":""},{"$f":"IF(O115=\"\",\"\",O115/COUNTIF('Data Input'!$C$8:$AQ$8,$O$2))","v":""}]
[{"$f":"IF('Data Input'!A120=0,\"\",'Data Input'!A120)","v":""},{"$f":"IF(ISBLANK('Data Input'!A120),\"\",COUNTIF('Data Input'!C120:AQ120,\"\")-1)","v":""},{"$f":"IF(ISBLANK('Data Input'!A120),\"\",COUNTIF('Data Input'!C120:AQ120,\"0\"))","v":""},{"$f":"IF(ISBLANK('Data Input'!A120),\"\",SUM(B116,C116))","v":""},{"$f":"IF(ISBLANK('Data Input'!A120),\"\",SUM('Data Input'!C120:V120))","v":""},{"$f":"IF(ISBLANK('Data Input'!A120),\"\",SUM('Data Input'!X120:AQ120))","v":""},{"$f":"IF(ISBLANK('Data Input'!A120),\"\",SUM('Data Input'!C120:AQ120))","v":""},{"$f":"IF(G116=\"\",\"\",G116/(COUNTA('Data Input'!$C$8:$AQ$8)-1))","v":""},{"$f":"IF(ISBLANK('Data Input'!A120),\"\",SUM('Data Input'!C120,'Data Input'!K120,'Data Input'!L120,'Data Input'!AC120,'Data Input'!AF120,'Data Input'!AM120,'Data Input'!AO120))","v":""},{"$f":"IF(I116=\"\",\"\",I116/COUNTIF('Data Input'!$C$8:$AQ$8,$I$2))","v":""},{"$f":"IF(ISBLANK('Data Input'!A120),\"\",SUM('Data Input'!D120,'Data Input'!E120,'Data Input'!F120,'Data Input'!G120,'Data Input'!J120,'Data Input'!O120,'Data Input'!P120,'Data Input'!S120,'Data Input'!U120,'Data Input'!X120,'Data Input'!Z120,'Data Input'!AA120,'Data Input'!AB120,'Data Input'!AE120,'Data Input'!AG120,'Data Input'!AH120,'Data Input'!AJ120,'Data Input'!AK120,'Data Input'!AL120,'Data Input'!AN120))","v":""},{"$f":"IF(K116=\"\",\"\",K116/COUNTIF('Data Input'!$C$8:$AQ$8,$K$2))","v":""},{"$f":"IF(ISBLANK('Data Input'!A120),\"\",SUM('Data Input'!V120))","v":""},{"$f":"IF(M116=\"\",\"\",M116/COUNTIF('Data Input'!$C$8:$AQ$8,$M$2))","v":""},{"$f":"IF(ISBLANK('Data Input'!A120),\"\",SUM('Data Input'!H120,'Data Input'!I120,'Data Input'!M120,'Data Input'!N120,'Data Input'!Q120,'Data Input'!R120,'Data Input'!T120,'Data Input'!Y120,'Data Input'!AD120,'Data Input'!AI120,'Data Input'!AP120,'Data Input'!AQ120))","v":""},{"$f":"IF(O116=\"\",\"\",O116/COUNTIF('Data Input'!$C$8:$AQ$8,$O$2))","v":""}]
[{"$f":"IF('Data Input'!A121=0,\"\",'Data Input'!A121)","v":""},{"$f":"IF(ISBLANK('Data Input'!A121),\"\",COUNTIF('Data Input'!C121:AQ121,\"\")-1)","v":""},{"$f":"IF(ISBLANK('Data Input'!A121),\"\",COUNTIF('Data Input'!C121:AQ121,\"0\"))","v":""},{"$f":"IF(ISBLANK('Data Input'!A121),\"\",SUM(B117,C117))","v":""},{"$f":"IF(ISBLANK('Data Input'!A121),\"\",SUM('Data Input'!C121:V121))","v":""},{"$f":"IF(ISBLANK('Data Input'!A121),\"\",SUM('Data Input'!X121:AQ121))","v":""},{"$f":"IF(ISBLANK('Data Input'!A121),\"\",SUM('Data Input'!C121:AQ121))","v":""},{"$f":"IF(G117=\"\",\"\",G117/(COUNTA('Data Input'!$C$8:$AQ$8)-1))","v":""},{"$f":"IF(ISBLANK('Data Input'!A121),\"\",SUM('Data Input'!C121,'Data Input'!K121,'Data Input'!L121,'Data Input'!AC121,'Data Input'!AF121,'Data Input'!AM121,'Data Input'!AO121))","v":""},{"$f":"IF(I117=\"\",\"\",I117/COUNTIF('Data Input'!$C$8:$AQ$8,$I$2))","v":""},{"$f":"IF(ISBLANK('Data Input'!A121),\"\",SUM('Data Input'!D121,'Data Input'!E121,'Data Input'!F121,'Data Input'!G121,'Data Input'!J121,'Data Input'!O121,'Data Input'!P121,'Data Input'!S121,'Data Input'!U121,'Data Input'!X121,'Data Input'!Z121,'Data Input'!AA121,'Data Input'!AB121,'Data Input'!AE121,'Data Input'!AG121,'Data Input'!AH121,'Data Input'!AJ121,'Data Input'!AK121,'Data Input'!AL121,'Data Input'!AN121))","v":""},{"$f":"IF(K117=\"\",\"\",K117/COUNTIF('Data Input'!$C$8:$AQ$8,$K$2))","v":""},{"$f":"IF(ISBLANK('Data Input'!A121),\"\",SUM('Data Input'!V121))","v":""},{"$f":"IF(M117=\"\",\"\",M117/COUNTIF('Data Input'!$C$8:$AQ$8,$M$2))","v":""},{"$f":"IF(ISBLANK('Data Input'!A121),\"\",SUM('Data Input'!H121,'Data Input'!I121,'Data Input'!M121,'Data Input'!N121,'Data Input'!Q121,'Data Input'!R121,'Data Input'!T121,'Data Input'!Y121,'Data Input'!AD121,'Data Input'!AI121,'Data Input'!AP121,'Data Input'!AQ121))","v":""},{"$f":"IF(O117=\"\",\"\",O117/COUNTIF('Data Input'!$C$8:$AQ$8,$O$2))","v":""}]
[{"$f":"IF('Data Input'!A122=0,\"\",'Data Input'!A122)","v":""},{"$f":"IF(ISBLANK('Data Input'!A122),\"\",COUNTIF('Data Input'!C122:AQ122,\"\")-1)","v":""},{"$f":"IF(ISBLANK('Data Input'!A122),\"\",COUNTIF('Data Input'!C122:AQ122,\"0\"))","v":""},{"$f":"IF(ISBLANK('Data Input'!A122),\"\",SUM(B118,C118))","v":""},{"$f":"IF(ISBLANK('Data Input'!A122),\"\",SUM('Data Input'!C122:V122))","v":""},{"$f":"IF(ISBLANK('Data Input'!A122),\"\",SUM('Data Input'!X122:AQ122))","v":""},{"$f":"IF(ISBLANK('Data Input'!A122),\"\",SUM('Data Input'!C122:AQ122))","v":""},{"$f":"IF(G118=\"\",\"\",G118/(COUNTA('Data Input'!$C$8:$AQ$8)-1))","v":""},{"$f":"IF(ISBLANK('Data Input'!A122),\"\",SUM('Data Input'!C122,'Data Input'!K122,'Data Input'!L122,'Data Input'!AC122,'Data Input'!AF122,'Data Input'!AM122,'Data Input'!AO122))","v":""},{"$f":"IF(I118=\"\",\"\",I118/COUNTIF('Data Input'!$C$8:$AQ$8,$I$2))","v":""},{"$f":"IF(ISBLANK('Data Input'!A122),\"\",SUM('Data Input'!D122,'Data Input'!E122,'Data Input'!F122,'Data Input'!G122,'Data Input'!J122,'Data Input'!O122,'Data Input'!P122,'Data Input'!S122,'Data Input'!U122,'Data Input'!X122,'Data Input'!Z122,'Data Input'!AA122,'Data Input'!AB122,'Data Input'!AE122,'Data Input'!AG122,'Data Input'!AH122,'Data Input'!AJ122,'Data Input'!AK122,'Data Input'!AL122,'Data Input'!AN122))","v":""},{"$f":"IF(K118=\"\",\"\",K118/COUNTIF('Data Input'!$C$8:$AQ$8,$K$2))","v":""},{"$f":"IF(ISBLANK('Data Input'!A122),\"\",SUM('Data Input'!V122))","v":""},{"$f":"IF(M118=\"\",\"\",M118/COUNTIF('Data Input'!$C$8:$AQ$8,$M$2))","v":""},{"$f":"IF(ISBLANK('Data Input'!A122),\"\",SUM('Data Input'!H122,'Data Input'!I122,'Data Input'!M122,'Data Input'!N122,'Data Input'!Q122,'Data Input'!R122,'Data Input'!T122,'Data Input'!Y122,'Data Input'!AD122,'Data Input'!AI122,'Data Input'!AP122,'Data Input'!AQ122))","v":""},{"$f":"IF(O118=\"\",\"\",O118/COUNTIF('Data Input'!$C$8:$AQ$8,$O$2))","v":""}]
[{"$f":"IF('Data Input'!A123=0,\"\",'Data Input'!A123)","v":""},{"$f":"IF(ISBLANK('Data Input'!A123),\"\",COUNTIF('Data Input'!C123:AQ123,\"\")-1)","v":""},{"$f":"IF(ISBLANK('Data Input'!A123),\"\",COUNTIF('Data Input'!C123:AQ123,\"0\"))","v":""},{"$f":"IF(ISBLANK('Data Input'!A123),\"\",SUM(B119,C119))","v":""},{"$f":"IF(ISBLANK('Data Input'!A123),\"\",SUM('Data Input'!C123:V123))","v":""},{"$f":"IF(ISBLANK('Data Input'!A123),\"\",SUM('Data Input'!X123:AQ123))","v":""},{"$f":"IF(ISBLANK('Data Input'!A123),\"\",SUM('Data Input'!C123:AQ123))","v":""},{"$f":"IF(G119=\"\",\"\",G119/(COUNTA('Data Input'!$C$8:$AQ$8)-1))","v":""},{"$f":"IF(ISBLANK('Data Input'!A123),\"\",SUM('Data Input'!C123,'Data Input'!K123,'Data Input'!L123,'Data Input'!AC123,'Data Input'!AF123,'Data Input'!AM123,'Data Input'!AO123))","v":""},{"$f":"IF(I119=\"\",\"\",I119/COUNTIF('Data Input'!$C$8:$AQ$8,$I$2))","v":""},{"$f":"IF(ISBLANK('Data Input'!A123),\"\",SUM('Data Input'!D123,'Data Input'!E123,'Data Input'!F123,'Data Input'!G123,'Data Input'!J123,'Data Input'!O123,'Data Input'!P123,'Data Input'!S123,'Data Input'!U123,'Data Input'!X123,'Data Input'!Z123,'Data Input'!AA123,'Data Input'!AB123,'Data Input'!AE123,'Data Input'!AG123,'Data Input'!AH123,'Data Input'!AJ123,'Data Input'!AK123,'Data Input'!AL123,'Data Input'!AN123))","v":""},{"$f":"IF(K119=\"\",\"\",K119/COUNTIF('Data Input'!$C$8:$AQ$8,$K$2))","v":""},{"$f":"IF(ISBLANK('Data Input'!A123),\"\",SUM('Data Input'!V123))","v":""},{"$f":"IF(M119=\"\",\"\",M119/COUNTIF('Data Input'!$C$8:$AQ$8,$M$2))","v":""},{"$f":"IF(ISBLANK('Data Input'!A123),\"\",SUM('Data Input'!H123,'Data Input'!I123,'Data Input'!M123,'Data Input'!N123,'Data Input'!Q123,'Data Input'!R123,'Data Input'!T123,'Data Input'!Y123,'Data Input'!AD123,'Data Input'!AI123,'Data Input'!AP123,'Data Input'!AQ123))","v":""},{"$f":"IF(O119=\"\",\"\",O119/COUNTIF('Data Input'!$C$8:$AQ$8,$O$2))","v":""}]
[{"$f":"IF('Data Input'!A124=0,\"\",'Data Input'!A124)","v":""},{"$f":"IF(ISBLANK('Data Input'!A124),\"\",COUNTIF('Data Input'!C124:AQ124,\"\")-1)","v":""},{"$f":"IF(ISBLANK('Data Input'!A124),\"\",COUNTIF('Data Input'!C124:AQ124,\"0\"))","v":""},{"$f":"IF(ISBLANK('Data Input'!A124),\"\",SUM(B120,C120))","v":""},{"$f":"IF(ISBLANK('Data Input'!A124),\"\",SUM('Data Input'!C124:V124))","v":""},{"$f":"IF(ISBLANK('Data Input'!A124),\"\",SUM('Data Input'!X124:AQ124))","v":""},{"$f":"IF(ISBLANK('Data Input'!A124),\"\",SUM('Data Input'!C124:AQ124))","v":""},{"$f":"IF(G120=\"\",\"\",G120/(COUNTA('Data Input'!$C$8:$AQ$8)-1))","v":""},{"$f":"IF(ISBLANK('Data Input'!A124),\"\",SUM('Data Input'!C124,'Data Input'!K124,'Data Input'!L124,'Data Input'!AC124,'Data Input'!AF124,'Data Input'!AM124,'Data Input'!AO124))","v":""},{"$f":"IF(I120=\"\",\"\",I120/COUNTIF('Data Input'!$C$8:$AQ$8,$I$2))","v":""},{"$f":"IF(ISBLANK('Data Input'!A124),\"\",SUM('Data Input'!D124,'Data Input'!E124,'Data Input'!F124,'Data Input'!G124,'Data Input'!J124,'Data Input'!O124,'Data Input'!P124,'Data Input'!S124,'Data Input'!U124,'Data Input'!X124,'Data Input'!Z124,'Data Input'!AA124,'Data Input'!AB124,'Data Input'!AE124,'Data Input'!AG124,'Data Input'!AH124,'Data Input'!AJ124,'Data Input'!AK124,'Data Input'!AL124,'Data Input'!AN124))","v":""},{"$f":"IF(K120=\"\",\"\",K120/COUNTIF('Data Input'!$C$8:$AQ$8,$K$2))","v":""},{"$f":"IF(ISBLANK('Data Input'!A124),\"\",SUM('Data Input'!V124))","v":""},{"$f":"IF(M120=\"\",\"\",M120/COUNTIF('Data Input'!$C$8:$AQ$8,$M$2))","v":""},{"$f":"IF(ISBLANK('Data Input'!A124),\"\",SUM('Data Input'!H124,'Data Input'!I124,'Data Input'!M124,'Data Input'!N124,'Data Input'!Q124,'Data Input'!R124,'Data Input'!T124,'Data Input'!Y124,'Data Input'!AD124,'Data Input'!AI124,'Data Input'!AP124,'Data Input'!AQ124))","v":""},{"$f":"IF(O120=\"\",\"\",O120/COUNTIF('Data Input'!$C$8:$AQ$8,$O$2))","v":""}]
[{"$f":"IF('Data Input'!A125=0,\"\",'Data Input'!A125)","v":""},{"$f":"IF(ISBLANK('Data Input'!A125),\"\",COUNTIF('Data Input'!C125:AQ125,\"\")-1)","v":""},{"$f":"IF(ISBLANK('Data Input'!A125),\"\",COUNTIF('Data Input'!C125:AQ125,\"0\"))","v":""},{"$f":"IF(ISBLANK('Data Input'!A125),\"\",SUM(B121,C121))","v":""},{"$f":"IF(ISBLANK('Data Input'!A125),\"\",SUM('Data Input'!C125:V125))","v":""},{"$f":"IF(ISBLANK('Data Input'!A125),\"\",SUM('Data Input'!X125:AQ125))","v":""},{"$f":"IF(ISBLANK('Data Input'!A125),\"\",SUM('Data Input'!C125:AQ125))","v":""},{"$f":"IF(G121=\"\",\"\",G121/(COUNTA('Data Input'!$C$8:$AQ$8)-1))","v":""},{"$f":"IF(ISBLANK('Data Input'!A125),\"\",SUM('Data Input'!C125,'Data Input'!K125,'Data Input'!L125,'Data Input'!AC125,'Data Input'!AF125,'Data Input'!AM125,'Data Input'!AO125))","v":""},{"$f":"IF(I121=\"\",\"\",I121/COUNTIF('Data Input'!$C$8:$AQ$8,$I$2))","v":""},{"$f":"IF(ISBLANK('Data Input'!A125),\"\",SUM('Data Input'!D125,'Data Input'!E125,'Data Input'!F125,'Data Input'!G125,'Data Input'!J125,'Data Input'!O125,'Data Input'!P125,'Data Input'!S125,'Data Input'!U125,'Data Input'!X125,'Data Input'!Z125,'Data Input'!AA125,'Data Input'!AB125,'Data Input'!AE125,'Data Input'!AG125,'Data Input'!AH125,'Data Input'!AJ125,'Data Input'!AK125,'Data Input'!AL125,'Data Input'!AN125))","v":""},{"$f":"IF(K121=\"\",\"\",K121/COUNTIF('Data Input'!$C$8:$AQ$8,$K$2))","v":""},{"$f":"IF(ISBLANK('Data Input'!A125),\"\",SUM('Data Input'!V125))","v":""},{"$f":"IF(M121=\"\",\"\",M121/COUNTIF('Data Input'!$C$8:$AQ$8,$M$2))","v":""},{"$f":"IF(ISBLANK('Data Input'!A125),\"\",SUM('Data Input'!H125,'Data Input'!I125,'Data Input'!M125,'Data Input'!N125,'Data Input'!Q125,'Data Input'!R125,'Data Input'!T125,'Data Input'!Y125,'Data Input'!AD125,'Data Input'!AI125,'Data Input'!AP125,'Data Input'!AQ125))","v":""},{"$f":"IF(O121=\"\",\"\",O121/COUNTIF('Data Input'!$C$8:$AQ$8,$O$2))","v":""}]
[{"$f":"IF('Data Input'!A126=0,\"\",'Data Input'!A126)","v":""},{"$f":"IF(ISBLANK('Data Input'!A126),\"\",COUNTIF('Data Input'!C126:AQ126,\"\")-1)","v":""},{"$f":"IF(ISBLANK('Data Input'!A126),\"\",COUNTIF('Data Input'!C126:AQ126,\"0\"))","v":""},{"$f":"IF(ISBLANK('Data Input'!A126),\"\",SUM(B122,C122))","v":""},{"$f":"IF(ISBLANK('Data Input'!A126),\"\",SUM('Data Input'!C126:V126))","v":""},{"$f":"IF(ISBLANK('Data Input'!A126),\"\",SUM('Data Input'!X126:AQ126))","v":""},{"$f":"IF(ISBLANK('Data Input'!A126),\"\",SUM('Data Input'!C126:AQ126))","v":""},{"$f":"IF(G122=\"\",\"\",G122/(COUNTA('Data Input'!$C$8:$AQ$8)-1))","v":""},{"$f":"IF(ISBLANK('Data Input'!A126),\"\",SUM('Data Input'!C126,'Data Input'!K126,'Data Input'!L126,'Data Input'!AC126,'Data Input'!AF126,'Data Input'!AM126,'Data Input'!AO126))","v":""},{"$f":"IF(I122=\"\",\"\",I122/COUNTIF('Data Input'!$C$8:$AQ$8,$I$2))","v":""},{"$f":"IF(ISBLANK('Data Input'!A126),\"\",SUM('Data Input'!D126,'Data Input'!E126,'Data Input'!F126,'Data Input'!G126,'Data Input'!J126,'Data Input'!O126,'Data Input'!P126,'Data Input'!S126,'Data Input'!U126,'Data Input'!X126,'Data Input'!Z126,'Data Input'!AA126,'Data Input'!AB126,'Data Input'!AE126,'Data Input'!AG126,'Data Input'!AH126,'Data Input'!AJ126,'Data Input'!AK126,'Data Input'!AL126,'Data Input'!AN126))","v":""},{"$f":"IF(K122=\"\",\"\",K122/COUNTIF('Data Input'!$C$8:$AQ$8,$K$2))","v":""},{"$f":"IF(ISBLANK('Data Input'!A126),\"\",SUM('Data Input'!V126))","v":""},{"$f":"IF(M122=\"\",\"\",M122/COUNTIF('Data Input'!$C$8:$AQ$8,$M$2))","v":""},{"$f":"IF(ISBLANK('Data Input'!A126),\"\",SUM('Data Input'!H126,'Data Input'!I126,'Data Input'!M126,'Data Input'!N126,'Data Input'!Q126,'Data Input'!R126,'Data Input'!T126,'Data Input'!Y126,'Data Input'!AD126,'Data Input'!AI126,'Data Input'!AP126,'Data Input'!AQ126))","v":""},{"$f":"IF(O122=\"\",\"\",O122/COUNTIF('Data Input'!$C$8:$AQ$8,$O$2))","v":""}]
[{"$f":"IF('Data Input'!A127=0,\"\",'Data Input'!A127)","v":""},{"$f":"IF(ISBLANK('Data Input'!A127),\"\",COUNTIF('Data Input'!C127:AQ127,\"\")-1)","v":""},{"$f":"IF(ISBLANK('Data Input'!A127),\"\",COUNTIF('Data Input'!C127:AQ127,\"0\"))","v":""},{"$f":"IF(ISBLANK('Data Input'!A127),\"\",SUM(B123,C123))","v":""},{"$f":"IF(ISBLANK('Data Input'!A127),\"\",SUM('Data Input'!C127:V127))","v":""},{"$f":"IF(ISBLANK('Data Input'!A127),\"\",SUM('Data Input'!X127:AQ127))","v":""},{"$f":"IF(ISBLANK('Data Input'!A127),\"\",SUM('Data Input'!C127:AQ127))","v":""},{"$f":"IF(G123=\"\",\"\",G123/(COUNTA('Data Input'!$C$8:$AQ$8)-1))","v":""},{"$f":"IF(ISBLANK('Data Input'!A127),\"\",SUM('Data Input'!C127,'Data Input'!K127,'Data Input'!L127,'Data Input'!AC127,'Data Input'!AF127,'Data Input'!AM127,'Data Input'!AO127))","v":""},{"$f":"IF(I123=\"\",\"\",I123/COUNTIF('Data Input'!$C$8:$AQ$8,$I$2))","v":""},{"$f":"IF(ISBLANK('Data Input'!A127),\"\",SUM('Data Input'!D127,'Data Input'!E127,'Data Input'!F127,'Data Input'!G127,'Data Input'!J127,'Data Input'!O127,'Data Input'!P127,'Data Input'!S127,'Data Input'!U127,'Data Input'!X127,'Data Input'!Z127,'Data Input'!AA127,'Data Input'!AB127,'Data Input'!AE127,'Data Input'!AG127,'Data Input'!AH127,'Data Input'!AJ127,'Data Input'!AK127,'Data Input'!AL127,'Data Input'!AN127))","v":""},{"$f":"IF(K123=\"\",\"\",K123/COUNTIF('Data Input'!$C$8:$AQ$8,$K$2))","v":""},{"$f":"IF(ISBLANK('Data Input'!A127),\"\",SUM('Data Input'!V127))","v":""},{"$f":"IF(M123=\"\",\"\",M123/COUNTIF('Data Input'!$C$8:$AQ$8,$M$2))","v":""},{"$f":"IF(ISBLANK('Data Input'!A127),\"\",SUM('Data Input'!H127,'Data Input'!I127,'Data Input'!M127,'Data Input'!N127,'Data Input'!Q127,'Data Input'!R127,'Data Input'!T127,'Data Input'!Y127,'Data Input'!AD127,'Data Input'!AI127,'Data Input'!AP127,'Data Input'!AQ127))","v":""},{"$f":"IF(O123=\"\",\"\",O123/COUNTIF('Data Input'!$C$8:$AQ$8,$O$2))","v":""}]
[{"$f":"IF('Data Input'!A128=0,\"\",'Data Input'!A128)","v":""},{"$f":"IF(ISBLANK('Data Input'!A128),\"\",COUNTIF('Data Input'!C128:AQ128,\"\")-1)","v":""},{"$f":"IF(ISBLANK('Data Input'!A128),\"\",COUNTIF('Data Input'!C128:AQ128,\"0\"))","v":""},{"$f":"IF(ISBLANK('Data Input'!A128),\"\",SUM(B124,C124))","v":""},{"$f":"IF(ISBLANK('Data Input'!A128),\"\",SUM('Data Input'!C128:V128))","v":""},{"$f":"IF(ISBLANK('Data Input'!A128),\"\",SUM('Data Input'!X128:AQ128))","v":""},{"$f":"IF(ISBLANK('Data Input'!A128),\"\",SUM('Data Input'!C128:AQ128))","v":""},{"$f":"IF(G124=\"\",\"\",G124/(COUNTA('Data Input'!$C$8:$AQ$8)-1))","v":""},{"$f":"IF(ISBLANK('Data Input'!A128),\"\",SUM('Data Input'!C128,'Data Input'!K128,'Data Input'!L128,'Data Input'!AC128,'Data Input'!AF128,'Data Input'!AM128,'Data Input'!AO128))","v":""},{"$f":"IF(I124=\"\",\"\",I124/COUNTIF('Data Input'!$C$8:$AQ$8,$I$2))","v":""},{"$f":"IF(ISBLANK('Data Input'!A128),\"\",SUM('Data Input'!D128,'Data Input'!E128,'Data Input'!F128,'Data Input'!G128,'Data Input'!J128,'Data Input'!O128,'Data Input'!P128,'Data Input'!S128,'Data Input'!U128,'Data Input'!X128,'Data Input'!Z128,'Data Input'!AA128,'Data Input'!AB128,'Data Input'!AE128,'Data Input'!AG128,'Data Input'!AH128,'Data Input'!AJ128,'Data Input'!AK128,'Data Input'!AL128,'Data Input'!AN128))","v":""},{"$f":"IF(K124=\"\",\"\",K124/COUNTIF('Data Input'!$C$8:$AQ$8,$K$2))","v":""},{"$f":"IF(ISBLANK('Data Input'!A128),\"\",SUM('Data Input'!V128))","v":""},{"$f":"IF(M124=\"\",\"\",M124/COUNTIF('Data Input'!$C$8:$AQ$8,$M$2))","v":""},{"$f":"IF(ISBLANK('Data Input'!A128),\"\",SUM('Data Input'!H128,'Data Input'!I128,'Data Input'!M128,'Data Input'!N128,'Data Input'!Q128,'Data Input'!R128,'Data Input'!T128,'Data Input'!Y128,'Data Input'!AD128,'Data Input'!AI128,'Data Input'!AP128,'Data Input'!AQ128))","v":""},{"$f":"IF(O124=\"\",\"\",O124/COUNTIF('Data Input'!$C$8:$AQ$8,$O$2))","v":""}]
[{"$f":"IF('Data Input'!A129=0,\"\",'Data Input'!A129)","v":""},{"$f":"IF(ISBLANK('Data Input'!A129),\"\",COUNTIF('Data Input'!C129:AQ129,\"\")-1)","v":""},{"$f":"IF(ISBLANK('Data Input'!A129),\"\",COUNTIF('Data Input'!C129:AQ129,\"0\"))","v":""},{"$f":"IF(ISBLANK('Data Input'!A129),\"\",SUM(B125,C125))","v":""},{"$f":"IF(ISBLANK('Data Input'!A129),\"\",SUM('Data Input'!C129:V129))","v":""},{"$f":"IF(ISBLANK('Data Input'!A129),\"\",SUM('Data Input'!X129:AQ129))","v":""},{"$f":"IF(ISBLANK('Data Input'!A129),\"\",SUM('Data Input'!C129:AQ129))","v":""},{"$f":"IF(G125=\"\",\"\",G125/(COUNTA('Data Input'!$C$8:$AQ$8)-1))","v":""},{"$f":"IF(ISBLANK('Data Input'!A129),\"\",SUM('Data Input'!C129,'Data Input'!K129,'Data Input'!L129,'Data Input'!AC129,'Data Input'!AF129,'Data Input'!AM129,'Data Input'!AO129))","v":""},{"$f":"IF(I125=\"\",\"\",I125/COUNTIF('Data Input'!$C$8:$AQ$8,$I$2))","v":""},{"$f":"IF(ISBLANK('Data Input'!A129),\"\",SUM('Data Input'!D129,'Data Input'!E129,'Data Input'!F129,'Data Input'!G129,'Data Input'!J129,'Data Input'!O129,'Data Input'!P129,'Data Input'!S129,'Data Input'!U129,'Data Input'!X129,'Data Input'!Z129,'Data Input'!AA129,'Data Input'!AB129,'Data Input'!AE129,'Data Input'!AG129,'Data Input'!AH129,'Data Input'!AJ129,'Data Input'!AK129,'Data Input'!AL129,'Data Input'!AN129))","v":""},{"$f":"IF(K125=\"\",\"\",K125/COUNTIF('Data Input'!$C$8:$AQ$8,$K$2))","v":""},{"$f":"IF(ISBLANK('Data Input'!A129),\"\",SUM('Data Input'!V129))","v":""},{"$f":"IF(M125=\"\",\"\",M125/COUNTIF('Data Input'!$C$8:$AQ$8,$M$2))","v":""},{"$f":"IF(ISBLANK('Data Input'!A129),\"\",SUM('Data Input'!H129,'Data Input'!I129,'Data Input'!M129,'Data Input'!N129,'Data Input'!Q129,'Data Input'!R129,'Data Input'!T129,'Data Input'!Y129,'Data Input'!AD129,'Data Input'!AI129,'Data Input'!AP129,'Data Input'!AQ129))","v":""},{"$f":"IF(O125=\"\",\"\",O125/COUNTIF('Data Input'!$C$8:$AQ$8,$O$2))","v":""}]
[{"$f":"IF('Data Input'!A130=0,\"\",'Data Input'!A130)","v":""},{"$f":"IF(ISBLANK('Data Input'!A130),\"\",COUNTIF('Data Input'!C130:AQ130,\"\")-1)","v":""},{"$f":"IF(ISBLANK('Data Input'!A130),\"\",COUNTIF('Data Input'!C130:AQ130,\"0\"))","v":""},{"$f":"IF(ISBLANK('Data Input'!A130),\"\",SUM(B126,C126))","v":""},{"$f":"IF(ISBLANK('Data Input'!A130),\"\",SUM('Data Input'!C130:V130))","v":""},{"$f":"IF(ISBLANK('Data Input'!A130),\"\",SUM('Data Input'!X130:AQ130))","v":""},{"$f":"IF(ISBLANK('Data Input'!A130),\"\",SUM('Data Input'!C130:AQ130))","v":""},{"$f":"IF(G126=\"\",\"\",G126/(COUNTA('Data Input'!$C$8:$AQ$8)-1))","v":""},{"$f":"IF(ISBLANK('Data Input'!A130),\"\",SUM('Data Input'!C130,'Data Input'!K130,'Data Input'!L130,'Data Input'!AC130,'Data Input'!AF130,'Data Input'!AM130,'Data Input'!AO130))","v":""},{"$f":"IF(I126=\"\",\"\",I126/COUNTIF('Data Input'!$C$8:$AQ$8,$I$2))","v":""},{"$f":"IF(ISBLANK('Data Input'!A130),\"\",SUM('Data Input'!D130,'Data Input'!E130,'Data Input'!F130,'Data Input'!G130,'Data Input'!J130,'Data Input'!O130,'Data Input'!P130,'Data Input'!S130,'Data Input'!U130,'Data Input'!X130,'Data Input'!Z130,'Data Input'!AA130,'Data Input'!AB130,'Data Input'!AE130,'Data Input'!AG130,'Data Input'!AH130,'Data Input'!AJ130,'Data Input'!AK130,'Data Input'!AL130,'Data Input'!AN130))","v":""},{"$f":"IF(K126=\"\",\"\",K126/COUNTIF('Data Input'!$C$8:$AQ$8,$K$2))","v":""},{"$f":"IF(ISBLANK('Data Input'!A130),\"\",SUM('Data Input'!V130))","v":""},{"$f":"IF(M126=\"\",\"\",M126/COUNTIF('Data Input'!$C$8:$AQ$8,$M$2))","v":""},{"$f":"IF(ISBLANK('Data Input'!A130),\"\",SUM('Data Input'!H130,'Data Input'!I130,'Data Input'!M130,'Data Input'!N130,'Data Input'!Q130,'Data Input'!R130,'Data Input'!T130,'Data Input'!Y130,'Data Input'!AD130,'Data Input'!AI130,'Data Input'!AP130,'Data Input'!AQ130))","v":""},{"$f":"IF(O126=\"\",\"\",O126/COUNTIF('Data Input'!$C$8:$AQ$8,$O$2))","v":""}]
[{"$f":"IF('Data Input'!A131=0,\"\",'Data Input'!A131)","v":""},{"$f":"IF(ISBLANK('Data Input'!A131),\"\",COUNTIF('Data Input'!C131:AQ131,\"\")-1)","v":""},{"$f":"IF(ISBLANK('Data Input'!A131),\"\",COUNTIF('Data Input'!C131:AQ131,\"0\"))","v":""},{"$f":"IF(ISBLANK('Data Input'!A131),\"\",SUM(B127,C127))","v":""},{"$f":"IF(ISBLANK('Data Input'!A131),\"\",SUM('Data Input'!C131:V131))","v":""},{"$f":"IF(ISBLANK('Data Input'!A131),\"\",SUM('Data Input'!X131:AQ131))","v":""},{"$f":"IF(ISBLANK('Data Input'!A131),\"\",SUM('Data Input'!C131:AQ131))","v":""},{"$f":"IF(G127=\"\",\"\",G127/(COUNTA('Data Input'!$C$8:$AQ$8)-1))","v":""},{"$f":"IF(ISBLANK('Data Input'!A131),\"\",SUM('Data Input'!C131,'Data Input'!K131,'Data Input'!L131,'Data Input'!AC131,'Data Input'!AF131,'Data Input'!AM131,'Data Input'!AO131))","v":""},{"$f":"IF(I127=\"\",\"\",I127/COUNTIF('Data Input'!$C$8:$AQ$8,$I$2))","v":""},{"$f":"IF(ISBLANK('Data Input'!A131),\"\",SUM('Data Input'!D131,'Data Input'!E131,'Data Input'!F131,'Data Input'!G131,'Data Input'!J131,'Data Input'!O131,'Data Input'!P131,'Data Input'!S131,'Data Input'!U131,'Data Input'!X131,'Data Input'!Z131,'Data Input'!AA131,'Data Input'!AB131,'Data Input'!AE131,'Data Input'!AG131,'Data Input'!AH131,'Data Input'!AJ131,'Data Input'!AK131,'Data Input'!AL131,'Data Input'!AN131))","v":""},{"$f":"IF(K127=\"\",\"\",K127/COUNTIF('Data Input'!$C$8:$AQ$8,$K$2))","v":""},{"$f":"IF(ISBLANK('Data Input'!A131),\"\",SUM('Data Input'!V131))","v":""},{"$f":"IF(M127=\"\",\"\",M127/COUNTIF('Data Input'!$C$8:$AQ$8,$M$2))","v":""},{"$f":"IF(ISBLANK('Data Input'!A131),\"\",SUM('Data Input'!H131,'Data Input'!I131,'Data Input'!M131,'Data Input'!N131,'Data Input'!Q131,'Data Input'!R131,'Data Input'!T131,'Data Input'!Y131,'Data Input'!AD131,'Data Input'!AI131,'Data Input'!AP131,'Data Input'!AQ131))","v":""},{"$f":"IF(O127=\"\",\"\",O127/COUNTIF('Data Input'!$C$8:$AQ$8,$O$2))","v":""}]
[{"$f":"IF('Data Input'!A132=0,\"\",'Data Input'!A132)","v":""},{"$f":"IF(ISBLANK('Data Input'!A132),\"\",COUNTIF('Data Input'!C132:AQ132,\"\")-1)","v":""},{"$f":"IF(ISBLANK('Data Input'!A132),\"\",COUNTIF('Data Input'!C132:AQ132,\"0\"))","v":""},{"$f":"IF(ISBLANK('Data Input'!A132),\"\",SUM(B128,C128))","v":""},{"$f":"IF(ISBLANK('Data Input'!A132),\"\",SUM('Data Input'!C132:V132))","v":""},{"$f":"IF(ISBLANK('Data Input'!A132),\"\",SUM('Data Input'!X132:AQ132))","v":""},{"$f":"IF(ISBLANK('Data Input'!A132),\"\",SUM('Data Input'!C132:AQ132))","v":""},{"$f":"IF(G128=\"\",\"\",G128/(COUNTA('Data Input'!$C$8:$AQ$8)-1))","v":""},{"$f":"IF(ISBLANK('Data Input'!A132),\"\",SUM('Data Input'!C132,'Data Input'!K132,'Data Input'!L132,'Data Input'!AC132,'Data Input'!AF132,'Data Input'!AM132,'Data Input'!AO132))","v":""},{"$f":"IF(I128=\"\",\"\",I128/COUNTIF('Data Input'!$C$8:$AQ$8,$I$2))","v":""},{"$f":"IF(ISBLANK('Data Input'!A132),\"\",SUM('Data Input'!D132,'Data Input'!E132,'Data Input'!F132,'Data Input'!G132,'Data Input'!J132,'Data Input'!O132,'Data Input'!P132,'Data Input'!S132,'Data Input'!U132,'Data Input'!X132,'Data Input'!Z132,'Data Input'!AA132,'Data Input'!AB132,'Data Input'!AE132,'Data Input'!AG132,'Data Input'!AH132,'Data Input'!AJ132,'Data Input'!AK132,'Data Input'!AL132,'Data Input'!AN132))","v":""},{"$f":"IF(K128=\"\",\"\",K128/COUNTIF('Data Input'!$C$8:$AQ$8,$K$2))","v":""},{"$f":"IF(ISBLANK('Data Input'!A132),\"\",SUM('Data Input'!V132))","v":""},{"$f":"IF(M128=\"\",\"\",M128/COUNTIF('Data Input'!$C$8:$AQ$8,$M$2))","v":""},{"$f":"IF(ISBLANK('Data Input'!A132),\"\",SUM('Data Input'!H132,'Data Input'!I132,'Data Input'!M132,'Data Input'!N132,'Data Input'!Q132,'Data Input'!R132,'Data Input'!T132,'Data Input'!Y132,'Data Input'!AD132,'Data Input'!AI132,'Data Input'!AP132,'Data Input'!AQ132))","v":""},{"$f":"IF(O128=\"\",\"\",O128/COUNTIF('Data Input'!$C$8:$AQ$8,$O$2))","v":""}]
[{"$f":"IF('Data Input'!A133=0,\"\",'Data Input'!A133)","v":""},{"$f":"IF(ISBLANK('Data Input'!A133),\"\",COUNTIF('Data Input'!C133:AQ133,\"\")-1)","v":""},{"$f":"IF(ISBLANK('Data Input'!A133),\"\",COUNTIF('Data Input'!C133:AQ133,\"0\"))","v":""},{"$f":"IF(ISBLANK('Data Input'!A133),\"\",SUM(B129,C129))","v":""},{"$f":"IF(ISBLANK('Data Input'!A133),\"\",SUM('Data Input'!C133:V133))","v":""},{"$f":"IF(ISBLANK('Data Input'!A133),\"\",SUM('Data Input'!X133:AQ133))","v":""},{"$f":"IF(ISBLANK('Data Input'!A133),\"\",SUM('Data Input'!C133:AQ133))","v":""},{"$f":"IF(G129=\"\",\"\",G129/(COUNTA('Data Input'!$C$8:$AQ$8)-1))","v":""},{"$f":"IF(ISBLANK('Data Input'!A133),\"\",SUM('Data Input'!C133,'Data Input'!K133,'Data Input'!L133,'Data Input'!AC133,'Data Input'!AF133,'Data Input'!AM133,'Data Input'!AO133))","v":""},{"$f":"IF(I129=\"\",\"\",I129/COUNTIF('Data Input'!$C$8:$AQ$8,$I$2))","v":""},{"$f":"IF(ISBLANK('Data Input'!A133),\"\",SUM('Data Input'!D133,'Data Input'!E133,'Data Input'!F133,'Data Input'!G133,'Data Input'!J133,'Data Input'!O133,'Data Input'!P133,'Data Input'!S133,'Data Input'!U133,'Data Input'!X133,'Data Input'!Z133,'Data Input'!AA133,'Data Input'!AB133,'Data Input'!AE133,'Data Input'!AG133,'Data Input'!AH133,'Data Input'!AJ133,'Data Input'!AK133,'Data Input'!AL133,'Data Input'!AN133))","v":""},{"$f":"IF(K129=\"\",\"\",K129/COUNTIF('Data Input'!$C$8:$AQ$8,$K$2))","v":""},{"$f":"IF(ISBLANK('Data Input'!A133),\"\",SUM('Data Input'!V133))","v":""},{"$f":"IF(M129=\"\",\"\",M129/COUNTIF('Data Input'!$C$8:$AQ$8,$M$2))","v":""},{"$f":"IF(ISBLANK('Data Input'!A133),\"\",SUM('Data Input'!H133,'Data Input'!I133,'Data Input'!M133,'Data Input'!N133,'Data Input'!Q133,'Data Input'!R133,'Data Input'!T133,'Data Input'!Y133,'Data Input'!AD133,'Data Input'!AI133,'Data Input'!AP133,'Data Input'!AQ133))","v":""},{"$f":"IF(O129=\"\",\"\",O129/COUNTIF('Data Input'!$C$8:$AQ$8,$O$2))","v":""}]
[{"$f":"IF('Data Input'!A134=0,\"\",'Data Input'!A134)","v":""},{"$f":"IF(ISBLANK('Data Input'!A134),\"\",COUNTIF('Data Input'!C134:AQ134,\"\")-1)","v":""},{"$f":"IF(ISBLANK('Data Input'!A134),\"\",COUNTIF('Data Input'!C134:AQ134,\"0\"))","v":""},{"$f":"IF(ISBLANK('Data Input'!A134),\"\",SUM(B130,C130))","v":""},{"$f":"IF(ISBLANK('Data Input'!A134),\"\",SUM('Data Input'!C134:V134))","v":""},{"$f":"IF(ISBLANK('Data Input'!A134),\"\",SUM('Data Input'!X134:AQ134))","v":""},{"$f":"IF(ISBLANK('Data Input'!A134),\"\",SUM('Data Input'!C134:AQ134))","v":""},{"$f":"IF(G130=\"\",\"\",G130/(COUNTA('Data Input'!$C$8:$AQ$8)-1))","v":""},{"$f":"IF(ISBLANK('Data Input'!A134),\"\",SUM('Data Input'!C134,'Data Input'!K134,'Data Input'!L134,'Data Input'!AC134,'Data Input'!AF134,'Data Input'!AM134,'Data Input'!AO134))","v":""},{"$f":"IF(I130=\"\",\"\",I130/COUNTIF('Data Input'!$C$8:$AQ$8,$I$2))","v":""},{"$f":"IF(ISBLANK('Data Input'!A134),\"\",SUM('Data Input'!D134,'Data Input'!E134,'Data Input'!F134,'Data Input'!G134,'Data Input'!J134,'Data Input'!O134,'Data Input'!P134,'Data Input'!S134,'Data Input'!U134,'Data Input'!X134,'Data Input'!Z134,'Data Input'!AA134,'Data Input'!AB134,'Data Input'!AE134,'Data Input'!AG134,'Data Input'!AH134,'Data Input'!AJ134,'Data Input'!AK134,'Data Input'!AL134,'Data Input'!AN134))","v":""},{"$f":"IF(K130=\"\",\"\",K130/COUNTIF('Data Input'!$C$8:$AQ$8,$K$2))","v":""},{"$f":"IF(ISBLANK('Data Input'!A134),\"\",SUM('Data Input'!V134))","v":""},{"$f":"IF(M130=\"\",\"\",M130/COUNTIF('Data Input'!$C$8:$AQ$8,$M$2))","v":""},{"$f":"IF(ISBLANK('Data Input'!A134),\"\",SUM('Data Input'!H134,'Data Input'!I134,'Data Input'!M134,'Data Input'!N134,'Data Input'!Q134,'Data Input'!R134,'Data Input'!T134,'Data Input'!Y134,'Data Input'!AD134,'Data Input'!AI134,'Data Input'!AP134,'Data Input'!AQ134))","v":""},{"$f":"IF(O130=\"\",\"\",O130/COUNTIF('Data Input'!$C$8:$AQ$8,$O$2))","v":""}]
[{"$f":"IF('Data Input'!A135=0,\"\",'Data Input'!A135)","v":""},{"$f":"IF(ISBLANK('Data Input'!A135),\"\",COUNTIF('Data Input'!C135:AQ135,\"\")-1)","v":""},{"$f":"IF(ISBLANK('Data Input'!A135),\"\",COUNTIF('Data Input'!C135:AQ135,\"0\"))","v":""},{"$f":"IF(ISBLANK('Data Input'!A135),\"\",SUM(B131,C131))","v":""},{"$f":"IF(ISBLANK('Data Input'!A135),\"\",SUM('Data Input'!C135:V135))","v":""},{"$f":"IF(ISBLANK('Data Input'!A135),\"\",SUM('Data Input'!X135:AQ135))","v":""},{"$f":"IF(ISBLANK('Data Input'!A135),\"\",SUM('Data Input'!C135:AQ135))","v":""},{"$f":"IF(G131=\"\",\"\",G131/(COUNTA('Data Input'!$C$8:$AQ$8)-1))","v":""},{"$f":"IF(ISBLANK('Data Input'!A135),\"\",SUM('Data Input'!C135,'Data Input'!K135,'Data Input'!L135,'Data Input'!AC135,'Data Input'!AF135,'Data Input'!AM135,'Data Input'!AO135))","v":""},{"$f":"IF(I131=\"\",\"\",I131/COUNTIF('Data Input'!$C$8:$AQ$8,$I$2))","v":""},{"$f":"IF(ISBLANK('Data Input'!A135),\"\",SUM('Data Input'!D135,'Data Input'!E135,'Data Input'!F135,'Data Input'!G135,'Data Input'!J135,'Data Input'!O135,'Data Input'!P135,'Data Input'!S135,'Data Input'!U135,'Data Input'!X135,'Data Input'!Z135,'Data Input'!AA135,'Data Input'!AB135,'Data Input'!AE135,'Data Input'!AG135,'Data Input'!AH135,'Data Input'!AJ135,'Data Input'!AK135,'Data Input'!AL135,'Data Input'!AN135))","v":""},{"$f":"IF(K131=\"\",\"\",K131/COUNTIF('Data Input'!$C$8:$AQ$8,$K$2))","v":""},{"$f":"IF(ISBLANK('Data Input'!A135),\"\",SUM('Data Input'!V135))","v":""},{"$f":"IF(M131=\"\",\"\",M131/COUNTIF('Data Input'!$C$8:$AQ$8,$M$2))","v":""},{"$f":"IF(ISBLANK('Data Input'!A135),\"\",SUM('Data Input'!H135,'Data Input'!I135,'Data Input'!M135,'Data Input'!N135,'Data Input'!Q135,'Data Input'!R135,'Data Input'!T135,'Data Input'!Y135,'Data Input'!AD135,'Data Input'!AI135,'Data Input'!AP135,'Data Input'!AQ135))","v":""},{"$f":"IF(O131=\"\",\"\",O131/COUNTIF('Data Input'!$C$8:$AQ$8,$O$2))","v":""}]
[{"$f":"IF('Data Input'!A136=0,\"\",'Data Input'!A136)","v":""},{"$f":"IF(ISBLANK('Data Input'!A136),\"\",COUNTIF('Data Input'!C136:AQ136,\"\")-1)","v":""},{"$f":"IF(ISBLANK('Data Input'!A136),\"\",COUNTIF('Data Input'!C136:AQ136,\"0\"))","v":""},{"$f":"IF(ISBLANK('Data Input'!A136),\"\",SUM(B132,C132))","v":""},{"$f":"IF(ISBLANK('Data Input'!A136),\"\",SUM('Data Input'!C136:V136))","v":""},{"$f":"IF(ISBLANK('Data Input'!A136),\"\",SUM('Data Input'!X136:AQ136))","v":""},{"$f":"IF(ISBLANK('Data Input'!A136),\"\",SUM('Data Input'!C136:AQ136))","v":""},{"$f":"IF(G132=\"\",\"\",G132/(COUNTA('Data Input'!$C$8:$AQ$8)-1))","v":""},{"$f":"IF(ISBLANK('Data Input'!A136),\"\",SUM('Data Input'!C136,'Data Input'!K136,'Data Input'!L136,'Data Input'!AC136,'Data Input'!AF136,'Data Input'!AM136,'Data Input'!AO136))","v":""},{"$f":"IF(I132=\"\",\"\",I132/COUNTIF('Data Input'!$C$8:$AQ$8,$I$2))","v":""},{"$f":"IF(ISBLANK('Data Input'!A136),\"\",SUM('Data Input'!D136,'Data Input'!E136,'Data Input'!F136,'Data Input'!G136,'Data Input'!J136,'Data Input'!O136,'Data Input'!P136,'Data Input'!S136,'Data Input'!U136,'Data Input'!X136,'Data Input'!Z136,'Data Input'!AA136,'Data Input'!AB136,'Data Input'!AE136,'Data Input'!AG136,'Data Input'!AH136,'Data Input'!AJ136,'Data Input'!AK136,'Data Input'!AL136,'Data Input'!AN136))","v":""},{"$f":"IF(K132=\"\",\"\",K132/COUNTIF('Data Input'!$C$8:$AQ$8,$K$2))","v":""},{"$f":"IF(ISBLANK('Data Input'!A136),\"\",SUM('Data Input'!V136))","v":""},{"$f":"IF(M132=\"\",\"\",M132/COUNTIF('Data Input'!$C$8:$AQ$8,$M$2))","v":""},{"$f":"IF(ISBLANK('Data Input'!A136),\"\",SUM('Data Input'!H136,'Data Input'!I136,'Data Input'!M136,'Data Input'!N136,'Data Input'!Q136,'Data Input'!R136,'Data Input'!T136,'Data Input'!Y136,'Data Input'!AD136,'Data Input'!AI136,'Data Input'!AP136,'Data Input'!AQ136))","v":""},{"$f":"IF(O132=\"\",\"\",O132/COUNTIF('Data Input'!$C$8:$AQ$8,$O$2))","v":""}]
[{"$f":"IF('Data Input'!A137=0,\"\",'Data Input'!A137)","v":""},{"$f":"IF(ISBLANK('Data Input'!A137),\"\",COUNTIF('Data Input'!C137:AQ137,\"\")-1)","v":""},{"$f":"IF(ISBLANK('Data Input'!A137),\"\",COUNTIF('Data Input'!C137:AQ137,\"0\"))","v":""},{"$f":"IF(ISBLANK('Data Input'!A137),\"\",SUM(B133,C133))","v":""},{"$f":"IF(ISBLANK('Data Input'!A137),\"\",SUM('Data Input'!C137:V137))","v":""},{"$f":"IF(ISBLANK('Data Input'!A137),\"\",SUM('Data Input'!X137:AQ137))","v":""},{"$f":"IF(ISBLANK('Data Input'!A137),\"\",SUM('Data Input'!C137:AQ137))","v":""},{"$f":"IF(G133=\"\",\"\",G133/(COUNTA('Data Input'!$C$8:$AQ$8)-1))","v":""},{"$f":"IF(ISBLANK('Data Input'!A137),\"\",SUM('Data Input'!C137,'Data Input'!K137,'Data Input'!L137,'Data Input'!AC137,'Data Input'!AF137,'Data Input'!AM137,'Data Input'!AO137))","v":""},{"$f":"IF(I133=\"\",\"\",I133/COUNTIF('Data Input'!$C$8:$AQ$8,$I$2))","v":""},{"$f":"IF(ISBLANK('Data Input'!A137),\"\",SUM('Data Input'!D137,'Data Input'!E137,'Data Input'!F137,'Data Input'!G137,'Data Input'!J137,'Data Input'!O137,'Data Input'!P137,'Data Input'!S137,'Data Input'!U137,'Data Input'!X137,'Data Input'!Z137,'Data Input'!AA137,'Data Input'!AB137,'Data Input'!AE137,'Data Input'!AG137,'Data Input'!AH137,'Data Input'!AJ137,'Data Input'!AK137,'Data Input'!AL137,'Data Input'!AN137))","v":""},{"$f":"IF(K133=\"\",\"\",K133/COUNTIF('Data Input'!$C$8:$AQ$8,$K$2))","v":""},{"$f":"IF(ISBLANK('Data Input'!A137),\"\",SUM('Data Input'!V137))","v":""},{"$f":"IF(M133=\"\",\"\",M133/COUNTIF('Data Input'!$C$8:$AQ$8,$M$2))","v":""},{"$f":"IF(ISBLANK('Data Input'!A137),\"\",SUM('Data Input'!H137,'Data Input'!I137,'Data Input'!M137,'Data Input'!N137,'Data Input'!Q137,'Data Input'!R137,'Data Input'!T137,'Data Input'!Y137,'Data Input'!AD137,'Data Input'!AI137,'Data Input'!AP137,'Data Input'!AQ137))","v":""},{"$f":"IF(O133=\"\",\"\",O133/COUNTIF('Data Input'!$C$8:$AQ$8,$O$2))","v":""}]
[{"$f":"IF('Data Input'!A138=0,\"\",'Data Input'!A138)","v":""},{"$f":"IF(ISBLANK('Data Input'!A138),\"\",COUNTIF('Data Input'!C138:AQ138,\"\")-1)","v":""},{"$f":"IF(ISBLANK('Data Input'!A138),\"\",COUNTIF('Data Input'!C138:AQ138,\"0\"))","v":""},{"$f":"IF(ISBLANK('Data Input'!A138),\"\",SUM(B134,C134))","v":""},{"$f":"IF(ISBLANK('Data Input'!A138),\"\",SUM('Data Input'!C138:V138))","v":""},{"$f":"IF(ISBLANK('Data Input'!A138),\"\",SUM('Data Input'!X138:AQ138))","v":""},{"$f":"IF(ISBLANK('Data Input'!A138),\"\",SUM('Data Input'!C138:AQ138))","v":""},{"$f":"IF(G134=\"\",\"\",G134/(COUNTA('Data Input'!$C$8:$AQ$8)-1))","v":""},{"$f":"IF(ISBLANK('Data Input'!A138),\"\",SUM('Data Input'!C138,'Data Input'!K138,'Data Input'!L138,'Data Input'!AC138,'Data Input'!AF138,'Data Input'!AM138,'Data Input'!AO138))","v":""},{"$f":"IF(I134=\"\",\"\",I134/COUNTIF('Data Input'!$C$8:$AQ$8,$I$2))","v":""},{"$f":"IF(ISBLANK('Data Input'!A138),\"\",SUM('Data Input'!D138,'Data Input'!E138,'Data Input'!F138,'Data Input'!G138,'Data Input'!J138,'Data Input'!O138,'Data Input'!P138,'Data Input'!S138,'Data Input'!U138,'Data Input'!X138,'Data Input'!Z138,'Data Input'!AA138,'Data Input'!AB138,'Data Input'!AE138,'Data Input'!AG138,'Data Input'!AH138,'Data Input'!AJ138,'Data Input'!AK138,'Data Input'!AL138,'Data Input'!AN138))","v":""},{"$f":"IF(K134=\"\",\"\",K134/COUNTIF('Data Input'!$C$8:$AQ$8,$K$2))","v":""},{"$f":"IF(ISBLANK('Data Input'!A138),\"\",SUM('Data Input'!V138))","v":""},{"$f":"IF(M134=\"\",\"\",M134/COUNTIF('Data Input'!$C$8:$AQ$8,$M$2))","v":""},{"$f":"IF(ISBLANK('Data Input'!A138),\"\",SUM('Data Input'!H138,'Data Input'!I138,'Data Input'!M138,'Data Input'!N138,'Data Input'!Q138,'Data Input'!R138,'Data Input'!T138,'Data Input'!Y138,'Data Input'!AD138,'Data Input'!AI138,'Data Input'!AP138,'Data Input'!AQ138))","v":""},{"$f":"IF(O134=\"\",\"\",O134/COUNTIF('Data Input'!$C$8:$AQ$8,$O$2))","v":""}]
[{"$f":"IF('Data Input'!A139=0,\"\",'Data Input'!A139)","v":""},{"$f":"IF(ISBLANK('Data Input'!A139),\"\",COUNTIF('Data Input'!C139:AQ139,\"\")-1)","v":""},{"$f":"IF(ISBLANK('Data Input'!A139),\"\",COUNTIF('Data Input'!C139:AQ139,\"0\"))","v":""},{"$f":"IF(ISBLANK('Data Input'!A139),\"\",SUM(B135,C135))","v":""},{"$f":"IF(ISBLANK('Data Input'!A139),\"\",SUM('Data Input'!C139:V139))","v":""},{"$f":"IF(ISBLANK('Data Input'!A139),\"\",SUM('Data Input'!X139:AQ139))","v":""},{"$f":"IF(ISBLANK('Data Input'!A139),\"\",SUM('Data Input'!C139:AQ139))","v":""},{"$f":"IF(G135=\"\",\"\",G135/(COUNTA('Data Input'!$C$8:$AQ$8)-1))","v":""},{"$f":"IF(ISBLANK('Data Input'!A139),\"\",SUM('Data Input'!C139,'Data Input'!K139,'Data Input'!L139,'Data Input'!AC139,'Data Input'!AF139,'Data Input'!AM139,'Data Input'!AO139))","v":""},{"$f":"IF(I135=\"\",\"\",I135/COUNTIF('Data Input'!$C$8:$AQ$8,$I$2))","v":""},{"$f":"IF(ISBLANK('Data Input'!A139),\"\",SUM('Data Input'!D139,'Data Input'!E139,'Data Input'!F139,'Data Input'!G139,'Data Input'!J139,'Data Input'!O139,'Data Input'!P139,'Data Input'!S139,'Data Input'!U139,'Data Input'!X139,'Data Input'!Z139,'Data Input'!AA139,'Data Input'!AB139,'Data Input'!AE139,'Data Input'!AG139,'Data Input'!AH139,'Data Input'!AJ139,'Data Input'!AK139,'Data Input'!AL139,'Data Input'!AN139))","v":""},{"$f":"IF(K135=\"\",\"\",K135/COUNTIF('Data Input'!$C$8:$AQ$8,$K$2))","v":""},{"$f":"IF(ISBLANK('Data Input'!A139),\"\",SUM('Data Input'!V139))","v":""},{"$f":"IF(M135=\"\",\"\",M135/COUNTIF('Data Input'!$C$8:$AQ$8,$M$2))","v":""},{"$f":"IF(ISBLANK('Data Input'!A139),\"\",SUM('Data Input'!H139,'Data Input'!I139,'Data Input'!M139,'Data Input'!N139,'Data Input'!Q139,'Data Input'!R139,'Data Input'!T139,'Data Input'!Y139,'Data Input'!AD139,'Data Input'!AI139,'Data Input'!AP139,'Data Input'!AQ139))","v":""},{"$f":"IF(O135=\"\",\"\",O135/COUNTIF('Data Input'!$C$8:$AQ$8,$O$2))","v":""}]
[{"$f":"IF('Data Input'!A140=0,\"\",'Data Input'!A140)","v":""},{"$f":"IF(ISBLANK('Data Input'!A140),\"\",COUNTIF('Data Input'!C140:AQ140,\"\")-1)","v":""},{"$f":"IF(ISBLANK('Data Input'!A140),\"\",COUNTIF('Data Input'!C140:AQ140,\"0\"))","v":""},{"$f":"IF(ISBLANK('Data Input'!A140),\"\",SUM(B136,C136))","v":""},{"$f":"IF(ISBLANK('Data Input'!A140),\"\",SUM('Data Input'!C140:V140))","v":""},{"$f":"IF(ISBLANK('Data Input'!A140),\"\",SUM('Data Input'!X140:AQ140))","v":""},{"$f":"IF(ISBLANK('Data Input'!A140),\"\",SUM('Data Input'!C140:AQ140))","v":""},{"$f":"IF(G136=\"\",\"\",G136/(COUNTA('Data Input'!$C$8:$AQ$8)-1))","v":""},{"$f":"IF(ISBLANK('Data Input'!A140),\"\",SUM('Data Input'!C140,'Data Input'!K140,'Data Input'!L140,'Data Input'!AC140,'Data Input'!AF140,'Data Input'!AM140,'Data Input'!AO140))","v":""},{"$f":"IF(I136=\"\",\"\",I136/COUNTIF('Data Input'!$C$8:$AQ$8,$I$2))","v":""},{"$f":"IF(ISBLANK('Data Input'!A140),\"\",SUM('Data Input'!D140,'Data Input'!E140,'Data Input'!F140,'Data Input'!G140,'Data Input'!J140,'Data Input'!O140,'Data Input'!P140,'Data Input'!S140,'Data Input'!U140,'Data Input'!X140,'Data Input'!Z140,'Data Input'!AA140,'Data Input'!AB140,'Data Input'!AE140,'Data Input'!AG140,'Data Input'!AH140,'Data Input'!AJ140,'Data Input'!AK140,'Data Input'!AL140,'Data Input'!AN140))","v":""},{"$f":"IF(K136=\"\",\"\",K136/COUNTIF('Data Input'!$C$8:$AQ$8,$K$2))","v":""},{"$f":"IF(ISBLANK('Data Input'!A140),\"\",SUM('Data Input'!V140))","v":""},{"$f":"IF(M136=\"\",\"\",M136/COUNTIF('Data Input'!$C$8:$AQ$8,$M$2))","v":""},{"$f":"IF(ISBLANK('Data Input'!A140),\"\",SUM('Data Input'!H140,'Data Input'!I140,'Data Input'!M140,'Data Input'!N140,'Data Input'!Q140,'Data Input'!R140,'Data Input'!T140,'Data Input'!Y140,'Data Input'!AD140,'Data Input'!AI140,'Data Input'!AP140,'Data Input'!AQ140))","v":""},{"$f":"IF(O136=\"\",\"\",O136/COUNTIF('Data Input'!$C$8:$AQ$8,$O$2))","v":""}]
[{"$f":"IF('Data Input'!A141=0,\"\",'Data Input'!A141)","v":""},{"$f":"IF(ISBLANK('Data Input'!A141),\"\",COUNTIF('Data Input'!C141:AQ141,\"\")-1)","v":""},{"$f":"IF(ISBLANK('Data Input'!A141),\"\",COUNTIF('Data Input'!C141:AQ141,\"0\"))","v":""},{"$f":"IF(ISBLANK('Data Input'!A141),\"\",SUM(B137,C137))","v":""},{"$f":"IF(ISBLANK('Data Input'!A141),\"\",SUM('Data Input'!C141:V141))","v":""},{"$f":"IF(ISBLANK('Data Input'!A141),\"\",SUM('Data Input'!X141:AQ141))","v":""},{"$f":"IF(ISBLANK('Data Input'!A141),\"\",SUM('Data Input'!C141:AQ141))","v":""},{"$f":"IF(G137=\"\",\"\",G137/(COUNTA('Data Input'!$C$8:$AQ$8)-1))","v":""},{"$f":"IF(ISBLANK('Data Input'!A141),\"\",SUM('Data Input'!C141,'Data Input'!K141,'Data Input'!L141,'Data Input'!AC141,'Data Input'!AF141,'Data Input'!AM141,'Data Input'!AO141))","v":""},{"$f":"IF(I137=\"\",\"\",I137/COUNTIF('Data Input'!$C$8:$AQ$8,$I$2))","v":""},{"$f":"IF(ISBLANK('Data Input'!A141),\"\",SUM('Data Input'!D141,'Data Input'!E141,'Data Input'!F141,'Data Input'!G141,'Data Input'!J141,'Data Input'!O141,'Data Input'!P141,'Data Input'!S141,'Data Input'!U141,'Data Input'!X141,'Data Input'!Z141,'Data Input'!AA141,'Data Input'!AB141,'Data Input'!AE141,'Data Input'!AG141,'Data Input'!AH141,'Data Input'!AJ141,'Data Input'!AK141,'Data Input'!AL141,'Data Input'!AN141))","v":""},{"$f":"IF(K137=\"\",\"\",K137/COUNTIF('Data Input'!$C$8:$AQ$8,$K$2))","v":""},{"$f":"IF(ISBLANK('Data Input'!A141),\"\",SUM('Data Input'!V141))","v":""},{"$f":"IF(M137=\"\",\"\",M137/COUNTIF('Data Input'!$C$8:$AQ$8,$M$2))","v":""},{"$f":"IF(ISBLANK('Data Input'!A141),\"\",SUM('Data Input'!H141,'Data Input'!I141,'Data Input'!M141,'Data Input'!N141,'Data Input'!Q141,'Data Input'!R141,'Data Input'!T141,'Data Input'!Y141,'Data Input'!AD141,'Data Input'!AI141,'Data Input'!AP141,'Data Input'!AQ141))","v":""},{"$f":"IF(O137=\"\",\"\",O137/COUNTIF('Data Input'!$C$8:$AQ$8,$O$2))","v":""}]
[{"$f":"IF('Data Input'!A142=0,\"\",'Data Input'!A142)","v":""},{"$f":"IF(ISBLANK('Data Input'!A142),\"\",COUNTIF('Data Input'!C142:AQ142,\"\")-1)","v":""},{"$f":"IF(ISBLANK('Data Input'!A142),\"\",COUNTIF('Data Input'!C142:AQ142,\"0\"))","v":""},{"$f":"IF(ISBLANK('Data Input'!A142),\"\",SUM(B138,C138))","v":""},{"$f":"IF(ISBLANK('Data Input'!A142),\"\",SUM('Data Input'!C142:V142))","v":""},{"$f":"IF(ISBLANK('Data Input'!A142),\"\",SUM('Data Input'!X142:AQ142))","v":""},{"$f":"IF(ISBLANK('Data Input'!A142),\"\",SUM('Data Input'!C142:AQ142))","v":""},{"$f":"IF(G138=\"\",\"\",G138/(COUNTA('Data Input'!$C$8:$AQ$8)-1))","v":""},{"$f":"IF(ISBLANK('Data Input'!A142),\"\",SUM('Data Input'!C142,'Data Input'!K142,'Data Input'!L142,'Data Input'!AC142,'Data Input'!AF142,'Data Input'!AM142,'Data Input'!AO142))","v":""},{"$f":"IF(I138=\"\",\"\",I138/COUNTIF('Data Input'!$C$8:$AQ$8,$I$2))","v":""},{"$f":"IF(ISBLANK('Data Input'!A142),\"\",SUM('Data Input'!D142,'Data Input'!E142,'Data Input'!F142,'Data Input'!G142,'Data Input'!J142,'Data Input'!O142,'Data Input'!P142,'Data Input'!S142,'Data Input'!U142,'Data Input'!X142,'Data Input'!Z142,'Data Input'!AA142,'Data Input'!AB142,'Data Input'!AE142,'Data Input'!AG142,'Data Input'!AH142,'Data Input'!AJ142,'Data Input'!AK142,'Data Input'!AL142,'Data Input'!AN142))","v":""},{"$f":"IF(K138=\"\",\"\",K138/COUNTIF('Data Input'!$C$8:$AQ$8,$K$2))","v":""},{"$f":"IF(ISBLANK('Data Input'!A142),\"\",SUM('Data Input'!V142))","v":""},{"$f":"IF(M138=\"\",\"\",M138/COUNTIF('Data Input'!$C$8:$AQ$8,$M$2))","v":""},{"$f":"IF(ISBLANK('Data Input'!A142),\"\",SUM('Data Input'!H142,'Data Input'!I142,'Data Input'!M142,'Data Input'!N142,'Data Input'!Q142,'Data Input'!R142,'Data Input'!T142,'Data Input'!Y142,'Data Input'!AD142,'Data Input'!AI142,'Data Input'!AP142,'Data Input'!AQ142))","v":""},{"$f":"IF(O138=\"\",\"\",O138/COUNTIF('Data Input'!$C$8:$AQ$8,$O$2))","v":""}]
[{"$f":"IF('Data Input'!A143=0,\"\",'Data Input'!A143)","v":""},{"$f":"IF(ISBLANK('Data Input'!A143),\"\",COUNTIF('Data Input'!C143:AQ143,\"\")-1)","v":""},{"$f":"IF(ISBLANK('Data Input'!A143),\"\",COUNTIF('Data Input'!C143:AQ143,\"0\"))","v":""},{"$f":"IF(ISBLANK('Data Input'!A143),\"\",SUM(B139,C139))","v":""},{"$f":"IF(ISBLANK('Data Input'!A143),\"\",SUM('Data Input'!C143:V143))","v":""},{"$f":"IF(ISBLANK('Data Input'!A143),\"\",SUM('Data Input'!X143:AQ143))","v":""},{"$f":"IF(ISBLANK('Data Input'!A143),\"\",SUM('Data Input'!C143:AQ143))","v":""},{"$f":"IF(G139=\"\",\"\",G139/(COUNTA('Data Input'!$C$8:$AQ$8)-1))","v":""},{"$f":"IF(ISBLANK('Data Input'!A143),\"\",SUM('Data Input'!C143,'Data Input'!K143,'Data Input'!L143,'Data Input'!AC143,'Data Input'!AF143,'Data Input'!AM143,'Data Input'!AO143))","v":""},{"$f":"IF(I139=\"\",\"\",I139/COUNTIF('Data Input'!$C$8:$AQ$8,$I$2))","v":""},{"$f":"IF(ISBLANK('Data Input'!A143),\"\",SUM('Data Input'!D143,'Data Input'!E143,'Data Input'!F143,'Data Input'!G143,'Data Input'!J143,'Data Input'!O143,'Data Input'!P143,'Data Input'!S143,'Data Input'!U143,'Data Input'!X143,'Data Input'!Z143,'Data Input'!AA143,'Data Input'!AB143,'Data Input'!AE143,'Data Input'!AG143,'Data Input'!AH143,'Data Input'!AJ143,'Data Input'!AK143,'Data Input'!AL143,'Data Input'!AN143))","v":""},{"$f":"IF(K139=\"\",\"\",K139/COUNTIF('Data Input'!$C$8:$AQ$8,$K$2))","v":""},{"$f":"IF(ISBLANK('Data Input'!A143),\"\",SUM('Data Input'!V143))","v":""},{"$f":"IF(M139=\"\",\"\",M139/COUNTIF('Data Input'!$C$8:$AQ$8,$M$2))","v":""},{"$f":"IF(ISBLANK('Data Input'!A143),\"\",SUM('Data Input'!H143,'Data Input'!I143,'Data Input'!M143,'Data Input'!N143,'Data Input'!Q143,'Data Input'!R143,'Data Input'!T143,'Data Input'!Y143,'Data Input'!AD143,'Data Input'!AI143,'Data Input'!AP143,'Data Input'!AQ143))","v":""},{"$f":"IF(O139=\"\",\"\",O139/COUNTIF('Data Input'!$C$8:$AQ$8,$O$2))","v":""}]
[{"$f":"IF('Data Input'!A144=0,\"\",'Data Input'!A144)","v":""},{"$f":"IF(ISBLANK('Data Input'!A144),\"\",COUNTIF('Data Input'!C144:AQ144,\"\")-1)","v":""},{"$f":"IF(ISBLANK('Data Input'!A144),\"\",COUNTIF('Data Input'!C144:AQ144,\"0\"))","v":""},{"$f":"IF(ISBLANK('Data Input'!A144),\"\",SUM(B140,C140))","v":""},{"$f":"IF(ISBLANK('Data Input'!A144),\"\",SUM('Data Input'!C144:V144))","v":""},{"$f":"IF(ISBLANK('Data Input'!A144),\"\",SUM('Data Input'!X144:AQ144))","v":""},{"$f":"IF(ISBLANK('Data Input'!A144),\"\",SUM('Data Input'!C144:AQ144))","v":""},{"$f":"IF(G140=\"\",\"\",G140/(COUNTA('Data Input'!$C$8:$AQ$8)-1))","v":""},{"$f":"IF(ISBLANK('Data Input'!A144),\"\",SUM('Data Input'!C144,'Data Input'!K144,'Data Input'!L144,'Data Input'!AC144,'Data Input'!AF144,'Data Input'!AM144,'Data Input'!AO144))","v":""},{"$f":"IF(I140=\"\",\"\",I140/COUNTIF('Data Input'!$C$8:$AQ$8,$I$2))","v":""},{"$f":"IF(ISBLANK('Data Input'!A144),\"\",SUM('Data Input'!D144,'Data Input'!E144,'Data Input'!F144,'Data Input'!G144,'Data Input'!J144,'Data Input'!O144,'Data Input'!P144,'Data Input'!S144,'Data Input'!U144,'Data Input'!X144,'Data Input'!Z144,'Data Input'!AA144,'Data Input'!AB144,'Data Input'!AE144,'Data Input'!AG144,'Data Input'!AH144,'Data Input'!AJ144,'Data Input'!AK144,'Data Input'!AL144,'Data Input'!AN144))","v":""},{"$f":"IF(K140=\"\",\"\",K140/COUNTIF('Data Input'!$C$8:$AQ$8,$K$2))","v":""},{"$f":"IF(ISBLANK('Data Input'!A144),\"\",SUM('Data Input'!V144))","v":""},{"$f":"IF(M140=\"\",\"\",M140/COUNTIF('Data Input'!$C$8:$AQ$8,$M$2))","v":""},{"$f":"IF(ISBLANK('Data Input'!A144),\"\",SUM('Data Input'!H144,'Data Input'!I144,'Data Input'!M144,'Data Input'!N144,'Data Input'!Q144,'Data Input'!R144,'Data Input'!T144,'Data Input'!Y144,'Data Input'!AD144,'Data Input'!AI144,'Data Input'!AP144,'Data Input'!AQ144))","v":""},{"$f":"IF(O140=\"\",\"\",O140/COUNTIF('Data Input'!$C$8:$AQ$8,$O$2))","v":""}]
[{"$f":"IF('Data Input'!A145=0,\"\",'Data Input'!A145)","v":""},{"$f":"IF(ISBLANK('Data Input'!A145),\"\",COUNTIF('Data Input'!C145:AQ145,\"\")-1)","v":""},{"$f":"IF(ISBLANK('Data Input'!A145),\"\",COUNTIF('Data Input'!C145:AQ145,\"0\"))","v":""},{"$f":"IF(ISBLANK('Data Input'!A145),\"\",SUM(B141,C141))","v":""},{"$f":"IF(ISBLANK('Data Input'!A145),\"\",SUM('Data Input'!C145:V145))","v":""},{"$f":"IF(ISBLANK('Data Input'!A145),\"\",SUM('Data Input'!X145:AQ145))","v":""},{"$f":"IF(ISBLANK('Data Input'!A145),\"\",SUM('Data Input'!C145:AQ145))","v":""},{"$f":"IF(G141=\"\",\"\",G141/(COUNTA('Data Input'!$C$8:$AQ$8)-1))","v":""},{"$f":"IF(ISBLANK('Data Input'!A145),\"\",SUM('Data Input'!C145,'Data Input'!K145,'Data Input'!L145,'Data Input'!AC145,'Data Input'!AF145,'Data Input'!AM145,'Data Input'!AO145))","v":""},{"$f":"IF(I141=\"\",\"\",I141/COUNTIF('Data Input'!$C$8:$AQ$8,$I$2))","v":""},{"$f":"IF(ISBLANK('Data Input'!A145),\"\",SUM('Data Input'!D145,'Data Input'!E145,'Data Input'!F145,'Data Input'!G145,'Data Input'!J145,'Data Input'!O145,'Data Input'!P145,'Data Input'!S145,'Data Input'!U145,'Data Input'!X145,'Data Input'!Z145,'Data Input'!AA145,'Data Input'!AB145,'Data Input'!AE145,'Data Input'!AG145,'Data Input'!AH145,'Data Input'!AJ145,'Data Input'!AK145,'Data Input'!AL145,'Data Input'!AN145))","v":""},{"$f":"IF(K141=\"\",\"\",K141/COUNTIF('Data Input'!$C$8:$AQ$8,$K$2))","v":""},{"$f":"IF(ISBLANK('Data Input'!A145),\"\",SUM('Data Input'!V145))","v":""},{"$f":"IF(M141=\"\",\"\",M141/COUNTIF('Data Input'!$C$8:$AQ$8,$M$2))","v":""},{"$f":"IF(ISBLANK('Data Input'!A145),\"\",SUM('Data Input'!H145,'Data Input'!I145,'Data Input'!M145,'Data Input'!N145,'Data Input'!Q145,'Data Input'!R145,'Data Input'!T145,'Data Input'!Y145,'Data Input'!AD145,'Data Input'!AI145,'Data Input'!AP145,'Data Input'!AQ145))","v":""},{"$f":"IF(O141=\"\",\"\",O141/COUNTIF('Data Input'!$C$8:$AQ$8,$O$2))","v":""}]
[{"$f":"IF('Data Input'!A146=0,\"\",'Data Input'!A146)","v":""},{"$f":"IF(ISBLANK('Data Input'!A146),\"\",COUNTIF('Data Input'!C146:AQ146,\"\")-1)","v":""},{"$f":"IF(ISBLANK('Data Input'!A146),\"\",COUNTIF('Data Input'!C146:AQ146,\"0\"))","v":""},{"$f":"IF(ISBLANK('Data Input'!A146),\"\",SUM(B142,C142))","v":""},{"$f":"IF(ISBLANK('Data Input'!A146),\"\",SUM('Data Input'!C146:V146))","v":""},{"$f":"IF(ISBLANK('Data Input'!A146),\"\",SUM('Data Input'!X146:AQ146))","v":""},{"$f":"IF(ISBLANK('Data Input'!A146),\"\",SUM('Data Input'!C146:AQ146))","v":""},{"$f":"IF(G142=\"\",\"\",G142/(COUNTA('Data Input'!$C$8:$AQ$8)-1))","v":""},{"$f":"IF(ISBLANK('Data Input'!A146),\"\",SUM('Data Input'!C146,'Data Input'!K146,'Data Input'!L146,'Data Input'!AC146,'Data Input'!AF146,'Data Input'!AM146,'Data Input'!AO146))","v":""},{"$f":"IF(I142=\"\",\"\",I142/COUNTIF('Data Input'!$C$8:$AQ$8,$I$2))","v":""},{"$f":"IF(ISBLANK('Data Input'!A146),\"\",SUM('Data Input'!D146,'Data Input'!E146,'Data Input'!F146,'Data Input'!G146,'Data Input'!J146,'Data Input'!O146,'Data Input'!P146,'Data Input'!S146,'Data Input'!U146,'Data Input'!X146,'Data Input'!Z146,'Data Input'!AA146,'Data Input'!AB146,'Data Input'!AE146,'Data Input'!AG146,'Data Input'!AH146,'Data Input'!AJ146,'Data Input'!AK146,'Data Input'!AL146,'Data Input'!AN146))","v":""},{"$f":"IF(K142=\"\",\"\",K142/COUNTIF('Data Input'!$C$8:$AQ$8,$K$2))","v":""},{"$f":"IF(ISBLANK('Data Input'!A146),\"\",SUM('Data Input'!V146))","v":""},{"$f":"IF(M142=\"\",\"\",M142/COUNTIF('Data Input'!$C$8:$AQ$8,$M$2))","v":""},{"$f":"IF(ISBLANK('Data Input'!A146),\"\",SUM('Data Input'!H146,'Data Input'!I146,'Data Input'!M146,'Data Input'!N146,'Data Input'!Q146,'Data Input'!R146,'Data Input'!T146,'Data Input'!Y146,'Data Input'!AD146,'Data Input'!AI146,'Data Input'!AP146,'Data Input'!AQ146))","v":""},{"$f":"IF(O142=\"\",\"\",O142/COUNTIF('Data Input'!$C$8:$AQ$8,$O$2))","v":""}]
[{"$f":"IF('Data Input'!A147=0,\"\",'Data Input'!A147)","v":""},{"$f":"IF(ISBLANK('Data Input'!A147),\"\",COUNTIF('Data Input'!C147:AQ147,\"\")-1)","v":""},{"$f":"IF(ISBLANK('Data Input'!A147),\"\",COUNTIF('Data Input'!C147:AQ147,\"0\"))","v":""},{"$f":"IF(ISBLANK('Data Input'!A147),\"\",SUM(B143,C143))","v":""},{"$f":"IF(ISBLANK('Data Input'!A147),\"\",SUM('Data Input'!C147:V147))","v":""},{"$f":"IF(ISBLANK('Data Input'!A147),\"\",SUM('Data Input'!X147:AQ147))","v":""},{"$f":"IF(ISBLANK('Data Input'!A147),\"\",SUM('Data Input'!C147:AQ147))","v":""},{"$f":"IF(G143=\"\",\"\",G143/(COUNTA('Data Input'!$C$8:$AQ$8)-1))","v":""},{"$f":"IF(ISBLANK('Data Input'!A147),\"\",SUM('Data Input'!C147,'Data Input'!K147,'Data Input'!L147,'Data Input'!AC147,'Data Input'!AF147,'Data Input'!AM147,'Data Input'!AO147))","v":""},{"$f":"IF(I143=\"\",\"\",I143/COUNTIF('Data Input'!$C$8:$AQ$8,$I$2))","v":""},{"$f":"IF(ISBLANK('Data Input'!A147),\"\",SUM('Data Input'!D147,'Data Input'!E147,'Data Input'!F147,'Data Input'!G147,'Data Input'!J147,'Data Input'!O147,'Data Input'!P147,'Data Input'!S147,'Data Input'!U147,'Data Input'!X147,'Data Input'!Z147,'Data Input'!AA147,'Data Input'!AB147,'Data Input'!AE147,'Data Input'!AG147,'Data Input'!AH147,'Data Input'!AJ147,'Data Input'!AK147,'Data Input'!AL147,'Data Input'!AN147))","v":""},{"$f":"IF(K143=\"\",\"\",K143/COUNTIF('Data Input'!$C$8:$AQ$8,$K$2))","v":""},{"$f":"IF(ISBLANK('Data Input'!A147),\"\",SUM('Data Input'!V147))","v":""},{"$f":"IF(M143=\"\",\"\",M143/COUNTIF('Data Input'!$C$8:$AQ$8,$M$2))","v":""},{"$f":"IF(ISBLANK('Data Input'!A147),\"\",SUM('Data Input'!H147,'Data Input'!I147,'Data Input'!M147,'Data Input'!N147,'Data Input'!Q147,'Data Input'!R147,'Data Input'!T147,'Data Input'!Y147,'Data Input'!AD147,'Data Input'!AI147,'Data Input'!AP147,'Data Input'!AQ147))","v":""},{"$f":"IF(O143=\"\",\"\",O143/COUNTIF('Data Input'!$C$8:$AQ$8,$O$2))","v":""}]
[{"$f":"IF('Data Input'!A148=0,\"\",'Data Input'!A148)","v":""},{"$f":"IF(ISBLANK('Data Input'!A148),\"\",COUNTIF('Data Input'!C148:AQ148,\"\")-1)","v":""},{"$f":"IF(ISBLANK('Data Input'!A148),\"\",COUNTIF('Data Input'!C148:AQ148,\"0\"))","v":""},{"$f":"IF(ISBLANK('Data Input'!A148),\"\",SUM(B144,C144))","v":""},{"$f":"IF(ISBLANK('Data Input'!A148),\"\",SUM('Data Input'!C148:V148))","v":""},{"$f":"IF(ISBLANK('Data Input'!A148),\"\",SUM('Data Input'!X148:AQ148))","v":""},{"$f":"IF(ISBLANK('Data Input'!A148),\"\",SUM('Data Input'!C148:AQ148))","v":""},{"$f":"IF(G144=\"\",\"\",G144/(COUNTA('Data Input'!$C$8:$AQ$8)-1))","v":""},{"$f":"IF(ISBLANK('Data Input'!A148),\"\",SUM('Data Input'!C148,'Data Input'!K148,'Data Input'!L148,'Data Input'!AC148,'Data Input'!AF148,'Data Input'!AM148,'Data Input'!AO148))","v":""},{"$f":"IF(I144=\"\",\"\",I144/COUNTIF('Data Input'!$C$8:$AQ$8,$I$2))","v":""},{"$f":"IF(ISBLANK('Data Input'!A148),\"\",SUM('Data Input'!D148,'Data Input'!E148,'Data Input'!F148,'Data Input'!G148,'Data Input'!J148,'Data Input'!O148,'Data Input'!P148,'Data Input'!S148,'Data Input'!U148,'Data Input'!X148,'Data Input'!Z148,'Data Input'!AA148,'Data Input'!AB148,'Data Input'!AE148,'Data Input'!AG148,'Data Input'!AH148,'Data Input'!AJ148,'Data Input'!AK148,'Data Input'!AL148,'Data Input'!AN148))","v":""},{"$f":"IF(K144=\"\",\"\",K144/COUNTIF('Data Input'!$C$8:$AQ$8,$K$2))","v":""},{"$f":"IF(ISBLANK('Data Input'!A148),\"\",SUM('Data Input'!V148))","v":""},{"$f":"IF(M144=\"\",\"\",M144/COUNTIF('Data Input'!$C$8:$AQ$8,$M$2))","v":""},{"$f":"IF(ISBLANK('Data Input'!A148),\"\",SUM('Data Input'!H148,'Data Input'!I148,'Data Input'!M148,'Data Input'!N148,'Data Input'!Q148,'Data Input'!R148,'Data Input'!T148,'Data Input'!Y148,'Data Input'!AD148,'Data Input'!AI148,'Data Input'!AP148,'Data Input'!AQ148))","v":""},{"$f":"IF(O144=\"\",\"\",O144/COUNTIF('Data Input'!$C$8:$AQ$8,$O$2))","v":""}]
[{"$f":"IF('Data Input'!A149=0,\"\",'Data Input'!A149)","v":""},{"$f":"IF(ISBLANK('Data Input'!A149),\"\",COUNTIF('Data Input'!C149:AQ149,\"\")-1)","v":""},{"$f":"IF(ISBLANK('Data Input'!A149),\"\",COUNTIF('Data Input'!C149:AQ149,\"0\"))","v":""},{"$f":"IF(ISBLANK('Data Input'!A149),\"\",SUM(B145,C145))","v":""},{"$f":"IF(ISBLANK('Data Input'!A149),\"\",SUM('Data Input'!C149:V149))","v":""},{"$f":"IF(ISBLANK('Data Input'!A149),\"\",SUM('Data Input'!X149:AQ149))","v":""},{"$f":"IF(ISBLANK('Data Input'!A149),\"\",SUM('Data Input'!C149:AQ149))","v":""},{"$f":"IF(G145=\"\",\"\",G145/(COUNTA('Data Input'!$C$8:$AQ$8)-1))","v":""},{"$f":"IF(ISBLANK('Data Input'!A149),\"\",SUM('Data Input'!C149,'Data Input'!K149,'Data Input'!L149,'Data Input'!AC149,'Data Input'!AF149,'Data Input'!AM149,'Data Input'!AO149))","v":""},{"$f":"IF(I145=\"\",\"\",I145/COUNTIF('Data Input'!$C$8:$AQ$8,$I$2))","v":""},{"$f":"IF(ISBLANK('Data Input'!A149),\"\",SUM('Data Input'!D149,'Data Input'!E149,'Data Input'!F149,'Data Input'!G149,'Data Input'!J149,'Data Input'!O149,'Data Input'!P149,'Data Input'!S149,'Data Input'!U149,'Data Input'!X149,'Data Input'!Z149,'Data Input'!AA149,'Data Input'!AB149,'Data Input'!AE149,'Data Input'!AG149,'Data Input'!AH149,'Data Input'!AJ149,'Data Input'!AK149,'Data Input'!AL149,'Data Input'!AN149))","v":""},{"$f":"IF(K145=\"\",\"\",K145/COUNTIF('Data Input'!$C$8:$AQ$8,$K$2))","v":""},{"$f":"IF(ISBLANK('Data Input'!A149),\"\",SUM('Data Input'!V149))","v":""},{"$f":"IF(M145=\"\",\"\",M145/COUNTIF('Data Input'!$C$8:$AQ$8,$M$2))","v":""},{"$f":"IF(ISBLANK('Data Input'!A149),\"\",SUM('Data Input'!H149,'Data Input'!I149,'Data Input'!M149,'Data Input'!N149,'Data Input'!Q149,'Data Input'!R149,'Data Input'!T149,'Data Input'!Y149,'Data Input'!AD149,'Data Input'!AI149,'Data Input'!AP149,'Data Input'!AQ149))","v":""},{"$f":"IF(O145=\"\",\"\",O145/COUNTIF('Data Input'!$C$8:$AQ$8,$O$2))","v":""}]
[{"$f":"IF('Data Input'!A150=0,\"\",'Data Input'!A150)","v":""},{"$f":"IF(ISBLANK('Data Input'!A150),\"\",COUNTIF('Data Input'!C150:AQ150,\"\")-1)","v":""},{"$f":"IF(ISBLANK('Data Input'!A150),\"\",COUNTIF('Data Input'!C150:AQ150,\"0\"))","v":""},{"$f":"IF(ISBLANK('Data Input'!A150),\"\",SUM(B146,C146))","v":""},{"$f":"IF(ISBLANK('Data Input'!A150),\"\",SUM('Data Input'!C150:V150))","v":""},{"$f":"IF(ISBLANK('Data Input'!A150),\"\",SUM('Data Input'!X150:AQ150))","v":""},{"$f":"IF(ISBLANK('Data Input'!A150),\"\",SUM('Data Input'!C150:AQ150))","v":""},{"$f":"IF(G146=\"\",\"\",G146/(COUNTA('Data Input'!$C$8:$AQ$8)-1))","v":""},{"$f":"IF(ISBLANK('Data Input'!A150),\"\",SUM('Data Input'!C150,'Data Input'!K150,'Data Input'!L150,'Data Input'!AC150,'Data Input'!AF150,'Data Input'!AM150,'Data Input'!AO150))","v":""},{"$f":"IF(I146=\"\",\"\",I146/COUNTIF('Data Input'!$C$8:$AQ$8,$I$2))","v":""},{"$f":"IF(ISBLANK('Data Input'!A150),\"\",SUM('Data Input'!D150,'Data Input'!E150,'Data Input'!F150,'Data Input'!G150,'Data Input'!J150,'Data Input'!O150,'Data Input'!P150,'Data Input'!S150,'Data Input'!U150,'Data Input'!X150,'Data Input'!Z150,'Data Input'!AA150,'Data Input'!AB150,'Data Input'!AE150,'Data Input'!AG150,'Data Input'!AH150,'Data Input'!AJ150,'Data Input'!AK150,'Data Input'!AL150,'Data Input'!AN150))","v":""},{"$f":"IF(K146=\"\",\"\",K146/COUNTIF('Data Input'!$C$8:$AQ$8,$K$2))","v":""},{"$f":"IF(ISBLANK('Data Input'!A150),\"\",SUM('Data Input'!V150))","v":""},{"$f":"IF(M146=\"\",\"\",M146/COUNTIF('Data Input'!$C$8:$AQ$8,$M$2))","v":""},{"$f":"IF(ISBLANK('Data Input'!A150),\"\",SUM('Data Input'!H150,'Data Input'!I150,'Data Input'!M150,'Data Input'!N150,'Data Input'!Q150,'Data Input'!R150,'Data Input'!T150,'Data Input'!Y150,'Data Input'!AD150,'Data Input'!AI150,'Data Input'!AP150,'Data Input'!AQ150))","v":""},{"$f":"IF(O146=\"\",\"\",O146/COUNTIF('Data Input'!$C$8:$AQ$8,$O$2))","v":""}]
[{"$f":"IF('Data Input'!A151=0,\"\",'Data Input'!A151)","v":""},{"$f":"IF(ISBLANK('Data Input'!A151),\"\",COUNTIF('Data Input'!C151:AQ151,\"\")-1)","v":""},{"$f":"IF(ISBLANK('Data Input'!A151),\"\",COUNTIF('Data Input'!C151:AQ151,\"0\"))","v":""},{"$f":"IF(ISBLANK('Data Input'!A151),\"\",SUM(B147,C147))","v":""},{"$f":"IF(ISBLANK('Data Input'!A151),\"\",SUM('Data Input'!C151:V151))","v":""},{"$f":"IF(ISBLANK('Data Input'!A151),\"\",SUM('Data Input'!X151:AQ151))","v":""},{"$f":"IF(ISBLANK('Data Input'!A151),\"\",SUM('Data Input'!C151:AQ151))","v":""},{"$f":"IF(G147=\"\",\"\",G147/(COUNTA('Data Input'!$C$8:$AQ$8)-1))","v":""},{"$f":"IF(ISBLANK('Data Input'!A151),\"\",SUM('Data Input'!C151,'Data Input'!K151,'Data Input'!L151,'Data Input'!AC151,'Data Input'!AF151,'Data Input'!AM151,'Data Input'!AO151))","v":""},{"$f":"IF(I147=\"\",\"\",I147/COUNTIF('Data Input'!$C$8:$AQ$8,$I$2))","v":""},{"$f":"IF(ISBLANK('Data Input'!A151),\"\",SUM('Data Input'!D151,'Data Input'!E151,'Data Input'!F151,'Data Input'!G151,'Data Input'!J151,'Data Input'!O151,'Data Input'!P151,'Data Input'!S151,'Data Input'!U151,'Data Input'!X151,'Data Input'!Z151,'Data Input'!AA151,'Data Input'!AB151,'Data Input'!AE151,'Data Input'!AG151,'Data Input'!AH151,'Data Input'!AJ151,'Data Input'!AK151,'Data Input'!AL151,'Data Input'!AN151))","v":""},{"$f":"IF(K147=\"\",\"\",K147/COUNTIF('Data Input'!$C$8:$AQ$8,$K$2))","v":""},{"$f":"IF(ISBLANK('Data Input'!A151),\"\",SUM('Data Input'!V151))","v":""},{"$f":"IF(M147=\"\",\"\",M147/COUNTIF('Data Input'!$C$8:$AQ$8,$M$2))","v":""},{"$f":"IF(ISBLANK('Data Input'!A151),\"\",SUM('Data Input'!H151,'Data Input'!I151,'Data Input'!M151,'Data Input'!N151,'Data Input'!Q151,'Data Input'!R151,'Data Input'!T151,'Data Input'!Y151,'Data Input'!AD151,'Data Input'!AI151,'Data Input'!AP151,'Data Input'!AQ151))","v":""},{"$f":"IF(O147=\"\",\"\",O147/COUNTIF('Data Input'!$C$8:$AQ$8,$O$2))","v":""}]
[{"$f":"IF('Data Input'!A152=0,\"\",'Data Input'!A152)","v":""},{"$f":"IF(ISBLANK('Data Input'!A152),\"\",COUNTIF('Data Input'!C152:AQ152,\"\")-1)","v":""},{"$f":"IF(ISBLANK('Data Input'!A152),\"\",COUNTIF('Data Input'!C152:AQ152,\"0\"))","v":""},{"$f":"IF(ISBLANK('Data Input'!A152),\"\",SUM(B148,C148))","v":""},{"$f":"IF(ISBLANK('Data Input'!A152),\"\",SUM('Data Input'!C152:V152))","v":""},{"$f":"IF(ISBLANK('Data Input'!A152),\"\",SUM('Data Input'!X152:AQ152))","v":""},{"$f":"IF(ISBLANK('Data Input'!A152),\"\",SUM('Data Input'!C152:AQ152))","v":""},{"$f":"IF(G148=\"\",\"\",G148/(COUNTA('Data Input'!$C$8:$AQ$8)-1))","v":""},{"$f":"IF(ISBLANK('Data Input'!A152),\"\",SUM('Data Input'!C152,'Data Input'!K152,'Data Input'!L152,'Data Input'!AC152,'Data Input'!AF152,'Data Input'!AM152,'Data Input'!AO152))","v":""},{"$f":"IF(I148=\"\",\"\",I148/COUNTIF('Data Input'!$C$8:$AQ$8,$I$2))","v":""},{"$f":"IF(ISBLANK('Data Input'!A152),\"\",SUM('Data Input'!D152,'Data Input'!E152,'Data Input'!F152,'Data Input'!G152,'Data Input'!J152,'Data Input'!O152,'Data Input'!P152,'Data Input'!S152,'Data Input'!U152,'Data Input'!X152,'Data Input'!Z152,'Data Input'!AA152,'Data Input'!AB152,'Data Input'!AE152,'Data Input'!AG152,'Data Input'!AH152,'Data Input'!AJ152,'Data Input'!AK152,'Data Input'!AL152,'Data Input'!AN152))","v":""},{"$f":"IF(K148=\"\",\"\",K148/COUNTIF('Data Input'!$C$8:$AQ$8,$K$2))","v":""},{"$f":"IF(ISBLANK('Data Input'!A152),\"\",SUM('Data Input'!V152))","v":""},{"$f":"IF(M148=\"\",\"\",M148/COUNTIF('Data Input'!$C$8:$AQ$8,$M$2))","v":""},{"$f":"IF(ISBLANK('Data Input'!A152),\"\",SUM('Data Input'!H152,'Data Input'!I152,'Data Input'!M152,'Data Input'!N152,'Data Input'!Q152,'Data Input'!R152,'Data Input'!T152,'Data Input'!Y152,'Data Input'!AD152,'Data Input'!AI152,'Data Input'!AP152,'Data Input'!AQ152))","v":""},{"$f":"IF(O148=\"\",\"\",O148/COUNTIF('Data Input'!$C$8:$AQ$8,$O$2))","v":""}]
[{"$f":"IF('Data Input'!A153=0,\"\",'Data Input'!A153)","v":""},{"$f":"IF(ISBLANK('Data Input'!A153),\"\",COUNTIF('Data Input'!C153:AQ153,\"\")-1)","v":""},{"$f":"IF(ISBLANK('Data Input'!A153),\"\",COUNTIF('Data Input'!C153:AQ153,\"0\"))","v":""},{"$f":"IF(ISBLANK('Data Input'!A153),\"\",SUM(B149,C149))","v":""},{"$f":"IF(ISBLANK('Data Input'!A153),\"\",SUM('Data Input'!C153:V153))","v":""},{"$f":"IF(ISBLANK('Data Input'!A153),\"\",SUM('Data Input'!X153:AQ153))","v":""},{"$f":"IF(ISBLANK('Data Input'!A153),\"\",SUM('Data Input'!C153:AQ153))","v":""},{"$f":"IF(G149=\"\",\"\",G149/(COUNTA('Data Input'!$C$8:$AQ$8)-1))","v":""},{"$f":"IF(ISBLANK('Data Input'!A153),\"\",SUM('Data Input'!C153,'Data Input'!K153,'Data Input'!L153,'Data Input'!AC153,'Data Input'!AF153,'Data Input'!AM153,'Data Input'!AO153))","v":""},{"$f":"IF(I149=\"\",\"\",I149/COUNTIF('Data Input'!$C$8:$AQ$8,$I$2))","v":""},{"$f":"IF(ISBLANK('Data Input'!A153),\"\",SUM('Data Input'!D153,'Data Input'!E153,'Data Input'!F153,'Data Input'!G153,'Data Input'!J153,'Data Input'!O153,'Data Input'!P153,'Data Input'!S153,'Data Input'!U153,'Data Input'!X153,'Data Input'!Z153,'Data Input'!AA153,'Data Input'!AB153,'Data Input'!AE153,'Data Input'!AG153,'Data Input'!AH153,'Data Input'!AJ153,'Data Input'!AK153,'Data Input'!AL153,'Data Input'!AN153))","v":""},{"$f":"IF(K149=\"\",\"\",K149/COUNTIF('Data Input'!$C$8:$AQ$8,$K$2))","v":""},{"$f":"IF(ISBLANK('Data Input'!A153),\"\",SUM('Data Input'!V153))","v":""},{"$f":"IF(M149=\"\",\"\",M149/COUNTIF('Data Input'!$C$8:$AQ$8,$M$2))","v":""},{"$f":"IF(ISBLANK('Data Input'!A153),\"\",SUM('Data Input'!H153,'Data Input'!I153,'Data Input'!M153,'Data Input'!N153,'Data Input'!Q153,'Data Input'!R153,'Data Input'!T153,'Data Input'!Y153,'Data Input'!AD153,'Data Input'!AI153,'Data Input'!AP153,'Data Input'!AQ153))","v":""},{"$f":"IF(O149=\"\",\"\",O149/COUNTIF('Data Input'!$C$8:$AQ$8,$O$2))","v":""}]
[{"$f":"IF('Data Input'!A154=0,\"\",'Data Input'!A154)","v":""},{"$f":"IF(ISBLANK('Data Input'!A154),\"\",COUNTIF('Data Input'!C154:AQ154,\"\")-1)","v":""},{"$f":"IF(ISBLANK('Data Input'!A154),\"\",COUNTIF('Data Input'!C154:AQ154,\"0\"))","v":""},{"$f":"IF(ISBLANK('Data Input'!A154),\"\",SUM(B150,C150))","v":""},{"$f":"IF(ISBLANK('Data Input'!A154),\"\",SUM('Data Input'!C154:V154))","v":""},{"$f":"IF(ISBLANK('Data Input'!A154),\"\",SUM('Data Input'!X154:AQ154))","v":""},{"$f":"IF(ISBLANK('Data Input'!A154),\"\",SUM('Data Input'!C154:AQ154))","v":""},{"$f":"IF(G150=\"\",\"\",G150/(COUNTA('Data Input'!$C$8:$AQ$8)-1))","v":""},{"$f":"IF(ISBLANK('Data Input'!A154),\"\",SUM('Data Input'!C154,'Data Input'!K154,'Data Input'!L154,'Data Input'!AC154,'Data Input'!AF154,'Data Input'!AM154,'Data Input'!AO154))","v":""},{"$f":"IF(I150=\"\",\"\",I150/COUNTIF('Data Input'!$C$8:$AQ$8,$I$2))","v":""},{"$f":"IF(ISBLANK('Data Input'!A154),\"\",SUM('Data Input'!D154,'Data Input'!E154,'Data Input'!F154,'Data Input'!G154,'Data Input'!J154,'Data Input'!O154,'Data Input'!P154,'Data Input'!S154,'Data Input'!U154,'Data Input'!X154,'Data Input'!Z154,'Data Input'!AA154,'Data Input'!AB154,'Data Input'!AE154,'Data Input'!AG154,'Data Input'!AH154,'Data Input'!AJ154,'Data Input'!AK154,'Data Input'!AL154,'Data Input'!AN154))","v":""},{"$f":"IF(K150=\"\",\"\",K150/COUNTIF('Data Input'!$C$8:$AQ$8,$K$2))","v":""},{"$f":"IF(ISBLANK('Data Input'!A154),\"\",SUM('Data Input'!V154))","v":""},{"$f":"IF(M150=\"\",\"\",M150/COUNTIF('Data Input'!$C$8:$AQ$8,$M$2))","v":""},{"$f":"IF(ISBLANK('Data Input'!A154),\"\",SUM('Data Input'!H154,'Data Input'!I154,'Data Input'!M154,'Data Input'!N154,'Data Input'!Q154,'Data Input'!R154,'Data Input'!T154,'Data Input'!Y154,'Data Input'!AD154,'Data Input'!AI154,'Data Input'!AP154,'Data Input'!AQ154))","v":""},{"$f":"IF(O150=\"\",\"\",O150/COUNTIF('Data Input'!$C$8:$AQ$8,$O$2))","v":""}]
[{"$f":"IF('Data Input'!A155=0,\"\",'Data Input'!A155)","v":""},{"$f":"IF(ISBLANK('Data Input'!A155),\"\",COUNTIF('Data Input'!C155:AQ155,\"\")-1)","v":""},{"$f":"IF(ISBLANK('Data Input'!A155),\"\",COUNTIF('Data Input'!C155:AQ155,\"0\"))","v":""},{"$f":"IF(ISBLANK('Data Input'!A155),\"\",SUM(B151,C151))","v":""},{"$f":"IF(ISBLANK('Data Input'!A155),\"\",SUM('Data Input'!C155:V155))","v":""},{"$f":"IF(ISBLANK('Data Input'!A155),\"\",SUM('Data Input'!X155:AQ155))","v":""},{"$f":"IF(ISBLANK('Data Input'!A155),\"\",SUM('Data Input'!C155:AQ155))","v":""},{"$f":"IF(G151=\"\",\"\",G151/(COUNTA('Data Input'!$C$8:$AQ$8)-1))","v":""},{"$f":"IF(ISBLANK('Data Input'!A155),\"\",SUM('Data Input'!C155,'Data Input'!K155,'Data Input'!L155,'Data Input'!AC155,'Data Input'!AF155,'Data Input'!AM155,'Data Input'!AO155))","v":""},{"$f":"IF(I151=\"\",\"\",I151/COUNTIF('Data Input'!$C$8:$AQ$8,$I$2))","v":""},{"$f":"IF(ISBLANK('Data Input'!A155),\"\",SUM('Data Input'!D155,'Data Input'!E155,'Data Input'!F155,'Data Input'!G155,'Data Input'!J155,'Data Input'!O155,'Data Input'!P155,'Data Input'!S155,'Data Input'!U155,'Data Input'!X155,'Data Input'!Z155,'Data Input'!AA155,'Data Input'!AB155,'Data Input'!AE155,'Data Input'!AG155,'Data Input'!AH155,'Data Input'!AJ155,'Data Input'!AK155,'Data Input'!AL155,'Data Input'!AN155))","v":""},{"$f":"IF(K151=\"\",\"\",K151/COUNTIF('Data Input'!$C$8:$AQ$8,$K$2))","v":""},{"$f":"IF(ISBLANK('Data Input'!A155),\"\",SUM('Data Input'!V155))","v":""},{"$f":"IF(M151=\"\",\"\",M151/COUNTIF('Data Input'!$C$8:$AQ$8,$M$2))","v":""},{"$f":"IF(ISBLANK('Data Input'!A155),\"\",SUM('Data Input'!H155,'Data Input'!I155,'Data Input'!M155,'Data Input'!N155,'Data Input'!Q155,'Data Input'!R155,'Data Input'!T155,'Data Input'!Y155,'Data Input'!AD155,'Data Input'!AI155,'Data Input'!AP155,'Data Input'!AQ155))","v":""},{"$f":"IF(O151=\"\",\"\",O151/COUNTIF('Data Input'!$C$8:$AQ$8,$O$2))","v":""}]
[{"$f":"IF('Data Input'!A156=0,\"\",'Data Input'!A156)","v":""},{"$f":"IF(ISBLANK('Data Input'!A156),\"\",COUNTIF('Data Input'!C156:AQ156,\"\")-1)","v":""},{"$f":"IF(ISBLANK('Data Input'!A156),\"\",COUNTIF('Data Input'!C156:AQ156,\"0\"))","v":""},{"$f":"IF(ISBLANK('Data Input'!A156),\"\",SUM(B152,C152))","v":""},{"$f":"IF(ISBLANK('Data Input'!A156),\"\",SUM('Data Input'!C156:V156))","v":""},{"$f":"IF(ISBLANK('Data Input'!A156),\"\",SUM('Data Input'!X156:AQ156))","v":""},{"$f":"IF(ISBLANK('Data Input'!A156),\"\",SUM('Data Input'!C156:AQ156))","v":""},{"$f":"IF(G152=\"\",\"\",G152/(COUNTA('Data Input'!$C$8:$AQ$8)-1))","v":""},{"$f":"IF(ISBLANK('Data Input'!A156),\"\",SUM('Data Input'!C156,'Data Input'!K156,'Data Input'!L156,'Data Input'!AC156,'Data Input'!AF156,'Data Input'!AM156,'Data Input'!AO156))","v":""},{"$f":"IF(I152=\"\",\"\",I152/COUNTIF('Data Input'!$C$8:$AQ$8,$I$2))","v":""},{"$f":"IF(ISBLANK('Data Input'!A156),\"\",SUM('Data Input'!D156,'Data Input'!E156,'Data Input'!F156,'Data Input'!G156,'Data Input'!J156,'Data Input'!O156,'Data Input'!P156,'Data Input'!S156,'Data Input'!U156,'Data Input'!X156,'Data Input'!Z156,'Data Input'!AA156,'Data Input'!AB156,'Data Input'!AE156,'Data Input'!AG156,'Data Input'!AH156,'Data Input'!AJ156,'Data Input'!AK156,'Data Input'!AL156,'Data Input'!AN156))","v":""},{"$f":"IF(K152=\"\",\"\",K152/COUNTIF('Data Input'!$C$8:$AQ$8,$K$2))","v":""},{"$f":"IF(ISBLANK('Data Input'!A156),\"\",SUM('Data Input'!V156))","v":""},{"$f":"IF(M152=\"\",\"\",M152/COUNTIF('Data Input'!$C$8:$AQ$8,$M$2))","v":""},{"$f":"IF(ISBLANK('Data Input'!A156),\"\",SUM('Data Input'!H156,'Data Input'!I156,'Data Input'!M156,'Data Input'!N156,'Data Input'!Q156,'Data Input'!R156,'Data Input'!T156,'Data Input'!Y156,'Data Input'!AD156,'Data Input'!AI156,'Data Input'!AP156,'Data Input'!AQ156))","v":""},{"$f":"IF(O152=\"\",\"\",O152/COUNTIF('Data Input'!$C$8:$AQ$8,$O$2))","v":""}]
[{"$f":"IF('Data Input'!A157=0,\"\",'Data Input'!A157)","v":""},{"$f":"IF(ISBLANK('Data Input'!A157),\"\",COUNTIF('Data Input'!C157:AQ157,\"\")-1)","v":""},{"$f":"IF(ISBLANK('Data Input'!A157),\"\",COUNTIF('Data Input'!C157:AQ157,\"0\"))","v":""},{"$f":"IF(ISBLANK('Data Input'!A157),\"\",SUM(B153,C153))","v":""},{"$f":"IF(ISBLANK('Data Input'!A157),\"\",SUM('Data Input'!C157:V157))","v":""},{"$f":"IF(ISBLANK('Data Input'!A157),\"\",SUM('Data Input'!X157:AQ157))","v":""},{"$f":"IF(ISBLANK('Data Input'!A157),\"\",SUM('Data Input'!C157:AQ157))","v":""},{"$f":"IF(G153=\"\",\"\",G153/(COUNTA('Data Input'!$C$8:$AQ$8)-1))","v":""},{"$f":"IF(ISBLANK('Data Input'!A157),\"\",SUM('Data Input'!C157,'Data Input'!K157,'Data Input'!L157,'Data Input'!AC157,'Data Input'!AF157,'Data Input'!AM157,'Data Input'!AO157))","v":""},{"$f":"IF(I153=\"\",\"\",I153/COUNTIF('Data Input'!$C$8:$AQ$8,$I$2))","v":""},{"$f":"IF(ISBLANK('Data Input'!A157),\"\",SUM('Data Input'!D157,'Data Input'!E157,'Data Input'!F157,'Data Input'!G157,'Data Input'!J157,'Data Input'!O157,'Data Input'!P157,'Data Input'!S157,'Data Input'!U157,'Data Input'!X157,'Data Input'!Z157,'Data Input'!AA157,'Data Input'!AB157,'Data Input'!AE157,'Data Input'!AG157,'Data Input'!AH157,'Data Input'!AJ157,'Data Input'!AK157,'Data Input'!AL157,'Data Input'!AN157))","v":""},{"$f":"IF(K153=\"\",\"\",K153/COUNTIF('Data Input'!$C$8:$AQ$8,$K$2))","v":""},{"$f":"IF(ISBLANK('Data Input'!A157),\"\",SUM('Data Input'!V157))","v":""},{"$f":"IF(M153=\"\",\"\",M153/COUNTIF('Data Input'!$C$8:$AQ$8,$M$2))","v":""},{"$f":"IF(ISBLANK('Data Input'!A157),\"\",SUM('Data Input'!H157,'Data Input'!I157,'Data Input'!M157,'Data Input'!N157,'Data Input'!Q157,'Data Input'!R157,'Data Input'!T157,'Data Input'!Y157,'Data Input'!AD157,'Data Input'!AI157,'Data Input'!AP157,'Data Input'!AQ157))","v":""},{"$f":"IF(O153=\"\",\"\",O153/COUNTIF('Data Input'!$C$8:$AQ$8,$O$2))","v":""}]
[{"$f":"IF('Data Input'!A158=0,\"\",'Data Input'!A158)","v":""},{"$f":"IF(ISBLANK('Data Input'!A158),\"\",COUNTIF('Data Input'!C158:AQ158,\"\")-1)","v":""},{"$f":"IF(ISBLANK('Data Input'!A158),\"\",COUNTIF('Data Input'!C158:AQ158,\"0\"))","v":""},{"$f":"IF(ISBLANK('Data Input'!A158),\"\",SUM(B154,C154))","v":""},{"$f":"IF(ISBLANK('Data Input'!A158),\"\",SUM('Data Input'!C158:V158))","v":""},{"$f":"IF(ISBLANK('Data Input'!A158),\"\",SUM('Data Input'!X158:AQ158))","v":""},{"$f":"IF(ISBLANK('Data Input'!A158),\"\",SUM('Data Input'!C158:AQ158))","v":""},{"$f":"IF(G154=\"\",\"\",G154/(COUNTA('Data Input'!$C$8:$AQ$8)-1))","v":""},{"$f":"IF(ISBLANK('Data Input'!A158),\"\",SUM('Data Input'!C158,'Data Input'!K158,'Data Input'!L158,'Data Input'!AC158,'Data Input'!AF158,'Data Input'!AM158,'Data Input'!AO158))","v":""},{"$f":"IF(I154=\"\",\"\",I154/COUNTIF('Data Input'!$C$8:$AQ$8,$I$2))","v":""},{"$f":"IF(ISBLANK('Data Input'!A158),\"\",SUM('Data Input'!D158,'Data Input'!E158,'Data Input'!F158,'Data Input'!G158,'Data Input'!J158,'Data Input'!O158,'Data Input'!P158,'Data Input'!S158,'Data Input'!U158,'Data Input'!X158,'Data Input'!Z158,'Data Input'!AA158,'Data Input'!AB158,'Data Input'!AE158,'Data Input'!AG158,'Data Input'!AH158,'Data Input'!AJ158,'Data Input'!AK158,'Data Input'!AL158,'Data Input'!AN158))","v":""},{"$f":"IF(K154=\"\",\"\",K154/COUNTIF('Data Input'!$C$8:$AQ$8,$K$2))","v":""},{"$f":"IF(ISBLANK('Data Input'!A158),\"\",SUM('Data Input'!V158))","v":""},{"$f":"IF(M154=\"\",\"\",M154/COUNTIF('Data Input'!$C$8:$AQ$8,$M$2))","v":""},{"$f":"IF(ISBLANK('Data Input'!A158),\"\",SUM('Data Input'!H158,'Data Input'!I158,'Data Input'!M158,'Data Input'!N158,'Data Input'!Q158,'Data Input'!R158,'Data Input'!T158,'Data Input'!Y158,'Data Input'!AD158,'Data Input'!AI158,'Data Input'!AP158,'Data Input'!AQ158))","v":""},{"$f":"IF(O154=\"\",\"\",O154/COUNTIF('Data Input'!$C$8:$AQ$8,$O$2))","v":""}]
[{"$f":"IF('Data Input'!A159=0,\"\",'Data Input'!A159)","v":""},{"$f":"IF(ISBLANK('Data Input'!A159),\"\",COUNTIF('Data Input'!C159:AQ159,\"\")-1)","v":""},{"$f":"IF(ISBLANK('Data Input'!A159),\"\",COUNTIF('Data Input'!C159:AQ159,\"0\"))","v":""},{"$f":"IF(ISBLANK('Data Input'!A159),\"\",SUM(B155,C155))","v":""},{"$f":"IF(ISBLANK('Data Input'!A159),\"\",SUM('Data Input'!C159:V159))","v":""},{"$f":"IF(ISBLANK('Data Input'!A159),\"\",SUM('Data Input'!X159:AQ159))","v":""},{"$f":"IF(ISBLANK('Data Input'!A159),\"\",SUM('Data Input'!C159:AQ159))","v":""},{"$f":"IF(G155=\"\",\"\",G155/(COUNTA('Data Input'!$C$8:$AQ$8)-1))","v":""},{"$f":"IF(ISBLANK('Data Input'!A159),\"\",SUM('Data Input'!C159,'Data Input'!K159,'Data Input'!L159,'Data Input'!AC159,'Data Input'!AF159,'Data Input'!AM159,'Data Input'!AO159))","v":""},{"$f":"IF(I155=\"\",\"\",I155/COUNTIF('Data Input'!$C$8:$AQ$8,$I$2))","v":""},{"$f":"IF(ISBLANK('Data Input'!A159),\"\",SUM('Data Input'!D159,'Data Input'!E159,'Data Input'!F159,'Data Input'!G159,'Data Input'!J159,'Data Input'!O159,'Data Input'!P159,'Data Input'!S159,'Data Input'!U159,'Data Input'!X159,'Data Input'!Z159,'Data Input'!AA159,'Data Input'!AB159,'Data Input'!AE159,'Data Input'!AG159,'Data Input'!AH159,'Data Input'!AJ159,'Data Input'!AK159,'Data Input'!AL159,'Data Input'!AN159))","v":""},{"$f":"IF(K155=\"\",\"\",K155/COUNTIF('Data Input'!$C$8:$AQ$8,$K$2))","v":""},{"$f":"IF(ISBLANK('Data Input'!A159),\"\",SUM('Data Input'!V159))","v":""},{"$f":"IF(M155=\"\",\"\",M155/COUNTIF('Data Input'!$C$8:$AQ$8,$M$2))","v":""},{"$f":"IF(ISBLANK('Data Input'!A159),\"\",SUM('Data Input'!H159,'Data Input'!I159,'Data Input'!M159,'Data Input'!N159,'Data Input'!Q159,'Data Input'!R159,'Data Input'!T159,'Data Input'!Y159,'Data Input'!AD159,'Data Input'!AI159,'Data Input'!AP159,'Data Input'!AQ159))","v":""},{"$f":"IF(O155=\"\",\"\",O155/COUNTIF('Data Input'!$C$8:$AQ$8,$O$2))","v":""}]
[{"$f":"IF('Data Input'!A160=0,\"\",'Data Input'!A160)","v":""},{"$f":"IF(ISBLANK('Data Input'!A160),\"\",COUNTIF('Data Input'!C160:AQ160,\"\")-1)","v":""},{"$f":"IF(ISBLANK('Data Input'!A160),\"\",COUNTIF('Data Input'!C160:AQ160,\"0\"))","v":""},{"$f":"IF(ISBLANK('Data Input'!A160),\"\",SUM(B156,C156))","v":""},{"$f":"IF(ISBLANK('Data Input'!A160),\"\",SUM('Data Input'!C160:V160))","v":""},{"$f":"IF(ISBLANK('Data Input'!A160),\"\",SUM('Data Input'!X160:AQ160))","v":""},{"$f":"IF(ISBLANK('Data Input'!A160),\"\",SUM('Data Input'!C160:AQ160))","v":""},{"$f":"IF(G156=\"\",\"\",G156/(COUNTA('Data Input'!$C$8:$AQ$8)-1))","v":""},{"$f":"IF(ISBLANK('Data Input'!A160),\"\",SUM('Data Input'!C160,'Data Input'!K160,'Data Input'!L160,'Data Input'!AC160,'Data Input'!AF160,'Data Input'!AM160,'Data Input'!AO160))","v":""},{"$f":"IF(I156=\"\",\"\",I156/COUNTIF('Data Input'!$C$8:$AQ$8,$I$2))","v":""},{"$f":"IF(ISBLANK('Data Input'!A160),\"\",SUM('Data Input'!D160,'Data Input'!E160,'Data Input'!F160,'Data Input'!G160,'Data Input'!J160,'Data Input'!O160,'Data Input'!P160,'Data Input'!S160,'Data Input'!U160,'Data Input'!X160,'Data Input'!Z160,'Data Input'!AA160,'Data Input'!AB160,'Data Input'!AE160,'Data Input'!AG160,'Data Input'!AH160,'Data Input'!AJ160,'Data Input'!AK160,'Data Input'!AL160,'Data Input'!AN160))","v":""},{"$f":"IF(K156=\"\",\"\",K156/COUNTIF('Data Input'!$C$8:$AQ$8,$K$2))","v":""},{"$f":"IF(ISBLANK('Data Input'!A160),\"\",SUM('Data Input'!V160))","v":""},{"$f":"IF(M156=\"\",\"\",M156/COUNTIF('Data Input'!$C$8:$AQ$8,$M$2))","v":""},{"$f":"IF(ISBLANK('Data Input'!A160),\"\",SUM('Data Input'!H160,'Data Input'!I160,'Data Input'!M160,'Data Input'!N160,'Data Input'!Q160,'Data Input'!R160,'Data Input'!T160,'Data Input'!Y160,'Data Input'!AD160,'Data Input'!AI160,'Data Input'!AP160,'Data Input'!AQ160))","v":""},{"$f":"IF(O156=\"\",\"\",O156/COUNTIF('Data Input'!$C$8:$AQ$8,$O$2))","v":""}]
[{"$f":"IF('Data Input'!A161=0,\"\",'Data Input'!A161)","v":""},{"$f":"IF(ISBLANK('Data Input'!A161),\"\",COUNTIF('Data Input'!C161:AQ161,\"\")-1)","v":""},{"$f":"IF(ISBLANK('Data Input'!A161),\"\",COUNTIF('Data Input'!C161:AQ161,\"0\"))","v":""},{"$f":"IF(ISBLANK('Data Input'!A161),\"\",SUM(B157,C157))","v":""},{"$f":"IF(ISBLANK('Data Input'!A161),\"\",SUM('Data Input'!C161:V161))","v":""},{"$f":"IF(ISBLANK('Data Input'!A161),\"\",SUM('Data Input'!X161:AQ161))","v":""},{"$f":"IF(ISBLANK('Data Input'!A161),\"\",SUM('Data Input'!C161:AQ161))","v":""},{"$f":"IF(G157=\"\",\"\",G157/(COUNTA('Data Input'!$C$8:$AQ$8)-1))","v":""},{"$f":"IF(ISBLANK('Data Input'!A161),\"\",SUM('Data Input'!C161,'Data Input'!K161,'Data Input'!L161,'Data Input'!AC161,'Data Input'!AF161,'Data Input'!AM161,'Data Input'!AO161))","v":""},{"$f":"IF(I157=\"\",\"\",I157/COUNTIF('Data Input'!$C$8:$AQ$8,$I$2))","v":""},{"$f":"IF(ISBLANK('Data Input'!A161),\"\",SUM('Data Input'!D161,'Data Input'!E161,'Data Input'!F161,'Data Input'!G161,'Data Input'!J161,'Data Input'!O161,'Data Input'!P161,'Data Input'!S161,'Data Input'!U161,'Data Input'!X161,'Data Input'!Z161,'Data Input'!AA161,'Data Input'!AB161,'Data Input'!AE161,'Data Input'!AG161,'Data Input'!AH161,'Data Input'!AJ161,'Data Input'!AK161,'Data Input'!AL161,'Data Input'!AN161))","v":""},{"$f":"IF(K157=\"\",\"\",K157/COUNTIF('Data Input'!$C$8:$AQ$8,$K$2))","v":""},{"$f":"IF(ISBLANK('Data Input'!A161),\"\",SUM('Data Input'!V161))","v":""},{"$f":"IF(M157=\"\",\"\",M157/COUNTIF('Data Input'!$C$8:$AQ$8,$M$2))","v":""},{"$f":"IF(ISBLANK('Data Input'!A161),\"\",SUM('Data Input'!H161,'Data Input'!I161,'Data Input'!M161,'Data Input'!N161,'Data Input'!Q161,'Data Input'!R161,'Data Input'!T161,'Data Input'!Y161,'Data Input'!AD161,'Data Input'!AI161,'Data Input'!AP161,'Data Input'!AQ161))","v":""},{"$f":"IF(O157=\"\",\"\",O157/COUNTIF('Data Input'!$C$8:$AQ$8,$O$2))","v":""}]
[{"$f":"IF('Data Input'!A162=0,\"\",'Data Input'!A162)","v":""},{"$f":"IF(ISBLANK('Data Input'!A162),\"\",COUNTIF('Data Input'!C162:AQ162,\"\")-1)","v":""},{"$f":"IF(ISBLANK('Data Input'!A162),\"\",COUNTIF('Data Input'!C162:AQ162,\"0\"))","v":""},{"$f":"IF(ISBLANK('Data Input'!A162),\"\",SUM(B158,C158))","v":""},{"$f":"IF(ISBLANK('Data Input'!A162),\"\",SUM('Data Input'!C162:V162))","v":""},{"$f":"IF(ISBLANK('Data Input'!A162),\"\",SUM('Data Input'!X162:AQ162))","v":""},{"$f":"IF(ISBLANK('Data Input'!A162),\"\",SUM('Data Input'!C162:AQ162))","v":""},{"$f":"IF(G158=\"\",\"\",G158/(COUNTA('Data Input'!$C$8:$AQ$8)-1))","v":""},{"$f":"IF(ISBLANK('Data Input'!A162),\"\",SUM('Data Input'!C162,'Data Input'!K162,'Data Input'!L162,'Data Input'!AC162,'Data Input'!AF162,'Data Input'!AM162,'Data Input'!AO162))","v":""},{"$f":"IF(I158=\"\",\"\",I158/COUNTIF('Data Input'!$C$8:$AQ$8,$I$2))","v":""},{"$f":"IF(ISBLANK('Data Input'!A162),\"\",SUM('Data Input'!D162,'Data Input'!E162,'Data Input'!F162,'Data Input'!G162,'Data Input'!J162,'Data Input'!O162,'Data Input'!P162,'Data Input'!S162,'Data Input'!U162,'Data Input'!X162,'Data Input'!Z162,'Data Input'!AA162,'Data Input'!AB162,'Data Input'!AE162,'Data Input'!AG162,'Data Input'!AH162,'Data Input'!AJ162,'Data Input'!AK162,'Data Input'!AL162,'Data Input'!AN162))","v":""},{"$f":"IF(K158=\"\",\"\",K158/COUNTIF('Data Input'!$C$8:$AQ$8,$K$2))","v":""},{"$f":"IF(ISBLANK('Data Input'!A162),\"\",SUM('Data Input'!V162))","v":""},{"$f":"IF(M158=\"\",\"\",M158/COUNTIF('Data Input'!$C$8:$AQ$8,$M$2))","v":""},{"$f":"IF(ISBLANK('Data Input'!A162),\"\",SUM('Data Input'!H162,'Data Input'!I162,'Data Input'!M162,'Data Input'!N162,'Data Input'!Q162,'Data Input'!R162,'Data Input'!T162,'Data Input'!Y162,'Data Input'!AD162,'Data Input'!AI162,'Data Input'!AP162,'Data Input'!AQ162))","v":""},{"$f":"IF(O158=\"\",\"\",O158/COUNTIF('Data Input'!$C$8:$AQ$8,$O$2))","v":""}]
[{"$f":"IF('Data Input'!A163=0,\"\",'Data Input'!A163)","v":""},{"$f":"IF(ISBLANK('Data Input'!A163),\"\",COUNTIF('Data Input'!C163:AQ163,\"\")-1)","v":""},{"$f":"IF(ISBLANK('Data Input'!A163),\"\",COUNTIF('Data Input'!C163:AQ163,\"0\"))","v":""},{"$f":"IF(ISBLANK('Data Input'!A163),\"\",SUM(B159,C159))","v":""},{"$f":"IF(ISBLANK('Data Input'!A163),\"\",SUM('Data Input'!C163:V163))","v":""},{"$f":"IF(ISBLANK('Data Input'!A163),\"\",SUM('Data Input'!X163:AQ163))","v":""},{"$f":"IF(ISBLANK('Data Input'!A163),\"\",SUM('Data Input'!C163:AQ163))","v":""},{"$f":"IF(G159=\"\",\"\",G159/(COUNTA('Data Input'!$C$8:$AQ$8)-1))","v":""},{"$f":"IF(ISBLANK('Data Input'!A163),\"\",SUM('Data Input'!C163,'Data Input'!K163,'Data Input'!L163,'Data Input'!AC163,'Data Input'!AF163,'Data Input'!AM163,'Data Input'!AO163))","v":""},{"$f":"IF(I159=\"\",\"\",I159/COUNTIF('Data Input'!$C$8:$AQ$8,$I$2))","v":""},{"$f":"IF(ISBLANK('Data Input'!A163),\"\",SUM('Data Input'!D163,'Data Input'!E163,'Data Input'!F163,'Data Input'!G163,'Data Input'!J163,'Data Input'!O163,'Data Input'!P163,'Data Input'!S163,'Data Input'!U163,'Data Input'!X163,'Data Input'!Z163,'Data Input'!AA163,'Data Input'!AB163,'Data Input'!AE163,'Data Input'!AG163,'Data Input'!AH163,'Data Input'!AJ163,'Data Input'!AK163,'Data Input'!AL163,'Data Input'!AN163))","v":""},{"$f":"IF(K159=\"\",\"\",K159/COUNTIF('Data Input'!$C$8:$AQ$8,$K$2))","v":""},{"$f":"IF(ISBLANK('Data Input'!A163),\"\",SUM('Data Input'!V163))","v":""},{"$f":"IF(M159=\"\",\"\",M159/COUNTIF('Data Input'!$C$8:$AQ$8,$M$2))","v":""},{"$f":"IF(ISBLANK('Data Input'!A163),\"\",SUM('Data Input'!H163,'Data Input'!I163,'Data Input'!M163,'Data Input'!N163,'Data Input'!Q163,'Data Input'!R163,'Data Input'!T163,'Data Input'!Y163,'Data Input'!AD163,'Data Input'!AI163,'Data Input'!AP163,'Data Input'!AQ163))","v":""},{"$f":"IF(O159=\"\",\"\",O159/COUNTIF('Data Input'!$C$8:$AQ$8,$O$2))","v":""}]
[{"$f":"IF('Data Input'!A164=0,\"\",'Data Input'!A164)","v":""},{"$f":"IF(ISBLANK('Data Input'!A164),\"\",COUNTIF('Data Input'!C164:AQ164,\"\")-1)","v":""},{"$f":"IF(ISBLANK('Data Input'!A164),\"\",COUNTIF('Data Input'!C164:AQ164,\"0\"))","v":""},{"$f":"IF(ISBLANK('Data Input'!A164),\"\",SUM(B160,C160))","v":""},{"$f":"IF(ISBLANK('Data Input'!A164),\"\",SUM('Data Input'!C164:V164))","v":""},{"$f":"IF(ISBLANK('Data Input'!A164),\"\",SUM('Data Input'!X164:AQ164))","v":""},{"$f":"IF(ISBLANK('Data Input'!A164),\"\",SUM('Data Input'!C164:AQ164))","v":""},{"$f":"IF(G160=\"\",\"\",G160/(COUNTA('Data Input'!$C$8:$AQ$8)-1))","v":""},{"$f":"IF(ISBLANK('Data Input'!A164),\"\",SUM('Data Input'!C164,'Data Input'!K164,'Data Input'!L164,'Data Input'!AC164,'Data Input'!AF164,'Data Input'!AM164,'Data Input'!AO164))","v":""},{"$f":"IF(I160=\"\",\"\",I160/COUNTIF('Data Input'!$C$8:$AQ$8,$I$2))","v":""},{"$f":"IF(ISBLANK('Data Input'!A164),\"\",SUM('Data Input'!D164,'Data Input'!E164,'Data Input'!F164,'Data Input'!G164,'Data Input'!J164,'Data Input'!O164,'Data Input'!P164,'Data Input'!S164,'Data Input'!U164,'Data Input'!X164,'Data Input'!Z164,'Data Input'!AA164,'Data Input'!AB164,'Data Input'!AE164,'Data Input'!AG164,'Data Input'!AH164,'Data Input'!AJ164,'Data Input'!AK164,'Data Input'!AL164,'Data Input'!AN164))","v":""},{"$f":"IF(K160=\"\",\"\",K160/COUNTIF('Data Input'!$C$8:$AQ$8,$K$2))","v":""},{"$f":"IF(ISBLANK('Data Input'!A164),\"\",SUM('Data Input'!V164))","v":""},{"$f":"IF(M160=\"\",\"\",M160/COUNTIF('Data Input'!$C$8:$AQ$8,$M$2))","v":""},{"$f":"IF(ISBLANK('Data Input'!A164),\"\",SUM('Data Input'!H164,'Data Input'!I164,'Data Input'!M164,'Data Input'!N164,'Data Input'!Q164,'Data Input'!R164,'Data Input'!T164,'Data Input'!Y164,'Data Input'!AD164,'Data Input'!AI164,'Data Input'!AP164,'Data Input'!AQ164))","v":""},{"$f":"IF(O160=\"\",\"\",O160/COUNTIF('Data Input'!$C$8:$AQ$8,$O$2))","v":""}]
[{"$f":"IF('Data Input'!A165=0,\"\",'Data Input'!A165)","v":""},{"$f":"IF(ISBLANK('Data Input'!A165),\"\",COUNTIF('Data Input'!C165:AQ165,\"\")-1)","v":""},{"$f":"IF(ISBLANK('Data Input'!A165),\"\",COUNTIF('Data Input'!C165:AQ165,\"0\"))","v":""},{"$f":"IF(ISBLANK('Data Input'!A165),\"\",SUM(B161,C161))","v":""},{"$f":"IF(ISBLANK('Data Input'!A165),\"\",SUM('Data Input'!C165:V165))","v":""},{"$f":"IF(ISBLANK('Data Input'!A165),\"\",SUM('Data Input'!X165:AQ165))","v":""},{"$f":"IF(ISBLANK('Data Input'!A165),\"\",SUM('Data Input'!C165:AQ165))","v":""},{"$f":"IF(G161=\"\",\"\",G161/(COUNTA('Data Input'!$C$8:$AQ$8)-1))","v":""},{"$f":"IF(ISBLANK('Data Input'!A165),\"\",SUM('Data Input'!C165,'Data Input'!K165,'Data Input'!L165,'Data Input'!AC165,'Data Input'!AF165,'Data Input'!AM165,'Data Input'!AO165))","v":""},{"$f":"IF(I161=\"\",\"\",I161/COUNTIF('Data Input'!$C$8:$AQ$8,$I$2))","v":""},{"$f":"IF(ISBLANK('Data Input'!A165),\"\",SUM('Data Input'!D165,'Data Input'!E165,'Data Input'!F165,'Data Input'!G165,'Data Input'!J165,'Data Input'!O165,'Data Input'!P165,'Data Input'!S165,'Data Input'!U165,'Data Input'!X165,'Data Input'!Z165,'Data Input'!AA165,'Data Input'!AB165,'Data Input'!AE165,'Data Input'!AG165,'Data Input'!AH165,'Data Input'!AJ165,'Data Input'!AK165,'Data Input'!AL165,'Data Input'!AN165))","v":""},{"$f":"IF(K161=\"\",\"\",K161/COUNTIF('Data Input'!$C$8:$AQ$8,$K$2))","v":""},{"$f":"IF(ISBLANK('Data Input'!A165),\"\",SUM('Data Input'!V165))","v":""},{"$f":"IF(M161=\"\",\"\",M161/COUNTIF('Data Input'!$C$8:$AQ$8,$M$2))","v":""},{"$f":"IF(ISBLANK('Data Input'!A165),\"\",SUM('Data Input'!H165,'Data Input'!I165,'Data Input'!M165,'Data Input'!N165,'Data Input'!Q165,'Data Input'!R165,'Data Input'!T165,'Data Input'!Y165,'Data Input'!AD165,'Data Input'!AI165,'Data Input'!AP165,'Data Input'!AQ165))","v":""},{"$f":"IF(O161=\"\",\"\",O161/COUNTIF('Data Input'!$C$8:$AQ$8,$O$2))","v":""}]
[{"$f":"IF('Data Input'!A166=0,\"\",'Data Input'!A166)","v":""},{"$f":"IF(ISBLANK('Data Input'!A166),\"\",COUNTIF('Data Input'!C166:AQ166,\"\")-1)","v":""},{"$f":"IF(ISBLANK('Data Input'!A166),\"\",COUNTIF('Data Input'!C166:AQ166,\"0\"))","v":""},{"$f":"IF(ISBLANK('Data Input'!A166),\"\",SUM(B162,C162))","v":""},{"$f":"IF(ISBLANK('Data Input'!A166),\"\",SUM('Data Input'!C166:V166))","v":""},{"$f":"IF(ISBLANK('Data Input'!A166),\"\",SUM('Data Input'!X166:AQ166))","v":""},{"$f":"IF(ISBLANK('Data Input'!A166),\"\",SUM('Data Input'!C166:AQ166))","v":""},{"$f":"IF(G162=\"\",\"\",G162/(COUNTA('Data Input'!$C$8:$AQ$8)-1))","v":""},{"$f":"IF(ISBLANK('Data Input'!A166),\"\",SUM('Data Input'!C166,'Data Input'!K166,'Data Input'!L166,'Data Input'!AC166,'Data Input'!AF166,'Data Input'!AM166,'Data Input'!AO166))","v":""},{"$f":"IF(I162=\"\",\"\",I162/COUNTIF('Data Input'!$C$8:$AQ$8,$I$2))","v":""},{"$f":"IF(ISBLANK('Data Input'!A166),\"\",SUM('Data Input'!D166,'Data Input'!E166,'Data Input'!F166,'Data Input'!G166,'Data Input'!J166,'Data Input'!O166,'Data Input'!P166,'Data Input'!S166,'Data Input'!U166,'Data Input'!X166,'Data Input'!Z166,'Data Input'!AA166,'Data Input'!AB166,'Data Input'!AE166,'Data Input'!AG166,'Data Input'!AH166,'Data Input'!AJ166,'Data Input'!AK166,'Data Input'!AL166,'Data Input'!AN166))","v":""},{"$f":"IF(K162=\"\",\"\",K162/COUNTIF('Data Input'!$C$8:$AQ$8,$K$2))","v":""},{"$f":"IF(ISBLANK('Data Input'!A166),\"\",SUM('Data Input'!V166))","v":""},{"$f":"IF(M162=\"\",\"\",M162/COUNTIF('Data Input'!$C$8:$AQ$8,$M$2))","v":""},{"$f":"IF(ISBLANK('Data Input'!A166),\"\",SUM('Data Input'!H166,'Data Input'!I166,'Data Input'!M166,'Data Input'!N166,'Data Input'!Q166,'Data Input'!R166,'Data Input'!T166,'Data Input'!Y166,'Data Input'!AD166,'Data Input'!AI166,'Data Input'!AP166,'Data Input'!AQ166))","v":""},{"$f":"IF(O162=\"\",\"\",O162/COUNTIF('Data Input'!$C$8:$AQ$8,$O$2))","v":""}]
[{"$f":"IF('Data Input'!A167=0,\"\",'Data Input'!A167)","v":""},{"$f":"IF(ISBLANK('Data Input'!A167),\"\",COUNTIF('Data Input'!C167:AQ167,\"\")-1)","v":""},{"$f":"IF(ISBLANK('Data Input'!A167),\"\",COUNTIF('Data Input'!C167:AQ167,\"0\"))","v":""},{"$f":"IF(ISBLANK('Data Input'!A167),\"\",SUM(B163,C163))","v":""},{"$f":"IF(ISBLANK('Data Input'!A167),\"\",SUM('Data Input'!C167:V167))","v":""},{"$f":"IF(ISBLANK('Data Input'!A167),\"\",SUM('Data Input'!X167:AQ167))","v":""},{"$f":"IF(ISBLANK('Data Input'!A167),\"\",SUM('Data Input'!C167:AQ167))","v":""},{"$f":"IF(G163=\"\",\"\",G163/(COUNTA('Data Input'!$C$8:$AQ$8)-1))","v":""},{"$f":"IF(ISBLANK('Data Input'!A167),\"\",SUM('Data Input'!C167,'Data Input'!K167,'Data Input'!L167,'Data Input'!AC167,'Data Input'!AF167,'Data Input'!AM167,'Data Input'!AO167))","v":""},{"$f":"IF(I163=\"\",\"\",I163/COUNTIF('Data Input'!$C$8:$AQ$8,$I$2))","v":""},{"$f":"IF(ISBLANK('Data Input'!A167),\"\",SUM('Data Input'!D167,'Data Input'!E167,'Data Input'!F167,'Data Input'!G167,'Data Input'!J167,'Data Input'!O167,'Data Input'!P167,'Data Input'!S167,'Data Input'!U167,'Data Input'!X167,'Data Input'!Z167,'Data Input'!AA167,'Data Input'!AB167,'Data Input'!AE167,'Data Input'!AG167,'Data Input'!AH167,'Data Input'!AJ167,'Data Input'!AK167,'Data Input'!AL167,'Data Input'!AN167))","v":""},{"$f":"IF(K163=\"\",\"\",K163/COUNTIF('Data Input'!$C$8:$AQ$8,$K$2))","v":""},{"$f":"IF(ISBLANK('Data Input'!A167),\"\",SUM('Data Input'!V167))","v":""},{"$f":"IF(M163=\"\",\"\",M163/COUNTIF('Data Input'!$C$8:$AQ$8,$M$2))","v":""},{"$f":"IF(ISBLANK('Data Input'!A167),\"\",SUM('Data Input'!H167,'Data Input'!I167,'Data Input'!M167,'Data Input'!N167,'Data Input'!Q167,'Data Input'!R167,'Data Input'!T167,'Data Input'!Y167,'Data Input'!AD167,'Data Input'!AI167,'Data Input'!AP167,'Data Input'!AQ167))","v":""},{"$f":"IF(O163=\"\",\"\",O163/COUNTIF('Data Input'!$C$8:$AQ$8,$O$2))","v":""}]
[{"$f":"IF('Data Input'!A168=0,\"\",'Data Input'!A168)","v":""},{"$f":"IF(ISBLANK('Data Input'!A168),\"\",COUNTIF('Data Input'!C168:AQ168,\"\")-1)","v":""},{"$f":"IF(ISBLANK('Data Input'!A168),\"\",COUNTIF('Data Input'!C168:AQ168,\"0\"))","v":""},{"$f":"IF(ISBLANK('Data Input'!A168),\"\",SUM(B164,C164))","v":""},{"$f":"IF(ISBLANK('Data Input'!A168),\"\",SUM('Data Input'!C168:V168))","v":""},{"$f":"IF(ISBLANK('Data Input'!A168),\"\",SUM('Data Input'!X168:AQ168))","v":""},{"$f":"IF(ISBLANK('Data Input'!A168),\"\",SUM('Data Input'!C168:AQ168))","v":""},{"$f":"IF(G164=\"\",\"\",G164/(COUNTA('Data Input'!$C$8:$AQ$8)-1))","v":""},{"$f":"IF(ISBLANK('Data Input'!A168),\"\",SUM('Data Input'!C168,'Data Input'!K168,'Data Input'!L168,'Data Input'!AC168,'Data Input'!AF168,'Data Input'!AM168,'Data Input'!AO168))","v":""},{"$f":"IF(I164=\"\",\"\",I164/COUNTIF('Data Input'!$C$8:$AQ$8,$I$2))","v":""},{"$f":"IF(ISBLANK('Data Input'!A168),\"\",SUM('Data Input'!D168,'Data Input'!E168,'Data Input'!F168,'Data Input'!G168,'Data Input'!J168,'Data Input'!O168,'Data Input'!P168,'Data Input'!S168,'Data Input'!U168,'Data Input'!X168,'Data Input'!Z168,'Data Input'!AA168,'Data Input'!AB168,'Data Input'!AE168,'Data Input'!AG168,'Data Input'!AH168,'Data Input'!AJ168,'Data Input'!AK168,'Data Input'!AL168,'Data Input'!AN168))","v":""},{"$f":"IF(K164=\"\",\"\",K164/COUNTIF('Data Input'!$C$8:$AQ$8,$K$2))","v":""},{"$f":"IF(ISBLANK('Data Input'!A168),\"\",SUM('Data Input'!V168))","v":""},{"$f":"IF(M164=\"\",\"\",M164/COUNTIF('Data Input'!$C$8:$AQ$8,$M$2))","v":""},{"$f":"IF(ISBLANK('Data Input'!A168),\"\",SUM('Data Input'!H168,'Data Input'!I168,'Data Input'!M168,'Data Input'!N168,'Data Input'!Q168,'Data Input'!R168,'Data Input'!T168,'Data Input'!Y168,'Data Input'!AD168,'Data Input'!AI168,'Data Input'!AP168,'Data Input'!AQ168))","v":""},{"$f":"IF(O164=\"\",\"\",O164/COUNTIF('Data Input'!$C$8:$AQ$8,$O$2))","v":""}]
[{"$f":"IF('Data Input'!A169=0,\"\",'Data Input'!A169)","v":""},{"$f":"IF(ISBLANK('Data Input'!A169),\"\",COUNTIF('Data Input'!C169:AQ169,\"\")-1)","v":""},{"$f":"IF(ISBLANK('Data Input'!A169),\"\",COUNTIF('Data Input'!C169:AQ169,\"0\"))","v":""},{"$f":"IF(ISBLANK('Data Input'!A169),\"\",SUM(B165,C165))","v":""},{"$f":"IF(ISBLANK('Data Input'!A169),\"\",SUM('Data Input'!C169:V169))","v":""},{"$f":"IF(ISBLANK('Data Input'!A169),\"\",SUM('Data Input'!X169:AQ169))","v":""},{"$f":"IF(ISBLANK('Data Input'!A169),\"\",SUM('Data Input'!C169:AQ169))","v":""},{"$f":"IF(G165=\"\",\"\",G165/(COUNTA('Data Input'!$C$8:$AQ$8)-1))","v":""},{"$f":"IF(ISBLANK('Data Input'!A169),\"\",SUM('Data Input'!C169,'Data Input'!K169,'Data Input'!L169,'Data Input'!AC169,'Data Input'!AF169,'Data Input'!AM169,'Data Input'!AO169))","v":""},{"$f":"IF(I165=\"\",\"\",I165/COUNTIF('Data Input'!$C$8:$AQ$8,$I$2))","v":""},{"$f":"IF(ISBLANK('Data Input'!A169),\"\",SUM('Data Input'!D169,'Data Input'!E169,'Data Input'!F169,'Data Input'!G169,'Data Input'!J169,'Data Input'!O169,'Data Input'!P169,'Data Input'!S169,'Data Input'!U169,'Data Input'!X169,'Data Input'!Z169,'Data Input'!AA169,'Data Input'!AB169,'Data Input'!AE169,'Data Input'!AG169,'Data Input'!AH169,'Data Input'!AJ169,'Data Input'!AK169,'Data Input'!AL169,'Data Input'!AN169))","v":""},{"$f":"IF(K165=\"\",\"\",K165/COUNTIF('Data Input'!$C$8:$AQ$8,$K$2))","v":""},{"$f":"IF(ISBLANK('Data Input'!A169),\"\",SUM('Data Input'!V169))","v":""},{"$f":"IF(M165=\"\",\"\",M165/COUNTIF('Data Input'!$C$8:$AQ$8,$M$2))","v":""},{"$f":"IF(ISBLANK('Data Input'!A169),\"\",SUM('Data Input'!H169,'Data Input'!I169,'Data Input'!M169,'Data Input'!N169,'Data Input'!Q169,'Data Input'!R169,'Data Input'!T169,'Data Input'!Y169,'Data Input'!AD169,'Data Input'!AI169,'Data Input'!AP169,'Data Input'!AQ169))","v":""},{"$f":"IF(O165=\"\",\"\",O165/COUNTIF('Data Input'!$C$8:$AQ$8,$O$2))","v":""}]
[{"$f":"IF('Data Input'!A170=0,\"\",'Data Input'!A170)","v":""},{"$f":"IF(ISBLANK('Data Input'!A170),\"\",COUNTIF('Data Input'!C170:AQ170,\"\")-1)","v":""},{"$f":"IF(ISBLANK('Data Input'!A170),\"\",COUNTIF('Data Input'!C170:AQ170,\"0\"))","v":""},{"$f":"IF(ISBLANK('Data Input'!A170),\"\",SUM(B166,C166))","v":""},{"$f":"IF(ISBLANK('Data Input'!A170),\"\",SUM('Data Input'!C170:V170))","v":""},{"$f":"IF(ISBLANK('Data Input'!A170),\"\",SUM('Data Input'!X170:AQ170))","v":""},{"$f":"IF(ISBLANK('Data Input'!A170),\"\",SUM('Data Input'!C170:AQ170))","v":""},{"$f":"IF(G166=\"\",\"\",G166/(COUNTA('Data Input'!$C$8:$AQ$8)-1))","v":""},{"$f":"IF(ISBLANK('Data Input'!A170),\"\",SUM('Data Input'!C170,'Data Input'!K170,'Data Input'!L170,'Data Input'!AC170,'Data Input'!AF170,'Data Input'!AM170,'Data Input'!AO170))","v":""},{"$f":"IF(I166=\"\",\"\",I166/COUNTIF('Data Input'!$C$8:$AQ$8,$I$2))","v":""},{"$f":"IF(ISBLANK('Data Input'!A170),\"\",SUM('Data Input'!D170,'Data Input'!E170,'Data Input'!F170,'Data Input'!G170,'Data Input'!J170,'Data Input'!O170,'Data Input'!P170,'Data Input'!S170,'Data Input'!U170,'Data Input'!X170,'Data Input'!Z170,'Data Input'!AA170,'Data Input'!AB170,'Data Input'!AE170,'Data Input'!AG170,'Data Input'!AH170,'Data Input'!AJ170,'Data Input'!AK170,'Data Input'!AL170,'Data Input'!AN170))","v":""},{"$f":"IF(K166=\"\",\"\",K166/COUNTIF('Data Input'!$C$8:$AQ$8,$K$2))","v":""},{"$f":"IF(ISBLANK('Data Input'!A170),\"\",SUM('Data Input'!V170))","v":""},{"$f":"IF(M166=\"\",\"\",M166/COUNTIF('Data Input'!$C$8:$AQ$8,$M$2))","v":""},{"$f":"IF(ISBLANK('Data Input'!A170),\"\",SUM('Data Input'!H170,'Data Input'!I170,'Data Input'!M170,'Data Input'!N170,'Data Input'!Q170,'Data Input'!R170,'Data Input'!T170,'Data Input'!Y170,'Data Input'!AD170,'Data Input'!AI170,'Data Input'!AP170,'Data Input'!AQ170))","v":""},{"$f":"IF(O166=\"\",\"\",O166/COUNTIF('Data Input'!$C$8:$AQ$8,$O$2))","v":""}]
[{"$f":"IF('Data Input'!A171=0,\"\",'Data Input'!A171)","v":""},{"$f":"IF(ISBLANK('Data Input'!A171),\"\",COUNTIF('Data Input'!C171:AQ171,\"\")-1)","v":""},{"$f":"IF(ISBLANK('Data Input'!A171),\"\",COUNTIF('Data Input'!C171:AQ171,\"0\"))","v":""},{"$f":"IF(ISBLANK('Data Input'!A171),\"\",SUM(B167,C167))","v":""},{"$f":"IF(ISBLANK('Data Input'!A171),\"\",SUM('Data Input'!C171:V171))","v":""},{"$f":"IF(ISBLANK('Data Input'!A171),\"\",SUM('Data Input'!X171:AQ171))","v":""},{"$f":"IF(ISBLANK('Data Input'!A171),\"\",SUM('Data Input'!C171:AQ171))","v":""},{"$f":"IF(G167=\"\",\"\",G167/(COUNTA('Data Input'!$C$8:$AQ$8)-1))","v":""},{"$f":"IF(ISBLANK('Data Input'!A171),\"\",SUM('Data Input'!C171,'Data Input'!K171,'Data Input'!L171,'Data Input'!AC171,'Data Input'!AF171,'Data Input'!AM171,'Data Input'!AO171))","v":""},{"$f":"IF(I167=\"\",\"\",I167/COUNTIF('Data Input'!$C$8:$AQ$8,$I$2))","v":""},{"$f":"IF(ISBLANK('Data Input'!A171),\"\",SUM('Data Input'!D171,'Data Input'!E171,'Data Input'!F171,'Data Input'!G171,'Data Input'!J171,'Data Input'!O171,'Data Input'!P171,'Data Input'!S171,'Data Input'!U171,'Data Input'!X171,'Data Input'!Z171,'Data Input'!AA171,'Data Input'!AB171,'Data Input'!AE171,'Data Input'!AG171,'Data Input'!AH171,'Data Input'!AJ171,'Data Input'!AK171,'Data Input'!AL171,'Data Input'!AN171))","v":""},{"$f":"IF(K167=\"\",\"\",K167/COUNTIF('Data Input'!$C$8:$AQ$8,$K$2))","v":""},{"$f":"IF(ISBLANK('Data Input'!A171),\"\",SUM('Data Input'!V171))","v":""},{"$f":"IF(M167=\"\",\"\",M167/COUNTIF('Data Input'!$C$8:$AQ$8,$M$2))","v":""},{"$f":"IF(ISBLANK('Data Input'!A171),\"\",SUM('Data Input'!H171,'Data Input'!I171,'Data Input'!M171,'Data Input'!N171,'Data Input'!Q171,'Data Input'!R171,'Data Input'!T171,'Data Input'!Y171,'Data Input'!AD171,'Data Input'!AI171,'Data Input'!AP171,'Data Input'!AQ171))","v":""},{"$f":"IF(O167=\"\",\"\",O167/COUNTIF('Data Input'!$C$8:$AQ$8,$O$2))","v":""}]
[{"$f":"IF('Data Input'!A172=0,\"\",'Data Input'!A172)","v":""},{"$f":"IF(ISBLANK('Data Input'!A172),\"\",COUNTIF('Data Input'!C172:AQ172,\"\")-1)","v":""},{"$f":"IF(ISBLANK('Data Input'!A172),\"\",COUNTIF('Data Input'!C172:AQ172,\"0\"))","v":""},{"$f":"IF(ISBLANK('Data Input'!A172),\"\",SUM(B168,C168))","v":""},{"$f":"IF(ISBLANK('Data Input'!A172),\"\",SUM('Data Input'!C172:V172))","v":""},{"$f":"IF(ISBLANK('Data Input'!A172),\"\",SUM('Data Input'!X172:AQ172))","v":""},{"$f":"IF(ISBLANK('Data Input'!A172),\"\",SUM('Data Input'!C172:AQ172))","v":""},{"$f":"IF(G168=\"\",\"\",G168/(COUNTA('Data Input'!$C$8:$AQ$8)-1))","v":""},{"$f":"IF(ISBLANK('Data Input'!A172),\"\",SUM('Data Input'!C172,'Data Input'!K172,'Data Input'!L172,'Data Input'!AC172,'Data Input'!AF172,'Data Input'!AM172,'Data Input'!AO172))","v":""},{"$f":"IF(I168=\"\",\"\",I168/COUNTIF('Data Input'!$C$8:$AQ$8,$I$2))","v":""},{"$f":"IF(ISBLANK('Data Input'!A172),\"\",SUM('Data Input'!D172,'Data Input'!E172,'Data Input'!F172,'Data Input'!G172,'Data Input'!J172,'Data Input'!O172,'Data Input'!P172,'Data Input'!S172,'Data Input'!U172,'Data Input'!X172,'Data Input'!Z172,'Data Input'!AA172,'Data Input'!AB172,'Data Input'!AE172,'Data Input'!AG172,'Data Input'!AH172,'Data Input'!AJ172,'Data Input'!AK172,'Data Input'!AL172,'Data Input'!AN172))","v":""},{"$f":"IF(K168=\"\",\"\",K168/COUNTIF('Data Input'!$C$8:$AQ$8,$K$2))","v":""},{"$f":"IF(ISBLANK('Data Input'!A172),\"\",SUM('Data Input'!V172))","v":""},{"$f":"IF(M168=\"\",\"\",M168/COUNTIF('Data Input'!$C$8:$AQ$8,$M$2))","v":""},{"$f":"IF(ISBLANK('Data Input'!A172),\"\",SUM('Data Input'!H172,'Data Input'!I172,'Data Input'!M172,'Data Input'!N172,'Data Input'!Q172,'Data Input'!R172,'Data Input'!T172,'Data Input'!Y172,'Data Input'!AD172,'Data Input'!AI172,'Data Input'!AP172,'Data Input'!AQ172))","v":""},{"$f":"IF(O168=\"\",\"\",O168/COUNTIF('Data Input'!$C$8:$AQ$8,$O$2))","v":""}]
[{"$f":"IF('Data Input'!A173=0,\"\",'Data Input'!A173)","v":""},{"$f":"IF(ISBLANK('Data Input'!A173),\"\",COUNTIF('Data Input'!C173:AQ173,\"\")-1)","v":""},{"$f":"IF(ISBLANK('Data Input'!A173),\"\",COUNTIF('Data Input'!C173:AQ173,\"0\"))","v":""},{"$f":"IF(ISBLANK('Data Input'!A173),\"\",SUM(B169,C169))","v":""},{"$f":"IF(ISBLANK('Data Input'!A173),\"\",SUM('Data Input'!C173:V173))","v":""},{"$f":"IF(ISBLANK('Data Input'!A173),\"\",SUM('Data Input'!X173:AQ173))","v":""},{"$f":"IF(ISBLANK('Data Input'!A173),\"\",SUM('Data Input'!C173:AQ173))","v":""},{"$f":"IF(G169=\"\",\"\",G169/(COUNTA('Data Input'!$C$8:$AQ$8)-1))","v":""},{"$f":"IF(ISBLANK('Data Input'!A173),\"\",SUM('Data Input'!C173,'Data Input'!K173,'Data Input'!L173,'Data Input'!AC173,'Data Input'!AF173,'Data Input'!AM173,'Data Input'!AO173))","v":""},{"$f":"IF(I169=\"\",\"\",I169/COUNTIF('Data Input'!$C$8:$AQ$8,$I$2))","v":""},{"$f":"IF(ISBLANK('Data Input'!A173),\"\",SUM('Data Input'!D173,'Data Input'!E173,'Data Input'!F173,'Data Input'!G173,'Data Input'!J173,'Data Input'!O173,'Data Input'!P173,'Data Input'!S173,'Data Input'!U173,'Data Input'!X173,'Data Input'!Z173,'Data Input'!AA173,'Data Input'!AB173,'Data Input'!AE173,'Data Input'!AG173,'Data Input'!AH173,'Data Input'!AJ173,'Data Input'!AK173,'Data Input'!AL173,'Data Input'!AN173))","v":""},{"$f":"IF(K169=\"\",\"\",K169/COUNTIF('Data Input'!$C$8:$AQ$8,$K$2))","v":""},{"$f":"IF(ISBLANK('Data Input'!A173),\"\",SUM('Data Input'!V173))","v":""},{"$f":"IF(M169=\"\",\"\",M169/COUNTIF('Data Input'!$C$8:$AQ$8,$M$2))","v":""},{"$f":"IF(ISBLANK('Data Input'!A173),\"\",SUM('Data Input'!H173,'Data Input'!I173,'Data Input'!M173,'Data Input'!N173,'Data Input'!Q173,'Data Input'!R173,'Data Input'!T173,'Data Input'!Y173,'Data Input'!AD173,'Data Input'!AI173,'Data Input'!AP173,'Data Input'!AQ173))","v":""},{"$f":"IF(O169=\"\",\"\",O169/COUNTIF('Data Input'!$C$8:$AQ$8,$O$2))","v":""}]
[{"$f":"IF('Data Input'!A174=0,\"\",'Data Input'!A174)","v":""},{"$f":"IF(ISBLANK('Data Input'!A174),\"\",COUNTIF('Data Input'!C174:AQ174,\"\")-1)","v":""},{"$f":"IF(ISBLANK('Data Input'!A174),\"\",COUNTIF('Data Input'!C174:AQ174,\"0\"))","v":""},{"$f":"IF(ISBLANK('Data Input'!A174),\"\",SUM(B170,C170))","v":""},{"$f":"IF(ISBLANK('Data Input'!A174),\"\",SUM('Data Input'!C174:V174))","v":""},{"$f":"IF(ISBLANK('Data Input'!A174),\"\",SUM('Data Input'!X174:AQ174))","v":""},{"$f":"IF(ISBLANK('Data Input'!A174),\"\",SUM('Data Input'!C174:AQ174))","v":""},{"$f":"IF(G170=\"\",\"\",G170/(COUNTA('Data Input'!$C$8:$AQ$8)-1))","v":""},{"$f":"IF(ISBLANK('Data Input'!A174),\"\",SUM('Data Input'!C174,'Data Input'!K174,'Data Input'!L174,'Data Input'!AC174,'Data Input'!AF174,'Data Input'!AM174,'Data Input'!AO174))","v":""},{"$f":"IF(I170=\"\",\"\",I170/COUNTIF('Data Input'!$C$8:$AQ$8,$I$2))","v":""},{"$f":"IF(ISBLANK('Data Input'!A174),\"\",SUM('Data Input'!D174,'Data Input'!E174,'Data Input'!F174,'Data Input'!G174,'Data Input'!J174,'Data Input'!O174,'Data Input'!P174,'Data Input'!S174,'Data Input'!U174,'Data Input'!X174,'Data Input'!Z174,'Data Input'!AA174,'Data Input'!AB174,'Data Input'!AE174,'Data Input'!AG174,'Data Input'!AH174,'Data Input'!AJ174,'Data Input'!AK174,'Data Input'!AL174,'Data Input'!AN174))","v":""},{"$f":"IF(K170=\"\",\"\",K170/COUNTIF('Data Input'!$C$8:$AQ$8,$K$2))","v":""},{"$f":"IF(ISBLANK('Data Input'!A174),\"\",SUM('Data Input'!V174))","v":""},{"$f":"IF(M170=\"\",\"\",M170/COUNTIF('Data Input'!$C$8:$AQ$8,$M$2))","v":""},{"$f":"IF(ISBLANK('Data Input'!A174),\"\",SUM('Data Input'!H174,'Data Input'!I174,'Data Input'!M174,'Data Input'!N174,'Data Input'!Q174,'Data Input'!R174,'Data Input'!T174,'Data Input'!Y174,'Data Input'!AD174,'Data Input'!AI174,'Data Input'!AP174,'Data Input'!AQ174))","v":""},{"$f":"IF(O170=\"\",\"\",O170/COUNTIF('Data Input'!$C$8:$AQ$8,$O$2))","v":""}]
[{"$f":"IF('Data Input'!A175=0,\"\",'Data Input'!A175)","v":""},{"$f":"IF(ISBLANK('Data Input'!A175),\"\",COUNTIF('Data Input'!C175:AQ175,\"\")-1)","v":""},{"$f":"IF(ISBLANK('Data Input'!A175),\"\",COUNTIF('Data Input'!C175:AQ175,\"0\"))","v":""},{"$f":"IF(ISBLANK('Data Input'!A175),\"\",SUM(B171,C171))","v":""},{"$f":"IF(ISBLANK('Data Input'!A175),\"\",SUM('Data Input'!C175:V175))","v":""},{"$f":"IF(ISBLANK('Data Input'!A175),\"\",SUM('Data Input'!X175:AQ175))","v":""},{"$f":"IF(ISBLANK('Data Input'!A175),\"\",SUM('Data Input'!C175:AQ175))","v":""},{"$f":"IF(G171=\"\",\"\",G171/(COUNTA('Data Input'!$C$8:$AQ$8)-1))","v":""},{"$f":"IF(ISBLANK('Data Input'!A175),\"\",SUM('Data Input'!C175,'Data Input'!K175,'Data Input'!L175,'Data Input'!AC175,'Data Input'!AF175,'Data Input'!AM175,'Data Input'!AO175))","v":""},{"$f":"IF(I171=\"\",\"\",I171/COUNTIF('Data Input'!$C$8:$AQ$8,$I$2))","v":""},{"$f":"IF(ISBLANK('Data Input'!A175),\"\",SUM('Data Input'!D175,'Data Input'!E175,'Data Input'!F175,'Data Input'!G175,'Data Input'!J175,'Data Input'!O175,'Data Input'!P175,'Data Input'!S175,'Data Input'!U175,'Data Input'!X175,'Data Input'!Z175,'Data Input'!AA175,'Data Input'!AB175,'Data Input'!AE175,'Data Input'!AG175,'Data Input'!AH175,'Data Input'!AJ175,'Data Input'!AK175,'Data Input'!AL175,'Data Input'!AN175))","v":""},{"$f":"IF(K171=\"\",\"\",K171/COUNTIF('Data Input'!$C$8:$AQ$8,$K$2))","v":""},{"$f":"IF(ISBLANK('Data Input'!A175),\"\",SUM('Data Input'!V175))","v":""},{"$f":"IF(M171=\"\",\"\",M171/COUNTIF('Data Input'!$C$8:$AQ$8,$M$2))","v":""},{"$f":"IF(ISBLANK('Data Input'!A175),\"\",SUM('Data Input'!H175,'Data Input'!I175,'Data Input'!M175,'Data Input'!N175,'Data Input'!Q175,'Data Input'!R175,'Data Input'!T175,'Data Input'!Y175,'Data Input'!AD175,'Data Input'!AI175,'Data Input'!AP175,'Data Input'!AQ175))","v":""},{"$f":"IF(O171=\"\",\"\",O171/COUNTIF('Data Input'!$C$8:$AQ$8,$O$2))","v":""}]
[{"$f":"IF('Data Input'!A176=0,\"\",'Data Input'!A176)","v":""},{"$f":"IF(ISBLANK('Data Input'!A176),\"\",COUNTIF('Data Input'!C176:AQ176,\"\")-1)","v":""},{"$f":"IF(ISBLANK('Data Input'!A176),\"\",COUNTIF('Data Input'!C176:AQ176,\"0\"))","v":""},{"$f":"IF(ISBLANK('Data Input'!A176),\"\",SUM(B172,C172))","v":""},{"$f":"IF(ISBLANK('Data Input'!A176),\"\",SUM('Data Input'!C176:V176))","v":""},{"$f":"IF(ISBLANK('Data Input'!A176),\"\",SUM('Data Input'!X176:AQ176))","v":""},{"$f":"IF(ISBLANK('Data Input'!A176),\"\",SUM('Data Input'!C176:AQ176))","v":""},{"$f":"IF(G172=\"\",\"\",G172/(COUNTA('Data Input'!$C$8:$AQ$8)-1))","v":""},{"$f":"IF(ISBLANK('Data Input'!A176),\"\",SUM('Data Input'!C176,'Data Input'!K176,'Data Input'!L176,'Data Input'!AC176,'Data Input'!AF176,'Data Input'!AM176,'Data Input'!AO176))","v":""},{"$f":"IF(I172=\"\",\"\",I172/COUNTIF('Data Input'!$C$8:$AQ$8,$I$2))","v":""},{"$f":"IF(ISBLANK('Data Input'!A176),\"\",SUM('Data Input'!D176,'Data Input'!E176,'Data Input'!F176,'Data Input'!G176,'Data Input'!J176,'Data Input'!O176,'Data Input'!P176,'Data Input'!S176,'Data Input'!U176,'Data Input'!X176,'Data Input'!Z176,'Data Input'!AA176,'Data Input'!AB176,'Data Input'!AE176,'Data Input'!AG176,'Data Input'!AH176,'Data Input'!AJ176,'Data Input'!AK176,'Data Input'!AL176,'Data Input'!AN176))","v":""},{"$f":"IF(K172=\"\",\"\",K172/COUNTIF('Data Input'!$C$8:$AQ$8,$K$2))","v":""},{"$f":"IF(ISBLANK('Data Input'!A176),\"\",SUM('Data Input'!V176))","v":""},{"$f":"IF(M172=\"\",\"\",M172/COUNTIF('Data Input'!$C$8:$AQ$8,$M$2))","v":""},{"$f":"IF(ISBLANK('Data Input'!A176),\"\",SUM('Data Input'!H176,'Data Input'!I176,'Data Input'!M176,'Data Input'!N176,'Data Input'!Q176,'Data Input'!R176,'Data Input'!T176,'Data Input'!Y176,'Data Input'!AD176,'Data Input'!AI176,'Data Input'!AP176,'Data Input'!AQ176))","v":""},{"$f":"IF(O172=\"\",\"\",O172/COUNTIF('Data Input'!$C$8:$AQ$8,$O$2))","v":""}]
[{"$f":"IF('Data Input'!A177=0,\"\",'Data Input'!A177)","v":""},{"$f":"IF(ISBLANK('Data Input'!A177),\"\",COUNTIF('Data Input'!C177:AQ177,\"\")-1)","v":""},{"$f":"IF(ISBLANK('Data Input'!A177),\"\",COUNTIF('Data Input'!C177:AQ177,\"0\"))","v":""},{"$f":"IF(ISBLANK('Data Input'!A177),\"\",SUM(B173,C173))","v":""},{"$f":"IF(ISBLANK('Data Input'!A177),\"\",SUM('Data Input'!C177:V177))","v":""},{"$f":"IF(ISBLANK('Data Input'!A177),\"\",SUM('Data Input'!X177:AQ177))","v":""},{"$f":"IF(ISBLANK('Data Input'!A177),\"\",SUM('Data Input'!C177:AQ177))","v":""},{"$f":"IF(G173=\"\",\"\",G173/(COUNTA('Data Input'!$C$8:$AQ$8)-1))","v":""},{"$f":"IF(ISBLANK('Data Input'!A177),\"\",SUM('Data Input'!C177,'Data Input'!K177,'Data Input'!L177,'Data Input'!AC177,'Data Input'!AF177,'Data Input'!AM177,'Data Input'!AO177))","v":""},{"$f":"IF(I173=\"\",\"\",I173/COUNTIF('Data Input'!$C$8:$AQ$8,$I$2))","v":""},{"$f":"IF(ISBLANK('Data Input'!A177),\"\",SUM('Data Input'!D177,'Data Input'!E177,'Data Input'!F177,'Data Input'!G177,'Data Input'!J177,'Data Input'!O177,'Data Input'!P177,'Data Input'!S177,'Data Input'!U177,'Data Input'!X177,'Data Input'!Z177,'Data Input'!AA177,'Data Input'!AB177,'Data Input'!AE177,'Data Input'!AG177,'Data Input'!AH177,'Data Input'!AJ177,'Data Input'!AK177,'Data Input'!AL177,'Data Input'!AN177))","v":""},{"$f":"IF(K173=\"\",\"\",K173/COUNTIF('Data Input'!$C$8:$AQ$8,$K$2))","v":""},{"$f":"IF(ISBLANK('Data Input'!A177),\"\",SUM('Data Input'!V177))","v":""},{"$f":"IF(M173=\"\",\"\",M173/COUNTIF('Data Input'!$C$8:$AQ$8,$M$2))","v":""},{"$f":"IF(ISBLANK('Data Input'!A177),\"\",SUM('Data Input'!H177,'Data Input'!I177,'Data Input'!M177,'Data Input'!N177,'Data Input'!Q177,'Data Input'!R177,'Data Input'!T177,'Data Input'!Y177,'Data Input'!AD177,'Data Input'!AI177,'Data Input'!AP177,'Data Input'!AQ177))","v":""},{"$f":"IF(O173=\"\",\"\",O173/COUNTIF('Data Input'!$C$8:$AQ$8,$O$2))","v":""}]
[{"$f":"IF('Data Input'!A178=0,\"\",'Data Input'!A178)","v":""},{"$f":"IF(ISBLANK('Data Input'!A178),\"\",COUNTIF('Data Input'!C178:AQ178,\"\")-1)","v":""},{"$f":"IF(ISBLANK('Data Input'!A178),\"\",COUNTIF('Data Input'!C178:AQ178,\"0\"))","v":""},{"$f":"IF(ISBLANK('Data Input'!A178),\"\",SUM(B174,C174))","v":""},{"$f":"IF(ISBLANK('Data Input'!A178),\"\",SUM('Data Input'!C178:V178))","v":""},{"$f":"IF(ISBLANK('Data Input'!A178),\"\",SUM('Data Input'!X178:AQ178))","v":""},{"$f":"IF(ISBLANK('Data Input'!A178),\"\",SUM('Data Input'!C178:AQ178))","v":""},{"$f":"IF(G174=\"\",\"\",G174/(COUNTA('Data Input'!$C$8:$AQ$8)-1))","v":""},{"$f":"IF(ISBLANK('Data Input'!A178),\"\",SUM('Data Input'!C178,'Data Input'!K178,'Data Input'!L178,'Data Input'!AC178,'Data Input'!AF178,'Data Input'!AM178,'Data Input'!AO178))","v":""},{"$f":"IF(I174=\"\",\"\",I174/COUNTIF('Data Input'!$C$8:$AQ$8,$I$2))","v":""},{"$f":"IF(ISBLANK('Data Input'!A178),\"\",SUM('Data Input'!D178,'Data Input'!E178,'Data Input'!F178,'Data Input'!G178,'Data Input'!J178,'Data Input'!O178,'Data Input'!P178,'Data Input'!S178,'Data Input'!U178,'Data Input'!X178,'Data Input'!Z178,'Data Input'!AA178,'Data Input'!AB178,'Data Input'!AE178,'Data Input'!AG178,'Data Input'!AH178,'Data Input'!AJ178,'Data Input'!AK178,'Data Input'!AL178,'Data Input'!AN178))","v":""},{"$f":"IF(K174=\"\",\"\",K174/COUNTIF('Data Input'!$C$8:$AQ$8,$K$2))","v":""},{"$f":"IF(ISBLANK('Data Input'!A178),\"\",SUM('Data Input'!V178))","v":""},{"$f":"IF(M174=\"\",\"\",M174/COUNTIF('Data Input'!$C$8:$AQ$8,$M$2))","v":""},{"$f":"IF(ISBLANK('Data Input'!A178),\"\",SUM('Data Input'!H178,'Data Input'!I178,'Data Input'!M178,'Data Input'!N178,'Data Input'!Q178,'Data Input'!R178,'Data Input'!T178,'Data Input'!Y178,'Data Input'!AD178,'Data Input'!AI178,'Data Input'!AP178,'Data Input'!AQ178))","v":""},{"$f":"IF(O174=\"\",\"\",O174/COUNTIF('Data Input'!$C$8:$AQ$8,$O$2))","v":""}]
[{"$f":"IF('Data Input'!A179=0,\"\",'Data Input'!A179)","v":""},{"$f":"IF(ISBLANK('Data Input'!A179),\"\",COUNTIF('Data Input'!C179:AQ179,\"\")-1)","v":""},{"$f":"IF(ISBLANK('Data Input'!A179),\"\",COUNTIF('Data Input'!C179:AQ179,\"0\"))","v":""},{"$f":"IF(ISBLANK('Data Input'!A179),\"\",SUM(B175,C175))","v":""},{"$f":"IF(ISBLANK('Data Input'!A179),\"\",SUM('Data Input'!C179:V179))","v":""},{"$f":"IF(ISBLANK('Data Input'!A179),\"\",SUM('Data Input'!X179:AQ179))","v":""},{"$f":"IF(ISBLANK('Data Input'!A179),\"\",SUM('Data Input'!C179:AQ179))","v":""},{"$f":"IF(G175=\"\",\"\",G175/(COUNTA('Data Input'!$C$8:$AQ$8)-1))","v":""},{"$f":"IF(ISBLANK('Data Input'!A179),\"\",SUM('Data Input'!C179,'Data Input'!K179,'Data Input'!L179,'Data Input'!AC179,'Data Input'!AF179,'Data Input'!AM179,'Data Input'!AO179))","v":""},{"$f":"IF(I175=\"\",\"\",I175/COUNTIF('Data Input'!$C$8:$AQ$8,$I$2))","v":""},{"$f":"IF(ISBLANK('Data Input'!A179),\"\",SUM('Data Input'!D179,'Data Input'!E179,'Data Input'!F179,'Data Input'!G179,'Data Input'!J179,'Data Input'!O179,'Data Input'!P179,'Data Input'!S179,'Data Input'!U179,'Data Input'!X179,'Data Input'!Z179,'Data Input'!AA179,'Data Input'!AB179,'Data Input'!AE179,'Data Input'!AG179,'Data Input'!AH179,'Data Input'!AJ179,'Data Input'!AK179,'Data Input'!AL179,'Data Input'!AN179))","v":""},{"$f":"IF(K175=\"\",\"\",K175/COUNTIF('Data Input'!$C$8:$AQ$8,$K$2))","v":""},{"$f":"IF(ISBLANK('Data Input'!A179),\"\",SUM('Data Input'!V179))","v":""},{"$f":"IF(M175=\"\",\"\",M175/COUNTIF('Data Input'!$C$8:$AQ$8,$M$2))","v":""},{"$f":"IF(ISBLANK('Data Input'!A179),\"\",SUM('Data Input'!H179,'Data Input'!I179,'Data Input'!M179,'Data Input'!N179,'Data Input'!Q179,'Data Input'!R179,'Data Input'!T179,'Data Input'!Y179,'Data Input'!AD179,'Data Input'!AI179,'Data Input'!AP179,'Data Input'!AQ179))","v":""},{"$f":"IF(O175=\"\",\"\",O175/COUNTIF('Data Input'!$C$8:$AQ$8,$O$2))","v":""}]
[{"$f":"IF('Data Input'!A180=0,\"\",'Data Input'!A180)","v":""},{"$f":"IF(ISBLANK('Data Input'!A180),\"\",COUNTIF('Data Input'!C180:AQ180,\"\")-1)","v":""},{"$f":"IF(ISBLANK('Data Input'!A180),\"\",COUNTIF('Data Input'!C180:AQ180,\"0\"))","v":""},{"$f":"IF(ISBLANK('Data Input'!A180),\"\",SUM(B176,C176))","v":""},{"$f":"IF(ISBLANK('Data Input'!A180),\"\",SUM('Data Input'!C180:V180))","v":""},{"$f":"IF(ISBLANK('Data Input'!A180),\"\",SUM('Data Input'!X180:AQ180))","v":""},{"$f":"IF(ISBLANK('Data Input'!A180),\"\",SUM('Data Input'!C180:AQ180))","v":""},{"$f":"IF(G176=\"\",\"\",G176/(COUNTA('Data Input'!$C$8:$AQ$8)-1))","v":""},{"$f":"IF(ISBLANK('Data Input'!A180),\"\",SUM('Data Input'!C180,'Data Input'!K180,'Data Input'!L180,'Data Input'!AC180,'Data Input'!AF180,'Data Input'!AM180,'Data Input'!AO180))","v":""},{"$f":"IF(I176=\"\",\"\",I176/COUNTIF('Data Input'!$C$8:$AQ$8,$I$2))","v":""},{"$f":"IF(ISBLANK('Data Input'!A180),\"\",SUM('Data Input'!D180,'Data Input'!E180,'Data Input'!F180,'Data Input'!G180,'Data Input'!J180,'Data Input'!O180,'Data Input'!P180,'Data Input'!S180,'Data Input'!U180,'Data Input'!X180,'Data Input'!Z180,'Data Input'!AA180,'Data Input'!AB180,'Data Input'!AE180,'Data Input'!AG180,'Data Input'!AH180,'Data Input'!AJ180,'Data Input'!AK180,'Data Input'!AL180,'Data Input'!AN180))","v":""},{"$f":"IF(K176=\"\",\"\",K176/COUNTIF('Data Input'!$C$8:$AQ$8,$K$2))","v":""},{"$f":"IF(ISBLANK('Data Input'!A180),\"\",SUM('Data Input'!V180))","v":""},{"$f":"IF(M176=\"\",\"\",M176/COUNTIF('Data Input'!$C$8:$AQ$8,$M$2))","v":""},{"$f":"IF(ISBLANK('Data Input'!A180),\"\",SUM('Data Input'!H180,'Data Input'!I180,'Data Input'!M180,'Data Input'!N180,'Data Input'!Q180,'Data Input'!R180,'Data Input'!T180,'Data Input'!Y180,'Data Input'!AD180,'Data Input'!AI180,'Data Input'!AP180,'Data Input'!AQ180))","v":""},{"$f":"IF(O176=\"\",\"\",O176/COUNTIF('Data Input'!$C$8:$AQ$8,$O$2))","v":""}]
[{"$f":"IF('Data Input'!A181=0,\"\",'Data Input'!A181)","v":""},{"$f":"IF(ISBLANK('Data Input'!A181),\"\",COUNTIF('Data Input'!C181:AQ181,\"\")-1)","v":""},{"$f":"IF(ISBLANK('Data Input'!A181),\"\",COUNTIF('Data Input'!C181:AQ181,\"0\"))","v":""},{"$f":"IF(ISBLANK('Data Input'!A181),\"\",SUM(B177,C177))","v":""},{"$f":"IF(ISBLANK('Data Input'!A181),\"\",SUM('Data Input'!C181:V181))","v":""},{"$f":"IF(ISBLANK('Data Input'!A181),\"\",SUM('Data Input'!X181:AQ181))","v":""},{"$f":"IF(ISBLANK('Data Input'!A181),\"\",SUM('Data Input'!C181:AQ181))","v":""},{"$f":"IF(G177=\"\",\"\",G177/(COUNTA('Data Input'!$C$8:$AQ$8)-1))","v":""},{"$f":"IF(ISBLANK('Data Input'!A181),\"\",SUM('Data Input'!C181,'Data Input'!K181,'Data Input'!L181,'Data Input'!AC181,'Data Input'!AF181,'Data Input'!AM181,'Data Input'!AO181))","v":""},{"$f":"IF(I177=\"\",\"\",I177/COUNTIF('Data Input'!$C$8:$AQ$8,$I$2))","v":""},{"$f":"IF(ISBLANK('Data Input'!A181),\"\",SUM('Data Input'!D181,'Data Input'!E181,'Data Input'!F181,'Data Input'!G181,'Data Input'!J181,'Data Input'!O181,'Data Input'!P181,'Data Input'!S181,'Data Input'!U181,'Data Input'!X181,'Data Input'!Z181,'Data Input'!AA181,'Data Input'!AB181,'Data Input'!AE181,'Data Input'!AG181,'Data Input'!AH181,'Data Input'!AJ181,'Data Input'!AK181,'Data Input'!AL181,'Data Input'!AN181))","v":""},{"$f":"IF(K177=\"\",\"\",K177/COUNTIF('Data Input'!$C$8:$AQ$8,$K$2))","v":""},{"$f":"IF(ISBLANK('Data Input'!A181),\"\",SUM('Data Input'!V181))","v":""},{"$f":"IF(M177=\"\",\"\",M177/COUNTIF('Data Input'!$C$8:$AQ$8,$M$2))","v":""},{"$f":"IF(ISBLANK('Data Input'!A181),\"\",SUM('Data Input'!H181,'Data Input'!I181,'Data Input'!M181,'Data Input'!N181,'Data Input'!Q181,'Data Input'!R181,'Data Input'!T181,'Data Input'!Y181,'Data Input'!AD181,'Data Input'!AI181,'Data Input'!AP181,'Data Input'!AQ181))","v":""},{"$f":"IF(O177=\"\",\"\",O177/COUNTIF('Data Input'!$C$8:$AQ$8,$O$2))","v":""}]
[{"$f":"IF('Data Input'!A182=0,\"\",'Data Input'!A182)","v":""},{"$f":"IF(ISBLANK('Data Input'!A182),\"\",COUNTIF('Data Input'!C182:AQ182,\"\")-1)","v":""},{"$f":"IF(ISBLANK('Data Input'!A182),\"\",COUNTIF('Data Input'!C182:AQ182,\"0\"))","v":""},{"$f":"IF(ISBLANK('Data Input'!A182),\"\",SUM(B178,C178))","v":""},{"$f":"IF(ISBLANK('Data Input'!A182),\"\",SUM('Data Input'!C182:V182))","v":""},{"$f":"IF(ISBLANK('Data Input'!A182),\"\",SUM('Data Input'!X182:AQ182))","v":""},{"$f":"IF(ISBLANK('Data Input'!A182),\"\",SUM('Data Input'!C182:AQ182))","v":""},{"$f":"IF(G178=\"\",\"\",G178/(COUNTA('Data Input'!$C$8:$AQ$8)-1))","v":""},{"$f":"IF(ISBLANK('Data Input'!A182),\"\",SUM('Data Input'!C182,'Data Input'!K182,'Data Input'!L182,'Data Input'!AC182,'Data Input'!AF182,'Data Input'!AM182,'Data Input'!AO182))","v":""},{"$f":"IF(I178=\"\",\"\",I178/COUNTIF('Data Input'!$C$8:$AQ$8,$I$2))","v":""},{"$f":"IF(ISBLANK('Data Input'!A182),\"\",SUM('Data Input'!D182,'Data Input'!E182,'Data Input'!F182,'Data Input'!G182,'Data Input'!J182,'Data Input'!O182,'Data Input'!P182,'Data Input'!S182,'Data Input'!U182,'Data Input'!X182,'Data Input'!Z182,'Data Input'!AA182,'Data Input'!AB182,'Data Input'!AE182,'Data Input'!AG182,'Data Input'!AH182,'Data Input'!AJ182,'Data Input'!AK182,'Data Input'!AL182,'Data Input'!AN182))","v":""},{"$f":"IF(K178=\"\",\"\",K178/COUNTIF('Data Input'!$C$8:$AQ$8,$K$2))","v":""},{"$f":"IF(ISBLANK('Data Input'!A182),\"\",SUM('Data Input'!V182))","v":""},{"$f":"IF(M178=\"\",\"\",M178/COUNTIF('Data Input'!$C$8:$AQ$8,$M$2))","v":""},{"$f":"IF(ISBLANK('Data Input'!A182),\"\",SUM('Data Input'!H182,'Data Input'!I182,'Data Input'!M182,'Data Input'!N182,'Data Input'!Q182,'Data Input'!R182,'Data Input'!T182,'Data Input'!Y182,'Data Input'!AD182,'Data Input'!AI182,'Data Input'!AP182,'Data Input'!AQ182))","v":""},{"$f":"IF(O178=\"\",\"\",O178/COUNTIF('Data Input'!$C$8:$AQ$8,$O$2))","v":""}]
[{"$f":"IF('Data Input'!A183=0,\"\",'Data Input'!A183)","v":""},{"$f":"IF(ISBLANK('Data Input'!A183),\"\",COUNTIF('Data Input'!C183:AQ183,\"\")-1)","v":""},{"$f":"IF(ISBLANK('Data Input'!A183),\"\",COUNTIF('Data Input'!C183:AQ183,\"0\"))","v":""},{"$f":"IF(ISBLANK('Data Input'!A183),\"\",SUM(B179,C179))","v":""},{"$f":"IF(ISBLANK('Data Input'!A183),\"\",SUM('Data Input'!C183:V183))","v":""},{"$f":"IF(ISBLANK('Data Input'!A183),\"\",SUM('Data Input'!X183:AQ183))","v":""},{"$f":"IF(ISBLANK('Data Input'!A183),\"\",SUM('Data Input'!C183:AQ183))","v":""},{"$f":"IF(G179=\"\",\"\",G179/(COUNTA('Data Input'!$C$8:$AQ$8)-1))","v":""},{"$f":"IF(ISBLANK('Data Input'!A183),\"\",SUM('Data Input'!C183,'Data Input'!K183,'Data Input'!L183,'Data Input'!AC183,'Data Input'!AF183,'Data Input'!AM183,'Data Input'!AO183))","v":""},{"$f":"IF(I179=\"\",\"\",I179/COUNTIF('Data Input'!$C$8:$AQ$8,$I$2))","v":""},{"$f":"IF(ISBLANK('Data Input'!A183),\"\",SUM('Data Input'!D183,'Data Input'!E183,'Data Input'!F183,'Data Input'!G183,'Data Input'!J183,'Data Input'!O183,'Data Input'!P183,'Data Input'!S183,'Data Input'!U183,'Data Input'!X183,'Data Input'!Z183,'Data Input'!AA183,'Data Input'!AB183,'Data Input'!AE183,'Data Input'!AG183,'Data Input'!AH183,'Data Input'!AJ183,'Data Input'!AK183,'Data Input'!AL183,'Data Input'!AN183))","v":""},{"$f":"IF(K179=\"\",\"\",K179/COUNTIF('Data Input'!$C$8:$AQ$8,$K$2))","v":""},{"$f":"IF(ISBLANK('Data Input'!A183),\"\",SUM('Data Input'!V183))","v":""},{"$f":"IF(M179=\"\",\"\",M179/COUNTIF('Data Input'!$C$8:$AQ$8,$M$2))","v":""},{"$f":"IF(ISBLANK('Data Input'!A183),\"\",SUM('Data Input'!H183,'Data Input'!I183,'Data Input'!M183,'Data Input'!N183,'Data Input'!Q183,'Data Input'!R183,'Data Input'!T183,'Data Input'!Y183,'Data Input'!AD183,'Data Input'!AI183,'Data Input'!AP183,'Data Input'!AQ183))","v":""},{"$f":"IF(O179=\"\",\"\",O179/COUNTIF('Data Input'!$C$8:$AQ$8,$O$2))","v":""}]
[{"$f":"IF('Data Input'!A184=0,\"\",'Data Input'!A184)","v":""},{"$f":"IF(ISBLANK('Data Input'!A184),\"\",COUNTIF('Data Input'!C184:AQ184,\"\")-1)","v":""},{"$f":"IF(ISBLANK('Data Input'!A184),\"\",COUNTIF('Data Input'!C184:AQ184,\"0\"))","v":""},{"$f":"IF(ISBLANK('Data Input'!A184),\"\",SUM(B180,C180))","v":""},{"$f":"IF(ISBLANK('Data Input'!A184),\"\",SUM('Data Input'!C184:V184))","v":""},{"$f":"IF(ISBLANK('Data Input'!A184),\"\",SUM('Data Input'!X184:AQ184))","v":""},{"$f":"IF(ISBLANK('Data Input'!A184),\"\",SUM('Data Input'!C184:AQ184))","v":""},{"$f":"IF(G180=\"\",\"\",G180/(COUNTA('Data Input'!$C$8:$AQ$8)-1))","v":""},{"$f":"IF(ISBLANK('Data Input'!A184),\"\",SUM('Data Input'!C184,'Data Input'!K184,'Data Input'!L184,'Data Input'!AC184,'Data Input'!AF184,'Data Input'!AM184,'Data Input'!AO184))","v":""},{"$f":"IF(I180=\"\",\"\",I180/COUNTIF('Data Input'!$C$8:$AQ$8,$I$2))","v":""},{"$f":"IF(ISBLANK('Data Input'!A184),\"\",SUM('Data Input'!D184,'Data Input'!E184,'Data Input'!F184,'Data Input'!G184,'Data Input'!J184,'Data Input'!O184,'Data Input'!P184,'Data Input'!S184,'Data Input'!U184,'Data Input'!X184,'Data Input'!Z184,'Data Input'!AA184,'Data Input'!AB184,'Data Input'!AE184,'Data Input'!AG184,'Data Input'!AH184,'Data Input'!AJ184,'Data Input'!AK184,'Data Input'!AL184,'Data Input'!AN184))","v":""},{"$f":"IF(K180=\"\",\"\",K180/COUNTIF('Data Input'!$C$8:$AQ$8,$K$2))","v":""},{"$f":"IF(ISBLANK('Data Input'!A184),\"\",SUM('Data Input'!V184))","v":""},{"$f":"IF(M180=\"\",\"\",M180/COUNTIF('Data Input'!$C$8:$AQ$8,$M$2))","v":""},{"$f":"IF(ISBLANK('Data Input'!A184),\"\",SUM('Data Input'!H184,'Data Input'!I184,'Data Input'!M184,'Data Input'!N184,'Data Input'!Q184,'Data Input'!R184,'Data Input'!T184,'Data Input'!Y184,'Data Input'!AD184,'Data Input'!AI184,'Data Input'!AP184,'Data Input'!AQ184))","v":""},{"$f":"IF(O180=\"\",\"\",O180/COUNTIF('Data Input'!$C$8:$AQ$8,$O$2))","v":""}]
[{"$f":"IF('Data Input'!A185=0,\"\",'Data Input'!A185)","v":""},{"$f":"IF(ISBLANK('Data Input'!A185),\"\",COUNTIF('Data Input'!C185:AQ185,\"\")-1)","v":""},{"$f":"IF(ISBLANK('Data Input'!A185),\"\",COUNTIF('Data Input'!C185:AQ185,\"0\"))","v":""},{"$f":"IF(ISBLANK('Data Input'!A185),\"\",SUM(B181,C181))","v":""},{"$f":"IF(ISBLANK('Data Input'!A185),\"\",SUM('Data Input'!C185:V185))","v":""},{"$f":"IF(ISBLANK('Data Input'!A185),\"\",SUM('Data Input'!X185:AQ185))","v":""},{"$f":"IF(ISBLANK('Data Input'!A185),\"\",SUM('Data Input'!C185:AQ185))","v":""},{"$f":"IF(G181=\"\",\"\",G181/(COUNTA('Data Input'!$C$8:$AQ$8)-1))","v":""},{"$f":"IF(ISBLANK('Data Input'!A185),\"\",SUM('Data Input'!C185,'Data Input'!K185,'Data Input'!L185,'Data Input'!AC185,'Data Input'!AF185,'Data Input'!AM185,'Data Input'!AO185))","v":""},{"$f":"IF(I181=\"\",\"\",I181/COUNTIF('Data Input'!$C$8:$AQ$8,$I$2))","v":""},{"$f":"IF(ISBLANK('Data Input'!A185),\"\",SUM('Data Input'!D185,'Data Input'!E185,'Data Input'!F185,'Data Input'!G185,'Data Input'!J185,'Data Input'!O185,'Data Input'!P185,'Data Input'!S185,'Data Input'!U185,'Data Input'!X185,'Data Input'!Z185,'Data Input'!AA185,'Data Input'!AB185,'Data Input'!AE185,'Data Input'!AG185,'Data Input'!AH185,'Data Input'!AJ185,'Data Input'!AK185,'Data Input'!AL185,'Data Input'!AN185))","v":""},{"$f":"IF(K181=\"\",\"\",K181/COUNTIF('Data Input'!$C$8:$AQ$8,$K$2))","v":""},{"$f":"IF(ISBLANK('Data Input'!A185),\"\",SUM('Data Input'!V185))","v":""},{"$f":"IF(M181=\"\",\"\",M181/COUNTIF('Data Input'!$C$8:$AQ$8,$M$2))","v":""},{"$f":"IF(ISBLANK('Data Input'!A185),\"\",SUM('Data Input'!H185,'Data Input'!I185,'Data Input'!M185,'Data Input'!N185,'Data Input'!Q185,'Data Input'!R185,'Data Input'!T185,'Data Input'!Y185,'Data Input'!AD185,'Data Input'!AI185,'Data Input'!AP185,'Data Input'!AQ185))","v":""},{"$f":"IF(O181=\"\",\"\",O181/COUNTIF('Data Input'!$C$8:$AQ$8,$O$2))","v":""}]
[{"$f":"IF('Data Input'!A186=0,\"\",'Data Input'!A186)","v":""},{"$f":"IF(ISBLANK('Data Input'!A186),\"\",COUNTIF('Data Input'!C186:AQ186,\"\")-1)","v":""},{"$f":"IF(ISBLANK('Data Input'!A186),\"\",COUNTIF('Data Input'!C186:AQ186,\"0\"))","v":""},{"$f":"IF(ISBLANK('Data Input'!A186),\"\",SUM(B182,C182))","v":""},{"$f":"IF(ISBLANK('Data Input'!A186),\"\",SUM('Data Input'!C186:V186))","v":""},{"$f":"IF(ISBLANK('Data Input'!A186),\"\",SUM('Data Input'!X186:AQ186))","v":""},{"$f":"IF(ISBLANK('Data Input'!A186),\"\",SUM('Data Input'!C186:AQ186))","v":""},{"$f":"IF(G182=\"\",\"\",G182/(COUNTA('Data Input'!$C$8:$AQ$8)-1))","v":""},{"$f":"IF(ISBLANK('Data Input'!A186),\"\",SUM('Data Input'!C186,'Data Input'!K186,'Data Input'!L186,'Data Input'!AC186,'Data Input'!AF186,'Data Input'!AM186,'Data Input'!AO186))","v":""},{"$f":"IF(I182=\"\",\"\",I182/COUNTIF('Data Input'!$C$8:$AQ$8,$I$2))","v":""},{"$f":"IF(ISBLANK('Data Input'!A186),\"\",SUM('Data Input'!D186,'Data Input'!E186,'Data Input'!F186,'Data Input'!G186,'Data Input'!J186,'Data Input'!O186,'Data Input'!P186,'Data Input'!S186,'Data Input'!U186,'Data Input'!X186,'Data Input'!Z186,'Data Input'!AA186,'Data Input'!AB186,'Data Input'!AE186,'Data Input'!AG186,'Data Input'!AH186,'Data Input'!AJ186,'Data Input'!AK186,'Data Input'!AL186,'Data Input'!AN186))","v":""},{"$f":"IF(K182=\"\",\"\",K182/COUNTIF('Data Input'!$C$8:$AQ$8,$K$2))","v":""},{"$f":"IF(ISBLANK('Data Input'!A186),\"\",SUM('Data Input'!V186))","v":""},{"$f":"IF(M182=\"\",\"\",M182/COUNTIF('Data Input'!$C$8:$AQ$8,$M$2))","v":""},{"$f":"IF(ISBLANK('Data Input'!A186),\"\",SUM('Data Input'!H186,'Data Input'!I186,'Data Input'!M186,'Data Input'!N186,'Data Input'!Q186,'Data Input'!R186,'Data Input'!T186,'Data Input'!Y186,'Data Input'!AD186,'Data Input'!AI186,'Data Input'!AP186,'Data Input'!AQ186))","v":""},{"$f":"IF(O182=\"\",\"\",O182/COUNTIF('Data Input'!$C$8:$AQ$8,$O$2))","v":""}]
[{"$f":"IF('Data Input'!A187=0,\"\",'Data Input'!A187)","v":""},{"$f":"IF(ISBLANK('Data Input'!A187),\"\",COUNTIF('Data Input'!C187:AQ187,\"\")-1)","v":""},{"$f":"IF(ISBLANK('Data Input'!A187),\"\",COUNTIF('Data Input'!C187:AQ187,\"0\"))","v":""},{"$f":"IF(ISBLANK('Data Input'!A187),\"\",SUM(B183,C183))","v":""},{"$f":"IF(ISBLANK('Data Input'!A187),\"\",SUM('Data Input'!C187:V187))","v":""},{"$f":"IF(ISBLANK('Data Input'!A187),\"\",SUM('Data Input'!X187:AQ187))","v":""},{"$f":"IF(ISBLANK('Data Input'!A187),\"\",SUM('Data Input'!C187:AQ187))","v":""},{"$f":"IF(G183=\"\",\"\",G183/(COUNTA('Data Input'!$C$8:$AQ$8)-1))","v":""},{"$f":"IF(ISBLANK('Data Input'!A187),\"\",SUM('Data Input'!C187,'Data Input'!K187,'Data Input'!L187,'Data Input'!AC187,'Data Input'!AF187,'Data Input'!AM187,'Data Input'!AO187))","v":""},{"$f":"IF(I183=\"\",\"\",I183/COUNTIF('Data Input'!$C$8:$AQ$8,$I$2))","v":""},{"$f":"IF(ISBLANK('Data Input'!A187),\"\",SUM('Data Input'!D187,'Data Input'!E187,'Data Input'!F187,'Data Input'!G187,'Data Input'!J187,'Data Input'!O187,'Data Input'!P187,'Data Input'!S187,'Data Input'!U187,'Data Input'!X187,'Data Input'!Z187,'Data Input'!AA187,'Data Input'!AB187,'Data Input'!AE187,'Data Input'!AG187,'Data Input'!AH187,'Data Input'!AJ187,'Data Input'!AK187,'Data Input'!AL187,'Data Input'!AN187))","v":""},{"$f":"IF(K183=\"\",\"\",K183/COUNTIF('Data Input'!$C$8:$AQ$8,$K$2))","v":""},{"$f":"IF(ISBLANK('Data Input'!A187),\"\",SUM('Data Input'!V187))","v":""},{"$f":"IF(M183=\"\",\"\",M183/COUNTIF('Data Input'!$C$8:$AQ$8,$M$2))","v":""},{"$f":"IF(ISBLANK('Data Input'!A187),\"\",SUM('Data Input'!H187,'Data Input'!I187,'Data Input'!M187,'Data Input'!N187,'Data Input'!Q187,'Data Input'!R187,'Data Input'!T187,'Data Input'!Y187,'Data Input'!AD187,'Data Input'!AI187,'Data Input'!AP187,'Data Input'!AQ187))","v":""},{"$f":"IF(O183=\"\",\"\",O183/COUNTIF('Data Input'!$C$8:$AQ$8,$O$2))","v":""}]
[{"$f":"IF('Data Input'!A188=0,\"\",'Data Input'!A188)","v":""},{"$f":"IF(ISBLANK('Data Input'!A188),\"\",COUNTIF('Data Input'!C188:AQ188,\"\")-1)","v":""},{"$f":"IF(ISBLANK('Data Input'!A188),\"\",COUNTIF('Data Input'!C188:AQ188,\"0\"))","v":""},{"$f":"IF(ISBLANK('Data Input'!A188),\"\",SUM(B184,C184))","v":""},{"$f":"IF(ISBLANK('Data Input'!A188),\"\",SUM('Data Input'!C188:V188))","v":""},{"$f":"IF(ISBLANK('Data Input'!A188),\"\",SUM('Data Input'!X188:AQ188))","v":""},{"$f":"IF(ISBLANK('Data Input'!A188),\"\",SUM('Data Input'!C188:AQ188))","v":""},{"$f":"IF(G184=\"\",\"\",G184/(COUNTA('Data Input'!$C$8:$AQ$8)-1))","v":""},{"$f":"IF(ISBLANK('Data Input'!A188),\"\",SUM('Data Input'!C188,'Data Input'!K188,'Data Input'!L188,'Data Input'!AC188,'Data Input'!AF188,'Data Input'!AM188,'Data Input'!AO188))","v":""},{"$f":"IF(I184=\"\",\"\",I184/COUNTIF('Data Input'!$C$8:$AQ$8,$I$2))","v":""},{"$f":"IF(ISBLANK('Data Input'!A188),\"\",SUM('Data Input'!D188,'Data Input'!E188,'Data Input'!F188,'Data Input'!G188,'Data Input'!J188,'Data Input'!O188,'Data Input'!P188,'Data Input'!S188,'Data Input'!U188,'Data Input'!X188,'Data Input'!Z188,'Data Input'!AA188,'Data Input'!AB188,'Data Input'!AE188,'Data Input'!AG188,'Data Input'!AH188,'Data Input'!AJ188,'Data Input'!AK188,'Data Input'!AL188,'Data Input'!AN188))","v":""},{"$f":"IF(K184=\"\",\"\",K184/COUNTIF('Data Input'!$C$8:$AQ$8,$K$2))","v":""},{"$f":"IF(ISBLANK('Data Input'!A188),\"\",SUM('Data Input'!V188))","v":""},{"$f":"IF(M184=\"\",\"\",M184/COUNTIF('Data Input'!$C$8:$AQ$8,$M$2))","v":""},{"$f":"IF(ISBLANK('Data Input'!A188),\"\",SUM('Data Input'!H188,'Data Input'!I188,'Data Input'!M188,'Data Input'!N188,'Data Input'!Q188,'Data Input'!R188,'Data Input'!T188,'Data Input'!Y188,'Data Input'!AD188,'Data Input'!AI188,'Data Input'!AP188,'Data Input'!AQ188))","v":""},{"$f":"IF(O184=\"\",\"\",O184/COUNTIF('Data Input'!$C$8:$AQ$8,$O$2))","v":""}]
[{"$f":"IF('Data Input'!A189=0,\"\",'Data Input'!A189)","v":""},{"$f":"IF(ISBLANK('Data Input'!A189),\"\",COUNTIF('Data Input'!C189:AQ189,\"\")-1)","v":""},{"$f":"IF(ISBLANK('Data Input'!A189),\"\",COUNTIF('Data Input'!C189:AQ189,\"0\"))","v":""},{"$f":"IF(ISBLANK('Data Input'!A189),\"\",SUM(B185,C185))","v":""},{"$f":"IF(ISBLANK('Data Input'!A189),\"\",SUM('Data Input'!C189:V189))","v":""},{"$f":"IF(ISBLANK('Data Input'!A189),\"\",SUM('Data Input'!X189:AQ189))","v":""},{"$f":"IF(ISBLANK('Data Input'!A189),\"\",SUM('Data Input'!C189:AQ189))","v":""},{"$f":"IF(G185=\"\",\"\",G185/(COUNTA('Data Input'!$C$8:$AQ$8)-1))","v":""},{"$f":"IF(ISBLANK('Data Input'!A189),\"\",SUM('Data Input'!C189,'Data Input'!K189,'Data Input'!L189,'Data Input'!AC189,'Data Input'!AF189,'Data Input'!AM189,'Data Input'!AO189))","v":""},{"$f":"IF(I185=\"\",\"\",I185/COUNTIF('Data Input'!$C$8:$AQ$8,$I$2))","v":""},{"$f":"IF(ISBLANK('Data Input'!A189),\"\",SUM('Data Input'!D189,'Data Input'!E189,'Data Input'!F189,'Data Input'!G189,'Data Input'!J189,'Data Input'!O189,'Data Input'!P189,'Data Input'!S189,'Data Input'!U189,'Data Input'!X189,'Data Input'!Z189,'Data Input'!AA189,'Data Input'!AB189,'Data Input'!AE189,'Data Input'!AG189,'Data Input'!AH189,'Data Input'!AJ189,'Data Input'!AK189,'Data Input'!AL189,'Data Input'!AN189))","v":""},{"$f":"IF(K185=\"\",\"\",K185/COUNTIF('Data Input'!$C$8:$AQ$8,$K$2))","v":""},{"$f":"IF(ISBLANK('Data Input'!A189),\"\",SUM('Data Input'!V189))","v":""},{"$f":"IF(M185=\"\",\"\",M185/COUNTIF('Data Input'!$C$8:$AQ$8,$M$2))","v":""},{"$f":"IF(ISBLANK('Data Input'!A189),\"\",SUM('Data Input'!H189,'Data Input'!I189,'Data Input'!M189,'Data Input'!N189,'Data Input'!Q189,'Data Input'!R189,'Data Input'!T189,'Data Input'!Y189,'Data Input'!AD189,'Data Input'!AI189,'Data Input'!AP189,'Data Input'!AQ189))","v":""},{"$f":"IF(O185=\"\",\"\",O185/COUNTIF('Data Input'!$C$8:$AQ$8,$O$2))","v":""}]
[{"$f":"IF('Data Input'!A190=0,\"\",'Data Input'!A190)","v":""},{"$f":"IF(ISBLANK('Data Input'!A190),\"\",COUNTIF('Data Input'!C190:AQ190,\"\")-1)","v":""},{"$f":"IF(ISBLANK('Data Input'!A190),\"\",COUNTIF('Data Input'!C190:AQ190,\"0\"))","v":""},{"$f":"IF(ISBLANK('Data Input'!A190),\"\",SUM(B186,C186))","v":""},{"$f":"IF(ISBLANK('Data Input'!A190),\"\",SUM('Data Input'!C190:V190))","v":""},{"$f":"IF(ISBLANK('Data Input'!A190),\"\",SUM('Data Input'!X190:AQ190))","v":""},{"$f":"IF(ISBLANK('Data Input'!A190),\"\",SUM('Data Input'!C190:AQ190))","v":""},{"$f":"IF(G186=\"\",\"\",G186/(COUNTA('Data Input'!$C$8:$AQ$8)-1))","v":""},{"$f":"IF(ISBLANK('Data Input'!A190),\"\",SUM('Data Input'!C190,'Data Input'!K190,'Data Input'!L190,'Data Input'!AC190,'Data Input'!AF190,'Data Input'!AM190,'Data Input'!AO190))","v":""},{"$f":"IF(I186=\"\",\"\",I186/COUNTIF('Data Input'!$C$8:$AQ$8,$I$2))","v":""},{"$f":"IF(ISBLANK('Data Input'!A190),\"\",SUM('Data Input'!D190,'Data Input'!E190,'Data Input'!F190,'Data Input'!G190,'Data Input'!J190,'Data Input'!O190,'Data Input'!P190,'Data Input'!S190,'Data Input'!U190,'Data Input'!X190,'Data Input'!Z190,'Data Input'!AA190,'Data Input'!AB190,'Data Input'!AE190,'Data Input'!AG190,'Data Input'!AH190,'Data Input'!AJ190,'Data Input'!AK190,'Data Input'!AL190,'Data Input'!AN190))","v":""},{"$f":"IF(K186=\"\",\"\",K186/COUNTIF('Data Input'!$C$8:$AQ$8,$K$2))","v":""},{"$f":"IF(ISBLANK('Data Input'!A190),\"\",SUM('Data Input'!V190))","v":""},{"$f":"IF(M186=\"\",\"\",M186/COUNTIF('Data Input'!$C$8:$AQ$8,$M$2))","v":""},{"$f":"IF(ISBLANK('Data Input'!A190),\"\",SUM('Data Input'!H190,'Data Input'!I190,'Data Input'!M190,'Data Input'!N190,'Data Input'!Q190,'Data Input'!R190,'Data Input'!T190,'Data Input'!Y190,'Data Input'!AD190,'Data Input'!AI190,'Data Input'!AP190,'Data Input'!AQ190))","v":""},{"$f":"IF(O186=\"\",\"\",O186/COUNTIF('Data Input'!$C$8:$AQ$8,$O$2))","v":""}]
[{"$f":"IF('Data Input'!A191=0,\"\",'Data Input'!A191)","v":""},{"$f":"IF(ISBLANK('Data Input'!A191),\"\",COUNTIF('Data Input'!C191:AQ191,\"\")-1)","v":""},{"$f":"IF(ISBLANK('Data Input'!A191),\"\",COUNTIF('Data Input'!C191:AQ191,\"0\"))","v":""},{"$f":"IF(ISBLANK('Data Input'!A191),\"\",SUM(B187,C187))","v":""},{"$f":"IF(ISBLANK('Data Input'!A191),\"\",SUM('Data Input'!C191:V191))","v":""},{"$f":"IF(ISBLANK('Data Input'!A191),\"\",SUM('Data Input'!X191:AQ191))","v":""},{"$f":"IF(ISBLANK('Data Input'!A191),\"\",SUM('Data Input'!C191:AQ191))","v":""},{"$f":"IF(G187=\"\",\"\",G187/(COUNTA('Data Input'!$C$8:$AQ$8)-1))","v":""},{"$f":"IF(ISBLANK('Data Input'!A191),\"\",SUM('Data Input'!C191,'Data Input'!K191,'Data Input'!L191,'Data Input'!AC191,'Data Input'!AF191,'Data Input'!AM191,'Data Input'!AO191))","v":""},{"$f":"IF(I187=\"\",\"\",I187/COUNTIF('Data Input'!$C$8:$AQ$8,$I$2))","v":""},{"$f":"IF(ISBLANK('Data Input'!A191),\"\",SUM('Data Input'!D191,'Data Input'!E191,'Data Input'!F191,'Data Input'!G191,'Data Input'!J191,'Data Input'!O191,'Data Input'!P191,'Data Input'!S191,'Data Input'!U191,'Data Input'!X191,'Data Input'!Z191,'Data Input'!AA191,'Data Input'!AB191,'Data Input'!AE191,'Data Input'!AG191,'Data Input'!AH191,'Data Input'!AJ191,'Data Input'!AK191,'Data Input'!AL191,'Data Input'!AN191))","v":""},{"$f":"IF(K187=\"\",\"\",K187/COUNTIF('Data Input'!$C$8:$AQ$8,$K$2))","v":""},{"$f":"IF(ISBLANK('Data Input'!A191),\"\",SUM('Data Input'!V191))","v":""},{"$f":"IF(M187=\"\",\"\",M187/COUNTIF('Data Input'!$C$8:$AQ$8,$M$2))","v":""},{"$f":"IF(ISBLANK('Data Input'!A191),\"\",SUM('Data Input'!H191,'Data Input'!I191,'Data Input'!M191,'Data Input'!N191,'Data Input'!Q191,'Data Input'!R191,'Data Input'!T191,'Data Input'!Y191,'Data Input'!AD191,'Data Input'!AI191,'Data Input'!AP191,'Data Input'!AQ191))","v":""},{"$f":"IF(O187=\"\",\"\",O187/COUNTIF('Data Input'!$C$8:$AQ$8,$O$2))","v":""}]
[{"$f":"IF('Data Input'!A192=0,\"\",'Data Input'!A192)","v":""},{"$f":"IF(ISBLANK('Data Input'!A192),\"\",COUNTIF('Data Input'!C192:AQ192,\"\")-1)","v":""},{"$f":"IF(ISBLANK('Data Input'!A192),\"\",COUNTIF('Data Input'!C192:AQ192,\"0\"))","v":""},{"$f":"IF(ISBLANK('Data Input'!A192),\"\",SUM(B188,C188))","v":""},{"$f":"IF(ISBLANK('Data Input'!A192),\"\",SUM('Data Input'!C192:V192))","v":""},{"$f":"IF(ISBLANK('Data Input'!A192),\"\",SUM('Data Input'!X192:AQ192))","v":""},{"$f":"IF(ISBLANK('Data Input'!A192),\"\",SUM('Data Input'!C192:AQ192))","v":""},{"$f":"IF(G188=\"\",\"\",G188/(COUNTA('Data Input'!$C$8:$AQ$8)-1))","v":""},{"$f":"IF(ISBLANK('Data Input'!A192),\"\",SUM('Data Input'!C192,'Data Input'!K192,'Data Input'!L192,'Data Input'!AC192,'Data Input'!AF192,'Data Input'!AM192,'Data Input'!AO192))","v":""},{"$f":"IF(I188=\"\",\"\",I188/COUNTIF('Data Input'!$C$8:$AQ$8,$I$2))","v":""},{"$f":"IF(ISBLANK('Data Input'!A192),\"\",SUM('Data Input'!D192,'Data Input'!E192,'Data Input'!F192,'Data Input'!G192,'Data Input'!J192,'Data Input'!O192,'Data Input'!P192,'Data Input'!S192,'Data Input'!U192,'Data Input'!X192,'Data Input'!Z192,'Data Input'!AA192,'Data Input'!AB192,'Data Input'!AE192,'Data Input'!AG192,'Data Input'!AH192,'Data Input'!AJ192,'Data Input'!AK192,'Data Input'!AL192,'Data Input'!AN192))","v":""},{"$f":"IF(K188=\"\",\"\",K188/COUNTIF('Data Input'!$C$8:$AQ$8,$K$2))","v":""},{"$f":"IF(ISBLANK('Data Input'!A192),\"\",SUM('Data Input'!V192))","v":""},{"$f":"IF(M188=\"\",\"\",M188/COUNTIF('Data Input'!$C$8:$AQ$8,$M$2))","v":""},{"$f":"IF(ISBLANK('Data Input'!A192),\"\",SUM('Data Input'!H192,'Data Input'!I192,'Data Input'!M192,'Data Input'!N192,'Data Input'!Q192,'Data Input'!R192,'Data Input'!T192,'Data Input'!Y192,'Data Input'!AD192,'Data Input'!AI192,'Data Input'!AP192,'Data Input'!AQ192))","v":""},{"$f":"IF(O188=\"\",\"\",O188/COUNTIF('Data Input'!$C$8:$AQ$8,$O$2))","v":""}]
[{"$f":"IF('Data Input'!A193=0,\"\",'Data Input'!A193)","v":""},{"$f":"IF(ISBLANK('Data Input'!A193),\"\",COUNTIF('Data Input'!C193:AQ193,\"\")-1)","v":""},{"$f":"IF(ISBLANK('Data Input'!A193),\"\",COUNTIF('Data Input'!C193:AQ193,\"0\"))","v":""},{"$f":"IF(ISBLANK('Data Input'!A193),\"\",SUM(B189,C189))","v":""},{"$f":"IF(ISBLANK('Data Input'!A193),\"\",SUM('Data Input'!C193:V193))","v":""},{"$f":"IF(ISBLANK('Data Input'!A193),\"\",SUM('Data Input'!X193:AQ193))","v":""},{"$f":"IF(ISBLANK('Data Input'!A193),\"\",SUM('Data Input'!C193:AQ193))","v":""},{"$f":"IF(G189=\"\",\"\",G189/(COUNTA('Data Input'!$C$8:$AQ$8)-1))","v":""},{"$f":"IF(ISBLANK('Data Input'!A193),\"\",SUM('Data Input'!C193,'Data Input'!K193,'Data Input'!L193,'Data Input'!AC193,'Data Input'!AF193,'Data Input'!AM193,'Data Input'!AO193))","v":""},{"$f":"IF(I189=\"\",\"\",I189/COUNTIF('Data Input'!$C$8:$AQ$8,$I$2))","v":""},{"$f":"IF(ISBLANK('Data Input'!A193),\"\",SUM('Data Input'!D193,'Data Input'!E193,'Data Input'!F193,'Data Input'!G193,'Data Input'!J193,'Data Input'!O193,'Data Input'!P193,'Data Input'!S193,'Data Input'!U193,'Data Input'!X193,'Data Input'!Z193,'Data Input'!AA193,'Data Input'!AB193,'Data Input'!AE193,'Data Input'!AG193,'Data Input'!AH193,'Data Input'!AJ193,'Data Input'!AK193,'Data Input'!AL193,'Data Input'!AN193))","v":""},{"$f":"IF(K189=\"\",\"\",K189/COUNTIF('Data Input'!$C$8:$AQ$8,$K$2))","v":""},{"$f":"IF(ISBLANK('Data Input'!A193),\"\",SUM('Data Input'!V193))","v":""},{"$f":"IF(M189=\"\",\"\",M189/COUNTIF('Data Input'!$C$8:$AQ$8,$M$2))","v":""},{"$f":"IF(ISBLANK('Data Input'!A193),\"\",SUM('Data Input'!H193,'Data Input'!I193,'Data Input'!M193,'Data Input'!N193,'Data Input'!Q193,'Data Input'!R193,'Data Input'!T193,'Data Input'!Y193,'Data Input'!AD193,'Data Input'!AI193,'Data Input'!AP193,'Data Input'!AQ193))","v":""},{"$f":"IF(O189=\"\",\"\",O189/COUNTIF('Data Input'!$C$8:$AQ$8,$O$2))","v":""}]
[{"$f":"IF('Data Input'!A194=0,\"\",'Data Input'!A194)","v":""},{"$f":"IF(ISBLANK('Data Input'!A194),\"\",COUNTIF('Data Input'!C194:AQ194,\"\")-1)","v":""},{"$f":"IF(ISBLANK('Data Input'!A194),\"\",COUNTIF('Data Input'!C194:AQ194,\"0\"))","v":""},{"$f":"IF(ISBLANK('Data Input'!A194),\"\",SUM(B190,C190))","v":""},{"$f":"IF(ISBLANK('Data Input'!A194),\"\",SUM('Data Input'!C194:V194))","v":""},{"$f":"IF(ISBLANK('Data Input'!A194),\"\",SUM('Data Input'!X194:AQ194))","v":""},{"$f":"IF(ISBLANK('Data Input'!A194),\"\",SUM('Data Input'!C194:AQ194))","v":""},{"$f":"IF(G190=\"\",\"\",G190/(COUNTA('Data Input'!$C$8:$AQ$8)-1))","v":""},{"$f":"IF(ISBLANK('Data Input'!A194),\"\",SUM('Data Input'!C194,'Data Input'!K194,'Data Input'!L194,'Data Input'!AC194,'Data Input'!AF194,'Data Input'!AM194,'Data Input'!AO194))","v":""},{"$f":"IF(I190=\"\",\"\",I190/COUNTIF('Data Input'!$C$8:$AQ$8,$I$2))","v":""},{"$f":"IF(ISBLANK('Data Input'!A194),\"\",SUM('Data Input'!D194,'Data Input'!E194,'Data Input'!F194,'Data Input'!G194,'Data Input'!J194,'Data Input'!O194,'Data Input'!P194,'Data Input'!S194,'Data Input'!U194,'Data Input'!X194,'Data Input'!Z194,'Data Input'!AA194,'Data Input'!AB194,'Data Input'!AE194,'Data Input'!AG194,'Data Input'!AH194,'Data Input'!AJ194,'Data Input'!AK194,'Data Input'!AL194,'Data Input'!AN194))","v":""},{"$f":"IF(K190=\"\",\"\",K190/COUNTIF('Data Input'!$C$8:$AQ$8,$K$2))","v":""},{"$f":"IF(ISBLANK('Data Input'!A194),\"\",SUM('Data Input'!V194))","v":""},{"$f":"IF(M190=\"\",\"\",M190/COUNTIF('Data Input'!$C$8:$AQ$8,$M$2))","v":""},{"$f":"IF(ISBLANK('Data Input'!A194),\"\",SUM('Data Input'!H194,'Data Input'!I194,'Data Input'!M194,'Data Input'!N194,'Data Input'!Q194,'Data Input'!R194,'Data Input'!T194,'Data Input'!Y194,'Data Input'!AD194,'Data Input'!AI194,'Data Input'!AP194,'Data Input'!AQ194))","v":""},{"$f":"IF(O190=\"\",\"\",O190/COUNTIF('Data Input'!$C$8:$AQ$8,$O$2))","v":""}]
[{"$f":"IF('Data Input'!A195=0,\"\",'Data Input'!A195)","v":""},{"$f":"IF(ISBLANK('Data Input'!A195),\"\",COUNTIF('Data Input'!C195:AQ195,\"\")-1)","v":""},{"$f":"IF(ISBLANK('Data Input'!A195),\"\",COUNTIF('Data Input'!C195:AQ195,\"0\"))","v":""},{"$f":"IF(ISBLANK('Data Input'!A195),\"\",SUM(B191,C191))","v":""},{"$f":"IF(ISBLANK('Data Input'!A195),\"\",SUM('Data Input'!C195:V195))","v":""},{"$f":"IF(ISBLANK('Data Input'!A195),\"\",SUM('Data Input'!X195:AQ195))","v":""},{"$f":"IF(ISBLANK('Data Input'!A195),\"\",SUM('Data Input'!C195:AQ195))","v":""},{"$f":"IF(G191=\"\",\"\",G191/(COUNTA('Data Input'!$C$8:$AQ$8)-1))","v":""},{"$f":"IF(ISBLANK('Data Input'!A195),\"\",SUM('Data Input'!C195,'Data Input'!K195,'Data Input'!L195,'Data Input'!AC195,'Data Input'!AF195,'Data Input'!AM195,'Data Input'!AO195))","v":""},{"$f":"IF(I191=\"\",\"\",I191/COUNTIF('Data Input'!$C$8:$AQ$8,$I$2))","v":""},{"$f":"IF(ISBLANK('Data Input'!A195),\"\",SUM('Data Input'!D195,'Data Input'!E195,'Data Input'!F195,'Data Input'!G195,'Data Input'!J195,'Data Input'!O195,'Data Input'!P195,'Data Input'!S195,'Data Input'!U195,'Data Input'!X195,'Data Input'!Z195,'Data Input'!AA195,'Data Input'!AB195,'Data Input'!AE195,'Data Input'!AG195,'Data Input'!AH195,'Data Input'!AJ195,'Data Input'!AK195,'Data Input'!AL195,'Data Input'!AN195))","v":""},{"$f":"IF(K191=\"\",\"\",K191/COUNTIF('Data Input'!$C$8:$AQ$8,$K$2))","v":""},{"$f":"IF(ISBLANK('Data Input'!A195),\"\",SUM('Data Input'!V195))","v":""},{"$f":"IF(M191=\"\",\"\",M191/COUNTIF('Data Input'!$C$8:$AQ$8,$M$2))","v":""},{"$f":"IF(ISBLANK('Data Input'!A195),\"\",SUM('Data Input'!H195,'Data Input'!I195,'Data Input'!M195,'Data Input'!N195,'Data Input'!Q195,'Data Input'!R195,'Data Input'!T195,'Data Input'!Y195,'Data Input'!AD195,'Data Input'!AI195,'Data Input'!AP195,'Data Input'!AQ195))","v":""},{"$f":"IF(O191=\"\",\"\",O191/COUNTIF('Data Input'!$C$8:$AQ$8,$O$2))","v":""}]
[{"$f":"IF('Data Input'!A196=0,\"\",'Data Input'!A196)","v":""},{"$f":"IF(ISBLANK('Data Input'!A196),\"\",COUNTIF('Data Input'!C196:AQ196,\"\")-1)","v":""},{"$f":"IF(ISBLANK('Data Input'!A196),\"\",COUNTIF('Data Input'!C196:AQ196,\"0\"))","v":""},{"$f":"IF(ISBLANK('Data Input'!A196),\"\",SUM(B192,C192))","v":""},{"$f":"IF(ISBLANK('Data Input'!A196),\"\",SUM('Data Input'!C196:V196))","v":""},{"$f":"IF(ISBLANK('Data Input'!A196),\"\",SUM('Data Input'!X196:AQ196))","v":""},{"$f":"IF(ISBLANK('Data Input'!A196),\"\",SUM('Data Input'!C196:AQ196))","v":""},{"$f":"IF(G192=\"\",\"\",G192/(COUNTA('Data Input'!$C$8:$AQ$8)-1))","v":""},{"$f":"IF(ISBLANK('Data Input'!A196),\"\",SUM('Data Input'!C196,'Data Input'!K196,'Data Input'!L196,'Data Input'!AC196,'Data Input'!AF196,'Data Input'!AM196,'Data Input'!AO196))","v":""},{"$f":"IF(I192=\"\",\"\",I192/COUNTIF('Data Input'!$C$8:$AQ$8,$I$2))","v":""},{"$f":"IF(ISBLANK('Data Input'!A196),\"\",SUM('Data Input'!D196,'Data Input'!E196,'Data Input'!F196,'Data Input'!G196,'Data Input'!J196,'Data Input'!O196,'Data Input'!P196,'Data Input'!S196,'Data Input'!U196,'Data Input'!X196,'Data Input'!Z196,'Data Input'!AA196,'Data Input'!AB196,'Data Input'!AE196,'Data Input'!AG196,'Data Input'!AH196,'Data Input'!AJ196,'Data Input'!AK196,'Data Input'!AL196,'Data Input'!AN196))","v":""},{"$f":"IF(K192=\"\",\"\",K192/COUNTIF('Data Input'!$C$8:$AQ$8,$K$2))","v":""},{"$f":"IF(ISBLANK('Data Input'!A196),\"\",SUM('Data Input'!V196))","v":""},{"$f":"IF(M192=\"\",\"\",M192/COUNTIF('Data Input'!$C$8:$AQ$8,$M$2))","v":""},{"$f":"IF(ISBLANK('Data Input'!A196),\"\",SUM('Data Input'!H196,'Data Input'!I196,'Data Input'!M196,'Data Input'!N196,'Data Input'!Q196,'Data Input'!R196,'Data Input'!T196,'Data Input'!Y196,'Data Input'!AD196,'Data Input'!AI196,'Data Input'!AP196,'Data Input'!AQ196))","v":""},{"$f":"IF(O192=\"\",\"\",O192/COUNTIF('Data Input'!$C$8:$AQ$8,$O$2))","v":""}]
[{"$f":"IF('Data Input'!A197=0,\"\",'Data Input'!A197)","v":""},{"$f":"IF(ISBLANK('Data Input'!A197),\"\",COUNTIF('Data Input'!C197:AQ197,\"\")-1)","v":""},{"$f":"IF(ISBLANK('Data Input'!A197),\"\",COUNTIF('Data Input'!C197:AQ197,\"0\"))","v":""},{"$f":"IF(ISBLANK('Data Input'!A197),\"\",SUM(B193,C193))","v":""},{"$f":"IF(ISBLANK('Data Input'!A197),\"\",SUM('Data Input'!C197:V197))","v":""},{"$f":"IF(ISBLANK('Data Input'!A197),\"\",SUM('Data Input'!X197:AQ197))","v":""},{"$f":"IF(ISBLANK('Data Input'!A197),\"\",SUM('Data Input'!C197:AQ197))","v":""},{"$f":"IF(G193=\"\",\"\",G193/(COUNTA('Data Input'!$C$8:$AQ$8)-1))","v":""},{"$f":"IF(ISBLANK('Data Input'!A197),\"\",SUM('Data Input'!C197,'Data Input'!K197,'Data Input'!L197,'Data Input'!AC197,'Data Input'!AF197,'Data Input'!AM197,'Data Input'!AO197))","v":""},{"$f":"IF(I193=\"\",\"\",I193/COUNTIF('Data Input'!$C$8:$AQ$8,$I$2))","v":""},{"$f":"IF(ISBLANK('Data Input'!A197),\"\",SUM('Data Input'!D197,'Data Input'!E197,'Data Input'!F197,'Data Input'!G197,'Data Input'!J197,'Data Input'!O197,'Data Input'!P197,'Data Input'!S197,'Data Input'!U197,'Data Input'!X197,'Data Input'!Z197,'Data Input'!AA197,'Data Input'!AB197,'Data Input'!AE197,'Data Input'!AG197,'Data Input'!AH197,'Data Input'!AJ197,'Data Input'!AK197,'Data Input'!AL197,'Data Input'!AN197))","v":""},{"$f":"IF(K193=\"\",\"\",K193/COUNTIF('Data Input'!$C$8:$AQ$8,$K$2))","v":""},{"$f":"IF(ISBLANK('Data Input'!A197),\"\",SUM('Data Input'!V197))","v":""},{"$f":"IF(M193=\"\",\"\",M193/COUNTIF('Data Input'!$C$8:$AQ$8,$M$2))","v":""},{"$f":"IF(ISBLANK('Data Input'!A197),\"\",SUM('Data Input'!H197,'Data Input'!I197,'Data Input'!M197,'Data Input'!N197,'Data Input'!Q197,'Data Input'!R197,'Data Input'!T197,'Data Input'!Y197,'Data Input'!AD197,'Data Input'!AI197,'Data Input'!AP197,'Data Input'!AQ197))","v":""},{"$f":"IF(O193=\"\",\"\",O193/COUNTIF('Data Input'!$C$8:$AQ$8,$O$2))","v":""}]
[{"$f":"IF('Data Input'!A198=0,\"\",'Data Input'!A198)","v":""},{"$f":"IF(ISBLANK('Data Input'!A198),\"\",COUNTIF('Data Input'!C198:AQ198,\"\")-1)","v":""},{"$f":"IF(ISBLANK('Data Input'!A198),\"\",COUNTIF('Data Input'!C198:AQ198,\"0\"))","v":""},{"$f":"IF(ISBLANK('Data Input'!A198),\"\",SUM(B194,C194))","v":""},{"$f":"IF(ISBLANK('Data Input'!A198),\"\",SUM('Data Input'!C198:V198))","v":""},{"$f":"IF(ISBLANK('Data Input'!A198),\"\",SUM('Data Input'!X198:AQ198))","v":""},{"$f":"IF(ISBLANK('Data Input'!A198),\"\",SUM('Data Input'!C198:AQ198))","v":""},{"$f":"IF(G194=\"\",\"\",G194/(COUNTA('Data Input'!$C$8:$AQ$8)-1))","v":""},{"$f":"IF(ISBLANK('Data Input'!A198),\"\",SUM('Data Input'!C198,'Data Input'!K198,'Data Input'!L198,'Data Input'!AC198,'Data Input'!AF198,'Data Input'!AM198,'Data Input'!AO198))","v":""},{"$f":"IF(I194=\"\",\"\",I194/COUNTIF('Data Input'!$C$8:$AQ$8,$I$2))","v":""},{"$f":"IF(ISBLANK('Data Input'!A198),\"\",SUM('Data Input'!D198,'Data Input'!E198,'Data Input'!F198,'Data Input'!G198,'Data Input'!J198,'Data Input'!O198,'Data Input'!P198,'Data Input'!S198,'Data Input'!U198,'Data Input'!X198,'Data Input'!Z198,'Data Input'!AA198,'Data Input'!AB198,'Data Input'!AE198,'Data Input'!AG198,'Data Input'!AH198,'Data Input'!AJ198,'Data Input'!AK198,'Data Input'!AL198,'Data Input'!AN198))","v":""},{"$f":"IF(K194=\"\",\"\",K194/COUNTIF('Data Input'!$C$8:$AQ$8,$K$2))","v":""},{"$f":"IF(ISBLANK('Data Input'!A198),\"\",SUM('Data Input'!V198))","v":""},{"$f":"IF(M194=\"\",\"\",M194/COUNTIF('Data Input'!$C$8:$AQ$8,$M$2))","v":""},{"$f":"IF(ISBLANK('Data Input'!A198),\"\",SUM('Data Input'!H198,'Data Input'!I198,'Data Input'!M198,'Data Input'!N198,'Data Input'!Q198,'Data Input'!R198,'Data Input'!T198,'Data Input'!Y198,'Data Input'!AD198,'Data Input'!AI198,'Data Input'!AP198,'Data Input'!AQ198))","v":""},{"$f":"IF(O194=\"\",\"\",O194/COUNTIF('Data Input'!$C$8:$AQ$8,$O$2))","v":""}]
[{"$f":"IF('Data Input'!A199=0,\"\",'Data Input'!A199)","v":""},{"$f":"IF(ISBLANK('Data Input'!A199),\"\",COUNTIF('Data Input'!C199:AQ199,\"\")-1)","v":""},{"$f":"IF(ISBLANK('Data Input'!A199),\"\",COUNTIF('Data Input'!C199:AQ199,\"0\"))","v":""},{"$f":"IF(ISBLANK('Data Input'!A199),\"\",SUM(B195,C195))","v":""},{"$f":"IF(ISBLANK('Data Input'!A199),\"\",SUM('Data Input'!C199:V199))","v":""},{"$f":"IF(ISBLANK('Data Input'!A199),\"\",SUM('Data Input'!X199:AQ199))","v":""},{"$f":"IF(ISBLANK('Data Input'!A199),\"\",SUM('Data Input'!C199:AQ199))","v":""},{"$f":"IF(G195=\"\",\"\",G195/(COUNTA('Data Input'!$C$8:$AQ$8)-1))","v":""},{"$f":"IF(ISBLANK('Data Input'!A199),\"\",SUM('Data Input'!C199,'Data Input'!K199,'Data Input'!L199,'Data Input'!AC199,'Data Input'!AF199,'Data Input'!AM199,'Data Input'!AO199))","v":""},{"$f":"IF(I195=\"\",\"\",I195/COUNTIF('Data Input'!$C$8:$AQ$8,$I$2))","v":""},{"$f":"IF(ISBLANK('Data Input'!A199),\"\",SUM('Data Input'!D199,'Data Input'!E199,'Data Input'!F199,'Data Input'!G199,'Data Input'!J199,'Data Input'!O199,'Data Input'!P199,'Data Input'!S199,'Data Input'!U199,'Data Input'!X199,'Data Input'!Z199,'Data Input'!AA199,'Data Input'!AB199,'Data Input'!AE199,'Data Input'!AG199,'Data Input'!AH199,'Data Input'!AJ199,'Data Input'!AK199,'Data Input'!AL199,'Data Input'!AN199))","v":""},{"$f":"IF(K195=\"\",\"\",K195/COUNTIF('Data Input'!$C$8:$AQ$8,$K$2))","v":""},{"$f":"IF(ISBLANK('Data Input'!A199),\"\",SUM('Data Input'!V199))","v":""},{"$f":"IF(M195=\"\",\"\",M195/COUNTIF('Data Input'!$C$8:$AQ$8,$M$2))","v":""},{"$f":"IF(ISBLANK('Data Input'!A199),\"\",SUM('Data Input'!H199,'Data Input'!I199,'Data Input'!M199,'Data Input'!N199,'Data Input'!Q199,'Data Input'!R199,'Data Input'!T199,'Data Input'!Y199,'Data Input'!AD199,'Data Input'!AI199,'Data Input'!AP199,'Data Input'!AQ199))","v":""},{"$f":"IF(O195=\"\",\"\",O195/COUNTIF('Data Input'!$C$8:$AQ$8,$O$2))","v":""}]
[{"$f":"IF('Data Input'!A200=0,\"\",'Data Input'!A200)","v":""},{"$f":"IF(ISBLANK('Data Input'!A200),\"\",COUNTIF('Data Input'!C200:AQ200,\"\")-1)","v":""},{"$f":"IF(ISBLANK('Data Input'!A200),\"\",COUNTIF('Data Input'!C200:AQ200,\"0\"))","v":""},{"$f":"IF(ISBLANK('Data Input'!A200),\"\",SUM(B196,C196))","v":""},{"$f":"IF(ISBLANK('Data Input'!A200),\"\",SUM('Data Input'!C200:V200))","v":""},{"$f":"IF(ISBLANK('Data Input'!A200),\"\",SUM('Data Input'!X200:AQ200))","v":""},{"$f":"IF(ISBLANK('Data Input'!A200),\"\",SUM('Data Input'!C200:AQ200))","v":""},{"$f":"IF(G196=\"\",\"\",G196/(COUNTA('Data Input'!$C$8:$AQ$8)-1))","v":""},{"$f":"IF(ISBLANK('Data Input'!A200),\"\",SUM('Data Input'!C200,'Data Input'!K200,'Data Input'!L200,'Data Input'!AC200,'Data Input'!AF200,'Data Input'!AM200,'Data Input'!AO200))","v":""},{"$f":"IF(I196=\"\",\"\",I196/COUNTIF('Data Input'!$C$8:$AQ$8,$I$2))","v":""},{"$f":"IF(ISBLANK('Data Input'!A200),\"\",SUM('Data Input'!D200,'Data Input'!E200,'Data Input'!F200,'Data Input'!G200,'Data Input'!J200,'Data Input'!O200,'Data Input'!P200,'Data Input'!S200,'Data Input'!U200,'Data Input'!X200,'Data Input'!Z200,'Data Input'!AA200,'Data Input'!AB200,'Data Input'!AE200,'Data Input'!AG200,'Data Input'!AH200,'Data Input'!AJ200,'Data Input'!AK200,'Data Input'!AL200,'Data Input'!AN200))","v":""},{"$f":"IF(K196=\"\",\"\",K196/COUNTIF('Data Input'!$C$8:$AQ$8,$K$2))","v":""},{"$f":"IF(ISBLANK('Data Input'!A200),\"\",SUM('Data Input'!V200))","v":""},{"$f":"IF(M196=\"\",\"\",M196/COUNTIF('Data Input'!$C$8:$AQ$8,$M$2))","v":""},{"$f":"IF(ISBLANK('Data Input'!A200),\"\",SUM('Data Input'!H200,'Data Input'!I200,'Data Input'!M200,'Data Input'!N200,'Data Input'!Q200,'Data Input'!R200,'Data Input'!T200,'Data Input'!Y200,'Data Input'!AD200,'Data Input'!AI200,'Data Input'!AP200,'Data Input'!AQ200))","v":""},{"$f":"IF(O196=\"\",\"\",O196/COUNTIF('Data Input'!$C$8:$AQ$8,$O$2))","v":""}]
[{"$f":"IF('Data Input'!A201=0,\"\",'Data Input'!A201)","v":""},{"$f":"IF(ISBLANK('Data Input'!A201),\"\",COUNTIF('Data Input'!C201:AQ201,\"\")-1)","v":""},{"$f":"IF(ISBLANK('Data Input'!A201),\"\",COUNTIF('Data Input'!C201:AQ201,\"0\"))","v":""},{"$f":"IF(ISBLANK('Data Input'!A201),\"\",SUM(B197,C197))","v":""},{"$f":"IF(ISBLANK('Data Input'!A201),\"\",SUM('Data Input'!C201:V201))","v":""},{"$f":"IF(ISBLANK('Data Input'!A201),\"\",SUM('Data Input'!X201:AQ201))","v":""},{"$f":"IF(ISBLANK('Data Input'!A201),\"\",SUM('Data Input'!C201:AQ201))","v":""},{"$f":"IF(G197=\"\",\"\",G197/(COUNTA('Data Input'!$C$8:$AQ$8)-1))","v":""},{"$f":"IF(ISBLANK('Data Input'!A201),\"\",SUM('Data Input'!C201,'Data Input'!K201,'Data Input'!L201,'Data Input'!AC201,'Data Input'!AF201,'Data Input'!AM201,'Data Input'!AO201))","v":""},{"$f":"IF(I197=\"\",\"\",I197/COUNTIF('Data Input'!$C$8:$AQ$8,$I$2))","v":""},{"$f":"IF(ISBLANK('Data Input'!A201),\"\",SUM('Data Input'!D201,'Data Input'!E201,'Data Input'!F201,'Data Input'!G201,'Data Input'!J201,'Data Input'!O201,'Data Input'!P201,'Data Input'!S201,'Data Input'!U201,'Data Input'!X201,'Data Input'!Z201,'Data Input'!AA201,'Data Input'!AB201,'Data Input'!AE201,'Data Input'!AG201,'Data Input'!AH201,'Data Input'!AJ201,'Data Input'!AK201,'Data Input'!AL201,'Data Input'!AN201))","v":""},{"$f":"IF(K197=\"\",\"\",K197/COUNTIF('Data Input'!$C$8:$AQ$8,$K$2))","v":""},{"$f":"IF(ISBLANK('Data Input'!A201),\"\",SUM('Data Input'!V201))","v":""},{"$f":"IF(M197=\"\",\"\",M197/COUNTIF('Data Input'!$C$8:$AQ$8,$M$2))","v":""},{"$f":"IF(ISBLANK('Data Input'!A201),\"\",SUM('Data Input'!H201,'Data Input'!I201,'Data Input'!M201,'Data Input'!N201,'Data Input'!Q201,'Data Input'!R201,'Data Input'!T201,'Data Input'!Y201,'Data Input'!AD201,'Data Input'!AI201,'Data Input'!AP201,'Data Input'!AQ201))","v":""},{"$f":"IF(O197=\"\",\"\",O197/COUNTIF('Data Input'!$C$8:$AQ$8,$O$2))","v":""}]
[{"$f":"IF('Data Input'!A202=0,\"\",'Data Input'!A202)","v":""},{"$f":"IF(ISBLANK('Data Input'!A202),\"\",COUNTIF('Data Input'!C202:AQ202,\"\")-1)","v":""},{"$f":"IF(ISBLANK('Data Input'!A202),\"\",COUNTIF('Data Input'!C202:AQ202,\"0\"))","v":""},{"$f":"IF(ISBLANK('Data Input'!A202),\"\",SUM(B198,C198))","v":""},{"$f":"IF(ISBLANK('Data Input'!A202),\"\",SUM('Data Input'!C202:V202))","v":""},{"$f":"IF(ISBLANK('Data Input'!A202),\"\",SUM('Data Input'!X202:AQ202))","v":""},{"$f":"IF(ISBLANK('Data Input'!A202),\"\",SUM('Data Input'!C202:AQ202))","v":""},{"$f":"IF(G198=\"\",\"\",G198/(COUNTA('Data Input'!$C$8:$AQ$8)-1))","v":""},{"$f":"IF(ISBLANK('Data Input'!A202),\"\",SUM('Data Input'!C202,'Data Input'!K202,'Data Input'!L202,'Data Input'!AC202,'Data Input'!AF202,'Data Input'!AM202,'Data Input'!AO202))","v":""},{"$f":"IF(I198=\"\",\"\",I198/COUNTIF('Data Input'!$C$8:$AQ$8,$I$2))","v":""},{"$f":"IF(ISBLANK('Data Input'!A202),\"\",SUM('Data Input'!D202,'Data Input'!E202,'Data Input'!F202,'Data Input'!G202,'Data Input'!J202,'Data Input'!O202,'Data Input'!P202,'Data Input'!S202,'Data Input'!U202,'Data Input'!X202,'Data Input'!Z202,'Data Input'!AA202,'Data Input'!AB202,'Data Input'!AE202,'Data Input'!AG202,'Data Input'!AH202,'Data Input'!AJ202,'Data Input'!AK202,'Data Input'!AL202,'Data Input'!AN202))","v":""},{"$f":"IF(K198=\"\",\"\",K198/COUNTIF('Data Input'!$C$8:$AQ$8,$K$2))","v":""},{"$f":"IF(ISBLANK('Data Input'!A202),\"\",SUM('Data Input'!V202))","v":""},{"$f":"IF(M198=\"\",\"\",M198/COUNTIF('Data Input'!$C$8:$AQ$8,$M$2))","v":""},{"$f":"IF(ISBLANK('Data Input'!A202),\"\",SUM('Data Input'!H202,'Data Input'!I202,'Data Input'!M202,'Data Input'!N202,'Data Input'!Q202,'Data Input'!R202,'Data Input'!T202,'Data Input'!Y202,'Data Input'!AD202,'Data Input'!AI202,'Data Input'!AP202,'Data Input'!AQ202))","v":""},{"$f":"IF(O198=\"\",\"\",O198/COUNTIF('Data Input'!$C$8:$AQ$8,$O$2))","v":""}]
[{"$f":"IF('Data Input'!A203=0,\"\",'Data Input'!A203)","v":""},{"$f":"IF(ISBLANK('Data Input'!A203),\"\",COUNTIF('Data Input'!C203:AQ203,\"\")-1)","v":""},{"$f":"IF(ISBLANK('Data Input'!A203),\"\",COUNTIF('Data Input'!C203:AQ203,\"0\"))","v":""},{"$f":"IF(ISBLANK('Data Input'!A203),\"\",SUM(B199,C199))","v":""},{"$f":"IF(ISBLANK('Data Input'!A203),\"\",SUM('Data Input'!C203:V203))","v":""},{"$f":"IF(ISBLANK('Data Input'!A203),\"\",SUM('Data Input'!X203:AQ203))","v":""},{"$f":"IF(ISBLANK('Data Input'!A203),\"\",SUM('Data Input'!C203:AQ203))","v":""},{"$f":"IF(G199=\"\",\"\",G199/(COUNTA('Data Input'!$C$8:$AQ$8)-1))","v":""},{"$f":"IF(ISBLANK('Data Input'!A203),\"\",SUM('Data Input'!C203,'Data Input'!K203,'Data Input'!L203,'Data Input'!AC203,'Data Input'!AF203,'Data Input'!AM203,'Data Input'!AO203))","v":""},{"$f":"IF(I199=\"\",\"\",I199/COUNTIF('Data Input'!$C$8:$AQ$8,$I$2))","v":""},{"$f":"IF(ISBLANK('Data Input'!A203),\"\",SUM('Data Input'!D203,'Data Input'!E203,'Data Input'!F203,'Data Input'!G203,'Data Input'!J203,'Data Input'!O203,'Data Input'!P203,'Data Input'!S203,'Data Input'!U203,'Data Input'!X203,'Data Input'!Z203,'Data Input'!AA203,'Data Input'!AB203,'Data Input'!AE203,'Data Input'!AG203,'Data Input'!AH203,'Data Input'!AJ203,'Data Input'!AK203,'Data Input'!AL203,'Data Input'!AN203))","v":""},{"$f":"IF(K199=\"\",\"\",K199/COUNTIF('Data Input'!$C$8:$AQ$8,$K$2))","v":""},{"$f":"IF(ISBLANK('Data Input'!A203),\"\",SUM('Data Input'!V203))","v":""},{"$f":"IF(M199=\"\",\"\",M199/COUNTIF('Data Input'!$C$8:$AQ$8,$M$2))","v":""},{"$f":"IF(ISBLANK('Data Input'!A203),\"\",SUM('Data Input'!H203,'Data Input'!I203,'Data Input'!M203,'Data Input'!N203,'Data Input'!Q203,'Data Input'!R203,'Data Input'!T203,'Data Input'!Y203,'Data Input'!AD203,'Data Input'!AI203,'Data Input'!AP203,'Data Input'!AQ203))","v":""},{"$f":"IF(O199=\"\",\"\",O199/COUNTIF('Data Input'!$C$8:$AQ$8,$O$2))","v":""}]
[{"$f":"IF('Data Input'!A204=0,\"\",'Data Input'!A204)","v":""},{"$f":"IF(ISBLANK('Data Input'!A204),\"\",COUNTIF('Data Input'!C204:AQ204,\"\")-1)","v":""},{"$f":"IF(ISBLANK('Data Input'!A204),\"\",COUNTIF('Data Input'!C204:AQ204,\"0\"))","v":""},{"$f":"IF(ISBLANK('Data Input'!A204),\"\",SUM(B200,C200))","v":""},{"$f":"IF(ISBLANK('Data Input'!A204),\"\",SUM('Data Input'!C204:V204))","v":""},{"$f":"IF(ISBLANK('Data Input'!A204),\"\",SUM('Data Input'!X204:AQ204))","v":""},{"$f":"IF(ISBLANK('Data Input'!A204),\"\",SUM('Data Input'!C204:AQ204))","v":""},{"$f":"IF(G200=\"\",\"\",G200/(COUNTA('Data Input'!$C$8:$AQ$8)-1))","v":""},{"$f":"IF(ISBLANK('Data Input'!A204),\"\",SUM('Data Input'!C204,'Data Input'!K204,'Data Input'!L204,'Data Input'!AC204,'Data Input'!AF204,'Data Input'!AM204,'Data Input'!AO204))","v":""},{"$f":"IF(I200=\"\",\"\",I200/COUNTIF('Data Input'!$C$8:$AQ$8,$I$2))","v":""},{"$f":"IF(ISBLANK('Data Input'!A204),\"\",SUM('Data Input'!D204,'Data Input'!E204,'Data Input'!F204,'Data Input'!G204,'Data Input'!J204,'Data Input'!O204,'Data Input'!P204,'Data Input'!S204,'Data Input'!U204,'Data Input'!X204,'Data Input'!Z204,'Data Input'!AA204,'Data Input'!AB204,'Data Input'!AE204,'Data Input'!AG204,'Data Input'!AH204,'Data Input'!AJ204,'Data Input'!AK204,'Data Input'!AL204,'Data Input'!AN204))","v":""},{"$f":"IF(K200=\"\",\"\",K200/COUNTIF('Data Input'!$C$8:$AQ$8,$K$2))","v":""},{"$f":"IF(ISBLANK('Data Input'!A204),\"\",SUM('Data Input'!V204))","v":""},{"$f":"IF(M200=\"\",\"\",M200/COUNTIF('Data Input'!$C$8:$AQ$8,$M$2))","v":""},{"$f":"IF(ISBLANK('Data Input'!A204),\"\",SUM('Data Input'!H204,'Data Input'!I204,'Data Input'!M204,'Data Input'!N204,'Data Input'!Q204,'Data Input'!R204,'Data Input'!T204,'Data Input'!Y204,'Data Input'!AD204,'Data Input'!AI204,'Data Input'!AP204,'Data Input'!AQ204))","v":""},{"$f":"IF(O200=\"\",\"\",O200/COUNTIF('Data Input'!$C$8:$AQ$8,$O$2))","v":""}]
[{"$f":"IF('Data Input'!A205=0,\"\",'Data Input'!A205)","v":""},{"$f":"IF(ISBLANK('Data Input'!A205),\"\",COUNTIF('Data Input'!C205:AQ205,\"\")-1)","v":""},{"$f":"IF(ISBLANK('Data Input'!A205),\"\",COUNTIF('Data Input'!C205:AQ205,\"0\"))","v":""},{"$f":"IF(ISBLANK('Data Input'!A205),\"\",SUM(B201,C201))","v":""},{"$f":"IF(ISBLANK('Data Input'!A205),\"\",SUM('Data Input'!C205:V205))","v":""},{"$f":"IF(ISBLANK('Data Input'!A205),\"\",SUM('Data Input'!X205:AQ205))","v":""},{"$f":"IF(ISBLANK('Data Input'!A205),\"\",SUM('Data Input'!C205:AQ205))","v":""},{"$f":"IF(G201=\"\",\"\",G201/(COUNTA('Data Input'!$C$8:$AQ$8)-1))","v":""},{"$f":"IF(ISBLANK('Data Input'!A205),\"\",SUM('Data Input'!C205,'Data Input'!K205,'Data Input'!L205,'Data Input'!AC205,'Data Input'!AF205,'Data Input'!AM205,'Data Input'!AO205))","v":""},{"$f":"IF(I201=\"\",\"\",I201/COUNTIF('Data Input'!$C$8:$AQ$8,$I$2))","v":""},{"$f":"IF(ISBLANK('Data Input'!A205),\"\",SUM('Data Input'!D205,'Data Input'!E205,'Data Input'!F205,'Data Input'!G205,'Data Input'!J205,'Data Input'!O205,'Data Input'!P205,'Data Input'!S205,'Data Input'!U205,'Data Input'!X205,'Data Input'!Z205,'Data Input'!AA205,'Data Input'!AB205,'Data Input'!AE205,'Data Input'!AG205,'Data Input'!AH205,'Data Input'!AJ205,'Data Input'!AK205,'Data Input'!AL205,'Data Input'!AN205))","v":""},{"$f":"IF(K201=\"\",\"\",K201/COUNTIF('Data Input'!$C$8:$AQ$8,$K$2))","v":""},{"$f":"IF(ISBLANK('Data Input'!A205),\"\",SUM('Data Input'!V205))","v":""},{"$f":"IF(M201=\"\",\"\",M201/COUNTIF('Data Input'!$C$8:$AQ$8,$M$2))","v":""},{"$f":"IF(ISBLANK('Data Input'!A205),\"\",SUM('Data Input'!H205,'Data Input'!I205,'Data Input'!M205,'Data Input'!N205,'Data Input'!Q205,'Data Input'!R205,'Data Input'!T205,'Data Input'!Y205,'Data Input'!AD205,'Data Input'!AI205,'Data Input'!AP205,'Data Input'!AQ205))","v":""},{"$f":"IF(O201=\"\",\"\",O201/COUNTIF('Data Input'!$C$8:$AQ$8,$O$2))","v":""}]
[{"$f":"IF('Data Input'!A206=0,\"\",'Data Input'!A206)","v":""},{"$f":"IF(ISBLANK('Data Input'!A206),\"\",COUNTIF('Data Input'!C206:AQ206,\"\")-1)","v":""},{"$f":"IF(ISBLANK('Data Input'!A206),\"\",COUNTIF('Data Input'!C206:AQ206,\"0\"))","v":""},{"$f":"IF(ISBLANK('Data Input'!A206),\"\",SUM(B202,C202))","v":""},{"$f":"IF(ISBLANK('Data Input'!A206),\"\",SUM('Data Input'!C206:V206))","v":""},{"$f":"IF(ISBLANK('Data Input'!A206),\"\",SUM('Data Input'!X206:AQ206))","v":""},{"$f":"IF(ISBLANK('Data Input'!A206),\"\",SUM('Data Input'!C206:AQ206))","v":""},{"$f":"IF(G202=\"\",\"\",G202/(COUNTA('Data Input'!$C$8:$AQ$8)-1))","v":""},{"$f":"IF(ISBLANK('Data Input'!A206),\"\",SUM('Data Input'!C206,'Data Input'!K206,'Data Input'!L206,'Data Input'!AC206,'Data Input'!AF206,'Data Input'!AM206,'Data Input'!AO206))","v":""},{"$f":"IF(I202=\"\",\"\",I202/COUNTIF('Data Input'!$C$8:$AQ$8,$I$2))","v":""},{"$f":"IF(ISBLANK('Data Input'!A206),\"\",SUM('Data Input'!D206,'Data Input'!E206,'Data Input'!F206,'Data Input'!G206,'Data Input'!J206,'Data Input'!O206,'Data Input'!P206,'Data Input'!S206,'Data Input'!U206,'Data Input'!X206,'Data Input'!Z206,'Data Input'!AA206,'Data Input'!AB206,'Data Input'!AE206,'Data Input'!AG206,'Data Input'!AH206,'Data Input'!AJ206,'Data Input'!AK206,'Data Input'!AL206,'Data Input'!AN206))","v":""},{"$f":"IF(K202=\"\",\"\",K202/COUNTIF('Data Input'!$C$8:$AQ$8,$K$2))","v":""},{"$f":"IF(ISBLANK('Data Input'!A206),\"\",SUM('Data Input'!V206))","v":""},{"$f":"IF(M202=\"\",\"\",M202/COUNTIF('Data Input'!$C$8:$AQ$8,$M$2))","v":""},{"$f":"IF(ISBLANK('Data Input'!A206),\"\",SUM('Data Input'!H206,'Data Input'!I206,'Data Input'!M206,'Data Input'!N206,'Data Input'!Q206,'Data Input'!R206,'Data Input'!T206,'Data Input'!Y206,'Data Input'!AD206,'Data Input'!AI206,'Data Input'!AP206,'Data Input'!AQ206))","v":""},{"$f":"IF(O202=\"\",\"\",O202/COUNTIF('Data Input'!$C$8:$AQ$8,$O$2))","v":""}]
[{"$f":"IF('Data Input'!A207=0,\"\",'Data Input'!A207)","v":""},{"$f":"IF(ISBLANK('Data Input'!A207),\"\",COUNTIF('Data Input'!C207:AQ207,\"\")-1)","v":""},{"$f":"IF(ISBLANK('Data Input'!A207),\"\",COUNTIF('Data Input'!C207:AQ207,\"0\"))","v":""},{"$f":"IF(ISBLANK('Data Input'!A207),\"\",SUM(B203,C203))","v":""},{"$f":"IF(ISBLANK('Data Input'!A207),\"\",SUM('Data Input'!C207:V207))","v":""},{"$f":"IF(ISBLANK('Data Input'!A207),\"\",SUM('Data Input'!X207:AQ207))","v":""},{"$f":"IF(ISBLANK('Data Input'!A207),\"\",SUM('Data Input'!C207:AQ207))","v":""},{"$f":"IF(G203=\"\",\"\",G203/(COUNTA('Data Input'!$C$8:$AQ$8)-1))","v":""},{"$f":"IF(ISBLANK('Data Input'!A207),\"\",SUM('Data Input'!C207,'Data Input'!K207,'Data Input'!L207,'Data Input'!AC207,'Data Input'!AF207,'Data Input'!AM207,'Data Input'!AO207))","v":""},{"$f":"IF(I203=\"\",\"\",I203/COUNTIF('Data Input'!$C$8:$AQ$8,$I$2))","v":""},{"$f":"IF(ISBLANK('Data Input'!A207),\"\",SUM('Data Input'!D207,'Data Input'!E207,'Data Input'!F207,'Data Input'!G207,'Data Input'!J207,'Data Input'!O207,'Data Input'!P207,'Data Input'!S207,'Data Input'!U207,'Data Input'!X207,'Data Input'!Z207,'Data Input'!AA207,'Data Input'!AB207,'Data Input'!AE207,'Data Input'!AG207,'Data Input'!AH207,'Data Input'!AJ207,'Data Input'!AK207,'Data Input'!AL207,'Data Input'!AN207))","v":""},{"$f":"IF(K203=\"\",\"\",K203/COUNTIF('Data Input'!$C$8:$AQ$8,$K$2))","v":""},{"$f":"IF(ISBLANK('Data Input'!A207),\"\",SUM('Data Input'!V207))","v":""},{"$f":"IF(M203=\"\",\"\",M203/COUNTIF('Data Input'!$C$8:$AQ$8,$M$2))","v":""},{"$f":"IF(ISBLANK('Data Input'!A207),\"\",SUM('Data Input'!H207,'Data Input'!I207,'Data Input'!M207,'Data Input'!N207,'Data Input'!Q207,'Data Input'!R207,'Data Input'!T207,'Data Input'!Y207,'Data Input'!AD207,'Data Input'!AI207,'Data Input'!AP207,'Data Input'!AQ207))","v":""},{"$f":"IF(O203=\"\",\"\",O203/COUNTIF('Data Input'!$C$8:$AQ$8,$O$2))","v":""}]
[{"$f":"IF('Data Input'!A208=0,\"\",'Data Input'!A208)","v":""},{"$f":"IF(ISBLANK('Data Input'!A208),\"\",COUNTIF('Data Input'!C208:AQ208,\"\")-1)","v":""},{"$f":"IF(ISBLANK('Data Input'!A208),\"\",COUNTIF('Data Input'!C208:AQ208,\"0\"))","v":""},{"$f":"IF(ISBLANK('Data Input'!A208),\"\",SUM(B204,C204))","v":""},{"$f":"IF(ISBLANK('Data Input'!A208),\"\",SUM('Data Input'!C208:V208))","v":""},{"$f":"IF(ISBLANK('Data Input'!A208),\"\",SUM('Data Input'!X208:AQ208))","v":""},{"$f":"IF(ISBLANK('Data Input'!A208),\"\",SUM('Data Input'!C208:AQ208))","v":""},{"$f":"IF(G204=\"\",\"\",G204/(COUNTA('Data Input'!$C$8:$AQ$8)-1))","v":""},{"$f":"IF(ISBLANK('Data Input'!A208),\"\",SUM('Data Input'!C208,'Data Input'!K208,'Data Input'!L208,'Data Input'!AC208,'Data Input'!AF208,'Data Input'!AM208,'Data Input'!AO208))","v":""},{"$f":"IF(I204=\"\",\"\",I204/COUNTIF('Data Input'!$C$8:$AQ$8,$I$2))","v":""},{"$f":"IF(ISBLANK('Data Input'!A208),\"\",SUM('Data Input'!D208,'Data Input'!E208,'Data Input'!F208,'Data Input'!G208,'Data Input'!J208,'Data Input'!O208,'Data Input'!P208,'Data Input'!S208,'Data Input'!U208,'Data Input'!X208,'Data Input'!Z208,'Data Input'!AA208,'Data Input'!AB208,'Data Input'!AE208,'Data Input'!AG208,'Data Input'!AH208,'Data Input'!AJ208,'Data Input'!AK208,'Data Input'!AL208,'Data Input'!AN208))","v":""},{"$f":"IF(K204=\"\",\"\",K204/COUNTIF('Data Input'!$C$8:$AQ$8,$K$2))","v":""},{"$f":"IF(ISBLANK('Data Input'!A208),\"\",SUM('Data Input'!V208))","v":""},{"$f":"IF(M204=\"\",\"\",M204/COUNTIF('Data Input'!$C$8:$AQ$8,$M$2))","v":""},{"$f":"IF(ISBLANK('Data Input'!A208),\"\",SUM('Data Input'!H208,'Data Input'!I208,'Data Input'!M208,'Data Input'!N208,'Data Input'!Q208,'Data Input'!R208,'Data Input'!T208,'Data Input'!Y208,'Data Input'!AD208,'Data Input'!AI208,'Data Input'!AP208,'Data Input'!AQ208))","v":""},{"$f":"IF(O204=\"\",\"\",O204/COUNTIF('Data Input'!$C$8:$AQ$8,$O$2))","v":""}]
[{"$f":"IF('Data Input'!A209=0,\"\",'Data Input'!A209)","v":""},{"$f":"IF(ISBLANK('Data Input'!A209),\"\",COUNTIF('Data Input'!C209:AQ209,\"\")-1)","v":""},{"$f":"IF(ISBLANK('Data Input'!A209),\"\",COUNTIF('Data Input'!C209:AQ209,\"0\"))","v":""},{"$f":"IF(ISBLANK('Data Input'!A209),\"\",SUM(B205,C205))","v":""},{"$f":"IF(ISBLANK('Data Input'!A209),\"\",SUM('Data Input'!C209:V209))","v":""},{"$f":"IF(ISBLANK('Data Input'!A209),\"\",SUM('Data Input'!X209:AQ209))","v":""},{"$f":"IF(ISBLANK('Data Input'!A209),\"\",SUM('Data Input'!C209:AQ209))","v":""},{"$f":"IF(G205=\"\",\"\",G205/(COUNTA('Data Input'!$C$8:$AQ$8)-1))","v":""},{"$f":"IF(ISBLANK('Data Input'!A209),\"\",SUM('Data Input'!C209,'Data Input'!K209,'Data Input'!L209,'Data Input'!AC209,'Data Input'!AF209,'Data Input'!AM209,'Data Input'!AO209))","v":""},{"$f":"IF(I205=\"\",\"\",I205/COUNTIF('Data Input'!$C$8:$AQ$8,$I$2))","v":""},{"$f":"IF(ISBLANK('Data Input'!A209),\"\",SUM('Data Input'!D209,'Data Input'!E209,'Data Input'!F209,'Data Input'!G209,'Data Input'!J209,'Data Input'!O209,'Data Input'!P209,'Data Input'!S209,'Data Input'!U209,'Data Input'!X209,'Data Input'!Z209,'Data Input'!AA209,'Data Input'!AB209,'Data Input'!AE209,'Data Input'!AG209,'Data Input'!AH209,'Data Input'!AJ209,'Data Input'!AK209,'Data Input'!AL209,'Data Input'!AN209))","v":""},{"$f":"IF(K205=\"\",\"\",K205/COUNTIF('Data Input'!$C$8:$AQ$8,$K$2))","v":""},{"$f":"IF(ISBLANK('Data Input'!A209),\"\",SUM('Data Input'!V209))","v":""},{"$f":"IF(M205=\"\",\"\",M205/COUNTIF('Data Input'!$C$8:$AQ$8,$M$2))","v":""},{"$f":"IF(ISBLANK('Data Input'!A209),\"\",SUM('Data Input'!H209,'Data Input'!I209,'Data Input'!M209,'Data Input'!N209,'Data Input'!Q209,'Data Input'!R209,'Data Input'!T209,'Data Input'!Y209,'Data Input'!AD209,'Data Input'!AI209,'Data Input'!AP209,'Data Input'!AQ209))","v":""},{"$f":"IF(O205=\"\",\"\",O205/COUNTIF('Data Input'!$C$8:$AQ$8,$O$2))","v":""}]
[{"$f":"IF('Data Input'!A210=0,\"\",'Data Input'!A210)","v":""},{"$f":"IF(ISBLANK('Data Input'!A210),\"\",COUNTIF('Data Input'!C210:AQ210,\"\")-1)","v":""},{"$f":"IF(ISBLANK('Data Input'!A210),\"\",COUNTIF('Data Input'!C210:AQ210,\"0\"))","v":""},{"$f":"IF(ISBLANK('Data Input'!A210),\"\",SUM(B206,C206))","v":""},{"$f":"IF(ISBLANK('Data Input'!A210),\"\",SUM('Data Input'!C210:V210))","v":""},{"$f":"IF(ISBLANK('Data Input'!A210),\"\",SUM('Data Input'!X210:AQ210))","v":""},{"$f":"IF(ISBLANK('Data Input'!A210),\"\",SUM('Data Input'!C210:AQ210))","v":""},{"$f":"IF(G206=\"\",\"\",G206/(COUNTA('Data Input'!$C$8:$AQ$8)-1))","v":""},{"$f":"IF(ISBLANK('Data Input'!A210),\"\",SUM('Data Input'!C210,'Data Input'!K210,'Data Input'!L210,'Data Input'!AC210,'Data Input'!AF210,'Data Input'!AM210,'Data Input'!AO210))","v":""},{"$f":"IF(I206=\"\",\"\",I206/COUNTIF('Data Input'!$C$8:$AQ$8,$I$2))","v":""},{"$f":"IF(ISBLANK('Data Input'!A210),\"\",SUM('Data Input'!D210,'Data Input'!E210,'Data Input'!F210,'Data Input'!G210,'Data Input'!J210,'Data Input'!O210,'Data Input'!P210,'Data Input'!S210,'Data Input'!U210,'Data Input'!X210,'Data Input'!Z210,'Data Input'!AA210,'Data Input'!AB210,'Data Input'!AE210,'Data Input'!AG210,'Data Input'!AH210,'Data Input'!AJ210,'Data Input'!AK210,'Data Input'!AL210,'Data Input'!AN210))","v":""},{"$f":"IF(K206=\"\",\"\",K206/COUNTIF('Data Input'!$C$8:$AQ$8,$K$2))","v":""},{"$f":"IF(ISBLANK('Data Input'!A210),\"\",SUM('Data Input'!V210))","v":""},{"$f":"IF(M206=\"\",\"\",M206/COUNTIF('Data Input'!$C$8:$AQ$8,$M$2))","v":""},{"$f":"IF(ISBLANK('Data Input'!A210),\"\",SUM('Data Input'!H210,'Data Input'!I210,'Data Input'!M210,'Data Input'!N210,'Data Input'!Q210,'Data Input'!R210,'Data Input'!T210,'Data Input'!Y210,'Data Input'!AD210,'Data Input'!AI210,'Data Input'!AP210,'Data Input'!AQ210))","v":""},{"$f":"IF(O206=\"\",\"\",O206/COUNTIF('Data Input'!$C$8:$AQ$8,$O$2))","v":""}]
[{"$f":"IF('Data Input'!A211=0,\"\",'Data Input'!A211)","v":""},{"$f":"IF(ISBLANK('Data Input'!A211),\"\",COUNTIF('Data Input'!C211:AQ211,\"\")-1)","v":""},{"$f":"IF(ISBLANK('Data Input'!A211),\"\",COUNTIF('Data Input'!C211:AQ211,\"0\"))","v":""},{"$f":"IF(ISBLANK('Data Input'!A211),\"\",SUM(B207,C207))","v":""},{"$f":"IF(ISBLANK('Data Input'!A211),\"\",SUM('Data Input'!C211:V211))","v":""},{"$f":"IF(ISBLANK('Data Input'!A211),\"\",SUM('Data Input'!X211:AQ211))","v":""},{"$f":"IF(ISBLANK('Data Input'!A211),\"\",SUM('Data Input'!C211:AQ211))","v":""},{"$f":"IF(G207=\"\",\"\",G207/(COUNTA('Data Input'!$C$8:$AQ$8)-1))","v":""},{"$f":"IF(ISBLANK('Data Input'!A211),\"\",SUM('Data Input'!C211,'Data Input'!K211,'Data Input'!L211,'Data Input'!AC211,'Data Input'!AF211,'Data Input'!AM211,'Data Input'!AO211))","v":""},{"$f":"IF(I207=\"\",\"\",I207/COUNTIF('Data Input'!$C$8:$AQ$8,$I$2))","v":""},{"$f":"IF(ISBLANK('Data Input'!A211),\"\",SUM('Data Input'!D211,'Data Input'!E211,'Data Input'!F211,'Data Input'!G211,'Data Input'!J211,'Data Input'!O211,'Data Input'!P211,'Data Input'!S211,'Data Input'!U211,'Data Input'!X211,'Data Input'!Z211,'Data Input'!AA211,'Data Input'!AB211,'Data Input'!AE211,'Data Input'!AG211,'Data Input'!AH211,'Data Input'!AJ211,'Data Input'!AK211,'Data Input'!AL211,'Data Input'!AN211))","v":""},{"$f":"IF(K207=\"\",\"\",K207/COUNTIF('Data Input'!$C$8:$AQ$8,$K$2))","v":""},{"$f":"IF(ISBLANK('Data Input'!A211),\"\",SUM('Data Input'!V211))","v":""},{"$f":"IF(M207=\"\",\"\",M207/COUNTIF('Data Input'!$C$8:$AQ$8,$M$2))","v":""},{"$f":"IF(ISBLANK('Data Input'!A211),\"\",SUM('Data Input'!H211,'Data Input'!I211,'Data Input'!M211,'Data Input'!N211,'Data Input'!Q211,'Data Input'!R211,'Data Input'!T211,'Data Input'!Y211,'Data Input'!AD211,'Data Input'!AI211,'Data Input'!AP211,'Data Input'!AQ211))","v":""},{"$f":"IF(O207=\"\",\"\",O207/COUNTIF('Data Input'!$C$8:$AQ$8,$O$2))","v":""}]
[{"$f":"IF('Data Input'!A212=0,\"\",'Data Input'!A212)","v":""},{"$f":"IF(ISBLANK('Data Input'!A212),\"\",COUNTIF('Data Input'!C212:AQ212,\"\")-1)","v":""},{"$f":"IF(ISBLANK('Data Input'!A212),\"\",COUNTIF('Data Input'!C212:AQ212,\"0\"))","v":""},{"$f":"IF(ISBLANK('Data Input'!A212),\"\",SUM(B208,C208))","v":""},{"$f":"IF(ISBLANK('Data Input'!A212),\"\",SUM('Data Input'!C212:V212))","v":""},{"$f":"IF(ISBLANK('Data Input'!A212),\"\",SUM('Data Input'!X212:AQ212))","v":""},{"$f":"IF(ISBLANK('Data Input'!A212),\"\",SUM('Data Input'!C212:AQ212))","v":""},{"$f":"IF(G208=\"\",\"\",G208/(COUNTA('Data Input'!$C$8:$AQ$8)-1))","v":""},{"$f":"IF(ISBLANK('Data Input'!A212),\"\",SUM('Data Input'!C212,'Data Input'!K212,'Data Input'!L212,'Data Input'!AC212,'Data Input'!AF212,'Data Input'!AM212,'Data Input'!AO212))","v":""},{"$f":"IF(I208=\"\",\"\",I208/COUNTIF('Data Input'!$C$8:$AQ$8,$I$2))","v":""},{"$f":"IF(ISBLANK('Data Input'!A212),\"\",SUM('Data Input'!D212,'Data Input'!E212,'Data Input'!F212,'Data Input'!G212,'Data Input'!J212,'Data Input'!O212,'Data Input'!P212,'Data Input'!S212,'Data Input'!U212,'Data Input'!X212,'Data Input'!Z212,'Data Input'!AA212,'Data Input'!AB212,'Data Input'!AE212,'Data Input'!AG212,'Data Input'!AH212,'Data Input'!AJ212,'Data Input'!AK212,'Data Input'!AL212,'Data Input'!AN212))","v":""},{"$f":"IF(K208=\"\",\"\",K208/COUNTIF('Data Input'!$C$8:$AQ$8,$K$2))","v":""},{"$f":"IF(ISBLANK('Data Input'!A212),\"\",SUM('Data Input'!V212))","v":""},{"$f":"IF(M208=\"\",\"\",M208/COUNTIF('Data Input'!$C$8:$AQ$8,$M$2))","v":""},{"$f":"IF(ISBLANK('Data Input'!A212),\"\",SUM('Data Input'!H212,'Data Input'!I212,'Data Input'!M212,'Data Input'!N212,'Data Input'!Q212,'Data Input'!R212,'Data Input'!T212,'Data Input'!Y212,'Data Input'!AD212,'Data Input'!AI212,'Data Input'!AP212,'Data Input'!AQ212))","v":""},{"$f":"IF(O208=\"\",\"\",O208/COUNTIF('Data Input'!$C$8:$AQ$8,$O$2))","v":""}]
[{"$f":"IF('Data Input'!A213=0,\"\",'Data Input'!A213)","v":""},{"$f":"IF(ISBLANK('Data Input'!A213),\"\",COUNTIF('Data Input'!C213:AQ213,\"\")-1)","v":""},{"$f":"IF(ISBLANK('Data Input'!A213),\"\",COUNTIF('Data Input'!C213:AQ213,\"0\"))","v":""},{"$f":"IF(ISBLANK('Data Input'!A213),\"\",SUM(B209,C209))","v":""},{"$f":"IF(ISBLANK('Data Input'!A213),\"\",SUM('Data Input'!C213:V213))","v":""},{"$f":"IF(ISBLANK('Data Input'!A213),\"\",SUM('Data Input'!X213:AQ213))","v":""},{"$f":"IF(ISBLANK('Data Input'!A213),\"\",SUM('Data Input'!C213:AQ213))","v":""},{"$f":"IF(G209=\"\",\"\",G209/(COUNTA('Data Input'!$C$8:$AQ$8)-1))","v":""},{"$f":"IF(ISBLANK('Data Input'!A213),\"\",SUM('Data Input'!C213,'Data Input'!K213,'Data Input'!L213,'Data Input'!AC213,'Data Input'!AF213,'Data Input'!AM213,'Data Input'!AO213))","v":""},{"$f":"IF(I209=\"\",\"\",I209/COUNTIF('Data Input'!$C$8:$AQ$8,$I$2))","v":""},{"$f":"IF(ISBLANK('Data Input'!A213),\"\",SUM('Data Input'!D213,'Data Input'!E213,'Data Input'!F213,'Data Input'!G213,'Data Input'!J213,'Data Input'!O213,'Data Input'!P213,'Data Input'!S213,'Data Input'!U213,'Data Input'!X213,'Data Input'!Z213,'Data Input'!AA213,'Data Input'!AB213,'Data Input'!AE213,'Data Input'!AG213,'Data Input'!AH213,'Data Input'!AJ213,'Data Input'!AK213,'Data Input'!AL213,'Data Input'!AN213))","v":""},{"$f":"IF(K209=\"\",\"\",K209/COUNTIF('Data Input'!$C$8:$AQ$8,$K$2))","v":""},{"$f":"IF(ISBLANK('Data Input'!A213),\"\",SUM('Data Input'!V213))","v":""},{"$f":"IF(M209=\"\",\"\",M209/COUNTIF('Data Input'!$C$8:$AQ$8,$M$2))","v":""},{"$f":"IF(ISBLANK('Data Input'!A213),\"\",SUM('Data Input'!H213,'Data Input'!I213,'Data Input'!M213,'Data Input'!N213,'Data Input'!Q213,'Data Input'!R213,'Data Input'!T213,'Data Input'!Y213,'Data Input'!AD213,'Data Input'!AI213,'Data Input'!AP213,'Data Input'!AQ213))","v":""},{"$f":"IF(O209=\"\",\"\",O209/COUNTIF('Data Input'!$C$8:$AQ$8,$O$2))","v":""}]
[{"$f":"IF('Data Input'!A214=0,\"\",'Data Input'!A214)","v":""},{"$f":"IF(ISBLANK('Data Input'!A214),\"\",COUNTIF('Data Input'!C214:AQ214,\"\")-1)","v":""},{"$f":"IF(ISBLANK('Data Input'!A214),\"\",COUNTIF('Data Input'!C214:AQ214,\"0\"))","v":""},{"$f":"IF(ISBLANK('Data Input'!A214),\"\",SUM(B210,C210))","v":""},{"$f":"IF(ISBLANK('Data Input'!A214),\"\",SUM('Data Input'!C214:V214))","v":""},{"$f":"IF(ISBLANK('Data Input'!A214),\"\",SUM('Data Input'!X214:AQ214))","v":""},{"$f":"IF(ISBLANK('Data Input'!A214),\"\",SUM('Data Input'!C214:AQ214))","v":""},{"$f":"IF(G210=\"\",\"\",G210/(COUNTA('Data Input'!$C$8:$AQ$8)-1))","v":""},{"$f":"IF(ISBLANK('Data Input'!A214),\"\",SUM('Data Input'!C214,'Data Input'!K214,'Data Input'!L214,'Data Input'!AC214,'Data Input'!AF214,'Data Input'!AM214,'Data Input'!AO214))","v":""},{"$f":"IF(I210=\"\",\"\",I210/COUNTIF('Data Input'!$C$8:$AQ$8,$I$2))","v":""},{"$f":"IF(ISBLANK('Data Input'!A214),\"\",SUM('Data Input'!D214,'Data Input'!E214,'Data Input'!F214,'Data Input'!G214,'Data Input'!J214,'Data Input'!O214,'Data Input'!P214,'Data Input'!S214,'Data Input'!U214,'Data Input'!X214,'Data Input'!Z214,'Data Input'!AA214,'Data Input'!AB214,'Data Input'!AE214,'Data Input'!AG214,'Data Input'!AH214,'Data Input'!AJ214,'Data Input'!AK214,'Data Input'!AL214,'Data Input'!AN214))","v":""},{"$f":"IF(K210=\"\",\"\",K210/COUNTIF('Data Input'!$C$8:$AQ$8,$K$2))","v":""},{"$f":"IF(ISBLANK('Data Input'!A214),\"\",SUM('Data Input'!V214))","v":""},{"$f":"IF(M210=\"\",\"\",M210/COUNTIF('Data Input'!$C$8:$AQ$8,$M$2))","v":""},{"$f":"IF(ISBLANK('Data Input'!A214),\"\",SUM('Data Input'!H214,'Data Input'!I214,'Data Input'!M214,'Data Input'!N214,'Data Input'!Q214,'Data Input'!R214,'Data Input'!T214,'Data Input'!Y214,'Data Input'!AD214,'Data Input'!AI214,'Data Input'!AP214,'Data Input'!AQ214))","v":""},{"$f":"IF(O210=\"\",\"\",O210/COUNTIF('Data Input'!$C$8:$AQ$8,$O$2))","v":""}]
[{"$f":"IF('Data Input'!A215=0,\"\",'Data Input'!A215)","v":""},{"$f":"IF(ISBLANK('Data Input'!A215),\"\",COUNTIF('Data Input'!C215:AQ215,\"\")-1)","v":""},{"$f":"IF(ISBLANK('Data Input'!A215),\"\",COUNTIF('Data Input'!C215:AQ215,\"0\"))","v":""},{"$f":"IF(ISBLANK('Data Input'!A215),\"\",SUM(B211,C211))","v":""},{"$f":"IF(ISBLANK('Data Input'!A215),\"\",SUM('Data Input'!C215:V215))","v":""},{"$f":"IF(ISBLANK('Data Input'!A215),\"\",SUM('Data Input'!X215:AQ215))","v":""},{"$f":"IF(ISBLANK('Data Input'!A215),\"\",SUM('Data Input'!C215:AQ215))","v":""},{"$f":"IF(G211=\"\",\"\",G211/(COUNTA('Data Input'!$C$8:$AQ$8)-1))","v":""},{"$f":"IF(ISBLANK('Data Input'!A215),\"\",SUM('Data Input'!C215,'Data Input'!K215,'Data Input'!L215,'Data Input'!AC215,'Data Input'!AF215,'Data Input'!AM215,'Data Input'!AO215))","v":""},{"$f":"IF(I211=\"\",\"\",I211/COUNTIF('Data Input'!$C$8:$AQ$8,$I$2))","v":""},{"$f":"IF(ISBLANK('Data Input'!A215),\"\",SUM('Data Input'!D215,'Data Input'!E215,'Data Input'!F215,'Data Input'!G215,'Data Input'!J215,'Data Input'!O215,'Data Input'!P215,'Data Input'!S215,'Data Input'!U215,'Data Input'!X215,'Data Input'!Z215,'Data Input'!AA215,'Data Input'!AB215,'Data Input'!AE215,'Data Input'!AG215,'Data Input'!AH215,'Data Input'!AJ215,'Data Input'!AK215,'Data Input'!AL215,'Data Input'!AN215))","v":""},{"$f":"IF(K211=\"\",\"\",K211/COUNTIF('Data Input'!$C$8:$AQ$8,$K$2))","v":""},{"$f":"IF(ISBLANK('Data Input'!A215),\"\",SUM('Data Input'!V215))","v":""},{"$f":"IF(M211=\"\",\"\",M211/COUNTIF('Data Input'!$C$8:$AQ$8,$M$2))","v":""},{"$f":"IF(ISBLANK('Data Input'!A215),\"\",SUM('Data Input'!H215,'Data Input'!I215,'Data Input'!M215,'Data Input'!N215,'Data Input'!Q215,'Data Input'!R215,'Data Input'!T215,'Data Input'!Y215,'Data Input'!AD215,'Data Input'!AI215,'Data Input'!AP215,'Data Input'!AQ215))","v":""},{"$f":"IF(O211=\"\",\"\",O211/COUNTIF('Data Input'!$C$8:$AQ$8,$O$2))","v":""}]
[{"$f":"IF('Data Input'!A216=0,\"\",'Data Input'!A216)","v":""},{"$f":"IF(ISBLANK('Data Input'!A216),\"\",COUNTIF('Data Input'!C216:AQ216,\"\")-1)","v":""},{"$f":"IF(ISBLANK('Data Input'!A216),\"\",COUNTIF('Data Input'!C216:AQ216,\"0\"))","v":""},{"$f":"IF(ISBLANK('Data Input'!A216),\"\",SUM(B212,C212))","v":""},{"$f":"IF(ISBLANK('Data Input'!A216),\"\",SUM('Data Input'!C216:V216))","v":""},{"$f":"IF(ISBLANK('Data Input'!A216),\"\",SUM('Data Input'!X216:AQ216))","v":""},{"$f":"IF(ISBLANK('Data Input'!A216),\"\",SUM('Data Input'!C216:AQ216))","v":""},{"$f":"IF(G212=\"\",\"\",G212/(COUNTA('Data Input'!$C$8:$AQ$8)-1))","v":""},{"$f":"IF(ISBLANK('Data Input'!A216),\"\",SUM('Data Input'!C216,'Data Input'!K216,'Data Input'!L216,'Data Input'!AC216,'Data Input'!AF216,'Data Input'!AM216,'Data Input'!AO216))","v":""},{"$f":"IF(I212=\"\",\"\",I212/COUNTIF('Data Input'!$C$8:$AQ$8,$I$2))","v":""},{"$f":"IF(ISBLANK('Data Input'!A216),\"\",SUM('Data Input'!D216,'Data Input'!E216,'Data Input'!F216,'Data Input'!G216,'Data Input'!J216,'Data Input'!O216,'Data Input'!P216,'Data Input'!S216,'Data Input'!U216,'Data Input'!X216,'Data Input'!Z216,'Data Input'!AA216,'Data Input'!AB216,'Data Input'!AE216,'Data Input'!AG216,'Data Input'!AH216,'Data Input'!AJ216,'Data Input'!AK216,'Data Input'!AL216,'Data Input'!AN216))","v":""},{"$f":"IF(K212=\"\",\"\",K212/COUNTIF('Data Input'!$C$8:$AQ$8,$K$2))","v":""},{"$f":"IF(ISBLANK('Data Input'!A216),\"\",SUM('Data Input'!V216))","v":""},{"$f":"IF(M212=\"\",\"\",M212/COUNTIF('Data Input'!$C$8:$AQ$8,$M$2))","v":""},{"$f":"IF(ISBLANK('Data Input'!A216),\"\",SUM('Data Input'!H216,'Data Input'!I216,'Data Input'!M216,'Data Input'!N216,'Data Input'!Q216,'Data Input'!R216,'Data Input'!T216,'Data Input'!Y216,'Data Input'!AD216,'Data Input'!AI216,'Data Input'!AP216,'Data Input'!AQ216))","v":""},{"$f":"IF(O212=\"\",\"\",O212/COUNTIF('Data Input'!$C$8:$AQ$8,$O$2))","v":""}]
[{"$f":"IF('Data Input'!A217=0,\"\",'Data Input'!A217)","v":""},{"$f":"IF(ISBLANK('Data Input'!A217),\"\",COUNTIF('Data Input'!C217:AQ217,\"\")-1)","v":""},{"$f":"IF(ISBLANK('Data Input'!A217),\"\",COUNTIF('Data Input'!C217:AQ217,\"0\"))","v":""},{"$f":"IF(ISBLANK('Data Input'!A217),\"\",SUM(B213,C213))","v":""},{"$f":"IF(ISBLANK('Data Input'!A217),\"\",SUM('Data Input'!C217:V217))","v":""},{"$f":"IF(ISBLANK('Data Input'!A217),\"\",SUM('Data Input'!X217:AQ217))","v":""},{"$f":"IF(ISBLANK('Data Input'!A217),\"\",SUM('Data Input'!C217:AQ217))","v":""},{"$f":"IF(G213=\"\",\"\",G213/(COUNTA('Data Input'!$C$8:$AQ$8)-1))","v":""},{"$f":"IF(ISBLANK('Data Input'!A217),\"\",SUM('Data Input'!C217,'Data Input'!K217,'Data Input'!L217,'Data Input'!AC217,'Data Input'!AF217,'Data Input'!AM217,'Data Input'!AO217))","v":""},{"$f":"IF(I213=\"\",\"\",I213/COUNTIF('Data Input'!$C$8:$AQ$8,$I$2))","v":""},{"$f":"IF(ISBLANK('Data Input'!A217),\"\",SUM('Data Input'!D217,'Data Input'!E217,'Data Input'!F217,'Data Input'!G217,'Data Input'!J217,'Data Input'!O217,'Data Input'!P217,'Data Input'!S217,'Data Input'!U217,'Data Input'!X217,'Data Input'!Z217,'Data Input'!AA217,'Data Input'!AB217,'Data Input'!AE217,'Data Input'!AG217,'Data Input'!AH217,'Data Input'!AJ217,'Data Input'!AK217,'Data Input'!AL217,'Data Input'!AN217))","v":""},{"$f":"IF(K213=\"\",\"\",K213/COUNTIF('Data Input'!$C$8:$AQ$8,$K$2))","v":""},{"$f":"IF(ISBLANK('Data Input'!A217),\"\",SUM('Data Input'!V217))","v":""},{"$f":"IF(M213=\"\",\"\",M213/COUNTIF('Data Input'!$C$8:$AQ$8,$M$2))","v":""},{"$f":"IF(ISBLANK('Data Input'!A217),\"\",SUM('Data Input'!H217,'Data Input'!I217,'Data Input'!M217,'Data Input'!N217,'Data Input'!Q217,'Data Input'!R217,'Data Input'!T217,'Data Input'!Y217,'Data Input'!AD217,'Data Input'!AI217,'Data Input'!AP217,'Data Input'!AQ217))","v":""},{"$f":"IF(O213=\"\",\"\",O213/COUNTIF('Data Input'!$C$8:$AQ$8,$O$2))","v":""}]
[{"$f":"IF('Data Input'!A218=0,\"\",'Data Input'!A218)","v":""},{"$f":"IF(ISBLANK('Data Input'!A218),\"\",COUNTIF('Data Input'!C218:AQ218,\"\")-1)","v":""},{"$f":"IF(ISBLANK('Data Input'!A218),\"\",COUNTIF('Data Input'!C218:AQ218,\"0\"))","v":""},{"$f":"IF(ISBLANK('Data Input'!A218),\"\",SUM(B214,C214))","v":""},{"$f":"IF(ISBLANK('Data Input'!A218),\"\",SUM('Data Input'!C218:V218))","v":""},{"$f":"IF(ISBLANK('Data Input'!A218),\"\",SUM('Data Input'!X218:AQ218))","v":""},{"$f":"IF(ISBLANK('Data Input'!A218),\"\",SUM('Data Input'!C218:AQ218))","v":""},{"$f":"IF(G214=\"\",\"\",G214/(COUNTA('Data Input'!$C$8:$AQ$8)-1))","v":""},{"$f":"IF(ISBLANK('Data Input'!A218),\"\",SUM('Data Input'!C218,'Data Input'!K218,'Data Input'!L218,'Data Input'!AC218,'Data Input'!AF218,'Data Input'!AM218,'Data Input'!AO218))","v":""},{"$f":"IF(I214=\"\",\"\",I214/COUNTIF('Data Input'!$C$8:$AQ$8,$I$2))","v":""},{"$f":"IF(ISBLANK('Data Input'!A218),\"\",SUM('Data Input'!D218,'Data Input'!E218,'Data Input'!F218,'Data Input'!G218,'Data Input'!J218,'Data Input'!O218,'Data Input'!P218,'Data Input'!S218,'Data Input'!U218,'Data Input'!X218,'Data Input'!Z218,'Data Input'!AA218,'Data Input'!AB218,'Data Input'!AE218,'Data Input'!AG218,'Data Input'!AH218,'Data Input'!AJ218,'Data Input'!AK218,'Data Input'!AL218,'Data Input'!AN218))","v":""},{"$f":"IF(K214=\"\",\"\",K214/COUNTIF('Data Input'!$C$8:$AQ$8,$K$2))","v":""},{"$f":"IF(ISBLANK('Data Input'!A218),\"\",SUM('Data Input'!V218))","v":""},{"$f":"IF(M214=\"\",\"\",M214/COUNTIF('Data Input'!$C$8:$AQ$8,$M$2))","v":""},{"$f":"IF(ISBLANK('Data Input'!A218),\"\",SUM('Data Input'!H218,'Data Input'!I218,'Data Input'!M218,'Data Input'!N218,'Data Input'!Q218,'Data Input'!R218,'Data Input'!T218,'Data Input'!Y218,'Data Input'!AD218,'Data Input'!AI218,'Data Input'!AP218,'Data Input'!AQ218))","v":""},{"$f":"IF(O214=\"\",\"\",O214/COUNTIF('Data Input'!$C$8:$AQ$8,$O$2))","v":""}]
[{"$f":"IF('Data Input'!A219=0,\"\",'Data Input'!A219)","v":""},{"$f":"IF(ISBLANK('Data Input'!A219),\"\",COUNTIF('Data Input'!C219:AQ219,\"\")-1)","v":""},{"$f":"IF(ISBLANK('Data Input'!A219),\"\",COUNTIF('Data Input'!C219:AQ219,\"0\"))","v":""},{"$f":"IF(ISBLANK('Data Input'!A219),\"\",SUM(B215,C215))","v":""},{"$f":"IF(ISBLANK('Data Input'!A219),\"\",SUM('Data Input'!C219:V219))","v":""},{"$f":"IF(ISBLANK('Data Input'!A219),\"\",SUM('Data Input'!X219:AQ219))","v":""},{"$f":"IF(ISBLANK('Data Input'!A219),\"\",SUM('Data Input'!C219:AQ219))","v":""},{"$f":"IF(G215=\"\",\"\",G215/(COUNTA('Data Input'!$C$8:$AQ$8)-1))","v":""},{"$f":"IF(ISBLANK('Data Input'!A219),\"\",SUM('Data Input'!C219,'Data Input'!K219,'Data Input'!L219,'Data Input'!AC219,'Data Input'!AF219,'Data Input'!AM219,'Data Input'!AO219))","v":""},{"$f":"IF(I215=\"\",\"\",I215/COUNTIF('Data Input'!$C$8:$AQ$8,$I$2))","v":""},{"$f":"IF(ISBLANK('Data Input'!A219),\"\",SUM('Data Input'!D219,'Data Input'!E219,'Data Input'!F219,'Data Input'!G219,'Data Input'!J219,'Data Input'!O219,'Data Input'!P219,'Data Input'!S219,'Data Input'!U219,'Data Input'!X219,'Data Input'!Z219,'Data Input'!AA219,'Data Input'!AB219,'Data Input'!AE219,'Data Input'!AG219,'Data Input'!AH219,'Data Input'!AJ219,'Data Input'!AK219,'Data Input'!AL219,'Data Input'!AN219))","v":""},{"$f":"IF(K215=\"\",\"\",K215/COUNTIF('Data Input'!$C$8:$AQ$8,$K$2))","v":""},{"$f":"IF(ISBLANK('Data Input'!A219),\"\",SUM('Data Input'!V219))","v":""},{"$f":"IF(M215=\"\",\"\",M215/COUNTIF('Data Input'!$C$8:$AQ$8,$M$2))","v":""},{"$f":"IF(ISBLANK('Data Input'!A219),\"\",SUM('Data Input'!H219,'Data Input'!I219,'Data Input'!M219,'Data Input'!N219,'Data Input'!Q219,'Data Input'!R219,'Data Input'!T219,'Data Input'!Y219,'Data Input'!AD219,'Data Input'!AI219,'Data Input'!AP219,'Data Input'!AQ219))","v":""},{"$f":"IF(O215=\"\",\"\",O215/COUNTIF('Data Input'!$C$8:$AQ$8,$O$2))","v":""}]
[{"$f":"IF('Data Input'!A220=0,\"\",'Data Input'!A220)","v":""},{"$f":"IF(ISBLANK('Data Input'!A220),\"\",COUNTIF('Data Input'!C220:AQ220,\"\")-1)","v":""},{"$f":"IF(ISBLANK('Data Input'!A220),\"\",COUNTIF('Data Input'!C220:AQ220,\"0\"))","v":""},{"$f":"IF(ISBLANK('Data Input'!A220),\"\",SUM(B216,C216))","v":""},{"$f":"IF(ISBLANK('Data Input'!A220),\"\",SUM('Data Input'!C220:V220))","v":""},{"$f":"IF(ISBLANK('Data Input'!A220),\"\",SUM('Data Input'!X220:AQ220))","v":""},{"$f":"IF(ISBLANK('Data Input'!A220),\"\",SUM('Data Input'!C220:AQ220))","v":""},{"$f":"IF(G216=\"\",\"\",G216/(COUNTA('Data Input'!$C$8:$AQ$8)-1))","v":""},{"$f":"IF(ISBLANK('Data Input'!A220),\"\",SUM('Data Input'!C220,'Data Input'!K220,'Data Input'!L220,'Data Input'!AC220,'Data Input'!AF220,'Data Input'!AM220,'Data Input'!AO220))","v":""},{"$f":"IF(I216=\"\",\"\",I216/COUNTIF('Data Input'!$C$8:$AQ$8,$I$2))","v":""},{"$f":"IF(ISBLANK('Data Input'!A220),\"\",SUM('Data Input'!D220,'Data Input'!E220,'Data Input'!F220,'Data Input'!G220,'Data Input'!J220,'Data Input'!O220,'Data Input'!P220,'Data Input'!S220,'Data Input'!U220,'Data Input'!X220,'Data Input'!Z220,'Data Input'!AA220,'Data Input'!AB220,'Data Input'!AE220,'Data Input'!AG220,'Data Input'!AH220,'Data Input'!AJ220,'Data Input'!AK220,'Data Input'!AL220,'Data Input'!AN220))","v":""},{"$f":"IF(K216=\"\",\"\",K216/COUNTIF('Data Input'!$C$8:$AQ$8,$K$2))","v":""},{"$f":"IF(ISBLANK('Data Input'!A220),\"\",SUM('Data Input'!V220))","v":""},{"$f":"IF(M216=\"\",\"\",M216/COUNTIF('Data Input'!$C$8:$AQ$8,$M$2))","v":""},{"$f":"IF(ISBLANK('Data Input'!A220),\"\",SUM('Data Input'!H220,'Data Input'!I220,'Data Input'!M220,'Data Input'!N220,'Data Input'!Q220,'Data Input'!R220,'Data Input'!T220,'Data Input'!Y220,'Data Input'!AD220,'Data Input'!AI220,'Data Input'!AP220,'Data Input'!AQ220))","v":""},{"$f":"IF(O216=\"\",\"\",O216/COUNTIF('Data Input'!$C$8:$AQ$8,$O$2))","v":""}]
[{"$f":"IF('Data Input'!A221=0,\"\",'Data Input'!A221)","v":""},{"$f":"IF(ISBLANK('Data Input'!A221),\"\",COUNTIF('Data Input'!C221:AQ221,\"\")-1)","v":""},{"$f":"IF(ISBLANK('Data Input'!A221),\"\",COUNTIF('Data Input'!C221:AQ221,\"0\"))","v":""},{"$f":"IF(ISBLANK('Data Input'!A221),\"\",SUM(B217,C217))","v":""},{"$f":"IF(ISBLANK('Data Input'!A221),\"\",SUM('Data Input'!C221:V221))","v":""},{"$f":"IF(ISBLANK('Data Input'!A221),\"\",SUM('Data Input'!X221:AQ221))","v":""},{"$f":"IF(ISBLANK('Data Input'!A221),\"\",SUM('Data Input'!C221:AQ221))","v":""},{"$f":"IF(G217=\"\",\"\",G217/(COUNTA('Data Input'!$C$8:$AQ$8)-1))","v":""},{"$f":"IF(ISBLANK('Data Input'!A221),\"\",SUM('Data Input'!C221,'Data Input'!K221,'Data Input'!L221,'Data Input'!AC221,'Data Input'!AF221,'Data Input'!AM221,'Data Input'!AO221))","v":""},{"$f":"IF(I217=\"\",\"\",I217/COUNTIF('Data Input'!$C$8:$AQ$8,$I$2))","v":""},{"$f":"IF(ISBLANK('Data Input'!A221),\"\",SUM('Data Input'!D221,'Data Input'!E221,'Data Input'!F221,'Data Input'!G221,'Data Input'!J221,'Data Input'!O221,'Data Input'!P221,'Data Input'!S221,'Data Input'!U221,'Data Input'!X221,'Data Input'!Z221,'Data Input'!AA221,'Data Input'!AB221,'Data Input'!AE221,'Data Input'!AG221,'Data Input'!AH221,'Data Input'!AJ221,'Data Input'!AK221,'Data Input'!AL221,'Data Input'!AN221))","v":""},{"$f":"IF(K217=\"\",\"\",K217/COUNTIF('Data Input'!$C$8:$AQ$8,$K$2))","v":""},{"$f":"IF(ISBLANK('Data Input'!A221),\"\",SUM('Data Input'!V221))","v":""},{"$f":"IF(M217=\"\",\"\",M217/COUNTIF('Data Input'!$C$8:$AQ$8,$M$2))","v":""},{"$f":"IF(ISBLANK('Data Input'!A221),\"\",SUM('Data Input'!H221,'Data Input'!I221,'Data Input'!M221,'Data Input'!N221,'Data Input'!Q221,'Data Input'!R221,'Data Input'!T221,'Data Input'!Y221,'Data Input'!AD221,'Data Input'!AI221,'Data Input'!AP221,'Data Input'!AQ221))","v":""},{"$f":"IF(O217=\"\",\"\",O217/COUNTIF('Data Input'!$C$8:$AQ$8,$O$2))","v":""}]
[{"$f":"IF('Data Input'!A222=0,\"\",'Data Input'!A222)","v":""},{"$f":"IF(ISBLANK('Data Input'!A222),\"\",COUNTIF('Data Input'!C222:AQ222,\"\")-1)","v":""},{"$f":"IF(ISBLANK('Data Input'!A222),\"\",COUNTIF('Data Input'!C222:AQ222,\"0\"))","v":""},{"$f":"IF(ISBLANK('Data Input'!A222),\"\",SUM(B218,C218))","v":""},{"$f":"IF(ISBLANK('Data Input'!A222),\"\",SUM('Data Input'!C222:V222))","v":""},{"$f":"IF(ISBLANK('Data Input'!A222),\"\",SUM('Data Input'!X222:AQ222))","v":""},{"$f":"IF(ISBLANK('Data Input'!A222),\"\",SUM('Data Input'!C222:AQ222))","v":""},{"$f":"IF(G218=\"\",\"\",G218/(COUNTA('Data Input'!$C$8:$AQ$8)-1))","v":""},{"$f":"IF(ISBLANK('Data Input'!A222),\"\",SUM('Data Input'!C222,'Data Input'!K222,'Data Input'!L222,'Data Input'!AC222,'Data Input'!AF222,'Data Input'!AM222,'Data Input'!AO222))","v":""},{"$f":"IF(I218=\"\",\"\",I218/COUNTIF('Data Input'!$C$8:$AQ$8,$I$2))","v":""},{"$f":"IF(ISBLANK('Data Input'!A222),\"\",SUM('Data Input'!D222,'Data Input'!E222,'Data Input'!F222,'Data Input'!G222,'Data Input'!J222,'Data Input'!O222,'Data Input'!P222,'Data Input'!S222,'Data Input'!U222,'Data Input'!X222,'Data Input'!Z222,'Data Input'!AA222,'Data Input'!AB222,'Data Input'!AE222,'Data Input'!AG222,'Data Input'!AH222,'Data Input'!AJ222,'Data Input'!AK222,'Data Input'!AL222,'Data Input'!AN222))","v":""},{"$f":"IF(K218=\"\",\"\",K218/COUNTIF('Data Input'!$C$8:$AQ$8,$K$2))","v":""},{"$f":"IF(ISBLANK('Data Input'!A222),\"\",SUM('Data Input'!V222))","v":""},{"$f":"IF(M218=\"\",\"\",M218/COUNTIF('Data Input'!$C$8:$AQ$8,$M$2))","v":""},{"$f":"IF(ISBLANK('Data Input'!A222),\"\",SUM('Data Input'!H222,'Data Input'!I222,'Data Input'!M222,'Data Input'!N222,'Data Input'!Q222,'Data Input'!R222,'Data Input'!T222,'Data Input'!Y222,'Data Input'!AD222,'Data Input'!AI222,'Data Input'!AP222,'Data Input'!AQ222))","v":""},{"$f":"IF(O218=\"\",\"\",O218/COUNTIF('Data Input'!$C$8:$AQ$8,$O$2))","v":""}]
[{"$f":"IF('Data Input'!A223=0,\"\",'Data Input'!A223)","v":""},{"$f":"IF(ISBLANK('Data Input'!A223),\"\",COUNTIF('Data Input'!C223:AQ223,\"\")-1)","v":""},{"$f":"IF(ISBLANK('Data Input'!A223),\"\",COUNTIF('Data Input'!C223:AQ223,\"0\"))","v":""},{"$f":"IF(ISBLANK('Data Input'!A223),\"\",SUM(B219,C219))","v":""},{"$f":"IF(ISBLANK('Data Input'!A223),\"\",SUM('Data Input'!C223:V223))","v":""},{"$f":"IF(ISBLANK('Data Input'!A223),\"\",SUM('Data Input'!X223:AQ223))","v":""},{"$f":"IF(ISBLANK('Data Input'!A223),\"\",SUM('Data Input'!C223:AQ223))","v":""},{"$f":"IF(G219=\"\",\"\",G219/(COUNTA('Data Input'!$C$8:$AQ$8)-1))","v":""},{"$f":"IF(ISBLANK('Data Input'!A223),\"\",SUM('Data Input'!C223,'Data Input'!K223,'Data Input'!L223,'Data Input'!AC223,'Data Input'!AF223,'Data Input'!AM223,'Data Input'!AO223))","v":""},{"$f":"IF(I219=\"\",\"\",I219/COUNTIF('Data Input'!$C$8:$AQ$8,$I$2))","v":""},{"$f":"IF(ISBLANK('Data Input'!A223),\"\",SUM('Data Input'!D223,'Data Input'!E223,'Data Input'!F223,'Data Input'!G223,'Data Input'!J223,'Data Input'!O223,'Data Input'!P223,'Data Input'!S223,'Data Input'!U223,'Data Input'!X223,'Data Input'!Z223,'Data Input'!AA223,'Data Input'!AB223,'Data Input'!AE223,'Data Input'!AG223,'Data Input'!AH223,'Data Input'!AJ223,'Data Input'!AK223,'Data Input'!AL223,'Data Input'!AN223))","v":""},{"$f":"IF(K219=\"\",\"\",K219/COUNTIF('Data Input'!$C$8:$AQ$8,$K$2))","v":""},{"$f":"IF(ISBLANK('Data Input'!A223),\"\",SUM('Data Input'!V223))","v":""},{"$f":"IF(M219=\"\",\"\",M219/COUNTIF('Data Input'!$C$8:$AQ$8,$M$2))","v":""},{"$f":"IF(ISBLANK('Data Input'!A223),\"\",SUM('Data Input'!H223,'Data Input'!I223,'Data Input'!M223,'Data Input'!N223,'Data Input'!Q223,'Data Input'!R223,'Data Input'!T223,'Data Input'!Y223,'Data Input'!AD223,'Data Input'!AI223,'Data Input'!AP223,'Data Input'!AQ223))","v":""},{"$f":"IF(O219=\"\",\"\",O219/COUNTIF('Data Input'!$C$8:$AQ$8,$O$2))","v":""}]
[{"$f":"IF('Data Input'!A224=0,\"\",'Data Input'!A224)","v":""},{"$f":"IF(ISBLANK('Data Input'!A224),\"\",COUNTIF('Data Input'!C224:AQ224,\"\")-1)","v":""},{"$f":"IF(ISBLANK('Data Input'!A224),\"\",COUNTIF('Data Input'!C224:AQ224,\"0\"))","v":""},{"$f":"IF(ISBLANK('Data Input'!A224),\"\",SUM(B220,C220))","v":""},{"$f":"IF(ISBLANK('Data Input'!A224),\"\",SUM('Data Input'!C224:V224))","v":""},{"$f":"IF(ISBLANK('Data Input'!A224),\"\",SUM('Data Input'!X224:AQ224))","v":""},{"$f":"IF(ISBLANK('Data Input'!A224),\"\",SUM('Data Input'!C224:AQ224))","v":""},{"$f":"IF(G220=\"\",\"\",G220/(COUNTA('Data Input'!$C$8:$AQ$8)-1))","v":""},{"$f":"IF(ISBLANK('Data Input'!A224),\"\",SUM('Data Input'!C224,'Data Input'!K224,'Data Input'!L224,'Data Input'!AC224,'Data Input'!AF224,'Data Input'!AM224,'Data Input'!AO224))","v":""},{"$f":"IF(I220=\"\",\"\",I220/COUNTIF('Data Input'!$C$8:$AQ$8,$I$2))","v":""},{"$f":"IF(ISBLANK('Data Input'!A224),\"\",SUM('Data Input'!D224,'Data Input'!E224,'Data Input'!F224,'Data Input'!G224,'Data Input'!J224,'Data Input'!O224,'Data Input'!P224,'Data Input'!S224,'Data Input'!U224,'Data Input'!X224,'Data Input'!Z224,'Data Input'!AA224,'Data Input'!AB224,'Data Input'!AE224,'Data Input'!AG224,'Data Input'!AH224,'Data Input'!AJ224,'Data Input'!AK224,'Data Input'!AL224,'Data Input'!AN224))","v":""},{"$f":"IF(K220=\"\",\"\",K220/COUNTIF('Data Input'!$C$8:$AQ$8,$K$2))","v":""},{"$f":"IF(ISBLANK('Data Input'!A224),\"\",SUM('Data Input'!V224))","v":""},{"$f":"IF(M220=\"\",\"\",M220/COUNTIF('Data Input'!$C$8:$AQ$8,$M$2))","v":""},{"$f":"IF(ISBLANK('Data Input'!A224),\"\",SUM('Data Input'!H224,'Data Input'!I224,'Data Input'!M224,'Data Input'!N224,'Data Input'!Q224,'Data Input'!R224,'Data Input'!T224,'Data Input'!Y224,'Data Input'!AD224,'Data Input'!AI224,'Data Input'!AP224,'Data Input'!AQ224))","v":""},{"$f":"IF(O220=\"\",\"\",O220/COUNTIF('Data Input'!$C$8:$AQ$8,$O$2))","v":""}]
[{"$f":"IF('Data Input'!A225=0,\"\",'Data Input'!A225)","v":""},{"$f":"IF(ISBLANK('Data Input'!A225),\"\",COUNTIF('Data Input'!C225:AQ225,\"\")-1)","v":""},{"$f":"IF(ISBLANK('Data Input'!A225),\"\",COUNTIF('Data Input'!C225:AQ225,\"0\"))","v":""},{"$f":"IF(ISBLANK('Data Input'!A225),\"\",SUM(B221,C221))","v":""},{"$f":"IF(ISBLANK('Data Input'!A225),\"\",SUM('Data Input'!C225:V225))","v":""},{"$f":"IF(ISBLANK('Data Input'!A225),\"\",SUM('Data Input'!X225:AQ225))","v":""},{"$f":"IF(ISBLANK('Data Input'!A225),\"\",SUM('Data Input'!C225:AQ225))","v":""},{"$f":"IF(G221=\"\",\"\",G221/(COUNTA('Data Input'!$C$8:$AQ$8)-1))","v":""},{"$f":"IF(ISBLANK('Data Input'!A225),\"\",SUM('Data Input'!C225,'Data Input'!K225,'Data Input'!L225,'Data Input'!AC225,'Data Input'!AF225,'Data Input'!AM225,'Data Input'!AO225))","v":""},{"$f":"IF(I221=\"\",\"\",I221/COUNTIF('Data Input'!$C$8:$AQ$8,$I$2))","v":""},{"$f":"IF(ISBLANK('Data Input'!A225),\"\",SUM('Data Input'!D225,'Data Input'!E225,'Data Input'!F225,'Data Input'!G225,'Data Input'!J225,'Data Input'!O225,'Data Input'!P225,'Data Input'!S225,'Data Input'!U225,'Data Input'!X225,'Data Input'!Z225,'Data Input'!AA225,'Data Input'!AB225,'Data Input'!AE225,'Data Input'!AG225,'Data Input'!AH225,'Data Input'!AJ225,'Data Input'!AK225,'Data Input'!AL225,'Data Input'!AN225))","v":""},{"$f":"IF(K221=\"\",\"\",K221/COUNTIF('Data Input'!$C$8:$AQ$8,$K$2))","v":""},{"$f":"IF(ISBLANK('Data Input'!A225),\"\",SUM('Data Input'!V225))","v":""},{"$f":"IF(M221=\"\",\"\",M221/COUNTIF('Data Input'!$C$8:$AQ$8,$M$2))","v":""},{"$f":"IF(ISBLANK('Data Input'!A225),\"\",SUM('Data Input'!H225,'Data Input'!I225,'Data Input'!M225,'Data Input'!N225,'Data Input'!Q225,'Data Input'!R225,'Data Input'!T225,'Data Input'!Y225,'Data Input'!AD225,'Data Input'!AI225,'Data Input'!AP225,'Data Input'!AQ225))","v":""},{"$f":"IF(O221=\"\",\"\",O221/COUNTIF('Data Input'!$C$8:$AQ$8,$O$2))","v":""}]
[{"$f":"IF('Data Input'!A226=0,\"\",'Data Input'!A226)","v":""},{"$f":"IF(ISBLANK('Data Input'!A226),\"\",COUNTIF('Data Input'!C226:AQ226,\"\")-1)","v":""},{"$f":"IF(ISBLANK('Data Input'!A226),\"\",COUNTIF('Data Input'!C226:AQ226,\"0\"))","v":""},{"$f":"IF(ISBLANK('Data Input'!A226),\"\",SUM(B222,C222))","v":""},{"$f":"IF(ISBLANK('Data Input'!A226),\"\",SUM('Data Input'!C226:V226))","v":""},{"$f":"IF(ISBLANK('Data Input'!A226),\"\",SUM('Data Input'!X226:AQ226))","v":""},{"$f":"IF(ISBLANK('Data Input'!A226),\"\",SUM('Data Input'!C226:AQ226))","v":""},{"$f":"IF(G222=\"\",\"\",G222/(COUNTA('Data Input'!$C$8:$AQ$8)-1))","v":""},{"$f":"IF(ISBLANK('Data Input'!A226),\"\",SUM('Data Input'!C226,'Data Input'!K226,'Data Input'!L226,'Data Input'!AC226,'Data Input'!AF226,'Data Input'!AM226,'Data Input'!AO226))","v":""},{"$f":"IF(I222=\"\",\"\",I222/COUNTIF('Data Input'!$C$8:$AQ$8,$I$2))","v":""},{"$f":"IF(ISBLANK('Data Input'!A226),\"\",SUM('Data Input'!D226,'Data Input'!E226,'Data Input'!F226,'Data Input'!G226,'Data Input'!J226,'Data Input'!O226,'Data Input'!P226,'Data Input'!S226,'Data Input'!U226,'Data Input'!X226,'Data Input'!Z226,'Data Input'!AA226,'Data Input'!AB226,'Data Input'!AE226,'Data Input'!AG226,'Data Input'!AH226,'Data Input'!AJ226,'Data Input'!AK226,'Data Input'!AL226,'Data Input'!AN226))","v":""},{"$f":"IF(K222=\"\",\"\",K222/COUNTIF('Data Input'!$C$8:$AQ$8,$K$2))","v":""},{"$f":"IF(ISBLANK('Data Input'!A226),\"\",SUM('Data Input'!V226))","v":""},{"$f":"IF(M222=\"\",\"\",M222/COUNTIF('Data Input'!$C$8:$AQ$8,$M$2))","v":""},{"$f":"IF(ISBLANK('Data Input'!A226),\"\",SUM('Data Input'!H226,'Data Input'!I226,'Data Input'!M226,'Data Input'!N226,'Data Input'!Q226,'Data Input'!R226,'Data Input'!T226,'Data Input'!Y226,'Data Input'!AD226,'Data Input'!AI226,'Data Input'!AP226,'Data Input'!AQ226))","v":""},{"$f":"IF(O222=\"\",\"\",O222/COUNTIF('Data Input'!$C$8:$AQ$8,$O$2))","v":""}]
[{"$f":"IF('Data Input'!A227=0,\"\",'Data Input'!A227)","v":""},{"$f":"IF(ISBLANK('Data Input'!A227),\"\",COUNTIF('Data Input'!C227:AQ227,\"\")-1)","v":""},{"$f":"IF(ISBLANK('Data Input'!A227),\"\",COUNTIF('Data Input'!C227:AQ227,\"0\"))","v":""},{"$f":"IF(ISBLANK('Data Input'!A227),\"\",SUM(B223,C223))","v":""},{"$f":"IF(ISBLANK('Data Input'!A227),\"\",SUM('Data Input'!C227:V227))","v":""},{"$f":"IF(ISBLANK('Data Input'!A227),\"\",SUM('Data Input'!X227:AQ227))","v":""},{"$f":"IF(ISBLANK('Data Input'!A227),\"\",SUM('Data Input'!C227:AQ227))","v":""},{"$f":"IF(G223=\"\",\"\",G223/(COUNTA('Data Input'!$C$8:$AQ$8)-1))","v":""},{"$f":"IF(ISBLANK('Data Input'!A227),\"\",SUM('Data Input'!C227,'Data Input'!K227,'Data Input'!L227,'Data Input'!AC227,'Data Input'!AF227,'Data Input'!AM227,'Data Input'!AO227))","v":""},{"$f":"IF(I223=\"\",\"\",I223/COUNTIF('Data Input'!$C$8:$AQ$8,$I$2))","v":""},{"$f":"IF(ISBLANK('Data Input'!A227),\"\",SUM('Data Input'!D227,'Data Input'!E227,'Data Input'!F227,'Data Input'!G227,'Data Input'!J227,'Data Input'!O227,'Data Input'!P227,'Data Input'!S227,'Data Input'!U227,'Data Input'!X227,'Data Input'!Z227,'Data Input'!AA227,'Data Input'!AB227,'Data Input'!AE227,'Data Input'!AG227,'Data Input'!AH227,'Data Input'!AJ227,'Data Input'!AK227,'Data Input'!AL227,'Data Input'!AN227))","v":""},{"$f":"IF(K223=\"\",\"\",K223/COUNTIF('Data Input'!$C$8:$AQ$8,$K$2))","v":""},{"$f":"IF(ISBLANK('Data Input'!A227),\"\",SUM('Data Input'!V227))","v":""},{"$f":"IF(M223=\"\",\"\",M223/COUNTIF('Data Input'!$C$8:$AQ$8,$M$2))","v":""},{"$f":"IF(ISBLANK('Data Input'!A227),\"\",SUM('Data Input'!H227,'Data Input'!I227,'Data Input'!M227,'Data Input'!N227,'Data Input'!Q227,'Data Input'!R227,'Data Input'!T227,'Data Input'!Y227,'Data Input'!AD227,'Data Input'!AI227,'Data Input'!AP227,'Data Input'!AQ227))","v":""},{"$f":"IF(O223=\"\",\"\",O223/COUNTIF('Data Input'!$C$8:$AQ$8,$O$2))","v":""}]
[{"$f":"IF('Data Input'!A228=0,\"\",'Data Input'!A228)","v":""},{"$f":"IF(ISBLANK('Data Input'!A228),\"\",COUNTIF('Data Input'!C228:AQ228,\"\")-1)","v":""},{"$f":"IF(ISBLANK('Data Input'!A228),\"\",COUNTIF('Data Input'!C228:AQ228,\"0\"))","v":""},{"$f":"IF(ISBLANK('Data Input'!A228),\"\",SUM(B224,C224))","v":""},{"$f":"IF(ISBLANK('Data Input'!A228),\"\",SUM('Data Input'!C228:V228))","v":""},{"$f":"IF(ISBLANK('Data Input'!A228),\"\",SUM('Data Input'!X228:AQ228))","v":""},{"$f":"IF(ISBLANK('Data Input'!A228),\"\",SUM('Data Input'!C228:AQ228))","v":""},{"$f":"IF(G224=\"\",\"\",G224/(COUNTA('Data Input'!$C$8:$AQ$8)-1))","v":""},{"$f":"IF(ISBLANK('Data Input'!A228),\"\",SUM('Data Input'!C228,'Data Input'!K228,'Data Input'!L228,'Data Input'!AC228,'Data Input'!AF228,'Data Input'!AM228,'Data Input'!AO228))","v":""},{"$f":"IF(I224=\"\",\"\",I224/COUNTIF('Data Input'!$C$8:$AQ$8,$I$2))","v":""},{"$f":"IF(ISBLANK('Data Input'!A228),\"\",SUM('Data Input'!D228,'Data Input'!E228,'Data Input'!F228,'Data Input'!G228,'Data Input'!J228,'Data Input'!O228,'Data Input'!P228,'Data Input'!S228,'Data Input'!U228,'Data Input'!X228,'Data Input'!Z228,'Data Input'!AA228,'Data Input'!AB228,'Data Input'!AE228,'Data Input'!AG228,'Data Input'!AH228,'Data Input'!AJ228,'Data Input'!AK228,'Data Input'!AL228,'Data Input'!AN228))","v":""},{"$f":"IF(K224=\"\",\"\",K224/COUNTIF('Data Input'!$C$8:$AQ$8,$K$2))","v":""},{"$f":"IF(ISBLANK('Data Input'!A228),\"\",SUM('Data Input'!V228))","v":""},{"$f":"IF(M224=\"\",\"\",M224/COUNTIF('Data Input'!$C$8:$AQ$8,$M$2))","v":""},{"$f":"IF(ISBLANK('Data Input'!A228),\"\",SUM('Data Input'!H228,'Data Input'!I228,'Data Input'!M228,'Data Input'!N228,'Data Input'!Q228,'Data Input'!R228,'Data Input'!T228,'Data Input'!Y228,'Data Input'!AD228,'Data Input'!AI228,'Data Input'!AP228,'Data Input'!AQ228))","v":""},{"$f":"IF(O224=\"\",\"\",O224/COUNTIF('Data Input'!$C$8:$AQ$8,$O$2))","v":""}]
[{"$f":"IF('Data Input'!A229=0,\"\",'Data Input'!A229)","v":""},{"$f":"IF(ISBLANK('Data Input'!A229),\"\",COUNTIF('Data Input'!C229:AQ229,\"\")-1)","v":""},{"$f":"IF(ISBLANK('Data Input'!A229),\"\",COUNTIF('Data Input'!C229:AQ229,\"0\"))","v":""},{"$f":"IF(ISBLANK('Data Input'!A229),\"\",SUM(B225,C225))","v":""},{"$f":"IF(ISBLANK('Data Input'!A229),\"\",SUM('Data Input'!C229:V229))","v":""},{"$f":"IF(ISBLANK('Data Input'!A229),\"\",SUM('Data Input'!X229:AQ229))","v":""},{"$f":"IF(ISBLANK('Data Input'!A229),\"\",SUM('Data Input'!C229:AQ229))","v":""},{"$f":"IF(G225=\"\",\"\",G225/(COUNTA('Data Input'!$C$8:$AQ$8)-1))","v":""},{"$f":"IF(ISBLANK('Data Input'!A229),\"\",SUM('Data Input'!C229,'Data Input'!K229,'Data Input'!L229,'Data Input'!AC229,'Data Input'!AF229,'Data Input'!AM229,'Data Input'!AO229))","v":""},{"$f":"IF(I225=\"\",\"\",I225/COUNTIF('Data Input'!$C$8:$AQ$8,$I$2))","v":""},{"$f":"IF(ISBLANK('Data Input'!A229),\"\",SUM('Data Input'!D229,'Data Input'!E229,'Data Input'!F229,'Data Input'!G229,'Data Input'!J229,'Data Input'!O229,'Data Input'!P229,'Data Input'!S229,'Data Input'!U229,'Data Input'!X229,'Data Input'!Z229,'Data Input'!AA229,'Data Input'!AB229,'Data Input'!AE229,'Data Input'!AG229,'Data Input'!AH229,'Data Input'!AJ229,'Data Input'!AK229,'Data Input'!AL229,'Data Input'!AN229))","v":""},{"$f":"IF(K225=\"\",\"\",K225/COUNTIF('Data Input'!$C$8:$AQ$8,$K$2))","v":""},{"$f":"IF(ISBLANK('Data Input'!A229),\"\",SUM('Data Input'!V229))","v":""},{"$f":"IF(M225=\"\",\"\",M225/COUNTIF('Data Input'!$C$8:$AQ$8,$M$2))","v":""},{"$f":"IF(ISBLANK('Data Input'!A229),\"\",SUM('Data Input'!H229,'Data Input'!I229,'Data Input'!M229,'Data Input'!N229,'Data Input'!Q229,'Data Input'!R229,'Data Input'!T229,'Data Input'!Y229,'Data Input'!AD229,'Data Input'!AI229,'Data Input'!AP229,'Data Input'!AQ229))","v":""},{"$f":"IF(O225=\"\",\"\",O225/COUNTIF('Data Input'!$C$8:$AQ$8,$O$2))","v":""}]
[{"$f":"IF('Data Input'!A230=0,\"\",'Data Input'!A230)","v":""},{"$f":"IF(ISBLANK('Data Input'!A230),\"\",COUNTIF('Data Input'!C230:AQ230,\"\")-1)","v":""},{"$f":"IF(ISBLANK('Data Input'!A230),\"\",COUNTIF('Data Input'!C230:AQ230,\"0\"))","v":""},{"$f":"IF(ISBLANK('Data Input'!A230),\"\",SUM(B226,C226))","v":""},{"$f":"IF(ISBLANK('Data Input'!A230),\"\",SUM('Data Input'!C230:V230))","v":""},{"$f":"IF(ISBLANK('Data Input'!A230),\"\",SUM('Data Input'!X230:AQ230))","v":""},{"$f":"IF(ISBLANK('Data Input'!A230),\"\",SUM('Data Input'!C230:AQ230))","v":""},{"$f":"IF(G226=\"\",\"\",G226/(COUNTA('Data Input'!$C$8:$AQ$8)-1))","v":""},{"$f":"IF(ISBLANK('Data Input'!A230),\"\",SUM('Data Input'!C230,'Data Input'!K230,'Data Input'!L230,'Data Input'!AC230,'Data Input'!AF230,'Data Input'!AM230,'Data Input'!AO230))","v":""},{"$f":"IF(I226=\"\",\"\",I226/COUNTIF('Data Input'!$C$8:$AQ$8,$I$2))","v":""},{"$f":"IF(ISBLANK('Data Input'!A230),\"\",SUM('Data Input'!D230,'Data Input'!E230,'Data Input'!F230,'Data Input'!G230,'Data Input'!J230,'Data Input'!O230,'Data Input'!P230,'Data Input'!S230,'Data Input'!U230,'Data Input'!X230,'Data Input'!Z230,'Data Input'!AA230,'Data Input'!AB230,'Data Input'!AE230,'Data Input'!AG230,'Data Input'!AH230,'Data Input'!AJ230,'Data Input'!AK230,'Data Input'!AL230,'Data Input'!AN230))","v":""},{"$f":"IF(K226=\"\",\"\",K226/COUNTIF('Data Input'!$C$8:$AQ$8,$K$2))","v":""},{"$f":"IF(ISBLANK('Data Input'!A230),\"\",SUM('Data Input'!V230))","v":""},{"$f":"IF(M226=\"\",\"\",M226/COUNTIF('Data Input'!$C$8:$AQ$8,$M$2))","v":""},{"$f":"IF(ISBLANK('Data Input'!A230),\"\",SUM('Data Input'!H230,'Data Input'!I230,'Data Input'!M230,'Data Input'!N230,'Data Input'!Q230,'Data Input'!R230,'Data Input'!T230,'Data Input'!Y230,'Data Input'!AD230,'Data Input'!AI230,'Data Input'!AP230,'Data Input'!AQ230))","v":""},{"$f":"IF(O226=\"\",\"\",O226/COUNTIF('Data Input'!$C$8:$AQ$8,$O$2))","v":""}]
[{"$f":"IF('Data Input'!A231=0,\"\",'Data Input'!A231)","v":""},{"$f":"IF(ISBLANK('Data Input'!A231),\"\",COUNTIF('Data Input'!C231:AQ231,\"\")-1)","v":""},{"$f":"IF(ISBLANK('Data Input'!A231),\"\",COUNTIF('Data Input'!C231:AQ231,\"0\"))","v":""},{"$f":"IF(ISBLANK('Data Input'!A231),\"\",SUM(B227,C227))","v":""},{"$f":"IF(ISBLANK('Data Input'!A231),\"\",SUM('Data Input'!C231:V231))","v":""},{"$f":"IF(ISBLANK('Data Input'!A231),\"\",SUM('Data Input'!X231:AQ231))","v":""},{"$f":"IF(ISBLANK('Data Input'!A231),\"\",SUM('Data Input'!C231:AQ231))","v":""},{"$f":"IF(G227=\"\",\"\",G227/(COUNTA('Data Input'!$C$8:$AQ$8)-1))","v":""},{"$f":"IF(ISBLANK('Data Input'!A231),\"\",SUM('Data Input'!C231,'Data Input'!K231,'Data Input'!L231,'Data Input'!AC231,'Data Input'!AF231,'Data Input'!AM231,'Data Input'!AO231))","v":""},{"$f":"IF(I227=\"\",\"\",I227/COUNTIF('Data Input'!$C$8:$AQ$8,$I$2))","v":""},{"$f":"IF(ISBLANK('Data Input'!A231),\"\",SUM('Data Input'!D231,'Data Input'!E231,'Data Input'!F231,'Data Input'!G231,'Data Input'!J231,'Data Input'!O231,'Data Input'!P231,'Data Input'!S231,'Data Input'!U231,'Data Input'!X231,'Data Input'!Z231,'Data Input'!AA231,'Data Input'!AB231,'Data Input'!AE231,'Data Input'!AG231,'Data Input'!AH231,'Data Input'!AJ231,'Data Input'!AK231,'Data Input'!AL231,'Data Input'!AN231))","v":""},{"$f":"IF(K227=\"\",\"\",K227/COUNTIF('Data Input'!$C$8:$AQ$8,$K$2))","v":""},{"$f":"IF(ISBLANK('Data Input'!A231),\"\",SUM('Data Input'!V231))","v":""},{"$f":"IF(M227=\"\",\"\",M227/COUNTIF('Data Input'!$C$8:$AQ$8,$M$2))","v":""},{"$f":"IF(ISBLANK('Data Input'!A231),\"\",SUM('Data Input'!H231,'Data Input'!I231,'Data Input'!M231,'Data Input'!N231,'Data Input'!Q231,'Data Input'!R231,'Data Input'!T231,'Data Input'!Y231,'Data Input'!AD231,'Data Input'!AI231,'Data Input'!AP231,'Data Input'!AQ231))","v":""},{"$f":"IF(O227=\"\",\"\",O227/COUNTIF('Data Input'!$C$8:$AQ$8,$O$2))","v":""}]
[{"$f":"IF('Data Input'!A232=0,\"\",'Data Input'!A232)","v":""},{"$f":"IF(ISBLANK('Data Input'!A232),\"\",COUNTIF('Data Input'!C232:AQ232,\"\")-1)","v":""},{"$f":"IF(ISBLANK('Data Input'!A232),\"\",COUNTIF('Data Input'!C232:AQ232,\"0\"))","v":""},{"$f":"IF(ISBLANK('Data Input'!A232),\"\",SUM(B228,C228))","v":""},{"$f":"IF(ISBLANK('Data Input'!A232),\"\",SUM('Data Input'!C232:V232))","v":""},{"$f":"IF(ISBLANK('Data Input'!A232),\"\",SUM('Data Input'!X232:AQ232))","v":""},{"$f":"IF(ISBLANK('Data Input'!A232),\"\",SUM('Data Input'!C232:AQ232))","v":""},{"$f":"IF(G228=\"\",\"\",G228/(COUNTA('Data Input'!$C$8:$AQ$8)-1))","v":""},{"$f":"IF(ISBLANK('Data Input'!A232),\"\",SUM('Data Input'!C232,'Data Input'!K232,'Data Input'!L232,'Data Input'!AC232,'Data Input'!AF232,'Data Input'!AM232,'Data Input'!AO232))","v":""},{"$f":"IF(I228=\"\",\"\",I228/COUNTIF('Data Input'!$C$8:$AQ$8,$I$2))","v":""},{"$f":"IF(ISBLANK('Data Input'!A232),\"\",SUM('Data Input'!D232,'Data Input'!E232,'Data Input'!F232,'Data Input'!G232,'Data Input'!J232,'Data Input'!O232,'Data Input'!P232,'Data Input'!S232,'Data Input'!U232,'Data Input'!X232,'Data Input'!Z232,'Data Input'!AA232,'Data Input'!AB232,'Data Input'!AE232,'Data Input'!AG232,'Data Input'!AH232,'Data Input'!AJ232,'Data Input'!AK232,'Data Input'!AL232,'Data Input'!AN232))","v":""},{"$f":"IF(K228=\"\",\"\",K228/COUNTIF('Data Input'!$C$8:$AQ$8,$K$2))","v":""},{"$f":"IF(ISBLANK('Data Input'!A232),\"\",SUM('Data Input'!V232))","v":""},{"$f":"IF(M228=\"\",\"\",M228/COUNTIF('Data Input'!$C$8:$AQ$8,$M$2))","v":""},{"$f":"IF(ISBLANK('Data Input'!A232),\"\",SUM('Data Input'!H232,'Data Input'!I232,'Data Input'!M232,'Data Input'!N232,'Data Input'!Q232,'Data Input'!R232,'Data Input'!T232,'Data Input'!Y232,'Data Input'!AD232,'Data Input'!AI232,'Data Input'!AP232,'Data Input'!AQ232))","v":""},{"$f":"IF(O228=\"\",\"\",O228/COUNTIF('Data Input'!$C$8:$AQ$8,$O$2))","v":""}]
[{"$f":"IF('Data Input'!A233=0,\"\",'Data Input'!A233)","v":""},{"$f":"IF(ISBLANK('Data Input'!A233),\"\",COUNTIF('Data Input'!C233:AQ233,\"\")-1)","v":""},{"$f":"IF(ISBLANK('Data Input'!A233),\"\",COUNTIF('Data Input'!C233:AQ233,\"0\"))","v":""},{"$f":"IF(ISBLANK('Data Input'!A233),\"\",SUM(B229,C229))","v":""},{"$f":"IF(ISBLANK('Data Input'!A233),\"\",SUM('Data Input'!C233:V233))","v":""},{"$f":"IF(ISBLANK('Data Input'!A233),\"\",SUM('Data Input'!X233:AQ233))","v":""},{"$f":"IF(ISBLANK('Data Input'!A233),\"\",SUM('Data Input'!C233:AQ233))","v":""},{"$f":"IF(G229=\"\",\"\",G229/(COUNTA('Data Input'!$C$8:$AQ$8)-1))","v":""},{"$f":"IF(ISBLANK('Data Input'!A233),\"\",SUM('Data Input'!C233,'Data Input'!K233,'Data Input'!L233,'Data Input'!AC233,'Data Input'!AF233,'Data Input'!AM233,'Data Input'!AO233))","v":""},{"$f":"IF(I229=\"\",\"\",I229/COUNTIF('Data Input'!$C$8:$AQ$8,$I$2))","v":""},{"$f":"IF(ISBLANK('Data Input'!A233),\"\",SUM('Data Input'!D233,'Data Input'!E233,'Data Input'!F233,'Data Input'!G233,'Data Input'!J233,'Data Input'!O233,'Data Input'!P233,'Data Input'!S233,'Data Input'!U233,'Data Input'!X233,'Data Input'!Z233,'Data Input'!AA233,'Data Input'!AB233,'Data Input'!AE233,'Data Input'!AG233,'Data Input'!AH233,'Data Input'!AJ233,'Data Input'!AK233,'Data Input'!AL233,'Data Input'!AN233))","v":""},{"$f":"IF(K229=\"\",\"\",K229/COUNTIF('Data Input'!$C$8:$AQ$8,$K$2))","v":""},{"$f":"IF(ISBLANK('Data Input'!A233),\"\",SUM('Data Input'!V233))","v":""},{"$f":"IF(M229=\"\",\"\",M229/COUNTIF('Data Input'!$C$8:$AQ$8,$M$2))","v":""},{"$f":"IF(ISBLANK('Data Input'!A233),\"\",SUM('Data Input'!H233,'Data Input'!I233,'Data Input'!M233,'Data Input'!N233,'Data Input'!Q233,'Data Input'!R233,'Data Input'!T233,'Data Input'!Y233,'Data Input'!AD233,'Data Input'!AI233,'Data Input'!AP233,'Data Input'!AQ233))","v":""},{"$f":"IF(O229=\"\",\"\",O229/COUNTIF('Data Input'!$C$8:$AQ$8,$O$2))","v":""}]
[{"$f":"IF('Data Input'!A234=0,\"\",'Data Input'!A234)","v":""},{"$f":"IF(ISBLANK('Data Input'!A234),\"\",COUNTIF('Data Input'!C234:AQ234,\"\")-1)","v":""},{"$f":"IF(ISBLANK('Data Input'!A234),\"\",COUNTIF('Data Input'!C234:AQ234,\"0\"))","v":""},{"$f":"IF(ISBLANK('Data Input'!A234),\"\",SUM(B230,C230))","v":""},{"$f":"IF(ISBLANK('Data Input'!A234),\"\",SUM('Data Input'!C234:V234))","v":""},{"$f":"IF(ISBLANK('Data Input'!A234),\"\",SUM('Data Input'!X234:AQ234))","v":""},{"$f":"IF(ISBLANK('Data Input'!A234),\"\",SUM('Data Input'!C234:AQ234))","v":""},{"$f":"IF(G230=\"\",\"\",G230/(COUNTA('Data Input'!$C$8:$AQ$8)-1))","v":""},{"$f":"IF(ISBLANK('Data Input'!A234),\"\",SUM('Data Input'!C234,'Data Input'!K234,'Data Input'!L234,'Data Input'!AC234,'Data Input'!AF234,'Data Input'!AM234,'Data Input'!AO234))","v":""},{"$f":"IF(I230=\"\",\"\",I230/COUNTIF('Data Input'!$C$8:$AQ$8,$I$2))","v":""},{"$f":"IF(ISBLANK('Data Input'!A234),\"\",SUM('Data Input'!D234,'Data Input'!E234,'Data Input'!F234,'Data Input'!G234,'Data Input'!J234,'Data Input'!O234,'Data Input'!P234,'Data Input'!S234,'Data Input'!U234,'Data Input'!X234,'Data Input'!Z234,'Data Input'!AA234,'Data Input'!AB234,'Data Input'!AE234,'Data Input'!AG234,'Data Input'!AH234,'Data Input'!AJ234,'Data Input'!AK234,'Data Input'!AL234,'Data Input'!AN234))","v":""},{"$f":"IF(K230=\"\",\"\",K230/COUNTIF('Data Input'!$C$8:$AQ$8,$K$2))","v":""},{"$f":"IF(ISBLANK('Data Input'!A234),\"\",SUM('Data Input'!V234))","v":""},{"$f":"IF(M230=\"\",\"\",M230/COUNTIF('Data Input'!$C$8:$AQ$8,$M$2))","v":""},{"$f":"IF(ISBLANK('Data Input'!A234),\"\",SUM('Data Input'!H234,'Data Input'!I234,'Data Input'!M234,'Data Input'!N234,'Data Input'!Q234,'Data Input'!R234,'Data Input'!T234,'Data Input'!Y234,'Data Input'!AD234,'Data Input'!AI234,'Data Input'!AP234,'Data Input'!AQ234))","v":""},{"$f":"IF(O230=\"\",\"\",O230/COUNTIF('Data Input'!$C$8:$AQ$8,$O$2))","v":""}]
[{"$f":"IF('Data Input'!A235=0,\"\",'Data Input'!A235)","v":""},{"$f":"IF(ISBLANK('Data Input'!A235),\"\",COUNTIF('Data Input'!C235:AQ235,\"\")-1)","v":""},{"$f":"IF(ISBLANK('Data Input'!A235),\"\",COUNTIF('Data Input'!C235:AQ235,\"0\"))","v":""},{"$f":"IF(ISBLANK('Data Input'!A235),\"\",SUM(B231,C231))","v":""},{"$f":"IF(ISBLANK('Data Input'!A235),\"\",SUM('Data Input'!C235:V235))","v":""},{"$f":"IF(ISBLANK('Data Input'!A235),\"\",SUM('Data Input'!X235:AQ235))","v":""},{"$f":"IF(ISBLANK('Data Input'!A235),\"\",SUM('Data Input'!C235:AQ235))","v":""},{"$f":"IF(G231=\"\",\"\",G231/(COUNTA('Data Input'!$C$8:$AQ$8)-1))","v":""},{"$f":"IF(ISBLANK('Data Input'!A235),\"\",SUM('Data Input'!C235,'Data Input'!K235,'Data Input'!L235,'Data Input'!AC235,'Data Input'!AF235,'Data Input'!AM235,'Data Input'!AO235))","v":""},{"$f":"IF(I231=\"\",\"\",I231/COUNTIF('Data Input'!$C$8:$AQ$8,$I$2))","v":""},{"$f":"IF(ISBLANK('Data Input'!A235),\"\",SUM('Data Input'!D235,'Data Input'!E235,'Data Input'!F235,'Data Input'!G235,'Data Input'!J235,'Data Input'!O235,'Data Input'!P235,'Data Input'!S235,'Data Input'!U235,'Data Input'!X235,'Data Input'!Z235,'Data Input'!AA235,'Data Input'!AB235,'Data Input'!AE235,'Data Input'!AG235,'Data Input'!AH235,'Data Input'!AJ235,'Data Input'!AK235,'Data Input'!AL235,'Data Input'!AN235))","v":""},{"$f":"IF(K231=\"\",\"\",K231/COUNTIF('Data Input'!$C$8:$AQ$8,$K$2))","v":""},{"$f":"IF(ISBLANK('Data Input'!A235),\"\",SUM('Data Input'!V235))","v":""},{"$f":"IF(M231=\"\",\"\",M231/COUNTIF('Data Input'!$C$8:$AQ$8,$M$2))","v":""},{"$f":"IF(ISBLANK('Data Input'!A235),\"\",SUM('Data Input'!H235,'Data Input'!I235,'Data Input'!M235,'Data Input'!N235,'Data Input'!Q235,'Data Input'!R235,'Data Input'!T235,'Data Input'!Y235,'Data Input'!AD235,'Data Input'!AI235,'Data Input'!AP235,'Data Input'!AQ235))","v":""},{"$f":"IF(O231=\"\",\"\",O231/COUNTIF('Data Input'!$C$8:$AQ$8,$O$2))","v":""}]
[{"$f":"IF('Data Input'!A236=0,\"\",'Data Input'!A236)","v":""},{"$f":"IF(ISBLANK('Data Input'!A236),\"\",COUNTIF('Data Input'!C236:AQ236,\"\")-1)","v":""},{"$f":"IF(ISBLANK('Data Input'!A236),\"\",COUNTIF('Data Input'!C236:AQ236,\"0\"))","v":""},{"$f":"IF(ISBLANK('Data Input'!A236),\"\",SUM(B232,C232))","v":""},{"$f":"IF(ISBLANK('Data Input'!A236),\"\",SUM('Data Input'!C236:V236))","v":""},{"$f":"IF(ISBLANK('Data Input'!A236),\"\",SUM('Data Input'!X236:AQ236))","v":""},{"$f":"IF(ISBLANK('Data Input'!A236),\"\",SUM('Data Input'!C236:AQ236))","v":""},{"$f":"IF(G232=\"\",\"\",G232/(COUNTA('Data Input'!$C$8:$AQ$8)-1))","v":""},{"$f":"IF(ISBLANK('Data Input'!A236),\"\",SUM('Data Input'!C236,'Data Input'!K236,'Data Input'!L236,'Data Input'!AC236,'Data Input'!AF236,'Data Input'!AM236,'Data Input'!AO236))","v":""},{"$f":"IF(I232=\"\",\"\",I232/COUNTIF('Data Input'!$C$8:$AQ$8,$I$2))","v":""},{"$f":"IF(ISBLANK('Data Input'!A236),\"\",SUM('Data Input'!D236,'Data Input'!E236,'Data Input'!F236,'Data Input'!G236,'Data Input'!J236,'Data Input'!O236,'Data Input'!P236,'Data Input'!S236,'Data Input'!U236,'Data Input'!X236,'Data Input'!Z236,'Data Input'!AA236,'Data Input'!AB236,'Data Input'!AE236,'Data Input'!AG236,'Data Input'!AH236,'Data Input'!AJ236,'Data Input'!AK236,'Data Input'!AL236,'Data Input'!AN236))","v":""},{"$f":"IF(K232=\"\",\"\",K232/COUNTIF('Data Input'!$C$8:$AQ$8,$K$2))","v":""},{"$f":"IF(ISBLANK('Data Input'!A236),\"\",SUM('Data Input'!V236))","v":""},{"$f":"IF(M232=\"\",\"\",M232/COUNTIF('Data Input'!$C$8:$AQ$8,$M$2))","v":""},{"$f":"IF(ISBLANK('Data Input'!A236),\"\",SUM('Data Input'!H236,'Data Input'!I236,'Data Input'!M236,'Data Input'!N236,'Data Input'!Q236,'Data Input'!R236,'Data Input'!T236,'Data Input'!Y236,'Data Input'!AD236,'Data Input'!AI236,'Data Input'!AP236,'Data Input'!AQ236))","v":""},{"$f":"IF(O232=\"\",\"\",O232/COUNTIF('Data Input'!$C$8:$AQ$8,$O$2))","v":""}]
[{"$f":"IF('Data Input'!A237=0,\"\",'Data Input'!A237)","v":""},{"$f":"IF(ISBLANK('Data Input'!A237),\"\",COUNTIF('Data Input'!C237:AQ237,\"\")-1)","v":""},{"$f":"IF(ISBLANK('Data Input'!A237),\"\",COUNTIF('Data Input'!C237:AQ237,\"0\"))","v":""},{"$f":"IF(ISBLANK('Data Input'!A237),\"\",SUM(B233,C233))","v":""},{"$f":"IF(ISBLANK('Data Input'!A237),\"\",SUM('Data Input'!C237:V237))","v":""},{"$f":"IF(ISBLANK('Data Input'!A237),\"\",SUM('Data Input'!X237:AQ237))","v":""},{"$f":"IF(ISBLANK('Data Input'!A237),\"\",SUM('Data Input'!C237:AQ237))","v":""},{"$f":"IF(G233=\"\",\"\",G233/(COUNTA('Data Input'!$C$8:$AQ$8)-1))","v":""},{"$f":"IF(ISBLANK('Data Input'!A237),\"\",SUM('Data Input'!C237,'Data Input'!K237,'Data Input'!L237,'Data Input'!AC237,'Data Input'!AF237,'Data Input'!AM237,'Data Input'!AO237))","v":""},{"$f":"IF(I233=\"\",\"\",I233/COUNTIF('Data Input'!$C$8:$AQ$8,$I$2))","v":""},{"$f":"IF(ISBLANK('Data Input'!A237),\"\",SUM('Data Input'!D237,'Data Input'!E237,'Data Input'!F237,'Data Input'!G237,'Data Input'!J237,'Data Input'!O237,'Data Input'!P237,'Data Input'!S237,'Data Input'!U237,'Data Input'!X237,'Data Input'!Z237,'Data Input'!AA237,'Data Input'!AB237,'Data Input'!AE237,'Data Input'!AG237,'Data Input'!AH237,'Data Input'!AJ237,'Data Input'!AK237,'Data Input'!AL237,'Data Input'!AN237))","v":""},{"$f":"IF(K233=\"\",\"\",K233/COUNTIF('Data Input'!$C$8:$AQ$8,$K$2))","v":""},{"$f":"IF(ISBLANK('Data Input'!A237),\"\",SUM('Data Input'!V237))","v":""},{"$f":"IF(M233=\"\",\"\",M233/COUNTIF('Data Input'!$C$8:$AQ$8,$M$2))","v":""},{"$f":"IF(ISBLANK('Data Input'!A237),\"\",SUM('Data Input'!H237,'Data Input'!I237,'Data Input'!M237,'Data Input'!N237,'Data Input'!Q237,'Data Input'!R237,'Data Input'!T237,'Data Input'!Y237,'Data Input'!AD237,'Data Input'!AI237,'Data Input'!AP237,'Data Input'!AQ237))","v":""},{"$f":"IF(O233=\"\",\"\",O233/COUNTIF('Data Input'!$C$8:$AQ$8,$O$2))","v":""}]
[{"$f":"IF('Data Input'!A238=0,\"\",'Data Input'!A238)","v":""},{"$f":"IF(ISBLANK('Data Input'!A238),\"\",COUNTIF('Data Input'!C238:AQ238,\"\")-1)","v":""},{"$f":"IF(ISBLANK('Data Input'!A238),\"\",COUNTIF('Data Input'!C238:AQ238,\"0\"))","v":""},{"$f":"IF(ISBLANK('Data Input'!A238),\"\",SUM(B234,C234))","v":""},{"$f":"IF(ISBLANK('Data Input'!A238),\"\",SUM('Data Input'!C238:V238))","v":""},{"$f":"IF(ISBLANK('Data Input'!A238),\"\",SUM('Data Input'!X238:AQ238))","v":""},{"$f":"IF(ISBLANK('Data Input'!A238),\"\",SUM('Data Input'!C238:AQ238))","v":""},{"$f":"IF(G234=\"\",\"\",G234/(COUNTA('Data Input'!$C$8:$AQ$8)-1))","v":""},{"$f":"IF(ISBLANK('Data Input'!A238),\"\",SUM('Data Input'!C238,'Data Input'!K238,'Data Input'!L238,'Data Input'!AC238,'Data Input'!AF238,'Data Input'!AM238,'Data Input'!AO238))","v":""},{"$f":"IF(I234=\"\",\"\",I234/COUNTIF('Data Input'!$C$8:$AQ$8,$I$2))","v":""},{"$f":"IF(ISBLANK('Data Input'!A238),\"\",SUM('Data Input'!D238,'Data Input'!E238,'Data Input'!F238,'Data Input'!G238,'Data Input'!J238,'Data Input'!O238,'Data Input'!P238,'Data Input'!S238,'Data Input'!U238,'Data Input'!X238,'Data Input'!Z238,'Data Input'!AA238,'Data Input'!AB238,'Data Input'!AE238,'Data Input'!AG238,'Data Input'!AH238,'Data Input'!AJ238,'Data Input'!AK238,'Data Input'!AL238,'Data Input'!AN238))","v":""},{"$f":"IF(K234=\"\",\"\",K234/COUNTIF('Data Input'!$C$8:$AQ$8,$K$2))","v":""},{"$f":"IF(ISBLANK('Data Input'!A238),\"\",SUM('Data Input'!V238))","v":""},{"$f":"IF(M234=\"\",\"\",M234/COUNTIF('Data Input'!$C$8:$AQ$8,$M$2))","v":""},{"$f":"IF(ISBLANK('Data Input'!A238),\"\",SUM('Data Input'!H238,'Data Input'!I238,'Data Input'!M238,'Data Input'!N238,'Data Input'!Q238,'Data Input'!R238,'Data Input'!T238,'Data Input'!Y238,'Data Input'!AD238,'Data Input'!AI238,'Data Input'!AP238,'Data Input'!AQ238))","v":""},{"$f":"IF(O234=\"\",\"\",O234/COUNTIF('Data Input'!$C$8:$AQ$8,$O$2))","v":""}]
[{"$f":"IF('Data Input'!A239=0,\"\",'Data Input'!A239)","v":""},{"$f":"IF(ISBLANK('Data Input'!A239),\"\",COUNTIF('Data Input'!C239:AQ239,\"\")-1)","v":""},{"$f":"IF(ISBLANK('Data Input'!A239),\"\",COUNTIF('Data Input'!C239:AQ239,\"0\"))","v":""},{"$f":"IF(ISBLANK('Data Input'!A239),\"\",SUM(B235,C235))","v":""},{"$f":"IF(ISBLANK('Data Input'!A239),\"\",SUM('Data Input'!C239:V239))","v":""},{"$f":"IF(ISBLANK('Data Input'!A239),\"\",SUM('Data Input'!X239:AQ239))","v":""},{"$f":"IF(ISBLANK('Data Input'!A239),\"\",SUM('Data Input'!C239:AQ239))","v":""},{"$f":"IF(G235=\"\",\"\",G235/(COUNTA('Data Input'!$C$8:$AQ$8)-1))","v":""},{"$f":"IF(ISBLANK('Data Input'!A239),\"\",SUM('Data Input'!C239,'Data Input'!K239,'Data Input'!L239,'Data Input'!AC239,'Data Input'!AF239,'Data Input'!AM239,'Data Input'!AO239))","v":""},{"$f":"IF(I235=\"\",\"\",I235/COUNTIF('Data Input'!$C$8:$AQ$8,$I$2))","v":""},{"$f":"IF(ISBLANK('Data Input'!A239),\"\",SUM('Data Input'!D239,'Data Input'!E239,'Data Input'!F239,'Data Input'!G239,'Data Input'!J239,'Data Input'!O239,'Data Input'!P239,'Data Input'!S239,'Data Input'!U239,'Data Input'!X239,'Data Input'!Z239,'Data Input'!AA239,'Data Input'!AB239,'Data Input'!AE239,'Data Input'!AG239,'Data Input'!AH239,'Data Input'!AJ239,'Data Input'!AK239,'Data Input'!AL239,'Data Input'!AN239))","v":""},{"$f":"IF(K235=\"\",\"\",K235/COUNTIF('Data Input'!$C$8:$AQ$8,$K$2))","v":""},{"$f":"IF(ISBLANK('Data Input'!A239),\"\",SUM('Data Input'!V239))","v":""},{"$f":"IF(M235=\"\",\"\",M235/COUNTIF('Data Input'!$C$8:$AQ$8,$M$2))","v":""},{"$f":"IF(ISBLANK('Data Input'!A239),\"\",SUM('Data Input'!H239,'Data Input'!I239,'Data Input'!M239,'Data Input'!N239,'Data Input'!Q239,'Data Input'!R239,'Data Input'!T239,'Data Input'!Y239,'Data Input'!AD239,'Data Input'!AI239,'Data Input'!AP239,'Data Input'!AQ239))","v":""},{"$f":"IF(O235=\"\",\"\",O235/COUNTIF('Data Input'!$C$8:$AQ$8,$O$2))","v":""}]
[{"$f":"IF('Data Input'!A240=0,\"\",'Data Input'!A240)","v":""},{"$f":"IF(ISBLANK('Data Input'!A240),\"\",COUNTIF('Data Input'!C240:AQ240,\"\")-1)","v":""},{"$f":"IF(ISBLANK('Data Input'!A240),\"\",COUNTIF('Data Input'!C240:AQ240,\"0\"))","v":""},{"$f":"IF(ISBLANK('Data Input'!A240),\"\",SUM(B236,C236))","v":""},{"$f":"IF(ISBLANK('Data Input'!A240),\"\",SUM('Data Input'!C240:V240))","v":""},{"$f":"IF(ISBLANK('Data Input'!A240),\"\",SUM('Data Input'!X240:AQ240))","v":""},{"$f":"IF(ISBLANK('Data Input'!A240),\"\",SUM('Data Input'!C240:AQ240))","v":""},{"$f":"IF(G236=\"\",\"\",G236/(COUNTA('Data Input'!$C$8:$AQ$8)-1))","v":""},{"$f":"IF(ISBLANK('Data Input'!A240),\"\",SUM('Data Input'!C240,'Data Input'!K240,'Data Input'!L240,'Data Input'!AC240,'Data Input'!AF240,'Data Input'!AM240,'Data Input'!AO240))","v":""},{"$f":"IF(I236=\"\",\"\",I236/COUNTIF('Data Input'!$C$8:$AQ$8,$I$2))","v":""},{"$f":"IF(ISBLANK('Data Input'!A240),\"\",SUM('Data Input'!D240,'Data Input'!E240,'Data Input'!F240,'Data Input'!G240,'Data Input'!J240,'Data Input'!O240,'Data Input'!P240,'Data Input'!S240,'Data Input'!U240,'Data Input'!X240,'Data Input'!Z240,'Data Input'!AA240,'Data Input'!AB240,'Data Input'!AE240,'Data Input'!AG240,'Data Input'!AH240,'Data Input'!AJ240,'Data Input'!AK240,'Data Input'!AL240,'Data Input'!AN240))","v":""},{"$f":"IF(K236=\"\",\"\",K236/COUNTIF('Data Input'!$C$8:$AQ$8,$K$2))","v":""},{"$f":"IF(ISBLANK('Data Input'!A240),\"\",SUM('Data Input'!V240))","v":""},{"$f":"IF(M236=\"\",\"\",M236/COUNTIF('Data Input'!$C$8:$AQ$8,$M$2))","v":""},{"$f":"IF(ISBLANK('Data Input'!A240),\"\",SUM('Data Input'!H240,'Data Input'!I240,'Data Input'!M240,'Data Input'!N240,'Data Input'!Q240,'Data Input'!R240,'Data Input'!T240,'Data Input'!Y240,'Data Input'!AD240,'Data Input'!AI240,'Data Input'!AP240,'Data Input'!AQ240))","v":""},{"$f":"IF(O236=\"\",\"\",O236/COUNTIF('Data Input'!$C$8:$AQ$8,$O$2))","v":""}]
[{"$f":"IF('Data Input'!A241=0,\"\",'Data Input'!A241)","v":""},{"$f":"IF(ISBLANK('Data Input'!A241),\"\",COUNTIF('Data Input'!C241:AQ241,\"\")-1)","v":""},{"$f":"IF(ISBLANK('Data Input'!A241),\"\",COUNTIF('Data Input'!C241:AQ241,\"0\"))","v":""},{"$f":"IF(ISBLANK('Data Input'!A241),\"\",SUM(B237,C237))","v":""},{"$f":"IF(ISBLANK('Data Input'!A241),\"\",SUM('Data Input'!C241:V241))","v":""},{"$f":"IF(ISBLANK('Data Input'!A241),\"\",SUM('Data Input'!X241:AQ241))","v":""},{"$f":"IF(ISBLANK('Data Input'!A241),\"\",SUM('Data Input'!C241:AQ241))","v":""},{"$f":"IF(G237=\"\",\"\",G237/(COUNTA('Data Input'!$C$8:$AQ$8)-1))","v":""},{"$f":"IF(ISBLANK('Data Input'!A241),\"\",SUM('Data Input'!C241,'Data Input'!K241,'Data Input'!L241,'Data Input'!AC241,'Data Input'!AF241,'Data Input'!AM241,'Data Input'!AO241))","v":""},{"$f":"IF(I237=\"\",\"\",I237/COUNTIF('Data Input'!$C$8:$AQ$8,$I$2))","v":""},{"$f":"IF(ISBLANK('Data Input'!A241),\"\",SUM('Data Input'!D241,'Data Input'!E241,'Data Input'!F241,'Data Input'!G241,'Data Input'!J241,'Data Input'!O241,'Data Input'!P241,'Data Input'!S241,'Data Input'!U241,'Data Input'!X241,'Data Input'!Z241,'Data Input'!AA241,'Data Input'!AB241,'Data Input'!AE241,'Data Input'!AG241,'Data Input'!AH241,'Data Input'!AJ241,'Data Input'!AK241,'Data Input'!AL241,'Data Input'!AN241))","v":""},{"$f":"IF(K237=\"\",\"\",K237/COUNTIF('Data Input'!$C$8:$AQ$8,$K$2))","v":""},{"$f":"IF(ISBLANK('Data Input'!A241),\"\",SUM('Data Input'!V241))","v":""},{"$f":"IF(M237=\"\",\"\",M237/COUNTIF('Data Input'!$C$8:$AQ$8,$M$2))","v":""},{"$f":"IF(ISBLANK('Data Input'!A241),\"\",SUM('Data Input'!H241,'Data Input'!I241,'Data Input'!M241,'Data Input'!N241,'Data Input'!Q241,'Data Input'!R241,'Data Input'!T241,'Data Input'!Y241,'Data Input'!AD241,'Data Input'!AI241,'Data Input'!AP241,'Data Input'!AQ241))","v":""},{"$f":"IF(O237=\"\",\"\",O237/COUNTIF('Data Input'!$C$8:$AQ$8,$O$2))","v":""}]
[{"$f":"IF('Data Input'!A242=0,\"\",'Data Input'!A242)","v":""},{"$f":"IF(ISBLANK('Data Input'!A242),\"\",COUNTIF('Data Input'!C242:AQ242,\"\")-1)","v":""},{"$f":"IF(ISBLANK('Data Input'!A242),\"\",COUNTIF('Data Input'!C242:AQ242,\"0\"))","v":""},{"$f":"IF(ISBLANK('Data Input'!A242),\"\",SUM(B238,C238))","v":""},{"$f":"IF(ISBLANK('Data Input'!A242),\"\",SUM('Data Input'!C242:V242))","v":""},{"$f":"IF(ISBLANK('Data Input'!A242),\"\",SUM('Data Input'!X242:AQ242))","v":""},{"$f":"IF(ISBLANK('Data Input'!A242),\"\",SUM('Data Input'!C242:AQ242))","v":""},{"$f":"IF(G238=\"\",\"\",G238/(COUNTA('Data Input'!$C$8:$AQ$8)-1))","v":""},{"$f":"IF(ISBLANK('Data Input'!A242),\"\",SUM('Data Input'!C242,'Data Input'!K242,'Data Input'!L242,'Data Input'!AC242,'Data Input'!AF242,'Data Input'!AM242,'Data Input'!AO242))","v":""},{"$f":"IF(I238=\"\",\"\",I238/COUNTIF('Data Input'!$C$8:$AQ$8,$I$2))","v":""},{"$f":"IF(ISBLANK('Data Input'!A242),\"\",SUM('Data Input'!D242,'Data Input'!E242,'Data Input'!F242,'Data Input'!G242,'Data Input'!J242,'Data Input'!O242,'Data Input'!P242,'Data Input'!S242,'Data Input'!U242,'Data Input'!X242,'Data Input'!Z242,'Data Input'!AA242,'Data Input'!AB242,'Data Input'!AE242,'Data Input'!AG242,'Data Input'!AH242,'Data Input'!AJ242,'Data Input'!AK242,'Data Input'!AL242,'Data Input'!AN242))","v":""},{"$f":"IF(K238=\"\",\"\",K238/COUNTIF('Data Input'!$C$8:$AQ$8,$K$2))","v":""},{"$f":"IF(ISBLANK('Data Input'!A242),\"\",SUM('Data Input'!V242))","v":""},{"$f":"IF(M238=\"\",\"\",M238/COUNTIF('Data Input'!$C$8:$AQ$8,$M$2))","v":""},{"$f":"IF(ISBLANK('Data Input'!A242),\"\",SUM('Data Input'!H242,'Data Input'!I242,'Data Input'!M242,'Data Input'!N242,'Data Input'!Q242,'Data Input'!R242,'Data Input'!T242,'Data Input'!Y242,'Data Input'!AD242,'Data Input'!AI242,'Data Input'!AP242,'Data Input'!AQ242))","v":""},{"$f":"IF(O238=\"\",\"\",O238/COUNTIF('Data Input'!$C$8:$AQ$8,$O$2))","v":""}]
[{"$f":"IF('Data Input'!A243=0,\"\",'Data Input'!A243)","v":""},{"$f":"IF(ISBLANK('Data Input'!A243),\"\",COUNTIF('Data Input'!C243:AQ243,\"\")-1)","v":""},{"$f":"IF(ISBLANK('Data Input'!A243),\"\",COUNTIF('Data Input'!C243:AQ243,\"0\"))","v":""},{"$f":"IF(ISBLANK('Data Input'!A243),\"\",SUM(B239,C239))","v":""},{"$f":"IF(ISBLANK('Data Input'!A243),\"\",SUM('Data Input'!C243:V243))","v":""},{"$f":"IF(ISBLANK('Data Input'!A243),\"\",SUM('Data Input'!X243:AQ243))","v":""},{"$f":"IF(ISBLANK('Data Input'!A243),\"\",SUM('Data Input'!C243:AQ243))","v":""},{"$f":"IF(G239=\"\",\"\",G239/(COUNTA('Data Input'!$C$8:$AQ$8)-1))","v":""},{"$f":"IF(ISBLANK('Data Input'!A243),\"\",SUM('Data Input'!C243,'Data Input'!K243,'Data Input'!L243,'Data Input'!AC243,'Data Input'!AF243,'Data Input'!AM243,'Data Input'!AO243))","v":""},{"$f":"IF(I239=\"\",\"\",I239/COUNTIF('Data Input'!$C$8:$AQ$8,$I$2))","v":""},{"$f":"IF(ISBLANK('Data Input'!A243),\"\",SUM('Data Input'!D243,'Data Input'!E243,'Data Input'!F243,'Data Input'!G243,'Data Input'!J243,'Data Input'!O243,'Data Input'!P243,'Data Input'!S243,'Data Input'!U243,'Data Input'!X243,'Data Input'!Z243,'Data Input'!AA243,'Data Input'!AB243,'Data Input'!AE243,'Data Input'!AG243,'Data Input'!AH243,'Data Input'!AJ243,'Data Input'!AK243,'Data Input'!AL243,'Data Input'!AN243))","v":""},{"$f":"IF(K239=\"\",\"\",K239/COUNTIF('Data Input'!$C$8:$AQ$8,$K$2))","v":""},{"$f":"IF(ISBLANK('Data Input'!A243),\"\",SUM('Data Input'!V243))","v":""},{"$f":"IF(M239=\"\",\"\",M239/COUNTIF('Data Input'!$C$8:$AQ$8,$M$2))","v":""},{"$f":"IF(ISBLANK('Data Input'!A243),\"\",SUM('Data Input'!H243,'Data Input'!I243,'Data Input'!M243,'Data Input'!N243,'Data Input'!Q243,'Data Input'!R243,'Data Input'!T243,'Data Input'!Y243,'Data Input'!AD243,'Data Input'!AI243,'Data Input'!AP243,'Data Input'!AQ243))","v":""},{"$f":"IF(O239=\"\",\"\",O239/COUNTIF('Data Input'!$C$8:$AQ$8,$O$2))","v":""}]
[{"$f":"IF('Data Input'!A244=0,\"\",'Data Input'!A244)","v":""},{"$f":"IF(ISBLANK('Data Input'!A244),\"\",COUNTIF('Data Input'!C244:AQ244,\"\")-1)","v":""},{"$f":"IF(ISBLANK('Data Input'!A244),\"\",COUNTIF('Data Input'!C244:AQ244,\"0\"))","v":""},{"$f":"IF(ISBLANK('Data Input'!A244),\"\",SUM(B240,C240))","v":""},{"$f":"IF(ISBLANK('Data Input'!A244),\"\",SUM('Data Input'!C244:V244))","v":""},{"$f":"IF(ISBLANK('Data Input'!A244),\"\",SUM('Data Input'!X244:AQ244))","v":""},{"$f":"IF(ISBLANK('Data Input'!A244),\"\",SUM('Data Input'!C244:AQ244))","v":""},{"$f":"IF(G240=\"\",\"\",G240/(COUNTA('Data Input'!$C$8:$AQ$8)-1))","v":""},{"$f":"IF(ISBLANK('Data Input'!A244),\"\",SUM('Data Input'!C244,'Data Input'!K244,'Data Input'!L244,'Data Input'!AC244,'Data Input'!AF244,'Data Input'!AM244,'Data Input'!AO244))","v":""},{"$f":"IF(I240=\"\",\"\",I240/COUNTIF('Data Input'!$C$8:$AQ$8,$I$2))","v":""},{"$f":"IF(ISBLANK('Data Input'!A244),\"\",SUM('Data Input'!D244,'Data Input'!E244,'Data Input'!F244,'Data Input'!G244,'Data Input'!J244,'Data Input'!O244,'Data Input'!P244,'Data Input'!S244,'Data Input'!U244,'Data Input'!X244,'Data Input'!Z244,'Data Input'!AA244,'Data Input'!AB244,'Data Input'!AE244,'Data Input'!AG244,'Data Input'!AH244,'Data Input'!AJ244,'Data Input'!AK244,'Data Input'!AL244,'Data Input'!AN244))","v":""},{"$f":"IF(K240=\"\",\"\",K240/COUNTIF('Data Input'!$C$8:$AQ$8,$K$2))","v":""},{"$f":"IF(ISBLANK('Data Input'!A244),\"\",SUM('Data Input'!V244))","v":""},{"$f":"IF(M240=\"\",\"\",M240/COUNTIF('Data Input'!$C$8:$AQ$8,$M$2))","v":""},{"$f":"IF(ISBLANK('Data Input'!A244),\"\",SUM('Data Input'!H244,'Data Input'!I244,'Data Input'!M244,'Data Input'!N244,'Data Input'!Q244,'Data Input'!R244,'Data Input'!T244,'Data Input'!Y244,'Data Input'!AD244,'Data Input'!AI244,'Data Input'!AP244,'Data Input'!AQ244))","v":""},{"$f":"IF(O240=\"\",\"\",O240/COUNTIF('Data Input'!$C$8:$AQ$8,$O$2))","v":""}]
[{"$f":"IF('Data Input'!A245=0,\"\",'Data Input'!A245)","v":""},{"$f":"IF(ISBLANK('Data Input'!A245),\"\",COUNTIF('Data Input'!C245:AQ245,\"\")-1)","v":""},{"$f":"IF(ISBLANK('Data Input'!A245),\"\",COUNTIF('Data Input'!C245:AQ245,\"0\"))","v":""},{"$f":"IF(ISBLANK('Data Input'!A245),\"\",SUM(B241,C241))","v":""},{"$f":"IF(ISBLANK('Data Input'!A245),\"\",SUM('Data Input'!C245:V245))","v":""},{"$f":"IF(ISBLANK('Data Input'!A245),\"\",SUM('Data Input'!X245:AQ245))","v":""},{"$f":"IF(ISBLANK('Data Input'!A245),\"\",SUM('Data Input'!C245:AQ245))","v":""},{"$f":"IF(G241=\"\",\"\",G241/(COUNTA('Data Input'!$C$8:$AQ$8)-1))","v":""},{"$f":"IF(ISBLANK('Data Input'!A245),\"\",SUM('Data Input'!C245,'Data Input'!K245,'Data Input'!L245,'Data Input'!AC245,'Data Input'!AF245,'Data Input'!AM245,'Data Input'!AO245))","v":""},{"$f":"IF(I241=\"\",\"\",I241/COUNTIF('Data Input'!$C$8:$AQ$8,$I$2))","v":""},{"$f":"IF(ISBLANK('Data Input'!A245),\"\",SUM('Data Input'!D245,'Data Input'!E245,'Data Input'!F245,'Data Input'!G245,'Data Input'!J245,'Data Input'!O245,'Data Input'!P245,'Data Input'!S245,'Data Input'!U245,'Data Input'!X245,'Data Input'!Z245,'Data Input'!AA245,'Data Input'!AB245,'Data Input'!AE245,'Data Input'!AG245,'Data Input'!AH245,'Data Input'!AJ245,'Data Input'!AK245,'Data Input'!AL245,'Data Input'!AN245))","v":""},{"$f":"IF(K241=\"\",\"\",K241/COUNTIF('Data Input'!$C$8:$AQ$8,$K$2))","v":""},{"$f":"IF(ISBLANK('Data Input'!A245),\"\",SUM('Data Input'!V245))","v":""},{"$f":"IF(M241=\"\",\"\",M241/COUNTIF('Data Input'!$C$8:$AQ$8,$M$2))","v":""},{"$f":"IF(ISBLANK('Data Input'!A245),\"\",SUM('Data Input'!H245,'Data Input'!I245,'Data Input'!M245,'Data Input'!N245,'Data Input'!Q245,'Data Input'!R245,'Data Input'!T245,'Data Input'!Y245,'Data Input'!AD245,'Data Input'!AI245,'Data Input'!AP245,'Data Input'!AQ245))","v":""},{"$f":"IF(O241=\"\",\"\",O241/COUNTIF('Data Input'!$C$8:$AQ$8,$O$2))","v":""}]
[{"$f":"IF('Data Input'!A246=0,\"\",'Data Input'!A246)","v":""},{"$f":"IF(ISBLANK('Data Input'!A246),\"\",COUNTIF('Data Input'!C246:AQ246,\"\")-1)","v":""},{"$f":"IF(ISBLANK('Data Input'!A246),\"\",COUNTIF('Data Input'!C246:AQ246,\"0\"))","v":""},{"$f":"IF(ISBLANK('Data Input'!A246),\"\",SUM(B242,C242))","v":""},{"$f":"IF(ISBLANK('Data Input'!A246),\"\",SUM('Data Input'!C246:V246))","v":""},{"$f":"IF(ISBLANK('Data Input'!A246),\"\",SUM('Data Input'!X246:AQ246))","v":""},{"$f":"IF(ISBLANK('Data Input'!A246),\"\",SUM('Data Input'!C246:AQ246))","v":""},{"$f":"IF(G242=\"\",\"\",G242/(COUNTA('Data Input'!$C$8:$AQ$8)-1))","v":""},{"$f":"IF(ISBLANK('Data Input'!A246),\"\",SUM('Data Input'!C246,'Data Input'!K246,'Data Input'!L246,'Data Input'!AC246,'Data Input'!AF246,'Data Input'!AM246,'Data Input'!AO246))","v":""},{"$f":"IF(I242=\"\",\"\",I242/COUNTIF('Data Input'!$C$8:$AQ$8,$I$2))","v":""},{"$f":"IF(ISBLANK('Data Input'!A246),\"\",SUM('Data Input'!D246,'Data Input'!E246,'Data Input'!F246,'Data Input'!G246,'Data Input'!J246,'Data Input'!O246,'Data Input'!P246,'Data Input'!S246,'Data Input'!U246,'Data Input'!X246,'Data Input'!Z246,'Data Input'!AA246,'Data Input'!AB246,'Data Input'!AE246,'Data Input'!AG246,'Data Input'!AH246,'Data Input'!AJ246,'Data Input'!AK246,'Data Input'!AL246,'Data Input'!AN246))","v":""},{"$f":"IF(K242=\"\",\"\",K242/COUNTIF('Data Input'!$C$8:$AQ$8,$K$2))","v":""},{"$f":"IF(ISBLANK('Data Input'!A246),\"\",SUM('Data Input'!V246))","v":""},{"$f":"IF(M242=\"\",\"\",M242/COUNTIF('Data Input'!$C$8:$AQ$8,$M$2))","v":""},{"$f":"IF(ISBLANK('Data Input'!A246),\"\",SUM('Data Input'!H246,'Data Input'!I246,'Data Input'!M246,'Data Input'!N246,'Data Input'!Q246,'Data Input'!R246,'Data Input'!T246,'Data Input'!Y246,'Data Input'!AD246,'Data Input'!AI246,'Data Input'!AP246,'Data Input'!AQ246))","v":""},{"$f":"IF(O242=\"\",\"\",O242/COUNTIF('Data Input'!$C$8:$AQ$8,$O$2))","v":""}]
[{"$f":"IF('Data Input'!A247=0,\"\",'Data Input'!A247)","v":""},{"$f":"IF(ISBLANK('Data Input'!A247),\"\",COUNTIF('Data Input'!C247:AQ247,\"\")-1)","v":""},{"$f":"IF(ISBLANK('Data Input'!A247),\"\",COUNTIF('Data Input'!C247:AQ247,\"0\"))","v":""},{"$f":"IF(ISBLANK('Data Input'!A247),\"\",SUM(B243,C243))","v":""},{"$f":"IF(ISBLANK('Data Input'!A247),\"\",SUM('Data Input'!C247:V247))","v":""},{"$f":"IF(ISBLANK('Data Input'!A247),\"\",SUM('Data Input'!X247:AQ247))","v":""},{"$f":"IF(ISBLANK('Data Input'!A247),\"\",SUM('Data Input'!C247:AQ247))","v":""},{"$f":"IF(G243=\"\",\"\",G243/(COUNTA('Data Input'!$C$8:$AQ$8)-1))","v":""},{"$f":"IF(ISBLANK('Data Input'!A247),\"\",SUM('Data Input'!C247,'Data Input'!K247,'Data Input'!L247,'Data Input'!AC247,'Data Input'!AF247,'Data Input'!AM247,'Data Input'!AO247))","v":""},{"$f":"IF(I243=\"\",\"\",I243/COUNTIF('Data Input'!$C$8:$AQ$8,$I$2))","v":""},{"$f":"IF(ISBLANK('Data Input'!A247),\"\",SUM('Data Input'!D247,'Data Input'!E247,'Data Input'!F247,'Data Input'!G247,'Data Input'!J247,'Data Input'!O247,'Data Input'!P247,'Data Input'!S247,'Data Input'!U247,'Data Input'!X247,'Data Input'!Z247,'Data Input'!AA247,'Data Input'!AB247,'Data Input'!AE247,'Data Input'!AG247,'Data Input'!AH247,'Data Input'!AJ247,'Data Input'!AK247,'Data Input'!AL247,'Data Input'!AN247))","v":""},{"$f":"IF(K243=\"\",\"\",K243/COUNTIF('Data Input'!$C$8:$AQ$8,$K$2))","v":""},{"$f":"IF(ISBLANK('Data Input'!A247),\"\",SUM('Data Input'!V247))","v":""},{"$f":"IF(M243=\"\",\"\",M243/COUNTIF('Data Input'!$C$8:$AQ$8,$M$2))","v":""},{"$f":"IF(ISBLANK('Data Input'!A247),\"\",SUM('Data Input'!H247,'Data Input'!I247,'Data Input'!M247,'Data Input'!N247,'Data Input'!Q247,'Data Input'!R247,'Data Input'!T247,'Data Input'!Y247,'Data Input'!AD247,'Data Input'!AI247,'Data Input'!AP247,'Data Input'!AQ247))","v":""},{"$f":"IF(O243=\"\",\"\",O243/COUNTIF('Data Input'!$C$8:$AQ$8,$O$2))","v":""}]
[{"$f":"IF('Data Input'!A248=0,\"\",'Data Input'!A248)","v":""},{"$f":"IF(ISBLANK('Data Input'!A248),\"\",COUNTIF('Data Input'!C248:AQ248,\"\")-1)","v":""},{"$f":"IF(ISBLANK('Data Input'!A248),\"\",COUNTIF('Data Input'!C248:AQ248,\"0\"))","v":""},{"$f":"IF(ISBLANK('Data Input'!A248),\"\",SUM(B244,C244))","v":""},{"$f":"IF(ISBLANK('Data Input'!A248),\"\",SUM('Data Input'!C248:V248))","v":""},{"$f":"IF(ISBLANK('Data Input'!A248),\"\",SUM('Data Input'!X248:AQ248))","v":""},{"$f":"IF(ISBLANK('Data Input'!A248),\"\",SUM('Data Input'!C248:AQ248))","v":""},{"$f":"IF(G244=\"\",\"\",G244/(COUNTA('Data Input'!$C$8:$AQ$8)-1))","v":""},{"$f":"IF(ISBLANK('Data Input'!A248),\"\",SUM('Data Input'!C248,'Data Input'!K248,'Data Input'!L248,'Data Input'!AC248,'Data Input'!AF248,'Data Input'!AM248,'Data Input'!AO248))","v":""},{"$f":"IF(I244=\"\",\"\",I244/COUNTIF('Data Input'!$C$8:$AQ$8,$I$2))","v":""},{"$f":"IF(ISBLANK('Data Input'!A248),\"\",SUM('Data Input'!D248,'Data Input'!E248,'Data Input'!F248,'Data Input'!G248,'Data Input'!J248,'Data Input'!O248,'Data Input'!P248,'Data Input'!S248,'Data Input'!U248,'Data Input'!X248,'Data Input'!Z248,'Data Input'!AA248,'Data Input'!AB248,'Data Input'!AE248,'Data Input'!AG248,'Data Input'!AH248,'Data Input'!AJ248,'Data Input'!AK248,'Data Input'!AL248,'Data Input'!AN248))","v":""},{"$f":"IF(K244=\"\",\"\",K244/COUNTIF('Data Input'!$C$8:$AQ$8,$K$2))","v":""},{"$f":"IF(ISBLANK('Data Input'!A248),\"\",SUM('Data Input'!V248))","v":""},{"$f":"IF(M244=\"\",\"\",M244/COUNTIF('Data Input'!$C$8:$AQ$8,$M$2))","v":""},{"$f":"IF(ISBLANK('Data Input'!A248),\"\",SUM('Data Input'!H248,'Data Input'!I248,'Data Input'!M248,'Data Input'!N248,'Data Input'!Q248,'Data Input'!R248,'Data Input'!T248,'Data Input'!Y248,'Data Input'!AD248,'Data Input'!AI248,'Data Input'!AP248,'Data Input'!AQ248))","v":""},{"$f":"IF(O244=\"\",\"\",O244/COUNTIF('Data Input'!$C$8:$AQ$8,$O$2))","v":""}]
[{"$f":"IF('Data Input'!A249=0,\"\",'Data Input'!A249)","v":""},{"$f":"IF(ISBLANK('Data Input'!A249),\"\",COUNTIF('Data Input'!C249:AQ249,\"\")-1)","v":""},{"$f":"IF(ISBLANK('Data Input'!A249),\"\",COUNTIF('Data Input'!C249:AQ249,\"0\"))","v":""},{"$f":"IF(ISBLANK('Data Input'!A249),\"\",SUM(B245,C245))","v":""},{"$f":"IF(ISBLANK('Data Input'!A249),\"\",SUM('Data Input'!C249:V249))","v":""},{"$f":"IF(ISBLANK('Data Input'!A249),\"\",SUM('Data Input'!X249:AQ249))","v":""},{"$f":"IF(ISBLANK('Data Input'!A249),\"\",SUM('Data Input'!C249:AQ249))","v":""},{"$f":"IF(G245=\"\",\"\",G245/(COUNTA('Data Input'!$C$8:$AQ$8)-1))","v":""},{"$f":"IF(ISBLANK('Data Input'!A249),\"\",SUM('Data Input'!C249,'Data Input'!K249,'Data Input'!L249,'Data Input'!AC249,'Data Input'!AF249,'Data Input'!AM249,'Data Input'!AO249))","v":""},{"$f":"IF(I245=\"\",\"\",I245/COUNTIF('Data Input'!$C$8:$AQ$8,$I$2))","v":""},{"$f":"IF(ISBLANK('Data Input'!A249),\"\",SUM('Data Input'!D249,'Data Input'!E249,'Data Input'!F249,'Data Input'!G249,'Data Input'!J249,'Data Input'!O249,'Data Input'!P249,'Data Input'!S249,'Data Input'!U249,'Data Input'!X249,'Data Input'!Z249,'Data Input'!AA249,'Data Input'!AB249,'Data Input'!AE249,'Data Input'!AG249,'Data Input'!AH249,'Data Input'!AJ249,'Data Input'!AK249,'Data Input'!AL249,'Data Input'!AN249))","v":""},{"$f":"IF(K245=\"\",\"\",K245/COUNTIF('Data Input'!$C$8:$AQ$8,$K$2))","v":""},{"$f":"IF(ISBLANK('Data Input'!A249),\"\",SUM('Data Input'!V249))","v":""},{"$f":"IF(M245=\"\",\"\",M245/COUNTIF('Data Input'!$C$8:$AQ$8,$M$2))","v":""},{"$f":"IF(ISBLANK('Data Input'!A249),\"\",SUM('Data Input'!H249,'Data Input'!I249,'Data Input'!M249,'Data Input'!N249,'Data Input'!Q249,'Data Input'!R249,'Data Input'!T249,'Data Input'!Y249,'Data Input'!AD249,'Data Input'!AI249,'Data Input'!AP249,'Data Input'!AQ249))","v":""},{"$f":"IF(O245=\"\",\"\",O245/COUNTIF('Data Input'!$C$8:$AQ$8,$O$2))","v":""}]
[{"$f":"IF('Data Input'!A250=0,\"\",'Data Input'!A250)","v":""},{"$f":"IF(ISBLANK('Data Input'!A250),\"\",COUNTIF('Data Input'!C250:AQ250,\"\")-1)","v":""},{"$f":"IF(ISBLANK('Data Input'!A250),\"\",COUNTIF('Data Input'!C250:AQ250,\"0\"))","v":""},{"$f":"IF(ISBLANK('Data Input'!A250),\"\",SUM(B246,C246))","v":""},{"$f":"IF(ISBLANK('Data Input'!A250),\"\",SUM('Data Input'!C250:V250))","v":""},{"$f":"IF(ISBLANK('Data Input'!A250),\"\",SUM('Data Input'!X250:AQ250))","v":""},{"$f":"IF(ISBLANK('Data Input'!A250),\"\",SUM('Data Input'!C250:AQ250))","v":""},{"$f":"IF(G246=\"\",\"\",G246/(COUNTA('Data Input'!$C$8:$AQ$8)-1))","v":""},{"$f":"IF(ISBLANK('Data Input'!A250),\"\",SUM('Data Input'!C250,'Data Input'!K250,'Data Input'!L250,'Data Input'!AC250,'Data Input'!AF250,'Data Input'!AM250,'Data Input'!AO250))","v":""},{"$f":"IF(I246=\"\",\"\",I246/COUNTIF('Data Input'!$C$8:$AQ$8,$I$2))","v":""},{"$f":"IF(ISBLANK('Data Input'!A250),\"\",SUM('Data Input'!D250,'Data Input'!E250,'Data Input'!F250,'Data Input'!G250,'Data Input'!J250,'Data Input'!O250,'Data Input'!P250,'Data Input'!S250,'Data Input'!U250,'Data Input'!X250,'Data Input'!Z250,'Data Input'!AA250,'Data Input'!AB250,'Data Input'!AE250,'Data Input'!AG250,'Data Input'!AH250,'Data Input'!AJ250,'Data Input'!AK250,'Data Input'!AL250,'Data Input'!AN250))","v":""},{"$f":"IF(K246=\"\",\"\",K246/COUNTIF('Data Input'!$C$8:$AQ$8,$K$2))","v":""},{"$f":"IF(ISBLANK('Data Input'!A250),\"\",SUM('Data Input'!V250))","v":""},{"$f":"IF(M246=\"\",\"\",M246/COUNTIF('Data Input'!$C$8:$AQ$8,$M$2))","v":""},{"$f":"IF(ISBLANK('Data Input'!A250),\"\",SUM('Data Input'!H250,'Data Input'!I250,'Data Input'!M250,'Data Input'!N250,'Data Input'!Q250,'Data Input'!R250,'Data Input'!T250,'Data Input'!Y250,'Data Input'!AD250,'Data Input'!AI250,'Data Input'!AP250,'Data Input'!AQ250))","v":""},{"$f":"IF(O246=\"\",\"\",O246/COUNTIF('Data Input'!$C$8:$AQ$8,$O$2))","v":""}]
[{"$f":"IF('Data Input'!A251=0,\"\",'Data Input'!A251)","v":""},{"$f":"IF(ISBLANK('Data Input'!A251),\"\",COUNTIF('Data Input'!C251:AQ251,\"\")-1)","v":""},{"$f":"IF(ISBLANK('Data Input'!A251),\"\",COUNTIF('Data Input'!C251:AQ251,\"0\"))","v":""},{"$f":"IF(ISBLANK('Data Input'!A251),\"\",SUM(B247,C247))","v":""},{"$f":"IF(ISBLANK('Data Input'!A251),\"\",SUM('Data Input'!C251:V251))","v":""},{"$f":"IF(ISBLANK('Data Input'!A251),\"\",SUM('Data Input'!X251:AQ251))","v":""},{"$f":"IF(ISBLANK('Data Input'!A251),\"\",SUM('Data Input'!C251:AQ251))","v":""},{"$f":"IF(G247=\"\",\"\",G247/(COUNTA('Data Input'!$C$8:$AQ$8)-1))","v":""},{"$f":"IF(ISBLANK('Data Input'!A251),\"\",SUM('Data Input'!C251,'Data Input'!K251,'Data Input'!L251,'Data Input'!AC251,'Data Input'!AF251,'Data Input'!AM251,'Data Input'!AO251))","v":""},{"$f":"IF(I247=\"\",\"\",I247/COUNTIF('Data Input'!$C$8:$AQ$8,$I$2))","v":""},{"$f":"IF(ISBLANK('Data Input'!A251),\"\",SUM('Data Input'!D251,'Data Input'!E251,'Data Input'!F251,'Data Input'!G251,'Data Input'!J251,'Data Input'!O251,'Data Input'!P251,'Data Input'!S251,'Data Input'!U251,'Data Input'!X251,'Data Input'!Z251,'Data Input'!AA251,'Data Input'!AB251,'Data Input'!AE251,'Data Input'!AG251,'Data Input'!AH251,'Data Input'!AJ251,'Data Input'!AK251,'Data Input'!AL251,'Data Input'!AN251))","v":""},{"$f":"IF(K247=\"\",\"\",K247/COUNTIF('Data Input'!$C$8:$AQ$8,$K$2))","v":""},{"$f":"IF(ISBLANK('Data Input'!A251),\"\",SUM('Data Input'!V251))","v":""},{"$f":"IF(M247=\"\",\"\",M247/COUNTIF('Data Input'!$C$8:$AQ$8,$M$2))","v":""},{"$f":"IF(ISBLANK('Data Input'!A251),\"\",SUM('Data Input'!H251,'Data Input'!I251,'Data Input'!M251,'Data Input'!N251,'Data Input'!Q251,'Data Input'!R251,'Data Input'!T251,'Data Input'!Y251,'Data Input'!AD251,'Data Input'!AI251,'Data Input'!AP251,'Data Input'!AQ251))","v":""},{"$f":"IF(O247=\"\",\"\",O247/COUNTIF('Data Input'!$C$8:$AQ$8,$O$2))","v":""}]
[{"$f":"IF('Data Input'!A252=0,\"\",'Data Input'!A252)","v":""},{"$f":"IF(ISBLANK('Data Input'!A252),\"\",COUNTIF('Data Input'!C252:AQ252,\"\")-1)","v":""},{"$f":"IF(ISBLANK('Data Input'!A252),\"\",COUNTIF('Data Input'!C252:AQ252,\"0\"))","v":""},{"$f":"IF(ISBLANK('Data Input'!A252),\"\",SUM(B248,C248))","v":""},{"$f":"IF(ISBLANK('Data Input'!A252),\"\",SUM('Data Input'!C252:V252))","v":""},{"$f":"IF(ISBLANK('Data Input'!A252),\"\",SUM('Data Input'!X252:AQ252))","v":""},{"$f":"IF(ISBLANK('Data Input'!A252),\"\",SUM('Data Input'!C252:AQ252))","v":""},{"$f":"IF(G248=\"\",\"\",G248/(COUNTA('Data Input'!$C$8:$AQ$8)-1))","v":""},{"$f":"IF(ISBLANK('Data Input'!A252),\"\",SUM('Data Input'!C252,'Data Input'!K252,'Data Input'!L252,'Data Input'!AC252,'Data Input'!AF252,'Data Input'!AM252,'Data Input'!AO252))","v":""},{"$f":"IF(I248=\"\",\"\",I248/COUNTIF('Data Input'!$C$8:$AQ$8,$I$2))","v":""},{"$f":"IF(ISBLANK('Data Input'!A252),\"\",SUM('Data Input'!D252,'Data Input'!E252,'Data Input'!F252,'Data Input'!G252,'Data Input'!J252,'Data Input'!O252,'Data Input'!P252,'Data Input'!S252,'Data Input'!U252,'Data Input'!X252,'Data Input'!Z252,'Data Input'!AA252,'Data Input'!AB252,'Data Input'!AE252,'Data Input'!AG252,'Data Input'!AH252,'Data Input'!AJ252,'Data Input'!AK252,'Data Input'!AL252,'Data Input'!AN252))","v":""},{"$f":"IF(K248=\"\",\"\",K248/COUNTIF('Data Input'!$C$8:$AQ$8,$K$2))","v":""},{"$f":"IF(ISBLANK('Data Input'!A252),\"\",SUM('Data Input'!V252))","v":""},{"$f":"IF(M248=\"\",\"\",M248/COUNTIF('Data Input'!$C$8:$AQ$8,$M$2))","v":""},{"$f":"IF(ISBLANK('Data Input'!A252),\"\",SUM('Data Input'!H252,'Data Input'!I252,'Data Input'!M252,'Data Input'!N252,'Data Input'!Q252,'Data Input'!R252,'Data Input'!T252,'Data Input'!Y252,'Data Input'!AD252,'Data Input'!AI252,'Data Input'!AP252,'Data Input'!AQ252))","v":""},{"$f":"IF(O248=\"\",\"\",O248/COUNTIF('Data Input'!$C$8:$AQ$8,$O$2))","v":""}]
[{"$f":"IF('Data Input'!A253=0,\"\",'Data Input'!A253)","v":""},{"$f":"IF(ISBLANK('Data Input'!A253),\"\",COUNTIF('Data Input'!C253:AQ253,\"\")-1)","v":""},{"$f":"IF(ISBLANK('Data Input'!A253),\"\",COUNTIF('Data Input'!C253:AQ253,\"0\"))","v":""},{"$f":"IF(ISBLANK('Data Input'!A253),\"\",SUM(B249,C249))","v":""},{"$f":"IF(ISBLANK('Data Input'!A253),\"\",SUM('Data Input'!C253:V253))","v":""},{"$f":"IF(ISBLANK('Data Input'!A253),\"\",SUM('Data Input'!X253:AQ253))","v":""},{"$f":"IF(ISBLANK('Data Input'!A253),\"\",SUM('Data Input'!C253:AQ253))","v":""},{"$f":"IF(G249=\"\",\"\",G249/(COUNTA('Data Input'!$C$8:$AQ$8)-1))","v":""},{"$f":"IF(ISBLANK('Data Input'!A253),\"\",SUM('Data Input'!C253,'Data Input'!K253,'Data Input'!L253,'Data Input'!AC253,'Data Input'!AF253,'Data Input'!AM253,'Data Input'!AO253))","v":""},{"$f":"IF(I249=\"\",\"\",I249/COUNTIF('Data Input'!$C$8:$AQ$8,$I$2))","v":""},{"$f":"IF(ISBLANK('Data Input'!A253),\"\",SUM('Data Input'!D253,'Data Input'!E253,'Data Input'!F253,'Data Input'!G253,'Data Input'!J253,'Data Input'!O253,'Data Input'!P253,'Data Input'!S253,'Data Input'!U253,'Data Input'!X253,'Data Input'!Z253,'Data Input'!AA253,'Data Input'!AB253,'Data Input'!AE253,'Data Input'!AG253,'Data Input'!AH253,'Data Input'!AJ253,'Data Input'!AK253,'Data Input'!AL253,'Data Input'!AN253))","v":""},{"$f":"IF(K249=\"\",\"\",K249/COUNTIF('Data Input'!$C$8:$AQ$8,$K$2))","v":""},{"$f":"IF(ISBLANK('Data Input'!A253),\"\",SUM('Data Input'!V253))","v":""},{"$f":"IF(M249=\"\",\"\",M249/COUNTIF('Data Input'!$C$8:$AQ$8,$M$2))","v":""},{"$f":"IF(ISBLANK('Data Input'!A253),\"\",SUM('Data Input'!H253,'Data Input'!I253,'Data Input'!M253,'Data Input'!N253,'Data Input'!Q253,'Data Input'!R253,'Data Input'!T253,'Data Input'!Y253,'Data Input'!AD253,'Data Input'!AI253,'Data Input'!AP253,'Data Input'!AQ253))","v":""},{"$f":"IF(O249=\"\",\"\",O249/COUNTIF('Data Input'!$C$8:$AQ$8,$O$2))","v":""}]
[{"$f":"IF('Data Input'!A254=0,\"\",'Data Input'!A254)","v":""},{"$f":"IF(ISBLANK('Data Input'!A254),\"\",COUNTIF('Data Input'!C254:AQ254,\"\")-1)","v":""},{"$f":"IF(ISBLANK('Data Input'!A254),\"\",COUNTIF('Data Input'!C254:AQ254,\"0\"))","v":""},{"$f":"IF(ISBLANK('Data Input'!A254),\"\",SUM(B250,C250))","v":""},{"$f":"IF(ISBLANK('Data Input'!A254),\"\",SUM('Data Input'!C254:V254))","v":""},{"$f":"IF(ISBLANK('Data Input'!A254),\"\",SUM('Data Input'!X254:AQ254))","v":""},{"$f":"IF(ISBLANK('Data Input'!A254),\"\",SUM('Data Input'!C254:AQ254))","v":""},{"$f":"IF(G250=\"\",\"\",G250/(COUNTA('Data Input'!$C$8:$AQ$8)-1))","v":""},{"$f":"IF(ISBLANK('Data Input'!A254),\"\",SUM('Data Input'!C254,'Data Input'!K254,'Data Input'!L254,'Data Input'!AC254,'Data Input'!AF254,'Data Input'!AM254,'Data Input'!AO254))","v":""},{"$f":"IF(I250=\"\",\"\",I250/COUNTIF('Data Input'!$C$8:$AQ$8,$I$2))","v":""},{"$f":"IF(ISBLANK('Data Input'!A254),\"\",SUM('Data Input'!D254,'Data Input'!E254,'Data Input'!F254,'Data Input'!G254,'Data Input'!J254,'Data Input'!O254,'Data Input'!P254,'Data Input'!S254,'Data Input'!U254,'Data Input'!X254,'Data Input'!Z254,'Data Input'!AA254,'Data Input'!AB254,'Data Input'!AE254,'Data Input'!AG254,'Data Input'!AH254,'Data Input'!AJ254,'Data Input'!AK254,'Data Input'!AL254,'Data Input'!AN254))","v":""},{"$f":"IF(K250=\"\",\"\",K250/COUNTIF('Data Input'!$C$8:$AQ$8,$K$2))","v":""},{"$f":"IF(ISBLANK('Data Input'!A254),\"\",SUM('Data Input'!V254))","v":""},{"$f":"IF(M250=\"\",\"\",M250/COUNTIF('Data Input'!$C$8:$AQ$8,$M$2))","v":""},{"$f":"IF(ISBLANK('Data Input'!A254),\"\",SUM('Data Input'!H254,'Data Input'!I254,'Data Input'!M254,'Data Input'!N254,'Data Input'!Q254,'Data Input'!R254,'Data Input'!T254,'Data Input'!Y254,'Data Input'!AD254,'Data Input'!AI254,'Data Input'!AP254,'Data Input'!AQ254))","v":""},{"$f":"IF(O250=\"\",\"\",O250/COUNTIF('Data Input'!$C$8:$AQ$8,$O$2))","v":""}]
[{"$f":"IF('Data Input'!A255=0,\"\",'Data Input'!A255)","v":""},{"$f":"IF(ISBLANK('Data Input'!A255),\"\",COUNTIF('Data Input'!C255:AQ255,\"\")-1)","v":""},{"$f":"IF(ISBLANK('Data Input'!A255),\"\",COUNTIF('Data Input'!C255:AQ255,\"0\"))","v":""},{"$f":"IF(ISBLANK('Data Input'!A255),\"\",SUM(B251,C251))","v":""},{"$f":"IF(ISBLANK('Data Input'!A255),\"\",SUM('Data Input'!C255:V255))","v":""},{"$f":"IF(ISBLANK('Data Input'!A255),\"\",SUM('Data Input'!X255:AQ255))","v":""},{"$f":"IF(ISBLANK('Data Input'!A255),\"\",SUM('Data Input'!C255:AQ255))","v":""},{"$f":"IF(G251=\"\",\"\",G251/(COUNTA('Data Input'!$C$8:$AQ$8)-1))","v":""},{"$f":"IF(ISBLANK('Data Input'!A255),\"\",SUM('Data Input'!C255,'Data Input'!K255,'Data Input'!L255,'Data Input'!AC255,'Data Input'!AF255,'Data Input'!AM255,'Data Input'!AO255))","v":""},{"$f":"IF(I251=\"\",\"\",I251/COUNTIF('Data Input'!$C$8:$AQ$8,$I$2))","v":""},{"$f":"IF(ISBLANK('Data Input'!A255),\"\",SUM('Data Input'!D255,'Data Input'!E255,'Data Input'!F255,'Data Input'!G255,'Data Input'!J255,'Data Input'!O255,'Data Input'!P255,'Data Input'!S255,'Data Input'!U255,'Data Input'!X255,'Data Input'!Z255,'Data Input'!AA255,'Data Input'!AB255,'Data Input'!AE255,'Data Input'!AG255,'Data Input'!AH255,'Data Input'!AJ255,'Data Input'!AK255,'Data Input'!AL255,'Data Input'!AN255))","v":""},{"$f":"IF(K251=\"\",\"\",K251/COUNTIF('Data Input'!$C$8:$AQ$8,$K$2))","v":""},{"$f":"IF(ISBLANK('Data Input'!A255),\"\",SUM('Data Input'!V255))","v":""},{"$f":"IF(M251=\"\",\"\",M251/COUNTIF('Data Input'!$C$8:$AQ$8,$M$2))","v":""},{"$f":"IF(ISBLANK('Data Input'!A255),\"\",SUM('Data Input'!H255,'Data Input'!I255,'Data Input'!M255,'Data Input'!N255,'Data Input'!Q255,'Data Input'!R255,'Data Input'!T255,'Data Input'!Y255,'Data Input'!AD255,'Data Input'!AI255,'Data Input'!AP255,'Data Input'!AQ255))","v":""},{"$f":"IF(O251=\"\",\"\",O251/COUNTIF('Data Input'!$C$8:$AQ$8,$O$2))","v":""}]
[{"$f":"IF('Data Input'!A256=0,\"\",'Data Input'!A256)","v":""},{"$f":"IF(ISBLANK('Data Input'!A256),\"\",COUNTIF('Data Input'!C256:AQ256,\"\")-1)","v":""},{"$f":"IF(ISBLANK('Data Input'!A256),\"\",COUNTIF('Data Input'!C256:AQ256,\"0\"))","v":""},{"$f":"IF(ISBLANK('Data Input'!A256),\"\",SUM(B252,C252))","v":""},{"$f":"IF(ISBLANK('Data Input'!A256),\"\",SUM('Data Input'!C256:V256))","v":""},{"$f":"IF(ISBLANK('Data Input'!A256),\"\",SUM('Data Input'!X256:AQ256))","v":""},{"$f":"IF(ISBLANK('Data Input'!A256),\"\",SUM('Data Input'!C256:AQ256))","v":""},{"$f":"IF(G252=\"\",\"\",G252/(COUNTA('Data Input'!$C$8:$AQ$8)-1))","v":""},{"$f":"IF(ISBLANK('Data Input'!A256),\"\",SUM('Data Input'!C256,'Data Input'!K256,'Data Input'!L256,'Data Input'!AC256,'Data Input'!AF256,'Data Input'!AM256,'Data Input'!AO256))","v":""},{"$f":"IF(I252=\"\",\"\",I252/COUNTIF('Data Input'!$C$8:$AQ$8,$I$2))","v":""},{"$f":"IF(ISBLANK('Data Input'!A256),\"\",SUM('Data Input'!D256,'Data Input'!E256,'Data Input'!F256,'Data Input'!G256,'Data Input'!J256,'Data Input'!O256,'Data Input'!P256,'Data Input'!S256,'Data Input'!U256,'Data Input'!X256,'Data Input'!Z256,'Data Input'!AA256,'Data Input'!AB256,'Data Input'!AE256,'Data Input'!AG256,'Data Input'!AH256,'Data Input'!AJ256,'Data Input'!AK256,'Data Input'!AL256,'Data Input'!AN256))","v":""},{"$f":"IF(K252=\"\",\"\",K252/COUNTIF('Data Input'!$C$8:$AQ$8,$K$2))","v":""},{"$f":"IF(ISBLANK('Data Input'!A256),\"\",SUM('Data Input'!V256))","v":""},{"$f":"IF(M252=\"\",\"\",M252/COUNTIF('Data Input'!$C$8:$AQ$8,$M$2))","v":""},{"$f":"IF(ISBLANK('Data Input'!A256),\"\",SUM('Data Input'!H256,'Data Input'!I256,'Data Input'!M256,'Data Input'!N256,'Data Input'!Q256,'Data Input'!R256,'Data Input'!T256,'Data Input'!Y256,'Data Input'!AD256,'Data Input'!AI256,'Data Input'!AP256,'Data Input'!AQ256))","v":""},{"$f":"IF(O252=\"\",\"\",O252/COUNTIF('Data Input'!$C$8:$AQ$8,$O$2))","v":""}]
[{"$f":"IF('Data Input'!A257=0,\"\",'Data Input'!A257)","v":""},{"$f":"IF(ISBLANK('Data Input'!A257),\"\",COUNTIF('Data Input'!C257:AQ257,\"\")-1)","v":""},{"$f":"IF(ISBLANK('Data Input'!A257),\"\",COUNTIF('Data Input'!C257:AQ257,\"0\"))","v":""},{"$f":"IF(ISBLANK('Data Input'!A257),\"\",SUM(B253,C253))","v":""},{"$f":"IF(ISBLANK('Data Input'!A257),\"\",SUM('Data Input'!C257:V257))","v":""},{"$f":"IF(ISBLANK('Data Input'!A257),\"\",SUM('Data Input'!X257:AQ257))","v":""},{"$f":"IF(ISBLANK('Data Input'!A257),\"\",SUM('Data Input'!C257:AQ257))","v":""},{"$f":"IF(G253=\"\",\"\",G253/(COUNTA('Data Input'!$C$8:$AQ$8)-1))","v":""},{"$f":"IF(ISBLANK('Data Input'!A257),\"\",SUM('Data Input'!C257,'Data Input'!K257,'Data Input'!L257,'Data Input'!AC257,'Data Input'!AF257,'Data Input'!AM257,'Data Input'!AO257))","v":""},{"$f":"IF(I253=\"\",\"\",I253/COUNTIF('Data Input'!$C$8:$AQ$8,$I$2))","v":""},{"$f":"IF(ISBLANK('Data Input'!A257),\"\",SUM('Data Input'!D257,'Data Input'!E257,'Data Input'!F257,'Data Input'!G257,'Data Input'!J257,'Data Input'!O257,'Data Input'!P257,'Data Input'!S257,'Data Input'!U257,'Data Input'!X257,'Data Input'!Z257,'Data Input'!AA257,'Data Input'!AB257,'Data Input'!AE257,'Data Input'!AG257,'Data Input'!AH257,'Data Input'!AJ257,'Data Input'!AK257,'Data Input'!AL257,'Data Input'!AN257))","v":""},{"$f":"IF(K253=\"\",\"\",K253/COUNTIF('Data Input'!$C$8:$AQ$8,$K$2))","v":""},{"$f":"IF(ISBLANK('Data Input'!A257),\"\",SUM('Data Input'!V257))","v":""},{"$f":"IF(M253=\"\",\"\",M253/COUNTIF('Data Input'!$C$8:$AQ$8,$M$2))","v":""},{"$f":"IF(ISBLANK('Data Input'!A257),\"\",SUM('Data Input'!H257,'Data Input'!I257,'Data Input'!M257,'Data Input'!N257,'Data Input'!Q257,'Data Input'!R257,'Data Input'!T257,'Data Input'!Y257,'Data Input'!AD257,'Data Input'!AI257,'Data Input'!AP257,'Data Input'!AQ257))","v":""},{"$f":"IF(O253=\"\",\"\",O253/COUNTIF('Data Input'!$C$8:$AQ$8,$O$2))","v":""}]
[{"$f":"IF('Data Input'!A258=0,\"\",'Data Input'!A258)","v":""},{"$f":"IF(ISBLANK('Data Input'!A258),\"\",COUNTIF('Data Input'!C258:AQ258,\"\")-1)","v":""},{"$f":"IF(ISBLANK('Data Input'!A258),\"\",COUNTIF('Data Input'!C258:AQ258,\"0\"))","v":""},{"$f":"IF(ISBLANK('Data Input'!A258),\"\",SUM(B254,C254))","v":""},{"$f":"IF(ISBLANK('Data Input'!A258),\"\",SUM('Data Input'!C258:V258))","v":""},{"$f":"IF(ISBLANK('Data Input'!A258),\"\",SUM('Data Input'!X258:AQ258))","v":""},{"$f":"IF(ISBLANK('Data Input'!A258),\"\",SUM('Data Input'!C258:AQ258))","v":""},{"$f":"IF(G254=\"\",\"\",G254/(COUNTA('Data Input'!$C$8:$AQ$8)-1))","v":""},{"$f":"IF(ISBLANK('Data Input'!A258),\"\",SUM('Data Input'!C258,'Data Input'!K258,'Data Input'!L258,'Data Input'!AC258,'Data Input'!AF258,'Data Input'!AM258,'Data Input'!AO258))","v":""},{"$f":"IF(I254=\"\",\"\",I254/COUNTIF('Data Input'!$C$8:$AQ$8,$I$2))","v":""},{"$f":"IF(ISBLANK('Data Input'!A258),\"\",SUM('Data Input'!D258,'Data Input'!E258,'Data Input'!F258,'Data Input'!G258,'Data Input'!J258,'Data Input'!O258,'Data Input'!P258,'Data Input'!S258,'Data Input'!U258,'Data Input'!X258,'Data Input'!Z258,'Data Input'!AA258,'Data Input'!AB258,'Data Input'!AE258,'Data Input'!AG258,'Data Input'!AH258,'Data Input'!AJ258,'Data Input'!AK258,'Data Input'!AL258,'Data Input'!AN258))","v":""},{"$f":"IF(K254=\"\",\"\",K254/COUNTIF('Data Input'!$C$8:$AQ$8,$K$2))","v":""},{"$f":"IF(ISBLANK('Data Input'!A258),\"\",SUM('Data Input'!V258))","v":""},{"$f":"IF(M254=\"\",\"\",M254/COUNTIF('Data Input'!$C$8:$AQ$8,$M$2))","v":""},{"$f":"IF(ISBLANK('Data Input'!A258),\"\",SUM('Data Input'!H258,'Data Input'!I258,'Data Input'!M258,'Data Input'!N258,'Data Input'!Q258,'Data Input'!R258,'Data Input'!T258,'Data Input'!Y258,'Data Input'!AD258,'Data Input'!AI258,'Data Input'!AP258,'Data Input'!AQ258))","v":""},{"$f":"IF(O254=\"\",\"\",O254/COUNTIF('Data Input'!$C$8:$AQ$8,$O$2))","v":""}]
[{"$f":"IF('Data Input'!A259=0,\"\",'Data Input'!A259)","v":""},{"$f":"IF(ISBLANK('Data Input'!A259),\"\",COUNTIF('Data Input'!C259:AQ259,\"\")-1)","v":""},{"$f":"IF(ISBLANK('Data Input'!A259),\"\",COUNTIF('Data Input'!C259:AQ259,\"0\"))","v":""},{"$f":"IF(ISBLANK('Data Input'!A259),\"\",SUM(B255,C255))","v":""},{"$f":"IF(ISBLANK('Data Input'!A259),\"\",SUM('Data Input'!C259:V259))","v":""},{"$f":"IF(ISBLANK('Data Input'!A259),\"\",SUM('Data Input'!X259:AQ259))","v":""},{"$f":"IF(ISBLANK('Data Input'!A259),\"\",SUM('Data Input'!C259:AQ259))","v":""},{"$f":"IF(G255=\"\",\"\",G255/(COUNTA('Data Input'!$C$8:$AQ$8)-1))","v":""},{"$f":"IF(ISBLANK('Data Input'!A259),\"\",SUM('Data Input'!C259,'Data Input'!K259,'Data Input'!L259,'Data Input'!AC259,'Data Input'!AF259,'Data Input'!AM259,'Data Input'!AO259))","v":""},{"$f":"IF(I255=\"\",\"\",I255/COUNTIF('Data Input'!$C$8:$AQ$8,$I$2))","v":""},{"$f":"IF(ISBLANK('Data Input'!A259),\"\",SUM('Data Input'!D259,'Data Input'!E259,'Data Input'!F259,'Data Input'!G259,'Data Input'!J259,'Data Input'!O259,'Data Input'!P259,'Data Input'!S259,'Data Input'!U259,'Data Input'!X259,'Data Input'!Z259,'Data Input'!AA259,'Data Input'!AB259,'Data Input'!AE259,'Data Input'!AG259,'Data Input'!AH259,'Data Input'!AJ259,'Data Input'!AK259,'Data Input'!AL259,'Data Input'!AN259))","v":""},{"$f":"IF(K255=\"\",\"\",K255/COUNTIF('Data Input'!$C$8:$AQ$8,$K$2))","v":""},{"$f":"IF(ISBLANK('Data Input'!A259),\"\",SUM('Data Input'!V259))","v":""},{"$f":"IF(M255=\"\",\"\",M255/COUNTIF('Data Input'!$C$8:$AQ$8,$M$2))","v":""},{"$f":"IF(ISBLANK('Data Input'!A259),\"\",SUM('Data Input'!H259,'Data Input'!I259,'Data Input'!M259,'Data Input'!N259,'Data Input'!Q259,'Data Input'!R259,'Data Input'!T259,'Data Input'!Y259,'Data Input'!AD259,'Data Input'!AI259,'Data Input'!AP259,'Data Input'!AQ259))","v":""},{"$f":"IF(O255=\"\",\"\",O255/COUNTIF('Data Input'!$C$8:$AQ$8,$O$2))","v":""}]
[{"$f":"IF('Data Input'!A260=0,\"\",'Data Input'!A260)","v":""},{"$f":"IF(ISBLANK('Data Input'!A260),\"\",COUNTIF('Data Input'!C260:AQ260,\"\")-1)","v":""},{"$f":"IF(ISBLANK('Data Input'!A260),\"\",COUNTIF('Data Input'!C260:AQ260,\"0\"))","v":""},{"$f":"IF(ISBLANK('Data Input'!A260),\"\",SUM(B256,C256))","v":""},{"$f":"IF(ISBLANK('Data Input'!A260),\"\",SUM('Data Input'!C260:V260))","v":""},{"$f":"IF(ISBLANK('Data Input'!A260),\"\",SUM('Data Input'!X260:AQ260))","v":""},{"$f":"IF(ISBLANK('Data Input'!A260),\"\",SUM('Data Input'!C260:AQ260))","v":""},{"$f":"IF(G256=\"\",\"\",G256/(COUNTA('Data Input'!$C$8:$AQ$8)-1))","v":""},{"$f":"IF(ISBLANK('Data Input'!A260),\"\",SUM('Data Input'!C260,'Data Input'!K260,'Data Input'!L260,'Data Input'!AC260,'Data Input'!AF260,'Data Input'!AM260,'Data Input'!AO260))","v":""},{"$f":"IF(I256=\"\",\"\",I256/COUNTIF('Data Input'!$C$8:$AQ$8,$I$2))","v":""},{"$f":"IF(ISBLANK('Data Input'!A260),\"\",SUM('Data Input'!D260,'Data Input'!E260,'Data Input'!F260,'Data Input'!G260,'Data Input'!J260,'Data Input'!O260,'Data Input'!P260,'Data Input'!S260,'Data Input'!U260,'Data Input'!X260,'Data Input'!Z260,'Data Input'!AA260,'Data Input'!AB260,'Data Input'!AE260,'Data Input'!AG260,'Data Input'!AH260,'Data Input'!AJ260,'Data Input'!AK260,'Data Input'!AL260,'Data Input'!AN260))","v":""},{"$f":"IF(K256=\"\",\"\",K256/COUNTIF('Data Input'!$C$8:$AQ$8,$K$2))","v":""},{"$f":"IF(ISBLANK('Data Input'!A260),\"\",SUM('Data Input'!V260))","v":""},{"$f":"IF(M256=\"\",\"\",M256/COUNTIF('Data Input'!$C$8:$AQ$8,$M$2))","v":""},{"$f":"IF(ISBLANK('Data Input'!A260),\"\",SUM('Data Input'!H260,'Data Input'!I260,'Data Input'!M260,'Data Input'!N260,'Data Input'!Q260,'Data Input'!R260,'Data Input'!T260,'Data Input'!Y260,'Data Input'!AD260,'Data Input'!AI260,'Data Input'!AP260,'Data Input'!AQ260))","v":""},{"$f":"IF(O256=\"\",\"\",O256/COUNTIF('Data Input'!$C$8:$AQ$8,$O$2))","v":""}]
[{"$f":"IF('Data Input'!A261=0,\"\",'Data Input'!A261)","v":""},{"$f":"IF(ISBLANK('Data Input'!A261),\"\",COUNTIF('Data Input'!C261:AQ261,\"\")-1)","v":""},{"$f":"IF(ISBLANK('Data Input'!A261),\"\",COUNTIF('Data Input'!C261:AQ261,\"0\"))","v":""},{"$f":"IF(ISBLANK('Data Input'!A261),\"\",SUM(B257,C257))","v":""},{"$f":"IF(ISBLANK('Data Input'!A261),\"\",SUM('Data Input'!C261:V261))","v":""},{"$f":"IF(ISBLANK('Data Input'!A261),\"\",SUM('Data Input'!X261:AQ261))","v":""},{"$f":"IF(ISBLANK('Data Input'!A261),\"\",SUM('Data Input'!C261:AQ261))","v":""},{"$f":"IF(G257=\"\",\"\",G257/(COUNTA('Data Input'!$C$8:$AQ$8)-1))","v":""},{"$f":"IF(ISBLANK('Data Input'!A261),\"\",SUM('Data Input'!C261,'Data Input'!K261,'Data Input'!L261,'Data Input'!AC261,'Data Input'!AF261,'Data Input'!AM261,'Data Input'!AO261))","v":""},{"$f":"IF(I257=\"\",\"\",I257/COUNTIF('Data Input'!$C$8:$AQ$8,$I$2))","v":""},{"$f":"IF(ISBLANK('Data Input'!A261),\"\",SUM('Data Input'!D261,'Data Input'!E261,'Data Input'!F261,'Data Input'!G261,'Data Input'!J261,'Data Input'!O261,'Data Input'!P261,'Data Input'!S261,'Data Input'!U261,'Data Input'!X261,'Data Input'!Z261,'Data Input'!AA261,'Data Input'!AB261,'Data Input'!AE261,'Data Input'!AG261,'Data Input'!AH261,'Data Input'!AJ261,'Data Input'!AK261,'Data Input'!AL261,'Data Input'!AN261))","v":""},{"$f":"IF(K257=\"\",\"\",K257/COUNTIF('Data Input'!$C$8:$AQ$8,$K$2))","v":""},{"$f":"IF(ISBLANK('Data Input'!A261),\"\",SUM('Data Input'!V261))","v":""},{"$f":"IF(M257=\"\",\"\",M257/COUNTIF('Data Input'!$C$8:$AQ$8,$M$2))","v":""},{"$f":"IF(ISBLANK('Data Input'!A261),\"\",SUM('Data Input'!H261,'Data Input'!I261,'Data Input'!M261,'Data Input'!N261,'Data Input'!Q261,'Data Input'!R261,'Data Input'!T261,'Data Input'!Y261,'Data Input'!AD261,'Data Input'!AI261,'Data Input'!AP261,'Data Input'!AQ261))","v":""},{"$f":"IF(O257=\"\",\"\",O257/COUNTIF('Data Input'!$C$8:$AQ$8,$O$2))","v":""}]
[{"$f":"IF('Data Input'!A262=0,\"\",'Data Input'!A262)","v":""},{"$f":"IF(ISBLANK('Data Input'!A262),\"\",COUNTIF('Data Input'!C262:AQ262,\"\")-1)","v":""},{"$f":"IF(ISBLANK('Data Input'!A262),\"\",COUNTIF('Data Input'!C262:AQ262,\"0\"))","v":""},{"$f":"IF(ISBLANK('Data Input'!A262),\"\",SUM(B258,C258))","v":""},{"$f":"IF(ISBLANK('Data Input'!A262),\"\",SUM('Data Input'!C262:V262))","v":""},{"$f":"IF(ISBLANK('Data Input'!A262),\"\",SUM('Data Input'!X262:AQ262))","v":""},{"$f":"IF(ISBLANK('Data Input'!A262),\"\",SUM('Data Input'!C262:AQ262))","v":""},{"$f":"IF(G258=\"\",\"\",G258/(COUNTA('Data Input'!$C$8:$AQ$8)-1))","v":""},{"$f":"IF(ISBLANK('Data Input'!A262),\"\",SUM('Data Input'!C262,'Data Input'!K262,'Data Input'!L262,'Data Input'!AC262,'Data Input'!AF262,'Data Input'!AM262,'Data Input'!AO262))","v":""},{"$f":"IF(I258=\"\",\"\",I258/COUNTIF('Data Input'!$C$8:$AQ$8,$I$2))","v":""},{"$f":"IF(ISBLANK('Data Input'!A262),\"\",SUM('Data Input'!D262,'Data Input'!E262,'Data Input'!F262,'Data Input'!G262,'Data Input'!J262,'Data Input'!O262,'Data Input'!P262,'Data Input'!S262,'Data Input'!U262,'Data Input'!X262,'Data Input'!Z262,'Data Input'!AA262,'Data Input'!AB262,'Data Input'!AE262,'Data Input'!AG262,'Data Input'!AH262,'Data Input'!AJ262,'Data Input'!AK262,'Data Input'!AL262,'Data Input'!AN262))","v":""},{"$f":"IF(K258=\"\",\"\",K258/COUNTIF('Data Input'!$C$8:$AQ$8,$K$2))","v":""},{"$f":"IF(ISBLANK('Data Input'!A262),\"\",SUM('Data Input'!V262))","v":""},{"$f":"IF(M258=\"\",\"\",M258/COUNTIF('Data Input'!$C$8:$AQ$8,$M$2))","v":""},{"$f":"IF(ISBLANK('Data Input'!A262),\"\",SUM('Data Input'!H262,'Data Input'!I262,'Data Input'!M262,'Data Input'!N262,'Data Input'!Q262,'Data Input'!R262,'Data Input'!T262,'Data Input'!Y262,'Data Input'!AD262,'Data Input'!AI262,'Data Input'!AP262,'Data Input'!AQ262))","v":""},{"$f":"IF(O258=\"\",\"\",O258/COUNTIF('Data Input'!$C$8:$AQ$8,$O$2))","v":""}]
[{"$f":"IF('Data Input'!A263=0,\"\",'Data Input'!A263)","v":""},{"$f":"IF(ISBLANK('Data Input'!A263),\"\",COUNTIF('Data Input'!C263:AQ263,\"\")-1)","v":""},{"$f":"IF(ISBLANK('Data Input'!A263),\"\",COUNTIF('Data Input'!C263:AQ263,\"0\"))","v":""},{"$f":"IF(ISBLANK('Data Input'!A263),\"\",SUM(B259,C259))","v":""},{"$f":"IF(ISBLANK('Data Input'!A263),\"\",SUM('Data Input'!C263:V263))","v":""},{"$f":"IF(ISBLANK('Data Input'!A263),\"\",SUM('Data Input'!X263:AQ263))","v":""},{"$f":"IF(ISBLANK('Data Input'!A263),\"\",SUM('Data Input'!C263:AQ263))","v":""},{"$f":"IF(G259=\"\",\"\",G259/(COUNTA('Data Input'!$C$8:$AQ$8)-1))","v":""},{"$f":"IF(ISBLANK('Data Input'!A263),\"\",SUM('Data Input'!C263,'Data Input'!K263,'Data Input'!L263,'Data Input'!AC263,'Data Input'!AF263,'Data Input'!AM263,'Data Input'!AO263))","v":""},{"$f":"IF(I259=\"\",\"\",I259/COUNTIF('Data Input'!$C$8:$AQ$8,$I$2))","v":""},{"$f":"IF(ISBLANK('Data Input'!A263),\"\",SUM('Data Input'!D263,'Data Input'!E263,'Data Input'!F263,'Data Input'!G263,'Data Input'!J263,'Data Input'!O263,'Data Input'!P263,'Data Input'!S263,'Data Input'!U263,'Data Input'!X263,'Data Input'!Z263,'Data Input'!AA263,'Data Input'!AB263,'Data Input'!AE263,'Data Input'!AG263,'Data Input'!AH263,'Data Input'!AJ263,'Data Input'!AK263,'Data Input'!AL263,'Data Input'!AN263))","v":""},{"$f":"IF(K259=\"\",\"\",K259/COUNTIF('Data Input'!$C$8:$AQ$8,$K$2))","v":""},{"$f":"IF(ISBLANK('Data Input'!A263),\"\",SUM('Data Input'!V263))","v":""},{"$f":"IF(M259=\"\",\"\",M259/COUNTIF('Data Input'!$C$8:$AQ$8,$M$2))","v":""},{"$f":"IF(ISBLANK('Data Input'!A263),\"\",SUM('Data Input'!H263,'Data Input'!I263,'Data Input'!M263,'Data Input'!N263,'Data Input'!Q263,'Data Input'!R263,'Data Input'!T263,'Data Input'!Y263,'Data Input'!AD263,'Data Input'!AI263,'Data Input'!AP263,'Data Input'!AQ263))","v":""},{"$f":"IF(O259=\"\",\"\",O259/COUNTIF('Data Input'!$C$8:$AQ$8,$O$2))","v":""}]
[{"$f":"IF('Data Input'!A264=0,\"\",'Data Input'!A264)","v":""},{"$f":"IF(ISBLANK('Data Input'!A264),\"\",COUNTIF('Data Input'!C264:AQ264,\"\")-1)","v":""},{"$f":"IF(ISBLANK('Data Input'!A264),\"\",COUNTIF('Data Input'!C264:AQ264,\"0\"))","v":""},{"$f":"IF(ISBLANK('Data Input'!A264),\"\",SUM(B260,C260))","v":""},{"$f":"IF(ISBLANK('Data Input'!A264),\"\",SUM('Data Input'!C264:V264))","v":""},{"$f":"IF(ISBLANK('Data Input'!A264),\"\",SUM('Data Input'!X264:AQ264))","v":""},{"$f":"IF(ISBLANK('Data Input'!A264),\"\",SUM('Data Input'!C264:AQ264))","v":""},{"$f":"IF(G260=\"\",\"\",G260/(COUNTA('Data Input'!$C$8:$AQ$8)-1))","v":""},{"$f":"IF(ISBLANK('Data Input'!A264),\"\",SUM('Data Input'!C264,'Data Input'!K264,'Data Input'!L264,'Data Input'!AC264,'Data Input'!AF264,'Data Input'!AM264,'Data Input'!AO264))","v":""},{"$f":"IF(I260=\"\",\"\",I260/COUNTIF('Data Input'!$C$8:$AQ$8,$I$2))","v":""},{"$f":"IF(ISBLANK('Data Input'!A264),\"\",SUM('Data Input'!D264,'Data Input'!E264,'Data Input'!F264,'Data Input'!G264,'Data Input'!J264,'Data Input'!O264,'Data Input'!P264,'Data Input'!S264,'Data Input'!U264,'Data Input'!X264,'Data Input'!Z264,'Data Input'!AA264,'Data Input'!AB264,'Data Input'!AE264,'Data Input'!AG264,'Data Input'!AH264,'Data Input'!AJ264,'Data Input'!AK264,'Data Input'!AL264,'Data Input'!AN264))","v":""},{"$f":"IF(K260=\"\",\"\",K260/COUNTIF('Data Input'!$C$8:$AQ$8,$K$2))","v":""},{"$f":"IF(ISBLANK('Data Input'!A264),\"\",SUM('Data Input'!V264))","v":""},{"$f":"IF(M260=\"\",\"\",M260/COUNTIF('Data Input'!$C$8:$AQ$8,$M$2))","v":""},{"$f":"IF(ISBLANK('Data Input'!A264),\"\",SUM('Data Input'!H264,'Data Input'!I264,'Data Input'!M264,'Data Input'!N264,'Data Input'!Q264,'Data Input'!R264,'Data Input'!T264,'Data Input'!Y264,'Data Input'!AD264,'Data Input'!AI264,'Data Input'!AP264,'Data Input'!AQ264))","v":""},{"$f":"IF(O260=\"\",\"\",O260/COUNTIF('Data Input'!$C$8:$AQ$8,$O$2))","v":""}]
[{"$f":"IF('Data Input'!A265=0,\"\",'Data Input'!A265)","v":""},{"$f":"IF(ISBLANK('Data Input'!A265),\"\",COUNTIF('Data Input'!C265:AQ265,\"\")-1)","v":""},{"$f":"IF(ISBLANK('Data Input'!A265),\"\",COUNTIF('Data Input'!C265:AQ265,\"0\"))","v":""},{"$f":"IF(ISBLANK('Data Input'!A265),\"\",SUM(B261,C261))","v":""},{"$f":"IF(ISBLANK('Data Input'!A265),\"\",SUM('Data Input'!C265:V265))","v":""},{"$f":"IF(ISBLANK('Data Input'!A265),\"\",SUM('Data Input'!X265:AQ265))","v":""},{"$f":"IF(ISBLANK('Data Input'!A265),\"\",SUM('Data Input'!C265:AQ265))","v":""},{"$f":"IF(G261=\"\",\"\",G261/(COUNTA('Data Input'!$C$8:$AQ$8)-1))","v":""},{"$f":"IF(ISBLANK('Data Input'!A265),\"\",SUM('Data Input'!C265,'Data Input'!K265,'Data Input'!L265,'Data Input'!AC265,'Data Input'!AF265,'Data Input'!AM265,'Data Input'!AO265))","v":""},{"$f":"IF(I261=\"\",\"\",I261/COUNTIF('Data Input'!$C$8:$AQ$8,$I$2))","v":""},{"$f":"IF(ISBLANK('Data Input'!A265),\"\",SUM('Data Input'!D265,'Data Input'!E265,'Data Input'!F265,'Data Input'!G265,'Data Input'!J265,'Data Input'!O265,'Data Input'!P265,'Data Input'!S265,'Data Input'!U265,'Data Input'!X265,'Data Input'!Z265,'Data Input'!AA265,'Data Input'!AB265,'Data Input'!AE265,'Data Input'!AG265,'Data Input'!AH265,'Data Input'!AJ265,'Data Input'!AK265,'Data Input'!AL265,'Data Input'!AN265))","v":""},{"$f":"IF(K261=\"\",\"\",K261/COUNTIF('Data Input'!$C$8:$AQ$8,$K$2))","v":""},{"$f":"IF(ISBLANK('Data Input'!A265),\"\",SUM('Data Input'!V265))","v":""},{"$f":"IF(M261=\"\",\"\",M261/COUNTIF('Data Input'!$C$8:$AQ$8,$M$2))","v":""},{"$f":"IF(ISBLANK('Data Input'!A265),\"\",SUM('Data Input'!H265,'Data Input'!I265,'Data Input'!M265,'Data Input'!N265,'Data Input'!Q265,'Data Input'!R265,'Data Input'!T265,'Data Input'!Y265,'Data Input'!AD265,'Data Input'!AI265,'Data Input'!AP265,'Data Input'!AQ265))","v":""},{"$f":"IF(O261=\"\",\"\",O261/COUNTIF('Data Input'!$C$8:$AQ$8,$O$2))","v":""}]
[{"$f":"IF('Data Input'!A266=0,\"\",'Data Input'!A266)","v":""},{"$f":"IF(ISBLANK('Data Input'!A266),\"\",COUNTIF('Data Input'!C266:AQ266,\"\")-1)","v":""},{"$f":"IF(ISBLANK('Data Input'!A266),\"\",COUNTIF('Data Input'!C266:AQ266,\"0\"))","v":""},{"$f":"IF(ISBLANK('Data Input'!A266),\"\",SUM(B262,C262))","v":""},{"$f":"IF(ISBLANK('Data Input'!A266),\"\",SUM('Data Input'!C266:V266))","v":""},{"$f":"IF(ISBLANK('Data Input'!A266),\"\",SUM('Data Input'!X266:AQ266))","v":""},{"$f":"IF(ISBLANK('Data Input'!A266),\"\",SUM('Data Input'!C266:AQ266))","v":""},{"$f":"IF(G262=\"\",\"\",G262/(COUNTA('Data Input'!$C$8:$AQ$8)-1))","v":""},{"$f":"IF(ISBLANK('Data Input'!A266),\"\",SUM('Data Input'!C266,'Data Input'!K266,'Data Input'!L266,'Data Input'!AC266,'Data Input'!AF266,'Data Input'!AM266,'Data Input'!AO266))","v":""},{"$f":"IF(I262=\"\",\"\",I262/COUNTIF('Data Input'!$C$8:$AQ$8,$I$2))","v":""},{"$f":"IF(ISBLANK('Data Input'!A266),\"\",SUM('Data Input'!D266,'Data Input'!E266,'Data Input'!F266,'Data Input'!G266,'Data Input'!J266,'Data Input'!O266,'Data Input'!P266,'Data Input'!S266,'Data Input'!U266,'Data Input'!X266,'Data Input'!Z266,'Data Input'!AA266,'Data Input'!AB266,'Data Input'!AE266,'Data Input'!AG266,'Data Input'!AH266,'Data Input'!AJ266,'Data Input'!AK266,'Data Input'!AL266,'Data Input'!AN266))","v":""},{"$f":"IF(K262=\"\",\"\",K262/COUNTIF('Data Input'!$C$8:$AQ$8,$K$2))","v":""},{"$f":"IF(ISBLANK('Data Input'!A266),\"\",SUM('Data Input'!V266))","v":""},{"$f":"IF(M262=\"\",\"\",M262/COUNTIF('Data Input'!$C$8:$AQ$8,$M$2))","v":""},{"$f":"IF(ISBLANK('Data Input'!A266),\"\",SUM('Data Input'!H266,'Data Input'!I266,'Data Input'!M266,'Data Input'!N266,'Data Input'!Q266,'Data Input'!R266,'Data Input'!T266,'Data Input'!Y266,'Data Input'!AD266,'Data Input'!AI266,'Data Input'!AP266,'Data Input'!AQ266))","v":""},{"$f":"IF(O262=\"\",\"\",O262/COUNTIF('Data Input'!$C$8:$AQ$8,$O$2))","v":""}]
[{"$f":"IF('Data Input'!A267=0,\"\",'Data Input'!A267)","v":""},{"$f":"IF(ISBLANK('Data Input'!A267),\"\",COUNTIF('Data Input'!C267:AQ267,\"\")-1)","v":""},{"$f":"IF(ISBLANK('Data Input'!A267),\"\",COUNTIF('Data Input'!C267:AQ267,\"0\"))","v":""},{"$f":"IF(ISBLANK('Data Input'!A267),\"\",SUM(B263,C263))","v":""},{"$f":"IF(ISBLANK('Data Input'!A267),\"\",SUM('Data Input'!C267:V267))","v":""},{"$f":"IF(ISBLANK('Data Input'!A267),\"\",SUM('Data Input'!X267:AQ267))","v":""},{"$f":"IF(ISBLANK('Data Input'!A267),\"\",SUM('Data Input'!C267:AQ267))","v":""},{"$f":"IF(G263=\"\",\"\",G263/(COUNTA('Data Input'!$C$8:$AQ$8)-1))","v":""},{"$f":"IF(ISBLANK('Data Input'!A267),\"\",SUM('Data Input'!C267,'Data Input'!K267,'Data Input'!L267,'Data Input'!AC267,'Data Input'!AF267,'Data Input'!AM267,'Data Input'!AO267))","v":""},{"$f":"IF(I263=\"\",\"\",I263/COUNTIF('Data Input'!$C$8:$AQ$8,$I$2))","v":""},{"$f":"IF(ISBLANK('Data Input'!A267),\"\",SUM('Data Input'!D267,'Data Input'!E267,'Data Input'!F267,'Data Input'!G267,'Data Input'!J267,'Data Input'!O267,'Data Input'!P267,'Data Input'!S267,'Data Input'!U267,'Data Input'!X267,'Data Input'!Z267,'Data Input'!AA267,'Data Input'!AB267,'Data Input'!AE267,'Data Input'!AG267,'Data Input'!AH267,'Data Input'!AJ267,'Data Input'!AK267,'Data Input'!AL267,'Data Input'!AN267))","v":""},{"$f":"IF(K263=\"\",\"\",K263/COUNTIF('Data Input'!$C$8:$AQ$8,$K$2))","v":""},{"$f":"IF(ISBLANK('Data Input'!A267),\"\",SUM('Data Input'!V267))","v":""},{"$f":"IF(M263=\"\",\"\",M263/COUNTIF('Data Input'!$C$8:$AQ$8,$M$2))","v":""},{"$f":"IF(ISBLANK('Data Input'!A267),\"\",SUM('Data Input'!H267,'Data Input'!I267,'Data Input'!M267,'Data Input'!N267,'Data Input'!Q267,'Data Input'!R267,'Data Input'!T267,'Data Input'!Y267,'Data Input'!AD267,'Data Input'!AI267,'Data Input'!AP267,'Data Input'!AQ267))","v":""},{"$f":"IF(O263=\"\",\"\",O263/COUNTIF('Data Input'!$C$8:$AQ$8,$O$2))","v":""}]
[{"$f":"IF('Data Input'!A268=0,\"\",'Data Input'!A268)","v":""},{"$f":"IF(ISBLANK('Data Input'!A268),\"\",COUNTIF('Data Input'!C268:AQ268,\"\")-1)","v":""},{"$f":"IF(ISBLANK('Data Input'!A268),\"\",COUNTIF('Data Input'!C268:AQ268,\"0\"))","v":""},{"$f":"IF(ISBLANK('Data Input'!A268),\"\",SUM(B264,C264))","v":""},{"$f":"IF(ISBLANK('Data Input'!A268),\"\",SUM('Data Input'!C268:V268))","v":""},{"$f":"IF(ISBLANK('Data Input'!A268),\"\",SUM('Data Input'!X268:AQ268))","v":""},{"$f":"IF(ISBLANK('Data Input'!A268),\"\",SUM('Data Input'!C268:AQ268))","v":""},{"$f":"IF(G264=\"\",\"\",G264/(COUNTA('Data Input'!$C$8:$AQ$8)-1))","v":""},{"$f":"IF(ISBLANK('Data Input'!A268),\"\",SUM('Data Input'!C268,'Data Input'!K268,'Data Input'!L268,'Data Input'!AC268,'Data Input'!AF268,'Data Input'!AM268,'Data Input'!AO268))","v":""},{"$f":"IF(I264=\"\",\"\",I264/COUNTIF('Data Input'!$C$8:$AQ$8,$I$2))","v":""},{"$f":"IF(ISBLANK('Data Input'!A268),\"\",SUM('Data Input'!D268,'Data Input'!E268,'Data Input'!F268,'Data Input'!G268,'Data Input'!J268,'Data Input'!O268,'Data Input'!P268,'Data Input'!S268,'Data Input'!U268,'Data Input'!X268,'Data Input'!Z268,'Data Input'!AA268,'Data Input'!AB268,'Data Input'!AE268,'Data Input'!AG268,'Data Input'!AH268,'Data Input'!AJ268,'Data Input'!AK268,'Data Input'!AL268,'Data Input'!AN268))","v":""},{"$f":"IF(K264=\"\",\"\",K264/COUNTIF('Data Input'!$C$8:$AQ$8,$K$2))","v":""},{"$f":"IF(ISBLANK('Data Input'!A268),\"\",SUM('Data Input'!V268))","v":""},{"$f":"IF(M264=\"\",\"\",M264/COUNTIF('Data Input'!$C$8:$AQ$8,$M$2))","v":""},{"$f":"IF(ISBLANK('Data Input'!A268),\"\",SUM('Data Input'!H268,'Data Input'!I268,'Data Input'!M268,'Data Input'!N268,'Data Input'!Q268,'Data Input'!R268,'Data Input'!T268,'Data Input'!Y268,'Data Input'!AD268,'Data Input'!AI268,'Data Input'!AP268,'Data Input'!AQ268))","v":""},{"$f":"IF(O264=\"\",\"\",O264/COUNTIF('Data Input'!$C$8:$AQ$8,$O$2))","v":""}]
[{"$f":"IF('Data Input'!A269=0,\"\",'Data Input'!A269)","v":""},{"$f":"IF(ISBLANK('Data Input'!A269),\"\",COUNTIF('Data Input'!C269:AQ269,\"\")-1)","v":""},{"$f":"IF(ISBLANK('Data Input'!A269),\"\",COUNTIF('Data Input'!C269:AQ269,\"0\"))","v":""},{"$f":"IF(ISBLANK('Data Input'!A269),\"\",SUM(B265,C265))","v":""},{"$f":"IF(ISBLANK('Data Input'!A269),\"\",SUM('Data Input'!C269:V269))","v":""},{"$f":"IF(ISBLANK('Data Input'!A269),\"\",SUM('Data Input'!X269:AQ269))","v":""},{"$f":"IF(ISBLANK('Data Input'!A269),\"\",SUM('Data Input'!C269:AQ269))","v":""},{"$f":"IF(G265=\"\",\"\",G265/(COUNTA('Data Input'!$C$8:$AQ$8)-1))","v":""},{"$f":"IF(ISBLANK('Data Input'!A269),\"\",SUM('Data Input'!C269,'Data Input'!K269,'Data Input'!L269,'Data Input'!AC269,'Data Input'!AF269,'Data Input'!AM269,'Data Input'!AO269))","v":""},{"$f":"IF(I265=\"\",\"\",I265/COUNTIF('Data Input'!$C$8:$AQ$8,$I$2))","v":""},{"$f":"IF(ISBLANK('Data Input'!A269),\"\",SUM('Data Input'!D269,'Data Input'!E269,'Data Input'!F269,'Data Input'!G269,'Data Input'!J269,'Data Input'!O269,'Data Input'!P269,'Data Input'!S269,'Data Input'!U269,'Data Input'!X269,'Data Input'!Z269,'Data Input'!AA269,'Data Input'!AB269,'Data Input'!AE269,'Data Input'!AG269,'Data Input'!AH269,'Data Input'!AJ269,'Data Input'!AK269,'Data Input'!AL269,'Data Input'!AN269))","v":""},{"$f":"IF(K265=\"\",\"\",K265/COUNTIF('Data Input'!$C$8:$AQ$8,$K$2))","v":""},{"$f":"IF(ISBLANK('Data Input'!A269),\"\",SUM('Data Input'!V269))","v":""},{"$f":"IF(M265=\"\",\"\",M265/COUNTIF('Data Input'!$C$8:$AQ$8,$M$2))","v":""},{"$f":"IF(ISBLANK('Data Input'!A269),\"\",SUM('Data Input'!H269,'Data Input'!I269,'Data Input'!M269,'Data Input'!N269,'Data Input'!Q269,'Data Input'!R269,'Data Input'!T269,'Data Input'!Y269,'Data Input'!AD269,'Data Input'!AI269,'Data Input'!AP269,'Data Input'!AQ269))","v":""},{"$f":"IF(O265=\"\",\"\",O265/COUNTIF('Data Input'!$C$8:$AQ$8,$O$2))","v":""}]
[{"$f":"IF('Data Input'!A270=0,\"\",'Data Input'!A270)","v":""},{"$f":"IF(ISBLANK('Data Input'!A270),\"\",COUNTIF('Data Input'!C270:AQ270,\"\")-1)","v":""},{"$f":"IF(ISBLANK('Data Input'!A270),\"\",COUNTIF('Data Input'!C270:AQ270,\"0\"))","v":""},{"$f":"IF(ISBLANK('Data Input'!A270),\"\",SUM(B266,C266))","v":""},{"$f":"IF(ISBLANK('Data Input'!A270),\"\",SUM('Data Input'!C270:V270))","v":""},{"$f":"IF(ISBLANK('Data Input'!A270),\"\",SUM('Data Input'!X270:AQ270))","v":""},{"$f":"IF(ISBLANK('Data Input'!A270),\"\",SUM('Data Input'!C270:AQ270))","v":""},{"$f":"IF(G266=\"\",\"\",G266/(COUNTA('Data Input'!$C$8:$AQ$8)-1))","v":""},{"$f":"IF(ISBLANK('Data Input'!A270),\"\",SUM('Data Input'!C270,'Data Input'!K270,'Data Input'!L270,'Data Input'!AC270,'Data Input'!AF270,'Data Input'!AM270,'Data Input'!AO270))","v":""},{"$f":"IF(I266=\"\",\"\",I266/COUNTIF('Data Input'!$C$8:$AQ$8,$I$2))","v":""},{"$f":"IF(ISBLANK('Data Input'!A270),\"\",SUM('Data Input'!D270,'Data Input'!E270,'Data Input'!F270,'Data Input'!G270,'Data Input'!J270,'Data Input'!O270,'Data Input'!P270,'Data Input'!S270,'Data Input'!U270,'Data Input'!X270,'Data Input'!Z270,'Data Input'!AA270,'Data Input'!AB270,'Data Input'!AE270,'Data Input'!AG270,'Data Input'!AH270,'Data Input'!AJ270,'Data Input'!AK270,'Data Input'!AL270,'Data Input'!AN270))","v":""},{"$f":"IF(K266=\"\",\"\",K266/COUNTIF('Data Input'!$C$8:$AQ$8,$K$2))","v":""},{"$f":"IF(ISBLANK('Data Input'!A270),\"\",SUM('Data Input'!V270))","v":""},{"$f":"IF(M266=\"\",\"\",M266/COUNTIF('Data Input'!$C$8:$AQ$8,$M$2))","v":""},{"$f":"IF(ISBLANK('Data Input'!A270),\"\",SUM('Data Input'!H270,'Data Input'!I270,'Data Input'!M270,'Data Input'!N270,'Data Input'!Q270,'Data Input'!R270,'Data Input'!T270,'Data Input'!Y270,'Data Input'!AD270,'Data Input'!AI270,'Data Input'!AP270,'Data Input'!AQ270))","v":""},{"$f":"IF(O266=\"\",\"\",O266/COUNTIF('Data Input'!$C$8:$AQ$8,$O$2))","v":""}]
[{"$f":"IF('Data Input'!A271=0,\"\",'Data Input'!A271)","v":""},{"$f":"IF(ISBLANK('Data Input'!A271),\"\",COUNTIF('Data Input'!C271:AQ271,\"\")-1)","v":""},{"$f":"IF(ISBLANK('Data Input'!A271),\"\",COUNTIF('Data Input'!C271:AQ271,\"0\"))","v":""},{"$f":"IF(ISBLANK('Data Input'!A271),\"\",SUM(B267,C267))","v":""},{"$f":"IF(ISBLANK('Data Input'!A271),\"\",SUM('Data Input'!C271:V271))","v":""},{"$f":"IF(ISBLANK('Data Input'!A271),\"\",SUM('Data Input'!X271:AQ271))","v":""},{"$f":"IF(ISBLANK('Data Input'!A271),\"\",SUM('Data Input'!C271:AQ271))","v":""},{"$f":"IF(G267=\"\",\"\",G267/(COUNTA('Data Input'!$C$8:$AQ$8)-1))","v":""},{"$f":"IF(ISBLANK('Data Input'!A271),\"\",SUM('Data Input'!C271,'Data Input'!K271,'Data Input'!L271,'Data Input'!AC271,'Data Input'!AF271,'Data Input'!AM271,'Data Input'!AO271))","v":""},{"$f":"IF(I267=\"\",\"\",I267/COUNTIF('Data Input'!$C$8:$AQ$8,$I$2))","v":""},{"$f":"IF(ISBLANK('Data Input'!A271),\"\",SUM('Data Input'!D271,'Data Input'!E271,'Data Input'!F271,'Data Input'!G271,'Data Input'!J271,'Data Input'!O271,'Data Input'!P271,'Data Input'!S271,'Data Input'!U271,'Data Input'!X271,'Data Input'!Z271,'Data Input'!AA271,'Data Input'!AB271,'Data Input'!AE271,'Data Input'!AG271,'Data Input'!AH271,'Data Input'!AJ271,'Data Input'!AK271,'Data Input'!AL271,'Data Input'!AN271))","v":""},{"$f":"IF(K267=\"\",\"\",K267/COUNTIF('Data Input'!$C$8:$AQ$8,$K$2))","v":""},{"$f":"IF(ISBLANK('Data Input'!A271),\"\",SUM('Data Input'!V271))","v":""},{"$f":"IF(M267=\"\",\"\",M267/COUNTIF('Data Input'!$C$8:$AQ$8,$M$2))","v":""},{"$f":"IF(ISBLANK('Data Input'!A271),\"\",SUM('Data Input'!H271,'Data Input'!I271,'Data Input'!M271,'Data Input'!N271,'Data Input'!Q271,'Data Input'!R271,'Data Input'!T271,'Data Input'!Y271,'Data Input'!AD271,'Data Input'!AI271,'Data Input'!AP271,'Data Input'!AQ271))","v":""},{"$f":"IF(O267=\"\",\"\",O267/COUNTIF('Data Input'!$C$8:$AQ$8,$O$2))","v":""}]
[{"$f":"IF('Data Input'!A272=0,\"\",'Data Input'!A272)","v":""},{"$f":"IF(ISBLANK('Data Input'!A272),\"\",COUNTIF('Data Input'!C272:AQ272,\"\")-1)","v":""},{"$f":"IF(ISBLANK('Data Input'!A272),\"\",COUNTIF('Data Input'!C272:AQ272,\"0\"))","v":""},{"$f":"IF(ISBLANK('Data Input'!A272),\"\",SUM(B268,C268))","v":""},{"$f":"IF(ISBLANK('Data Input'!A272),\"\",SUM('Data Input'!C272:V272))","v":""},{"$f":"IF(ISBLANK('Data Input'!A272),\"\",SUM('Data Input'!X272:AQ272))","v":""},{"$f":"IF(ISBLANK('Data Input'!A272),\"\",SUM('Data Input'!C272:AQ272))","v":""},{"$f":"IF(G268=\"\",\"\",G268/(COUNTA('Data Input'!$C$8:$AQ$8)-1))","v":""},{"$f":"IF(ISBLANK('Data Input'!A272),\"\",SUM('Data Input'!C272,'Data Input'!K272,'Data Input'!L272,'Data Input'!AC272,'Data Input'!AF272,'Data Input'!AM272,'Data Input'!AO272))","v":""},{"$f":"IF(I268=\"\",\"\",I268/COUNTIF('Data Input'!$C$8:$AQ$8,$I$2))","v":""},{"$f":"IF(ISBLANK('Data Input'!A272),\"\",SUM('Data Input'!D272,'Data Input'!E272,'Data Input'!F272,'Data Input'!G272,'Data Input'!J272,'Data Input'!O272,'Data Input'!P272,'Data Input'!S272,'Data Input'!U272,'Data Input'!X272,'Data Input'!Z272,'Data Input'!AA272,'Data Input'!AB272,'Data Input'!AE272,'Data Input'!AG272,'Data Input'!AH272,'Data Input'!AJ272,'Data Input'!AK272,'Data Input'!AL272,'Data Input'!AN272))","v":""},{"$f":"IF(K268=\"\",\"\",K268/COUNTIF('Data Input'!$C$8:$AQ$8,$K$2))","v":""},{"$f":"IF(ISBLANK('Data Input'!A272),\"\",SUM('Data Input'!V272))","v":""},{"$f":"IF(M268=\"\",\"\",M268/COUNTIF('Data Input'!$C$8:$AQ$8,$M$2))","v":""},{"$f":"IF(ISBLANK('Data Input'!A272),\"\",SUM('Data Input'!H272,'Data Input'!I272,'Data Input'!M272,'Data Input'!N272,'Data Input'!Q272,'Data Input'!R272,'Data Input'!T272,'Data Input'!Y272,'Data Input'!AD272,'Data Input'!AI272,'Data Input'!AP272,'Data Input'!AQ272))","v":""},{"$f":"IF(O268=\"\",\"\",O268/COUNTIF('Data Input'!$C$8:$AQ$8,$O$2))","v":""}]
[{"$f":"IF('Data Input'!A273=0,\"\",'Data Input'!A273)","v":""},{"$f":"IF(ISBLANK('Data Input'!A273),\"\",COUNTIF('Data Input'!C273:AQ273,\"\")-1)","v":""},{"$f":"IF(ISBLANK('Data Input'!A273),\"\",COUNTIF('Data Input'!C273:AQ273,\"0\"))","v":""},{"$f":"IF(ISBLANK('Data Input'!A273),\"\",SUM(B269,C269))","v":""},{"$f":"IF(ISBLANK('Data Input'!A273),\"\",SUM('Data Input'!C273:V273))","v":""},{"$f":"IF(ISBLANK('Data Input'!A273),\"\",SUM('Data Input'!X273:AQ273))","v":""},{"$f":"IF(ISBLANK('Data Input'!A273),\"\",SUM('Data Input'!C273:AQ273))","v":""},{"$f":"IF(G269=\"\",\"\",G269/(COUNTA('Data Input'!$C$8:$AQ$8)-1))","v":""},{"$f":"IF(ISBLANK('Data Input'!A273),\"\",SUM('Data Input'!C273,'Data Input'!K273,'Data Input'!L273,'Data Input'!AC273,'Data Input'!AF273,'Data Input'!AM273,'Data Input'!AO273))","v":""},{"$f":"IF(I269=\"\",\"\",I269/COUNTIF('Data Input'!$C$8:$AQ$8,$I$2))","v":""},{"$f":"IF(ISBLANK('Data Input'!A273),\"\",SUM('Data Input'!D273,'Data Input'!E273,'Data Input'!F273,'Data Input'!G273,'Data Input'!J273,'Data Input'!O273,'Data Input'!P273,'Data Input'!S273,'Data Input'!U273,'Data Input'!X273,'Data Input'!Z273,'Data Input'!AA273,'Data Input'!AB273,'Data Input'!AE273,'Data Input'!AG273,'Data Input'!AH273,'Data Input'!AJ273,'Data Input'!AK273,'Data Input'!AL273,'Data Input'!AN273))","v":""},{"$f":"IF(K269=\"\",\"\",K269/COUNTIF('Data Input'!$C$8:$AQ$8,$K$2))","v":""},{"$f":"IF(ISBLANK('Data Input'!A273),\"\",SUM('Data Input'!V273))","v":""},{"$f":"IF(M269=\"\",\"\",M269/COUNTIF('Data Input'!$C$8:$AQ$8,$M$2))","v":""},{"$f":"IF(ISBLANK('Data Input'!A273),\"\",SUM('Data Input'!H273,'Data Input'!I273,'Data Input'!M273,'Data Input'!N273,'Data Input'!Q273,'Data Input'!R273,'Data Input'!T273,'Data Input'!Y273,'Data Input'!AD273,'Data Input'!AI273,'Data Input'!AP273,'Data Input'!AQ273))","v":""},{"$f":"IF(O269=\"\",\"\",O269/COUNTIF('Data Input'!$C$8:$AQ$8,$O$2))","v":""}]
[{"$f":"IF('Data Input'!A274=0,\"\",'Data Input'!A274)","v":""},{"$f":"IF(ISBLANK('Data Input'!A274),\"\",COUNTIF('Data Input'!C274:AQ274,\"\")-1)","v":""},{"$f":"IF(ISBLANK('Data Input'!A274),\"\",COUNTIF('Data Input'!C274:AQ274,\"0\"))","v":""},{"$f":"IF(ISBLANK('Data Input'!A274),\"\",SUM(B270,C270))","v":""},{"$f":"IF(ISBLANK('Data Input'!A274),\"\",SUM('Data Input'!C274:V274))","v":""},{"$f":"IF(ISBLANK('Data Input'!A274),\"\",SUM('Data Input'!X274:AQ274))","v":""},{"$f":"IF(ISBLANK('Data Input'!A274),\"\",SUM('Data Input'!C274:AQ274))","v":""},{"$f":"IF(G270=\"\",\"\",G270/(COUNTA('Data Input'!$C$8:$AQ$8)-1))","v":""},{"$f":"IF(ISBLANK('Data Input'!A274),\"\",SUM('Data Input'!C274,'Data Input'!K274,'Data Input'!L274,'Data Input'!AC274,'Data Input'!AF274,'Data Input'!AM274,'Data Input'!AO274))","v":""},{"$f":"IF(I270=\"\",\"\",I270/COUNTIF('Data Input'!$C$8:$AQ$8,$I$2))","v":""},{"$f":"IF(ISBLANK('Data Input'!A274),\"\",SUM('Data Input'!D274,'Data Input'!E274,'Data Input'!F274,'Data Input'!G274,'Data Input'!J274,'Data Input'!O274,'Data Input'!P274,'Data Input'!S274,'Data Input'!U274,'Data Input'!X274,'Data Input'!Z274,'Data Input'!AA274,'Data Input'!AB274,'Data Input'!AE274,'Data Input'!AG274,'Data Input'!AH274,'Data Input'!AJ274,'Data Input'!AK274,'Data Input'!AL274,'Data Input'!AN274))","v":""},{"$f":"IF(K270=\"\",\"\",K270/COUNTIF('Data Input'!$C$8:$AQ$8,$K$2))","v":""},{"$f":"IF(ISBLANK('Data Input'!A274),\"\",SUM('Data Input'!V274))","v":""},{"$f":"IF(M270=\"\",\"\",M270/COUNTIF('Data Input'!$C$8:$AQ$8,$M$2))","v":""},{"$f":"IF(ISBLANK('Data Input'!A274),\"\",SUM('Data Input'!H274,'Data Input'!I274,'Data Input'!M274,'Data Input'!N274,'Data Input'!Q274,'Data Input'!R274,'Data Input'!T274,'Data Input'!Y274,'Data Input'!AD274,'Data Input'!AI274,'Data Input'!AP274,'Data Input'!AQ274))","v":""},{"$f":"IF(O270=\"\",\"\",O270/COUNTIF('Data Input'!$C$8:$AQ$8,$O$2))","v":""}]
[{"$f":"IF('Data Input'!A275=0,\"\",'Data Input'!A275)","v":""},{"$f":"IF(ISBLANK('Data Input'!A275),\"\",COUNTIF('Data Input'!C275:AQ275,\"\")-1)","v":""},{"$f":"IF(ISBLANK('Data Input'!A275),\"\",COUNTIF('Data Input'!C275:AQ275,\"0\"))","v":""},{"$f":"IF(ISBLANK('Data Input'!A275),\"\",SUM(B271,C271))","v":""},{"$f":"IF(ISBLANK('Data Input'!A275),\"\",SUM('Data Input'!C275:V275))","v":""},{"$f":"IF(ISBLANK('Data Input'!A275),\"\",SUM('Data Input'!X275:AQ275))","v":""},{"$f":"IF(ISBLANK('Data Input'!A275),\"\",SUM('Data Input'!C275:AQ275))","v":""},{"$f":"IF(G271=\"\",\"\",G271/(COUNTA('Data Input'!$C$8:$AQ$8)-1))","v":""},{"$f":"IF(ISBLANK('Data Input'!A275),\"\",SUM('Data Input'!C275,'Data Input'!K275,'Data Input'!L275,'Data Input'!AC275,'Data Input'!AF275,'Data Input'!AM275,'Data Input'!AO275))","v":""},{"$f":"IF(I271=\"\",\"\",I271/COUNTIF('Data Input'!$C$8:$AQ$8,$I$2))","v":""},{"$f":"IF(ISBLANK('Data Input'!A275),\"\",SUM('Data Input'!D275,'Data Input'!E275,'Data Input'!F275,'Data Input'!G275,'Data Input'!J275,'Data Input'!O275,'Data Input'!P275,'Data Input'!S275,'Data Input'!U275,'Data Input'!X275,'Data Input'!Z275,'Data Input'!AA275,'Data Input'!AB275,'Data Input'!AE275,'Data Input'!AG275,'Data Input'!AH275,'Data Input'!AJ275,'Data Input'!AK275,'Data Input'!AL275,'Data Input'!AN275))","v":""},{"$f":"IF(K271=\"\",\"\",K271/COUNTIF('Data Input'!$C$8:$AQ$8,$K$2))","v":""},{"$f":"IF(ISBLANK('Data Input'!A275),\"\",SUM('Data Input'!V275))","v":""},{"$f":"IF(M271=\"\",\"\",M271/COUNTIF('Data Input'!$C$8:$AQ$8,$M$2))","v":""},{"$f":"IF(ISBLANK('Data Input'!A275),\"\",SUM('Data Input'!H275,'Data Input'!I275,'Data Input'!M275,'Data Input'!N275,'Data Input'!Q275,'Data Input'!R275,'Data Input'!T275,'Data Input'!Y275,'Data Input'!AD275,'Data Input'!AI275,'Data Input'!AP275,'Data Input'!AQ275))","v":""},{"$f":"IF(O271=\"\",\"\",O271/COUNTIF('Data Input'!$C$8:$AQ$8,$O$2))","v":""}]
[{"$f":"IF('Data Input'!A276=0,\"\",'Data Input'!A276)","v":""},{"$f":"IF(ISBLANK('Data Input'!A276),\"\",COUNTIF('Data Input'!C276:AQ276,\"\")-1)","v":""},{"$f":"IF(ISBLANK('Data Input'!A276),\"\",COUNTIF('Data Input'!C276:AQ276,\"0\"))","v":""},{"$f":"IF(ISBLANK('Data Input'!A276),\"\",SUM(B272,C272))","v":""},{"$f":"IF(ISBLANK('Data Input'!A276),\"\",SUM('Data Input'!C276:V276))","v":""},{"$f":"IF(ISBLANK('Data Input'!A276),\"\",SUM('Data Input'!X276:AQ276))","v":""},{"$f":"IF(ISBLANK('Data Input'!A276),\"\",SUM('Data Input'!C276:AQ276))","v":""},{"$f":"IF(G272=\"\",\"\",G272/(COUNTA('Data Input'!$C$8:$AQ$8)-1))","v":""},{"$f":"IF(ISBLANK('Data Input'!A276),\"\",SUM('Data Input'!C276,'Data Input'!K276,'Data Input'!L276,'Data Input'!AC276,'Data Input'!AF276,'Data Input'!AM276,'Data Input'!AO276))","v":""},{"$f":"IF(I272=\"\",\"\",I272/COUNTIF('Data Input'!$C$8:$AQ$8,$I$2))","v":""},{"$f":"IF(ISBLANK('Data Input'!A276),\"\",SUM('Data Input'!D276,'Data Input'!E276,'Data Input'!F276,'Data Input'!G276,'Data Input'!J276,'Data Input'!O276,'Data Input'!P276,'Data Input'!S276,'Data Input'!U276,'Data Input'!X276,'Data Input'!Z276,'Data Input'!AA276,'Data Input'!AB276,'Data Input'!AE276,'Data Input'!AG276,'Data Input'!AH276,'Data Input'!AJ276,'Data Input'!AK276,'Data Input'!AL276,'Data Input'!AN276))","v":""},{"$f":"IF(K272=\"\",\"\",K272/COUNTIF('Data Input'!$C$8:$AQ$8,$K$2))","v":""},{"$f":"IF(ISBLANK('Data Input'!A276),\"\",SUM('Data Input'!V276))","v":""},{"$f":"IF(M272=\"\",\"\",M272/COUNTIF('Data Input'!$C$8:$AQ$8,$M$2))","v":""},{"$f":"IF(ISBLANK('Data Input'!A276),\"\",SUM('Data Input'!H276,'Data Input'!I276,'Data Input'!M276,'Data Input'!N276,'Data Input'!Q276,'Data Input'!R276,'Data Input'!T276,'Data Input'!Y276,'Data Input'!AD276,'Data Input'!AI276,'Data Input'!AP276,'Data Input'!AQ276))","v":""},{"$f":"IF(O272=\"\",\"\",O272/COUNTIF('Data Input'!$C$8:$AQ$8,$O$2))","v":""}]
[{"$f":"IF('Data Input'!A277=0,\"\",'Data Input'!A277)","v":""},{"$f":"IF(ISBLANK('Data Input'!A277),\"\",COUNTIF('Data Input'!C277:AQ277,\"\")-1)","v":""},{"$f":"IF(ISBLANK('Data Input'!A277),\"\",COUNTIF('Data Input'!C277:AQ277,\"0\"))","v":""},{"$f":"IF(ISBLANK('Data Input'!A277),\"\",SUM(B273,C273))","v":""},{"$f":"IF(ISBLANK('Data Input'!A277),\"\",SUM('Data Input'!C277:V277))","v":""},{"$f":"IF(ISBLANK('Data Input'!A277),\"\",SUM('Data Input'!X277:AQ277))","v":""},{"$f":"IF(ISBLANK('Data Input'!A277),\"\",SUM('Data Input'!C277:AQ277))","v":""},{"$f":"IF(G273=\"\",\"\",G273/(COUNTA('Data Input'!$C$8:$AQ$8)-1))","v":""},{"$f":"IF(ISBLANK('Data Input'!A277),\"\",SUM('Data Input'!C277,'Data Input'!K277,'Data Input'!L277,'Data Input'!AC277,'Data Input'!AF277,'Data Input'!AM277,'Data Input'!AO277))","v":""},{"$f":"IF(I273=\"\",\"\",I273/COUNTIF('Data Input'!$C$8:$AQ$8,$I$2))","v":""},{"$f":"IF(ISBLANK('Data Input'!A277),\"\",SUM('Data Input'!D277,'Data Input'!E277,'Data Input'!F277,'Data Input'!G277,'Data Input'!J277,'Data Input'!O277,'Data Input'!P277,'Data Input'!S277,'Data Input'!U277,'Data Input'!X277,'Data Input'!Z277,'Data Input'!AA277,'Data Input'!AB277,'Data Input'!AE277,'Data Input'!AG277,'Data Input'!AH277,'Data Input'!AJ277,'Data Input'!AK277,'Data Input'!AL277,'Data Input'!AN277))","v":""},{"$f":"IF(K273=\"\",\"\",K273/COUNTIF('Data Input'!$C$8:$AQ$8,$K$2))","v":""},{"$f":"IF(ISBLANK('Data Input'!A277),\"\",SUM('Data Input'!V277))","v":""},{"$f":"IF(M273=\"\",\"\",M273/COUNTIF('Data Input'!$C$8:$AQ$8,$M$2))","v":""},{"$f":"IF(ISBLANK('Data Input'!A277),\"\",SUM('Data Input'!H277,'Data Input'!I277,'Data Input'!M277,'Data Input'!N277,'Data Input'!Q277,'Data Input'!R277,'Data Input'!T277,'Data Input'!Y277,'Data Input'!AD277,'Data Input'!AI277,'Data Input'!AP277,'Data Input'!AQ277))","v":""},{"$f":"IF(O273=\"\",\"\",O273/COUNTIF('Data Input'!$C$8:$AQ$8,$O$2))","v":""}]
[{"$f":"IF('Data Input'!A278=0,\"\",'Data Input'!A278)","v":""},{"$f":"IF(ISBLANK('Data Input'!A278),\"\",COUNTIF('Data Input'!C278:AQ278,\"\")-1)","v":""},{"$f":"IF(ISBLANK('Data Input'!A278),\"\",COUNTIF('Data Input'!C278:AQ278,\"0\"))","v":""},{"$f":"IF(ISBLANK('Data Input'!A278),\"\",SUM(B274,C274))","v":""},{"$f":"IF(ISBLANK('Data Input'!A278),\"\",SUM('Data Input'!C278:V278))","v":""},{"$f":"IF(ISBLANK('Data Input'!A278),\"\",SUM('Data Input'!X278:AQ278))","v":""},{"$f":"IF(ISBLANK('Data Input'!A278),\"\",SUM('Data Input'!C278:AQ278))","v":""},{"$f":"IF(G274=\"\",\"\",G274/(COUNTA('Data Input'!$C$8:$AQ$8)-1))","v":""},{"$f":"IF(ISBLANK('Data Input'!A278),\"\",SUM('Data Input'!C278,'Data Input'!K278,'Data Input'!L278,'Data Input'!AC278,'Data Input'!AF278,'Data Input'!AM278,'Data Input'!AO278))","v":""},{"$f":"IF(I274=\"\",\"\",I274/COUNTIF('Data Input'!$C$8:$AQ$8,$I$2))","v":""},{"$f":"IF(ISBLANK('Data Input'!A278),\"\",SUM('Data Input'!D278,'Data Input'!E278,'Data Input'!F278,'Data Input'!G278,'Data Input'!J278,'Data Input'!O278,'Data Input'!P278,'Data Input'!S278,'Data Input'!U278,'Data Input'!X278,'Data Input'!Z278,'Data Input'!AA278,'Data Input'!AB278,'Data Input'!AE278,'Data Input'!AG278,'Data Input'!AH278,'Data Input'!AJ278,'Data Input'!AK278,'Data Input'!AL278,'Data Input'!AN278))","v":""},{"$f":"IF(K274=\"\",\"\",K274/COUNTIF('Data Input'!$C$8:$AQ$8,$K$2))","v":""},{"$f":"IF(ISBLANK('Data Input'!A278),\"\",SUM('Data Input'!V278))","v":""},{"$f":"IF(M274=\"\",\"\",M274/COUNTIF('Data Input'!$C$8:$AQ$8,$M$2))","v":""},{"$f":"IF(ISBLANK('Data Input'!A278),\"\",SUM('Data Input'!H278,'Data Input'!I278,'Data Input'!M278,'Data Input'!N278,'Data Input'!Q278,'Data Input'!R278,'Data Input'!T278,'Data Input'!Y278,'Data Input'!AD278,'Data Input'!AI278,'Data Input'!AP278,'Data Input'!AQ278))","v":""},{"$f":"IF(O274=\"\",\"\",O274/COUNTIF('Data Input'!$C$8:$AQ$8,$O$2))","v":""}]
[{"$f":"IF('Data Input'!A279=0,\"\",'Data Input'!A279)","v":""},{"$f":"IF(ISBLANK('Data Input'!A279),\"\",COUNTIF('Data Input'!C279:AQ279,\"\")-1)","v":""},{"$f":"IF(ISBLANK('Data Input'!A279),\"\",COUNTIF('Data Input'!C279:AQ279,\"0\"))","v":""},{"$f":"IF(ISBLANK('Data Input'!A279),\"\",SUM(B275,C275))","v":""},{"$f":"IF(ISBLANK('Data Input'!A279),\"\",SUM('Data Input'!C279:V279))","v":""},{"$f":"IF(ISBLANK('Data Input'!A279),\"\",SUM('Data Input'!X279:AQ279))","v":""},{"$f":"IF(ISBLANK('Data Input'!A279),\"\",SUM('Data Input'!C279:AQ279))","v":""},{"$f":"IF(G275=\"\",\"\",G275/(COUNTA('Data Input'!$C$8:$AQ$8)-1))","v":""},{"$f":"IF(ISBLANK('Data Input'!A279),\"\",SUM('Data Input'!C279,'Data Input'!K279,'Data Input'!L279,'Data Input'!AC279,'Data Input'!AF279,'Data Input'!AM279,'Data Input'!AO279))","v":""},{"$f":"IF(I275=\"\",\"\",I275/COUNTIF('Data Input'!$C$8:$AQ$8,$I$2))","v":""},{"$f":"IF(ISBLANK('Data Input'!A279),\"\",SUM('Data Input'!D279,'Data Input'!E279,'Data Input'!F279,'Data Input'!G279,'Data Input'!J279,'Data Input'!O279,'Data Input'!P279,'Data Input'!S279,'Data Input'!U279,'Data Input'!X279,'Data Input'!Z279,'Data Input'!AA279,'Data Input'!AB279,'Data Input'!AE279,'Data Input'!AG279,'Data Input'!AH279,'Data Input'!AJ279,'Data Input'!AK279,'Data Input'!AL279,'Data Input'!AN279))","v":""},{"$f":"IF(K275=\"\",\"\",K275/COUNTIF('Data Input'!$C$8:$AQ$8,$K$2))","v":""},{"$f":"IF(ISBLANK('Data Input'!A279),\"\",SUM('Data Input'!V279))","v":""},{"$f":"IF(M275=\"\",\"\",M275/COUNTIF('Data Input'!$C$8:$AQ$8,$M$2))","v":""},{"$f":"IF(ISBLANK('Data Input'!A279),\"\",SUM('Data Input'!H279,'Data Input'!I279,'Data Input'!M279,'Data Input'!N279,'Data Input'!Q279,'Data Input'!R279,'Data Input'!T279,'Data Input'!Y279,'Data Input'!AD279,'Data Input'!AI279,'Data Input'!AP279,'Data Input'!AQ279))","v":""},{"$f":"IF(O275=\"\",\"\",O275/COUNTIF('Data Input'!$C$8:$AQ$8,$O$2))","v":""}]
[{"$f":"IF('Data Input'!A280=0,\"\",'Data Input'!A280)","v":""},{"$f":"IF(ISBLANK('Data Input'!A280),\"\",COUNTIF('Data Input'!C280:AQ280,\"\")-1)","v":""},{"$f":"IF(ISBLANK('Data Input'!A280),\"\",COUNTIF('Data Input'!C280:AQ280,\"0\"))","v":""},{"$f":"IF(ISBLANK('Data Input'!A280),\"\",SUM(B276,C276))","v":""},{"$f":"IF(ISBLANK('Data Input'!A280),\"\",SUM('Data Input'!C280:V280))","v":""},{"$f":"IF(ISBLANK('Data Input'!A280),\"\",SUM('Data Input'!X280:AQ280))","v":""},{"$f":"IF(ISBLANK('Data Input'!A280),\"\",SUM('Data Input'!C280:AQ280))","v":""},{"$f":"IF(G276=\"\",\"\",G276/(COUNTA('Data Input'!$C$8:$AQ$8)-1))","v":""},{"$f":"IF(ISBLANK('Data Input'!A280),\"\",SUM('Data Input'!C280,'Data Input'!K280,'Data Input'!L280,'Data Input'!AC280,'Data Input'!AF280,'Data Input'!AM280,'Data Input'!AO280))","v":""},{"$f":"IF(I276=\"\",\"\",I276/COUNTIF('Data Input'!$C$8:$AQ$8,$I$2))","v":""},{"$f":"IF(ISBLANK('Data Input'!A280),\"\",SUM('Data Input'!D280,'Data Input'!E280,'Data Input'!F280,'Data Input'!G280,'Data Input'!J280,'Data Input'!O280,'Data Input'!P280,'Data Input'!S280,'Data Input'!U280,'Data Input'!X280,'Data Input'!Z280,'Data Input'!AA280,'Data Input'!AB280,'Data Input'!AE280,'Data Input'!AG280,'Data Input'!AH280,'Data Input'!AJ280,'Data Input'!AK280,'Data Input'!AL280,'Data Input'!AN280))","v":""},{"$f":"IF(K276=\"\",\"\",K276/COUNTIF('Data Input'!$C$8:$AQ$8,$K$2))","v":""},{"$f":"IF(ISBLANK('Data Input'!A280),\"\",SUM('Data Input'!V280))","v":""},{"$f":"IF(M276=\"\",\"\",M276/COUNTIF('Data Input'!$C$8:$AQ$8,$M$2))","v":""},{"$f":"IF(ISBLANK('Data Input'!A280),\"\",SUM('Data Input'!H280,'Data Input'!I280,'Data Input'!M280,'Data Input'!N280,'Data Input'!Q280,'Data Input'!R280,'Data Input'!T280,'Data Input'!Y280,'Data Input'!AD280,'Data Input'!AI280,'Data Input'!AP280,'Data Input'!AQ280))","v":""},{"$f":"IF(O276=\"\",\"\",O276/COUNTIF('Data Input'!$C$8:$AQ$8,$O$2))","v":""}]
[{"$f":"IF('Data Input'!A281=0,\"\",'Data Input'!A281)","v":""},{"$f":"IF(ISBLANK('Data Input'!A281),\"\",COUNTIF('Data Input'!C281:AQ281,\"\")-1)","v":""},{"$f":"IF(ISBLANK('Data Input'!A281),\"\",COUNTIF('Data Input'!C281:AQ281,\"0\"))","v":""},{"$f":"IF(ISBLANK('Data Input'!A281),\"\",SUM(B277,C277))","v":""},{"$f":"IF(ISBLANK('Data Input'!A281),\"\",SUM('Data Input'!C281:V281))","v":""},{"$f":"IF(ISBLANK('Data Input'!A281),\"\",SUM('Data Input'!X281:AQ281))","v":""},{"$f":"IF(ISBLANK('Data Input'!A281),\"\",SUM('Data Input'!C281:AQ281))","v":""},{"$f":"IF(G277=\"\",\"\",G277/(COUNTA('Data Input'!$C$8:$AQ$8)-1))","v":""},{"$f":"IF(ISBLANK('Data Input'!A281),\"\",SUM('Data Input'!C281,'Data Input'!K281,'Data Input'!L281,'Data Input'!AC281,'Data Input'!AF281,'Data Input'!AM281,'Data Input'!AO281))","v":""},{"$f":"IF(I277=\"\",\"\",I277/COUNTIF('Data Input'!$C$8:$AQ$8,$I$2))","v":""},{"$f":"IF(ISBLANK('Data Input'!A281),\"\",SUM('Data Input'!D281,'Data Input'!E281,'Data Input'!F281,'Data Input'!G281,'Data Input'!J281,'Data Input'!O281,'Data Input'!P281,'Data Input'!S281,'Data Input'!U281,'Data Input'!X281,'Data Input'!Z281,'Data Input'!AA281,'Data Input'!AB281,'Data Input'!AE281,'Data Input'!AG281,'Data Input'!AH281,'Data Input'!AJ281,'Data Input'!AK281,'Data Input'!AL281,'Data Input'!AN281))","v":""},{"$f":"IF(K277=\"\",\"\",K277/COUNTIF('Data Input'!$C$8:$AQ$8,$K$2))","v":""},{"$f":"IF(ISBLANK('Data Input'!A281),\"\",SUM('Data Input'!V281))","v":""},{"$f":"IF(M277=\"\",\"\",M277/COUNTIF('Data Input'!$C$8:$AQ$8,$M$2))","v":""},{"$f":"IF(ISBLANK('Data Input'!A281),\"\",SUM('Data Input'!H281,'Data Input'!I281,'Data Input'!M281,'Data Input'!N281,'Data Input'!Q281,'Data Input'!R281,'Data Input'!T281,'Data Input'!Y281,'Data Input'!AD281,'Data Input'!AI281,'Data Input'!AP281,'Data Input'!AQ281))","v":""},{"$f":"IF(O277=\"\",\"\",O277/COUNTIF('Data Input'!$C$8:$AQ$8,$O$2))","v":""}]
[{"$f":"IF('Data Input'!A282=0,\"\",'Data Input'!A282)","v":""},{"$f":"IF(ISBLANK('Data Input'!A282),\"\",COUNTIF('Data Input'!C282:AQ282,\"\")-1)","v":""},{"$f":"IF(ISBLANK('Data Input'!A282),\"\",COUNTIF('Data Input'!C282:AQ282,\"0\"))","v":""},{"$f":"IF(ISBLANK('Data Input'!A282),\"\",SUM(B278,C278))","v":""},{"$f":"IF(ISBLANK('Data Input'!A282),\"\",SUM('Data Input'!C282:V282))","v":""},{"$f":"IF(ISBLANK('Data Input'!A282),\"\",SUM('Data Input'!X282:AQ282))","v":""},{"$f":"IF(ISBLANK('Data Input'!A282),\"\",SUM('Data Input'!C282:AQ282))","v":""},{"$f":"IF(G278=\"\",\"\",G278/(COUNTA('Data Input'!$C$8:$AQ$8)-1))","v":""},{"$f":"IF(ISBLANK('Data Input'!A282),\"\",SUM('Data Input'!C282,'Data Input'!K282,'Data Input'!L282,'Data Input'!AC282,'Data Input'!AF282,'Data Input'!AM282,'Data Input'!AO282))","v":""},{"$f":"IF(I278=\"\",\"\",I278/COUNTIF('Data Input'!$C$8:$AQ$8,$I$2))","v":""},{"$f":"IF(ISBLANK('Data Input'!A282),\"\",SUM('Data Input'!D282,'Data Input'!E282,'Data Input'!F282,'Data Input'!G282,'Data Input'!J282,'Data Input'!O282,'Data Input'!P282,'Data Input'!S282,'Data Input'!U282,'Data Input'!X282,'Data Input'!Z282,'Data Input'!AA282,'Data Input'!AB282,'Data Input'!AE282,'Data Input'!AG282,'Data Input'!AH282,'Data Input'!AJ282,'Data Input'!AK282,'Data Input'!AL282,'Data Input'!AN282))","v":""},{"$f":"IF(K278=\"\",\"\",K278/COUNTIF('Data Input'!$C$8:$AQ$8,$K$2))","v":""},{"$f":"IF(ISBLANK('Data Input'!A282),\"\",SUM('Data Input'!V282))","v":""},{"$f":"IF(M278=\"\",\"\",M278/COUNTIF('Data Input'!$C$8:$AQ$8,$M$2))","v":""},{"$f":"IF(ISBLANK('Data Input'!A282),\"\",SUM('Data Input'!H282,'Data Input'!I282,'Data Input'!M282,'Data Input'!N282,'Data Input'!Q282,'Data Input'!R282,'Data Input'!T282,'Data Input'!Y282,'Data Input'!AD282,'Data Input'!AI282,'Data Input'!AP282,'Data Input'!AQ282))","v":""},{"$f":"IF(O278=\"\",\"\",O278/COUNTIF('Data Input'!$C$8:$AQ$8,$O$2))","v":""}]
[{"$f":"IF('Data Input'!A283=0,\"\",'Data Input'!A283)","v":""},{"$f":"IF(ISBLANK('Data Input'!A283),\"\",COUNTIF('Data Input'!C283:AQ283,\"\")-1)","v":""},{"$f":"IF(ISBLANK('Data Input'!A283),\"\",COUNTIF('Data Input'!C283:AQ283,\"0\"))","v":""},{"$f":"IF(ISBLANK('Data Input'!A283),\"\",SUM(B279,C279))","v":""},{"$f":"IF(ISBLANK('Data Input'!A283),\"\",SUM('Data Input'!C283:V283))","v":""},{"$f":"IF(ISBLANK('Data Input'!A283),\"\",SUM('Data Input'!X283:AQ283))","v":""},{"$f":"IF(ISBLANK('Data Input'!A283),\"\",SUM('Data Input'!C283:AQ283))","v":""},{"$f":"IF(G279=\"\",\"\",G279/(COUNTA('Data Input'!$C$8:$AQ$8)-1))","v":""},{"$f":"IF(ISBLANK('Data Input'!A283),\"\",SUM('Data Input'!C283,'Data Input'!K283,'Data Input'!L283,'Data Input'!AC283,'Data Input'!AF283,'Data Input'!AM283,'Data Input'!AO283))","v":""},{"$f":"IF(I279=\"\",\"\",I279/COUNTIF('Data Input'!$C$8:$AQ$8,$I$2))","v":""},{"$f":"IF(ISBLANK('Data Input'!A283),\"\",SUM('Data Input'!D283,'Data Input'!E283,'Data Input'!F283,'Data Input'!G283,'Data Input'!J283,'Data Input'!O283,'Data Input'!P283,'Data Input'!S283,'Data Input'!U283,'Data Input'!X283,'Data Input'!Z283,'Data Input'!AA283,'Data Input'!AB283,'Data Input'!AE283,'Data Input'!AG283,'Data Input'!AH283,'Data Input'!AJ283,'Data Input'!AK283,'Data Input'!AL283,'Data Input'!AN283))","v":""},{"$f":"IF(K279=\"\",\"\",K279/COUNTIF('Data Input'!$C$8:$AQ$8,$K$2))","v":""},{"$f":"IF(ISBLANK('Data Input'!A283),\"\",SUM('Data Input'!V283))","v":""},{"$f":"IF(M279=\"\",\"\",M279/COUNTIF('Data Input'!$C$8:$AQ$8,$M$2))","v":""},{"$f":"IF(ISBLANK('Data Input'!A283),\"\",SUM('Data Input'!H283,'Data Input'!I283,'Data Input'!M283,'Data Input'!N283,'Data Input'!Q283,'Data Input'!R283,'Data Input'!T283,'Data Input'!Y283,'Data Input'!AD283,'Data Input'!AI283,'Data Input'!AP283,'Data Input'!AQ283))","v":""},{"$f":"IF(O279=\"\",\"\",O279/COUNTIF('Data Input'!$C$8:$AQ$8,$O$2))","v":""}]
[{"$f":"IF('Data Input'!A284=0,\"\",'Data Input'!A284)","v":""},{"$f":"IF(ISBLANK('Data Input'!A284),\"\",COUNTIF('Data Input'!C284:AQ284,\"\")-1)","v":""},{"$f":"IF(ISBLANK('Data Input'!A284),\"\",COUNTIF('Data Input'!C284:AQ284,\"0\"))","v":""},{"$f":"IF(ISBLANK('Data Input'!A284),\"\",SUM(B280,C280))","v":""},{"$f":"IF(ISBLANK('Data Input'!A284),\"\",SUM('Data Input'!C284:V284))","v":""},{"$f":"IF(ISBLANK('Data Input'!A284),\"\",SUM('Data Input'!X284:AQ284))","v":""},{"$f":"IF(ISBLANK('Data Input'!A284),\"\",SUM('Data Input'!C284:AQ284))","v":""},{"$f":"IF(G280=\"\",\"\",G280/(COUNTA('Data Input'!$C$8:$AQ$8)-1))","v":""},{"$f":"IF(ISBLANK('Data Input'!A284),\"\",SUM('Data Input'!C284,'Data Input'!K284,'Data Input'!L284,'Data Input'!AC284,'Data Input'!AF284,'Data Input'!AM284,'Data Input'!AO284))","v":""},{"$f":"IF(I280=\"\",\"\",I280/COUNTIF('Data Input'!$C$8:$AQ$8,$I$2))","v":""},{"$f":"IF(ISBLANK('Data Input'!A284),\"\",SUM('Data Input'!D284,'Data Input'!E284,'Data Input'!F284,'Data Input'!G284,'Data Input'!J284,'Data Input'!O284,'Data Input'!P284,'Data Input'!S284,'Data Input'!U284,'Data Input'!X284,'Data Input'!Z284,'Data Input'!AA284,'Data Input'!AB284,'Data Input'!AE284,'Data Input'!AG284,'Data Input'!AH284,'Data Input'!AJ284,'Data Input'!AK284,'Data Input'!AL284,'Data Input'!AN284))","v":""},{"$f":"IF(K280=\"\",\"\",K280/COUNTIF('Data Input'!$C$8:$AQ$8,$K$2))","v":""},{"$f":"IF(ISBLANK('Data Input'!A284),\"\",SUM('Data Input'!V284))","v":""},{"$f":"IF(M280=\"\",\"\",M280/COUNTIF('Data Input'!$C$8:$AQ$8,$M$2))","v":""},{"$f":"IF(ISBLANK('Data Input'!A284),\"\",SUM('Data Input'!H284,'Data Input'!I284,'Data Input'!M284,'Data Input'!N284,'Data Input'!Q284,'Data Input'!R284,'Data Input'!T284,'Data Input'!Y284,'Data Input'!AD284,'Data Input'!AI284,'Data Input'!AP284,'Data Input'!AQ284))","v":""},{"$f":"IF(O280=\"\",\"\",O280/COUNTIF('Data Input'!$C$8:$AQ$8,$O$2))","v":""}]
[{"$f":"IF('Data Input'!A285=0,\"\",'Data Input'!A285)","v":""},{"$f":"IF(ISBLANK('Data Input'!A285),\"\",COUNTIF('Data Input'!C285:AQ285,\"\")-1)","v":""},{"$f":"IF(ISBLANK('Data Input'!A285),\"\",COUNTIF('Data Input'!C285:AQ285,\"0\"))","v":""},{"$f":"IF(ISBLANK('Data Input'!A285),\"\",SUM(B281,C281))","v":""},{"$f":"IF(ISBLANK('Data Input'!A285),\"\",SUM('Data Input'!C285:V285))","v":""},{"$f":"IF(ISBLANK('Data Input'!A285),\"\",SUM('Data Input'!X285:AQ285))","v":""},{"$f":"IF(ISBLANK('Data Input'!A285),\"\",SUM('Data Input'!C285:AQ285))","v":""},{"$f":"IF(G281=\"\",\"\",G281/(COUNTA('Data Input'!$C$8:$AQ$8)-1))","v":""},{"$f":"IF(ISBLANK('Data Input'!A285),\"\",SUM('Data Input'!C285,'Data Input'!K285,'Data Input'!L285,'Data Input'!AC285,'Data Input'!AF285,'Data Input'!AM285,'Data Input'!AO285))","v":""},{"$f":"IF(I281=\"\",\"\",I281/COUNTIF('Data Input'!$C$8:$AQ$8,$I$2))","v":""},{"$f":"IF(ISBLANK('Data Input'!A285),\"\",SUM('Data Input'!D285,'Data Input'!E285,'Data Input'!F285,'Data Input'!G285,'Data Input'!J285,'Data Input'!O285,'Data Input'!P285,'Data Input'!S285,'Data Input'!U285,'Data Input'!X285,'Data Input'!Z285,'Data Input'!AA285,'Data Input'!AB285,'Data Input'!AE285,'Data Input'!AG285,'Data Input'!AH285,'Data Input'!AJ285,'Data Input'!AK285,'Data Input'!AL285,'Data Input'!AN285))","v":""},{"$f":"IF(K281=\"\",\"\",K281/COUNTIF('Data Input'!$C$8:$AQ$8,$K$2))","v":""},{"$f":"IF(ISBLANK('Data Input'!A285),\"\",SUM('Data Input'!V285))","v":""},{"$f":"IF(M281=\"\",\"\",M281/COUNTIF('Data Input'!$C$8:$AQ$8,$M$2))","v":""},{"$f":"IF(ISBLANK('Data Input'!A285),\"\",SUM('Data Input'!H285,'Data Input'!I285,'Data Input'!M285,'Data Input'!N285,'Data Input'!Q285,'Data Input'!R285,'Data Input'!T285,'Data Input'!Y285,'Data Input'!AD285,'Data Input'!AI285,'Data Input'!AP285,'Data Input'!AQ285))","v":""},{"$f":"IF(O281=\"\",\"\",O281/COUNTIF('Data Input'!$C$8:$AQ$8,$O$2))","v":""}]
[{"$f":"IF('Data Input'!A286=0,\"\",'Data Input'!A286)","v":""},{"$f":"IF(ISBLANK('Data Input'!A286),\"\",COUNTIF('Data Input'!C286:AQ286,\"\")-1)","v":""},{"$f":"IF(ISBLANK('Data Input'!A286),\"\",COUNTIF('Data Input'!C286:AQ286,\"0\"))","v":""},{"$f":"IF(ISBLANK('Data Input'!A286),\"\",SUM(B282,C282))","v":""},{"$f":"IF(ISBLANK('Data Input'!A286),\"\",SUM('Data Input'!C286:V286))","v":""},{"$f":"IF(ISBLANK('Data Input'!A286),\"\",SUM('Data Input'!X286:AQ286))","v":""},{"$f":"IF(ISBLANK('Data Input'!A286),\"\",SUM('Data Input'!C286:AQ286))","v":""},{"$f":"IF(G282=\"\",\"\",G282/(COUNTA('Data Input'!$C$8:$AQ$8)-1))","v":""},{"$f":"IF(ISBLANK('Data Input'!A286),\"\",SUM('Data Input'!C286,'Data Input'!K286,'Data Input'!L286,'Data Input'!AC286,'Data Input'!AF286,'Data Input'!AM286,'Data Input'!AO286))","v":""},{"$f":"IF(I282=\"\",\"\",I282/COUNTIF('Data Input'!$C$8:$AQ$8,$I$2))","v":""},{"$f":"IF(ISBLANK('Data Input'!A286),\"\",SUM('Data Input'!D286,'Data Input'!E286,'Data Input'!F286,'Data Input'!G286,'Data Input'!J286,'Data Input'!O286,'Data Input'!P286,'Data Input'!S286,'Data Input'!U286,'Data Input'!X286,'Data Input'!Z286,'Data Input'!AA286,'Data Input'!AB286,'Data Input'!AE286,'Data Input'!AG286,'Data Input'!AH286,'Data Input'!AJ286,'Data Input'!AK286,'Data Input'!AL286,'Data Input'!AN286))","v":""},{"$f":"IF(K282=\"\",\"\",K282/COUNTIF('Data Input'!$C$8:$AQ$8,$K$2))","v":""},{"$f":"IF(ISBLANK('Data Input'!A286),\"\",SUM('Data Input'!V286))","v":""},{"$f":"IF(M282=\"\",\"\",M282/COUNTIF('Data Input'!$C$8:$AQ$8,$M$2))","v":""},{"$f":"IF(ISBLANK('Data Input'!A286),\"\",SUM('Data Input'!H286,'Data Input'!I286,'Data Input'!M286,'Data Input'!N286,'Data Input'!Q286,'Data Input'!R286,'Data Input'!T286,'Data Input'!Y286,'Data Input'!AD286,'Data Input'!AI286,'Data Input'!AP286,'Data Input'!AQ286))","v":""},{"$f":"IF(O282=\"\",\"\",O282/COUNTIF('Data Input'!$C$8:$AQ$8,$O$2))","v":""}]
[{"$f":"IF('Data Input'!A287=0,\"\",'Data Input'!A287)","v":""},{"$f":"IF(ISBLANK('Data Input'!A287),\"\",COUNTIF('Data Input'!C287:AQ287,\"\")-1)","v":""},{"$f":"IF(ISBLANK('Data Input'!A287),\"\",COUNTIF('Data Input'!C287:AQ287,\"0\"))","v":""},{"$f":"IF(ISBLANK('Data Input'!A287),\"\",SUM(B283,C283))","v":""},{"$f":"IF(ISBLANK('Data Input'!A287),\"\",SUM('Data Input'!C287:V287))","v":""},{"$f":"IF(ISBLANK('Data Input'!A287),\"\",SUM('Data Input'!X287:AQ287))","v":""},{"$f":"IF(ISBLANK('Data Input'!A287),\"\",SUM('Data Input'!C287:AQ287))","v":""},{"$f":"IF(G283=\"\",\"\",G283/(COUNTA('Data Input'!$C$8:$AQ$8)-1))","v":""},{"$f":"IF(ISBLANK('Data Input'!A287),\"\",SUM('Data Input'!C287,'Data Input'!K287,'Data Input'!L287,'Data Input'!AC287,'Data Input'!AF287,'Data Input'!AM287,'Data Input'!AO287))","v":""},{"$f":"IF(I283=\"\",\"\",I283/COUNTIF('Data Input'!$C$8:$AQ$8,$I$2))","v":""},{"$f":"IF(ISBLANK('Data Input'!A287),\"\",SUM('Data Input'!D287,'Data Input'!E287,'Data Input'!F287,'Data Input'!G287,'Data Input'!J287,'Data Input'!O287,'Data Input'!P287,'Data Input'!S287,'Data Input'!U287,'Data Input'!X287,'Data Input'!Z287,'Data Input'!AA287,'Data Input'!AB287,'Data Input'!AE287,'Data Input'!AG287,'Data Input'!AH287,'Data Input'!AJ287,'Data Input'!AK287,'Data Input'!AL287,'Data Input'!AN287))","v":""},{"$f":"IF(K283=\"\",\"\",K283/COUNTIF('Data Input'!$C$8:$AQ$8,$K$2))","v":""},{"$f":"IF(ISBLANK('Data Input'!A287),\"\",SUM('Data Input'!V287))","v":""},{"$f":"IF(M283=\"\",\"\",M283/COUNTIF('Data Input'!$C$8:$AQ$8,$M$2))","v":""},{"$f":"IF(ISBLANK('Data Input'!A287),\"\",SUM('Data Input'!H287,'Data Input'!I287,'Data Input'!M287,'Data Input'!N287,'Data Input'!Q287,'Data Input'!R287,'Data Input'!T287,'Data Input'!Y287,'Data Input'!AD287,'Data Input'!AI287,'Data Input'!AP287,'Data Input'!AQ287))","v":""},{"$f":"IF(O283=\"\",\"\",O283/COUNTIF('Data Input'!$C$8:$AQ$8,$O$2))","v":""}]
[{"$f":"IF('Data Input'!A288=0,\"\",'Data Input'!A288)","v":""},{"$f":"IF(ISBLANK('Data Input'!A288),\"\",COUNTIF('Data Input'!C288:AQ288,\"\")-1)","v":""},{"$f":"IF(ISBLANK('Data Input'!A288),\"\",COUNTIF('Data Input'!C288:AQ288,\"0\"))","v":""},{"$f":"IF(ISBLANK('Data Input'!A288),\"\",SUM(B284,C284))","v":""},{"$f":"IF(ISBLANK('Data Input'!A288),\"\",SUM('Data Input'!C288:V288))","v":""},{"$f":"IF(ISBLANK('Data Input'!A288),\"\",SUM('Data Input'!X288:AQ288))","v":""},{"$f":"IF(ISBLANK('Data Input'!A288),\"\",SUM('Data Input'!C288:AQ288))","v":""},{"$f":"IF(G284=\"\",\"\",G284/(COUNTA('Data Input'!$C$8:$AQ$8)-1))","v":""},{"$f":"IF(ISBLANK('Data Input'!A288),\"\",SUM('Data Input'!C288,'Data Input'!K288,'Data Input'!L288,'Data Input'!AC288,'Data Input'!AF288,'Data Input'!AM288,'Data Input'!AO288))","v":""},{"$f":"IF(I284=\"\",\"\",I284/COUNTIF('Data Input'!$C$8:$AQ$8,$I$2))","v":""},{"$f":"IF(ISBLANK('Data Input'!A288),\"\",SUM('Data Input'!D288,'Data Input'!E288,'Data Input'!F288,'Data Input'!G288,'Data Input'!J288,'Data Input'!O288,'Data Input'!P288,'Data Input'!S288,'Data Input'!U288,'Data Input'!X288,'Data Input'!Z288,'Data Input'!AA288,'Data Input'!AB288,'Data Input'!AE288,'Data Input'!AG288,'Data Input'!AH288,'Data Input'!AJ288,'Data Input'!AK288,'Data Input'!AL288,'Data Input'!AN288))","v":""},{"$f":"IF(K284=\"\",\"\",K284/COUNTIF('Data Input'!$C$8:$AQ$8,$K$2))","v":""},{"$f":"IF(ISBLANK('Data Input'!A288),\"\",SUM('Data Input'!V288))","v":""},{"$f":"IF(M284=\"\",\"\",M284/COUNTIF('Data Input'!$C$8:$AQ$8,$M$2))","v":""},{"$f":"IF(ISBLANK('Data Input'!A288),\"\",SUM('Data Input'!H288,'Data Input'!I288,'Data Input'!M288,'Data Input'!N288,'Data Input'!Q288,'Data Input'!R288,'Data Input'!T288,'Data Input'!Y288,'Data Input'!AD288,'Data Input'!AI288,'Data Input'!AP288,'Data Input'!AQ288))","v":""},{"$f":"IF(O284=\"\",\"\",O284/COUNTIF('Data Input'!$C$8:$AQ$8,$O$2))","v":""}]
[{"$f":"IF('Data Input'!A289=0,\"\",'Data Input'!A289)","v":""},{"$f":"IF(ISBLANK('Data Input'!A289),\"\",COUNTIF('Data Input'!C289:AQ289,\"\")-1)","v":""},{"$f":"IF(ISBLANK('Data Input'!A289),\"\",COUNTIF('Data Input'!C289:AQ289,\"0\"))","v":""},{"$f":"IF(ISBLANK('Data Input'!A289),\"\",SUM(B285,C285))","v":""},{"$f":"IF(ISBLANK('Data Input'!A289),\"\",SUM('Data Input'!C289:V289))","v":""},{"$f":"IF(ISBLANK('Data Input'!A289),\"\",SUM('Data Input'!X289:AQ289))","v":""},{"$f":"IF(ISBLANK('Data Input'!A289),\"\",SUM('Data Input'!C289:AQ289))","v":""},{"$f":"IF(G285=\"\",\"\",G285/(COUNTA('Data Input'!$C$8:$AQ$8)-1))","v":""},{"$f":"IF(ISBLANK('Data Input'!A289),\"\",SUM('Data Input'!C289,'Data Input'!K289,'Data Input'!L289,'Data Input'!AC289,'Data Input'!AF289,'Data Input'!AM289,'Data Input'!AO289))","v":""},{"$f":"IF(I285=\"\",\"\",I285/COUNTIF('Data Input'!$C$8:$AQ$8,$I$2))","v":""},{"$f":"IF(ISBLANK('Data Input'!A289),\"\",SUM('Data Input'!D289,'Data Input'!E289,'Data Input'!F289,'Data Input'!G289,'Data Input'!J289,'Data Input'!O289,'Data Input'!P289,'Data Input'!S289,'Data Input'!U289,'Data Input'!X289,'Data Input'!Z289,'Data Input'!AA289,'Data Input'!AB289,'Data Input'!AE289,'Data Input'!AG289,'Data Input'!AH289,'Data Input'!AJ289,'Data Input'!AK289,'Data Input'!AL289,'Data Input'!AN289))","v":""},{"$f":"IF(K285=\"\",\"\",K285/COUNTIF('Data Input'!$C$8:$AQ$8,$K$2))","v":""},{"$f":"IF(ISBLANK('Data Input'!A289),\"\",SUM('Data Input'!V289))","v":""},{"$f":"IF(M285=\"\",\"\",M285/COUNTIF('Data Input'!$C$8:$AQ$8,$M$2))","v":""},{"$f":"IF(ISBLANK('Data Input'!A289),\"\",SUM('Data Input'!H289,'Data Input'!I289,'Data Input'!M289,'Data Input'!N289,'Data Input'!Q289,'Data Input'!R289,'Data Input'!T289,'Data Input'!Y289,'Data Input'!AD289,'Data Input'!AI289,'Data Input'!AP289,'Data Input'!AQ289))","v":""},{"$f":"IF(O285=\"\",\"\",O285/COUNTIF('Data Input'!$C$8:$AQ$8,$O$2))","v":""}]
[{"$f":"IF('Data Input'!A290=0,\"\",'Data Input'!A290)","v":""},{"$f":"IF(ISBLANK('Data Input'!A290),\"\",COUNTIF('Data Input'!C290:AQ290,\"\")-1)","v":""},{"$f":"IF(ISBLANK('Data Input'!A290),\"\",COUNTIF('Data Input'!C290:AQ290,\"0\"))","v":""},{"$f":"IF(ISBLANK('Data Input'!A290),\"\",SUM(B286,C286))","v":""},{"$f":"IF(ISBLANK('Data Input'!A290),\"\",SUM('Data Input'!C290:V290))","v":""},{"$f":"IF(ISBLANK('Data Input'!A290),\"\",SUM('Data Input'!X290:AQ290))","v":""},{"$f":"IF(ISBLANK('Data Input'!A290),\"\",SUM('Data Input'!C290:AQ290))","v":""},{"$f":"IF(G286=\"\",\"\",G286/(COUNTA('Data Input'!$C$8:$AQ$8)-1))","v":""},{"$f":"IF(ISBLANK('Data Input'!A290),\"\",SUM('Data Input'!C290,'Data Input'!K290,'Data Input'!L290,'Data Input'!AC290,'Data Input'!AF290,'Data Input'!AM290,'Data Input'!AO290))","v":""},{"$f":"IF(I286=\"\",\"\",I286/COUNTIF('Data Input'!$C$8:$AQ$8,$I$2))","v":""},{"$f":"IF(ISBLANK('Data Input'!A290),\"\",SUM('Data Input'!D290,'Data Input'!E290,'Data Input'!F290,'Data Input'!G290,'Data Input'!J290,'Data Input'!O290,'Data Input'!P290,'Data Input'!S290,'Data Input'!U290,'Data Input'!X290,'Data Input'!Z290,'Data Input'!AA290,'Data Input'!AB290,'Data Input'!AE290,'Data Input'!AG290,'Data Input'!AH290,'Data Input'!AJ290,'Data Input'!AK290,'Data Input'!AL290,'Data Input'!AN290))","v":""},{"$f":"IF(K286=\"\",\"\",K286/COUNTIF('Data Input'!$C$8:$AQ$8,$K$2))","v":""},{"$f":"IF(ISBLANK('Data Input'!A290),\"\",SUM('Data Input'!V290))","v":""},{"$f":"IF(M286=\"\",\"\",M286/COUNTIF('Data Input'!$C$8:$AQ$8,$M$2))","v":""},{"$f":"IF(ISBLANK('Data Input'!A290),\"\",SUM('Data Input'!H290,'Data Input'!I290,'Data Input'!M290,'Data Input'!N290,'Data Input'!Q290,'Data Input'!R290,'Data Input'!T290,'Data Input'!Y290,'Data Input'!AD290,'Data Input'!AI290,'Data Input'!AP290,'Data Input'!AQ290))","v":""},{"$f":"IF(O286=\"\",\"\",O286/COUNTIF('Data Input'!$C$8:$AQ$8,$O$2))","v":""}]
[{"$f":"IF('Data Input'!A291=0,\"\",'Data Input'!A291)","v":""},{"$f":"IF(ISBLANK('Data Input'!A291),\"\",COUNTIF('Data Input'!C291:AQ291,\"\")-1)","v":""},{"$f":"IF(ISBLANK('Data Input'!A291),\"\",COUNTIF('Data Input'!C291:AQ291,\"0\"))","v":""},{"$f":"IF(ISBLANK('Data Input'!A291),\"\",SUM(B287,C287))","v":""},{"$f":"IF(ISBLANK('Data Input'!A291),\"\",SUM('Data Input'!C291:V291))","v":""},{"$f":"IF(ISBLANK('Data Input'!A291),\"\",SUM('Data Input'!X291:AQ291))","v":""},{"$f":"IF(ISBLANK('Data Input'!A291),\"\",SUM('Data Input'!C291:AQ291))","v":""},{"$f":"IF(G287=\"\",\"\",G287/(COUNTA('Data Input'!$C$8:$AQ$8)-1))","v":""},{"$f":"IF(ISBLANK('Data Input'!A291),\"\",SUM('Data Input'!C291,'Data Input'!K291,'Data Input'!L291,'Data Input'!AC291,'Data Input'!AF291,'Data Input'!AM291,'Data Input'!AO291))","v":""},{"$f":"IF(I287=\"\",\"\",I287/COUNTIF('Data Input'!$C$8:$AQ$8,$I$2))","v":""},{"$f":"IF(ISBLANK('Data Input'!A291),\"\",SUM('Data Input'!D291,'Data Input'!E291,'Data Input'!F291,'Data Input'!G291,'Data Input'!J291,'Data Input'!O291,'Data Input'!P291,'Data Input'!S291,'Data Input'!U291,'Data Input'!X291,'Data Input'!Z291,'Data Input'!AA291,'Data Input'!AB291,'Data Input'!AE291,'Data Input'!AG291,'Data Input'!AH291,'Data Input'!AJ291,'Data Input'!AK291,'Data Input'!AL291,'Data Input'!AN291))","v":""},{"$f":"IF(K287=\"\",\"\",K287/COUNTIF('Data Input'!$C$8:$AQ$8,$K$2))","v":""},{"$f":"IF(ISBLANK('Data Input'!A291),\"\",SUM('Data Input'!V291))","v":""},{"$f":"IF(M287=\"\",\"\",M287/COUNTIF('Data Input'!$C$8:$AQ$8,$M$2))","v":""},{"$f":"IF(ISBLANK('Data Input'!A291),\"\",SUM('Data Input'!H291,'Data Input'!I291,'Data Input'!M291,'Data Input'!N291,'Data Input'!Q291,'Data Input'!R291,'Data Input'!T291,'Data Input'!Y291,'Data Input'!AD291,'Data Input'!AI291,'Data Input'!AP291,'Data Input'!AQ291))","v":""},{"$f":"IF(O287=\"\",\"\",O287/COUNTIF('Data Input'!$C$8:$AQ$8,$O$2))","v":""}]
[{"$f":"IF('Data Input'!A292=0,\"\",'Data Input'!A292)","v":""},{"$f":"IF(ISBLANK('Data Input'!A292),\"\",COUNTIF('Data Input'!C292:AQ292,\"\")-1)","v":""},{"$f":"IF(ISBLANK('Data Input'!A292),\"\",COUNTIF('Data Input'!C292:AQ292,\"0\"))","v":""},{"$f":"IF(ISBLANK('Data Input'!A292),\"\",SUM(B288,C288))","v":""},{"$f":"IF(ISBLANK('Data Input'!A292),\"\",SUM('Data Input'!C292:V292))","v":""},{"$f":"IF(ISBLANK('Data Input'!A292),\"\",SUM('Data Input'!X292:AQ292))","v":""},{"$f":"IF(ISBLANK('Data Input'!A292),\"\",SUM('Data Input'!C292:AQ292))","v":""},{"$f":"IF(G288=\"\",\"\",G288/(COUNTA('Data Input'!$C$8:$AQ$8)-1))","v":""},{"$f":"IF(ISBLANK('Data Input'!A292),\"\",SUM('Data Input'!C292,'Data Input'!K292,'Data Input'!L292,'Data Input'!AC292,'Data Input'!AF292,'Data Input'!AM292,'Data Input'!AO292))","v":""},{"$f":"IF(I288=\"\",\"\",I288/COUNTIF('Data Input'!$C$8:$AQ$8,$I$2))","v":""},{"$f":"IF(ISBLANK('Data Input'!A292),\"\",SUM('Data Input'!D292,'Data Input'!E292,'Data Input'!F292,'Data Input'!G292,'Data Input'!J292,'Data Input'!O292,'Data Input'!P292,'Data Input'!S292,'Data Input'!U292,'Data Input'!X292,'Data Input'!Z292,'Data Input'!AA292,'Data Input'!AB292,'Data Input'!AE292,'Data Input'!AG292,'Data Input'!AH292,'Data Input'!AJ292,'Data Input'!AK292,'Data Input'!AL292,'Data Input'!AN292))","v":""},{"$f":"IF(K288=\"\",\"\",K288/COUNTIF('Data Input'!$C$8:$AQ$8,$K$2))","v":""},{"$f":"IF(ISBLANK('Data Input'!A292),\"\",SUM('Data Input'!V292))","v":""},{"$f":"IF(M288=\"\",\"\",M288/COUNTIF('Data Input'!$C$8:$AQ$8,$M$2))","v":""},{"$f":"IF(ISBLANK('Data Input'!A292),\"\",SUM('Data Input'!H292,'Data Input'!I292,'Data Input'!M292,'Data Input'!N292,'Data Input'!Q292,'Data Input'!R292,'Data Input'!T292,'Data Input'!Y292,'Data Input'!AD292,'Data Input'!AI292,'Data Input'!AP292,'Data Input'!AQ292))","v":""},{"$f":"IF(O288=\"\",\"\",O288/COUNTIF('Data Input'!$C$8:$AQ$8,$O$2))","v":""}]
[{"$f":"IF('Data Input'!A293=0,\"\",'Data Input'!A293)","v":""},{"$f":"IF(ISBLANK('Data Input'!A293),\"\",COUNTIF('Data Input'!C293:AQ293,\"\")-1)","v":""},{"$f":"IF(ISBLANK('Data Input'!A293),\"\",COUNTIF('Data Input'!C293:AQ293,\"0\"))","v":""},{"$f":"IF(ISBLANK('Data Input'!A293),\"\",SUM(B289,C289))","v":""},{"$f":"IF(ISBLANK('Data Input'!A293),\"\",SUM('Data Input'!C293:V293))","v":""},{"$f":"IF(ISBLANK('Data Input'!A293),\"\",SUM('Data Input'!X293:AQ293))","v":""},{"$f":"IF(ISBLANK('Data Input'!A293),\"\",SUM('Data Input'!C293:AQ293))","v":""},{"$f":"IF(G289=\"\",\"\",G289/(COUNTA('Data Input'!$C$8:$AQ$8)-1))","v":""},{"$f":"IF(ISBLANK('Data Input'!A293),\"\",SUM('Data Input'!C293,'Data Input'!K293,'Data Input'!L293,'Data Input'!AC293,'Data Input'!AF293,'Data Input'!AM293,'Data Input'!AO293))","v":""},{"$f":"IF(I289=\"\",\"\",I289/COUNTIF('Data Input'!$C$8:$AQ$8,$I$2))","v":""},{"$f":"IF(ISBLANK('Data Input'!A293),\"\",SUM('Data Input'!D293,'Data Input'!E293,'Data Input'!F293,'Data Input'!G293,'Data Input'!J293,'Data Input'!O293,'Data Input'!P293,'Data Input'!S293,'Data Input'!U293,'Data Input'!X293,'Data Input'!Z293,'Data Input'!AA293,'Data Input'!AB293,'Data Input'!AE293,'Data Input'!AG293,'Data Input'!AH293,'Data Input'!AJ293,'Data Input'!AK293,'Data Input'!AL293,'Data Input'!AN293))","v":""},{"$f":"IF(K289=\"\",\"\",K289/COUNTIF('Data Input'!$C$8:$AQ$8,$K$2))","v":""},{"$f":"IF(ISBLANK('Data Input'!A293),\"\",SUM('Data Input'!V293))","v":""},{"$f":"IF(M289=\"\",\"\",M289/COUNTIF('Data Input'!$C$8:$AQ$8,$M$2))","v":""},{"$f":"IF(ISBLANK('Data Input'!A293),\"\",SUM('Data Input'!H293,'Data Input'!I293,'Data Input'!M293,'Data Input'!N293,'Data Input'!Q293,'Data Input'!R293,'Data Input'!T293,'Data Input'!Y293,'Data Input'!AD293,'Data Input'!AI293,'Data Input'!AP293,'Data Input'!AQ293))","v":""},{"$f":"IF(O289=\"\",\"\",O289/COUNTIF('Data Input'!$C$8:$AQ$8,$O$2))","v":""}]
[{"$f":"IF('Data Input'!A294=0,\"\",'Data Input'!A294)","v":""},{"$f":"IF(ISBLANK('Data Input'!A294),\"\",COUNTIF('Data Input'!C294:AQ294,\"\")-1)","v":""},{"$f":"IF(ISBLANK('Data Input'!A294),\"\",COUNTIF('Data Input'!C294:AQ294,\"0\"))","v":""},{"$f":"IF(ISBLANK('Data Input'!A294),\"\",SUM(B290,C290))","v":""},{"$f":"IF(ISBLANK('Data Input'!A294),\"\",SUM('Data Input'!C294:V294))","v":""},{"$f":"IF(ISBLANK('Data Input'!A294),\"\",SUM('Data Input'!X294:AQ294))","v":""},{"$f":"IF(ISBLANK('Data Input'!A294),\"\",SUM('Data Input'!C294:AQ294))","v":""},{"$f":"IF(G290=\"\",\"\",G290/(COUNTA('Data Input'!$C$8:$AQ$8)-1))","v":""},{"$f":"IF(ISBLANK('Data Input'!A294),\"\",SUM('Data Input'!C294,'Data Input'!K294,'Data Input'!L294,'Data Input'!AC294,'Data Input'!AF294,'Data Input'!AM294,'Data Input'!AO294))","v":""},{"$f":"IF(I290=\"\",\"\",I290/COUNTIF('Data Input'!$C$8:$AQ$8,$I$2))","v":""},{"$f":"IF(ISBLANK('Data Input'!A294),\"\",SUM('Data Input'!D294,'Data Input'!E294,'Data Input'!F294,'Data Input'!G294,'Data Input'!J294,'Data Input'!O294,'Data Input'!P294,'Data Input'!S294,'Data Input'!U294,'Data Input'!X294,'Data Input'!Z294,'Data Input'!AA294,'Data Input'!AB294,'Data Input'!AE294,'Data Input'!AG294,'Data Input'!AH294,'Data Input'!AJ294,'Data Input'!AK294,'Data Input'!AL294,'Data Input'!AN294))","v":""},{"$f":"IF(K290=\"\",\"\",K290/COUNTIF('Data Input'!$C$8:$AQ$8,$K$2))","v":""},{"$f":"IF(ISBLANK('Data Input'!A294),\"\",SUM('Data Input'!V294))","v":""},{"$f":"IF(M290=\"\",\"\",M290/COUNTIF('Data Input'!$C$8:$AQ$8,$M$2))","v":""},{"$f":"IF(ISBLANK('Data Input'!A294),\"\",SUM('Data Input'!H294,'Data Input'!I294,'Data Input'!M294,'Data Input'!N294,'Data Input'!Q294,'Data Input'!R294,'Data Input'!T294,'Data Input'!Y294,'Data Input'!AD294,'Data Input'!AI294,'Data Input'!AP294,'Data Input'!AQ294))","v":""},{"$f":"IF(O290=\"\",\"\",O290/COUNTIF('Data Input'!$C$8:$AQ$8,$O$2))","v":""}]
[{"$f":"IF('Data Input'!A295=0,\"\",'Data Input'!A295)","v":""},{"$f":"IF(ISBLANK('Data Input'!A295),\"\",COUNTIF('Data Input'!C295:AQ295,\"\")-1)","v":""},{"$f":"IF(ISBLANK('Data Input'!A295),\"\",COUNTIF('Data Input'!C295:AQ295,\"0\"))","v":""},{"$f":"IF(ISBLANK('Data Input'!A295),\"\",SUM(B291,C291))","v":""},{"$f":"IF(ISBLANK('Data Input'!A295),\"\",SUM('Data Input'!C295:V295))","v":""},{"$f":"IF(ISBLANK('Data Input'!A295),\"\",SUM('Data Input'!X295:AQ295))","v":""},{"$f":"IF(ISBLANK('Data Input'!A295),\"\",SUM('Data Input'!C295:AQ295))","v":""},{"$f":"IF(G291=\"\",\"\",G291/(COUNTA('Data Input'!$C$8:$AQ$8)-1))","v":""},{"$f":"IF(ISBLANK('Data Input'!A295),\"\",SUM('Data Input'!C295,'Data Input'!K295,'Data Input'!L295,'Data Input'!AC295,'Data Input'!AF295,'Data Input'!AM295,'Data Input'!AO295))","v":""},{"$f":"IF(I291=\"\",\"\",I291/COUNTIF('Data Input'!$C$8:$AQ$8,$I$2))","v":""},{"$f":"IF(ISBLANK('Data Input'!A295),\"\",SUM('Data Input'!D295,'Data Input'!E295,'Data Input'!F295,'Data Input'!G295,'Data Input'!J295,'Data Input'!O295,'Data Input'!P295,'Data Input'!S295,'Data Input'!U295,'Data Input'!X295,'Data Input'!Z295,'Data Input'!AA295,'Data Input'!AB295,'Data Input'!AE295,'Data Input'!AG295,'Data Input'!AH295,'Data Input'!AJ295,'Data Input'!AK295,'Data Input'!AL295,'Data Input'!AN295))","v":""},{"$f":"IF(K291=\"\",\"\",K291/COUNTIF('Data Input'!$C$8:$AQ$8,$K$2))","v":""},{"$f":"IF(ISBLANK('Data Input'!A295),\"\",SUM('Data Input'!V295))","v":""},{"$f":"IF(M291=\"\",\"\",M291/COUNTIF('Data Input'!$C$8:$AQ$8,$M$2))","v":""},{"$f":"IF(ISBLANK('Data Input'!A295),\"\",SUM('Data Input'!H295,'Data Input'!I295,'Data Input'!M295,'Data Input'!N295,'Data Input'!Q295,'Data Input'!R295,'Data Input'!T295,'Data Input'!Y295,'Data Input'!AD295,'Data Input'!AI295,'Data Input'!AP295,'Data Input'!AQ295))","v":""},{"$f":"IF(O291=\"\",\"\",O291/COUNTIF('Data Input'!$C$8:$AQ$8,$O$2))","v":""}]
[{"$f":"IF('Data Input'!A296=0,\"\",'Data Input'!A296)","v":""},{"$f":"IF(ISBLANK('Data Input'!A296),\"\",COUNTIF('Data Input'!C296:AQ296,\"\")-1)","v":""},{"$f":"IF(ISBLANK('Data Input'!A296),\"\",COUNTIF('Data Input'!C296:AQ296,\"0\"))","v":""},{"$f":"IF(ISBLANK('Data Input'!A296),\"\",SUM(B292,C292))","v":""},{"$f":"IF(ISBLANK('Data Input'!A296),\"\",SUM('Data Input'!C296:V296))","v":""},{"$f":"IF(ISBLANK('Data Input'!A296),\"\",SUM('Data Input'!X296:AQ296))","v":""},{"$f":"IF(ISBLANK('Data Input'!A296),\"\",SUM('Data Input'!C296:AQ296))","v":""},{"$f":"IF(G292=\"\",\"\",G292/(COUNTA('Data Input'!$C$8:$AQ$8)-1))","v":""},{"$f":"IF(ISBLANK('Data Input'!A296),\"\",SUM('Data Input'!C296,'Data Input'!K296,'Data Input'!L296,'Data Input'!AC296,'Data Input'!AF296,'Data Input'!AM296,'Data Input'!AO296))","v":""},{"$f":"IF(I292=\"\",\"\",I292/COUNTIF('Data Input'!$C$8:$AQ$8,$I$2))","v":""},{"$f":"IF(ISBLANK('Data Input'!A296),\"\",SUM('Data Input'!D296,'Data Input'!E296,'Data Input'!F296,'Data Input'!G296,'Data Input'!J296,'Data Input'!O296,'Data Input'!P296,'Data Input'!S296,'Data Input'!U296,'Data Input'!X296,'Data Input'!Z296,'Data Input'!AA296,'Data Input'!AB296,'Data Input'!AE296,'Data Input'!AG296,'Data Input'!AH296,'Data Input'!AJ296,'Data Input'!AK296,'Data Input'!AL296,'Data Input'!AN296))","v":""},{"$f":"IF(K292=\"\",\"\",K292/COUNTIF('Data Input'!$C$8:$AQ$8,$K$2))","v":""},{"$f":"IF(ISBLANK('Data Input'!A296),\"\",SUM('Data Input'!V296))","v":""},{"$f":"IF(M292=\"\",\"\",M292/COUNTIF('Data Input'!$C$8:$AQ$8,$M$2))","v":""},{"$f":"IF(ISBLANK('Data Input'!A296),\"\",SUM('Data Input'!H296,'Data Input'!I296,'Data Input'!M296,'Data Input'!N296,'Data Input'!Q296,'Data Input'!R296,'Data Input'!T296,'Data Input'!Y296,'Data Input'!AD296,'Data Input'!AI296,'Data Input'!AP296,'Data Input'!AQ296))","v":""},{"$f":"IF(O292=\"\",\"\",O292/COUNTIF('Data Input'!$C$8:$AQ$8,$O$2))","v":""}]
[{"$f":"IF('Data Input'!A297=0,\"\",'Data Input'!A297)","v":""},{"$f":"IF(ISBLANK('Data Input'!A297),\"\",COUNTIF('Data Input'!C297:AQ297,\"\")-1)","v":""},{"$f":"IF(ISBLANK('Data Input'!A297),\"\",COUNTIF('Data Input'!C297:AQ297,\"0\"))","v":""},{"$f":"IF(ISBLANK('Data Input'!A297),\"\",SUM(B293,C293))","v":""},{"$f":"IF(ISBLANK('Data Input'!A297),\"\",SUM('Data Input'!C297:V297))","v":""},{"$f":"IF(ISBLANK('Data Input'!A297),\"\",SUM('Data Input'!X297:AQ297))","v":""},{"$f":"IF(ISBLANK('Data Input'!A297),\"\",SUM('Data Input'!C297:AQ297))","v":""},{"$f":"IF(G293=\"\",\"\",G293/(COUNTA('Data Input'!$C$8:$AQ$8)-1))","v":""},{"$f":"IF(ISBLANK('Data Input'!A297),\"\",SUM('Data Input'!C297,'Data Input'!K297,'Data Input'!L297,'Data Input'!AC297,'Data Input'!AF297,'Data Input'!AM297,'Data Input'!AO297))","v":""},{"$f":"IF(I293=\"\",\"\",I293/COUNTIF('Data Input'!$C$8:$AQ$8,$I$2))","v":""},{"$f":"IF(ISBLANK('Data Input'!A297),\"\",SUM('Data Input'!D297,'Data Input'!E297,'Data Input'!F297,'Data Input'!G297,'Data Input'!J297,'Data Input'!O297,'Data Input'!P297,'Data Input'!S297,'Data Input'!U297,'Data Input'!X297,'Data Input'!Z297,'Data Input'!AA297,'Data Input'!AB297,'Data Input'!AE297,'Data Input'!AG297,'Data Input'!AH297,'Data Input'!AJ297,'Data Input'!AK297,'Data Input'!AL297,'Data Input'!AN297))","v":""},{"$f":"IF(K293=\"\",\"\",K293/COUNTIF('Data Input'!$C$8:$AQ$8,$K$2))","v":""},{"$f":"IF(ISBLANK('Data Input'!A297),\"\",SUM('Data Input'!V297))","v":""},{"$f":"IF(M293=\"\",\"\",M293/COUNTIF('Data Input'!$C$8:$AQ$8,$M$2))","v":""},{"$f":"IF(ISBLANK('Data Input'!A297),\"\",SUM('Data Input'!H297,'Data Input'!I297,'Data Input'!M297,'Data Input'!N297,'Data Input'!Q297,'Data Input'!R297,'Data Input'!T297,'Data Input'!Y297,'Data Input'!AD297,'Data Input'!AI297,'Data Input'!AP297,'Data Input'!AQ297))","v":""},{"$f":"IF(O293=\"\",\"\",O293/COUNTIF('Data Input'!$C$8:$AQ$8,$O$2))","v":""}]
[{"$f":"IF('Data Input'!A298=0,\"\",'Data Input'!A298)","v":""},{"$f":"IF(ISBLANK('Data Input'!A298),\"\",COUNTIF('Data Input'!C298:AQ298,\"\")-1)","v":""},{"$f":"IF(ISBLANK('Data Input'!A298),\"\",COUNTIF('Data Input'!C298:AQ298,\"0\"))","v":""},{"$f":"IF(ISBLANK('Data Input'!A298),\"\",SUM(B294,C294))","v":""},{"$f":"IF(ISBLANK('Data Input'!A298),\"\",SUM('Data Input'!C298:V298))","v":""},{"$f":"IF(ISBLANK('Data Input'!A298),\"\",SUM('Data Input'!X298:AQ298))","v":""},{"$f":"IF(ISBLANK('Data Input'!A298),\"\",SUM('Data Input'!C298:AQ298))","v":""},{"$f":"IF(G294=\"\",\"\",G294/(COUNTA('Data Input'!$C$8:$AQ$8)-1))","v":""},{"$f":"IF(ISBLANK('Data Input'!A298),\"\",SUM('Data Input'!C298,'Data Input'!K298,'Data Input'!L298,'Data Input'!AC298,'Data Input'!AF298,'Data Input'!AM298,'Data Input'!AO298))","v":""},{"$f":"IF(I294=\"\",\"\",I294/COUNTIF('Data Input'!$C$8:$AQ$8,$I$2))","v":""},{"$f":"IF(ISBLANK('Data Input'!A298),\"\",SUM('Data Input'!D298,'Data Input'!E298,'Data Input'!F298,'Data Input'!G298,'Data Input'!J298,'Data Input'!O298,'Data Input'!P298,'Data Input'!S298,'Data Input'!U298,'Data Input'!X298,'Data Input'!Z298,'Data Input'!AA298,'Data Input'!AB298,'Data Input'!AE298,'Data Input'!AG298,'Data Input'!AH298,'Data Input'!AJ298,'Data Input'!AK298,'Data Input'!AL298,'Data Input'!AN298))","v":""},{"$f":"IF(K294=\"\",\"\",K294/COUNTIF('Data Input'!$C$8:$AQ$8,$K$2))","v":""},{"$f":"IF(ISBLANK('Data Input'!A298),\"\",SUM('Data Input'!V298))","v":""},{"$f":"IF(M294=\"\",\"\",M294/COUNTIF('Data Input'!$C$8:$AQ$8,$M$2))","v":""},{"$f":"IF(ISBLANK('Data Input'!A298),\"\",SUM('Data Input'!H298,'Data Input'!I298,'Data Input'!M298,'Data Input'!N298,'Data Input'!Q298,'Data Input'!R298,'Data Input'!T298,'Data Input'!Y298,'Data Input'!AD298,'Data Input'!AI298,'Data Input'!AP298,'Data Input'!AQ298))","v":""},{"$f":"IF(O294=\"\",\"\",O294/COUNTIF('Data Input'!$C$8:$AQ$8,$O$2))","v":""}]
[{"$f":"IF('Data Input'!A299=0,\"\",'Data Input'!A299)","v":""},{"$f":"IF(ISBLANK('Data Input'!A299),\"\",COUNTIF('Data Input'!C299:AQ299,\"\")-1)","v":""},{"$f":"IF(ISBLANK('Data Input'!A299),\"\",COUNTIF('Data Input'!C299:AQ299,\"0\"))","v":""},{"$f":"IF(ISBLANK('Data Input'!A299),\"\",SUM(B295,C295))","v":""},{"$f":"IF(ISBLANK('Data Input'!A299),\"\",SUM('Data Input'!C299:V299))","v":""},{"$f":"IF(ISBLANK('Data Input'!A299),\"\",SUM('Data Input'!X299:AQ299))","v":""},{"$f":"IF(ISBLANK('Data Input'!A299),\"\",SUM('Data Input'!C299:AQ299))","v":""},{"$f":"IF(G295=\"\",\"\",G295/(COUNTA('Data Input'!$C$8:$AQ$8)-1))","v":""},{"$f":"IF(ISBLANK('Data Input'!A299),\"\",SUM('Data Input'!C299,'Data Input'!K299,'Data Input'!L299,'Data Input'!AC299,'Data Input'!AF299,'Data Input'!AM299,'Data Input'!AO299))","v":""},{"$f":"IF(I295=\"\",\"\",I295/COUNTIF('Data Input'!$C$8:$AQ$8,$I$2))","v":""},{"$f":"IF(ISBLANK('Data Input'!A299),\"\",SUM('Data Input'!D299,'Data Input'!E299,'Data Input'!F299,'Data Input'!G299,'Data Input'!J299,'Data Input'!O299,'Data Input'!P299,'Data Input'!S299,'Data Input'!U299,'Data Input'!X299,'Data Input'!Z299,'Data Input'!AA299,'Data Input'!AB299,'Data Input'!AE299,'Data Input'!AG299,'Data Input'!AH299,'Data Input'!AJ299,'Data Input'!AK299,'Data Input'!AL299,'Data Input'!AN299))","v":""},{"$f":"IF(K295=\"\",\"\",K295/COUNTIF('Data Input'!$C$8:$AQ$8,$K$2))","v":""},{"$f":"IF(ISBLANK('Data Input'!A299),\"\",SUM('Data Input'!V299))","v":""},{"$f":"IF(M295=\"\",\"\",M295/COUNTIF('Data Input'!$C$8:$AQ$8,$M$2))","v":""},{"$f":"IF(ISBLANK('Data Input'!A299),\"\",SUM('Data Input'!H299,'Data Input'!I299,'Data Input'!M299,'Data Input'!N299,'Data Input'!Q299,'Data Input'!R299,'Data Input'!T299,'Data Input'!Y299,'Data Input'!AD299,'Data Input'!AI299,'Data Input'!AP299,'Data Input'!AQ299))","v":""},{"$f":"IF(O295=\"\",\"\",O295/COUNTIF('Data Input'!$C$8:$AQ$8,$O$2))","v":""}]
[{"$f":"IF('Data Input'!A300=0,\"\",'Data Input'!A300)","v":""},{"$f":"IF(ISBLANK('Data Input'!A300),\"\",COUNTIF('Data Input'!C300:AQ300,\"\")-1)","v":""},{"$f":"IF(ISBLANK('Data Input'!A300),\"\",COUNTIF('Data Input'!C300:AQ300,\"0\"))","v":""},{"$f":"IF(ISBLANK('Data Input'!A300),\"\",SUM(B296,C296))","v":""},{"$f":"IF(ISBLANK('Data Input'!A300),\"\",SUM('Data Input'!C300:V300))","v":""},{"$f":"IF(ISBLANK('Data Input'!A300),\"\",SUM('Data Input'!X300:AQ300))","v":""},{"$f":"IF(ISBLANK('Data Input'!A300),\"\",SUM('Data Input'!C300:AQ300))","v":""},{"$f":"IF(G296=\"\",\"\",G296/(COUNTA('Data Input'!$C$8:$AQ$8)-1))","v":""},{"$f":"IF(ISBLANK('Data Input'!A300),\"\",SUM('Data Input'!C300,'Data Input'!K300,'Data Input'!L300,'Data Input'!AC300,'Data Input'!AF300,'Data Input'!AM300,'Data Input'!AO300))","v":""},{"$f":"IF(I296=\"\",\"\",I296/COUNTIF('Data Input'!$C$8:$AQ$8,$I$2))","v":""},{"$f":"IF(ISBLANK('Data Input'!A300),\"\",SUM('Data Input'!D300,'Data Input'!E300,'Data Input'!F300,'Data Input'!G300,'Data Input'!J300,'Data Input'!O300,'Data Input'!P300,'Data Input'!S300,'Data Input'!U300,'Data Input'!X300,'Data Input'!Z300,'Data Input'!AA300,'Data Input'!AB300,'Data Input'!AE300,'Data Input'!AG300,'Data Input'!AH300,'Data Input'!AJ300,'Data Input'!AK300,'Data Input'!AL300,'Data Input'!AN300))","v":""},{"$f":"IF(K296=\"\",\"\",K296/COUNTIF('Data Input'!$C$8:$AQ$8,$K$2))","v":""},{"$f":"IF(ISBLANK('Data Input'!A300),\"\",SUM('Data Input'!V300))","v":""},{"$f":"IF(M296=\"\",\"\",M296/COUNTIF('Data Input'!$C$8:$AQ$8,$M$2))","v":""},{"$f":"IF(ISBLANK('Data Input'!A300),\"\",SUM('Data Input'!H300,'Data Input'!I300,'Data Input'!M300,'Data Input'!N300,'Data Input'!Q300,'Data Input'!R300,'Data Input'!T300,'Data Input'!Y300,'Data Input'!AD300,'Data Input'!AI300,'Data Input'!AP300,'Data Input'!AQ300))","v":""},{"$f":"IF(O296=\"\",\"\",O296/COUNTIF('Data Input'!$C$8:$AQ$8,$O$2))","v":""}]
[{"$f":"IF('Data Input'!A301=0,\"\",'Data Input'!A301)","v":""},{"$f":"IF(ISBLANK('Data Input'!A301),\"\",COUNTIF('Data Input'!C301:AQ301,\"\")-1)","v":""},{"$f":"IF(ISBLANK('Data Input'!A301),\"\",COUNTIF('Data Input'!C301:AQ301,\"0\"))","v":""},{"$f":"IF(ISBLANK('Data Input'!A301),\"\",SUM(B297,C297))","v":""},{"$f":"IF(ISBLANK('Data Input'!A301),\"\",SUM('Data Input'!C301:V301))","v":""},{"$f":"IF(ISBLANK('Data Input'!A301),\"\",SUM('Data Input'!X301:AQ301))","v":""},{"$f":"IF(ISBLANK('Data Input'!A301),\"\",SUM('Data Input'!C301:AQ301))","v":""},{"$f":"IF(G297=\"\",\"\",G297/(COUNTA('Data Input'!$C$8:$AQ$8)-1))","v":""},{"$f":"IF(ISBLANK('Data Input'!A301),\"\",SUM('Data Input'!C301,'Data Input'!K301,'Data Input'!L301,'Data Input'!AC301,'Data Input'!AF301,'Data Input'!AM301,'Data Input'!AO301))","v":""},{"$f":"IF(I297=\"\",\"\",I297/COUNTIF('Data Input'!$C$8:$AQ$8,$I$2))","v":""},{"$f":"IF(ISBLANK('Data Input'!A301),\"\",SUM('Data Input'!D301,'Data Input'!E301,'Data Input'!F301,'Data Input'!G301,'Data Input'!J301,'Data Input'!O301,'Data Input'!P301,'Data Input'!S301,'Data Input'!U301,'Data Input'!X301,'Data Input'!Z301,'Data Input'!AA301,'Data Input'!AB301,'Data Input'!AE301,'Data Input'!AG301,'Data Input'!AH301,'Data Input'!AJ301,'Data Input'!AK301,'Data Input'!AL301,'Data Input'!AN301))","v":""},{"$f":"IF(K297=\"\",\"\",K297/COUNTIF('Data Input'!$C$8:$AQ$8,$K$2))","v":""},{"$f":"IF(ISBLANK('Data Input'!A301),\"\",SUM('Data Input'!V301))","v":""},{"$f":"IF(M297=\"\",\"\",M297/COUNTIF('Data Input'!$C$8:$AQ$8,$M$2))","v":""},{"$f":"IF(ISBLANK('Data Input'!A301),\"\",SUM('Data Input'!H301,'Data Input'!I301,'Data Input'!M301,'Data Input'!N301,'Data Input'!Q301,'Data Input'!R301,'Data Input'!T301,'Data Input'!Y301,'Data Input'!AD301,'Data Input'!AI301,'Data Input'!AP301,'Data Input'!AQ301))","v":""},{"$f":"IF(O297=\"\",\"\",O297/COUNTIF('Data Input'!$C$8:$AQ$8,$O$2))","v":""}]
[{"$f":"IF('Data Input'!A302=0,\"\",'Data Input'!A302)","v":""},{"$f":"IF(ISBLANK('Data Input'!A302),\"\",COUNTIF('Data Input'!C302:AQ302,\"\")-1)","v":""},{"$f":"IF(ISBLANK('Data Input'!A302),\"\",COUNTIF('Data Input'!C302:AQ302,\"0\"))","v":""},{"$f":"IF(ISBLANK('Data Input'!A302),\"\",SUM(B298,C298))","v":""},{"$f":"IF(ISBLANK('Data Input'!A302),\"\",SUM('Data Input'!C302:V302))","v":""},{"$f":"IF(ISBLANK('Data Input'!A302),\"\",SUM('Data Input'!X302:AQ302))","v":""},{"$f":"IF(ISBLANK('Data Input'!A302),\"\",SUM('Data Input'!C302:AQ302))","v":""},{"$f":"IF(G298=\"\",\"\",G298/(COUNTA('Data Input'!$C$8:$AQ$8)-1))","v":""},{"$f":"IF(ISBLANK('Data Input'!A302),\"\",SUM('Data Input'!C302,'Data Input'!K302,'Data Input'!L302,'Data Input'!AC302,'Data Input'!AF302,'Data Input'!AM302,'Data Input'!AO302))","v":""},{"$f":"IF(I298=\"\",\"\",I298/COUNTIF('Data Input'!$C$8:$AQ$8,$I$2))","v":""},{"$f":"IF(ISBLANK('Data Input'!A302),\"\",SUM('Data Input'!D302,'Data Input'!E302,'Data Input'!F302,'Data Input'!G302,'Data Input'!J302,'Data Input'!O302,'Data Input'!P302,'Data Input'!S302,'Data Input'!U302,'Data Input'!X302,'Data Input'!Z302,'Data Input'!AA302,'Data Input'!AB302,'Data Input'!AE302,'Data Input'!AG302,'Data Input'!AH302,'Data Input'!AJ302,'Data Input'!AK302,'Data Input'!AL302,'Data Input'!AN302))","v":""},{"$f":"IF(K298=\"\",\"\",K298/COUNTIF('Data Input'!$C$8:$AQ$8,$K$2))","v":""},{"$f":"IF(ISBLANK('Data Input'!A302),\"\",SUM('Data Input'!V302))","v":""},{"$f":"IF(M298=\"\",\"\",M298/COUNTIF('Data Input'!$C$8:$AQ$8,$M$2))","v":""},{"$f":"IF(ISBLANK('Data Input'!A302),\"\",SUM('Data Input'!H302,'Data Input'!I302,'Data Input'!M302,'Data Input'!N302,'Data Input'!Q302,'Data Input'!R302,'Data Input'!T302,'Data Input'!Y302,'Data Input'!AD302,'Data Input'!AI302,'Data Input'!AP302,'Data Input'!AQ302))","v":""},{"$f":"IF(O298=\"\",\"\",O298/COUNTIF('Data Input'!$C$8:$AQ$8,$O$2))","v":""}]
[{"$f":"IF('Data Input'!A303=0,\"\",'Data Input'!A303)","v":""},{"$f":"IF(ISBLANK('Data Input'!A303),\"\",COUNTIF('Data Input'!C303:AQ303,\"\")-1)","v":""},{"$f":"IF(ISBLANK('Data Input'!A303),\"\",COUNTIF('Data Input'!C303:AQ303,\"0\"))","v":""},{"$f":"IF(ISBLANK('Data Input'!A303),\"\",SUM(B299,C299))","v":""},{"$f":"IF(ISBLANK('Data Input'!A303),\"\",SUM('Data Input'!C303:V303))","v":""},{"$f":"IF(ISBLANK('Data Input'!A303),\"\",SUM('Data Input'!X303:AQ303))","v":""},{"$f":"IF(ISBLANK('Data Input'!A303),\"\",SUM('Data Input'!C303:AQ303))","v":""},{"$f":"IF(G299=\"\",\"\",G299/(COUNTA('Data Input'!$C$8:$AQ$8)-1))","v":""},{"$f":"IF(ISBLANK('Data Input'!A303),\"\",SUM('Data Input'!C303,'Data Input'!K303,'Data Input'!L303,'Data Input'!AC303,'Data Input'!AF303,'Data Input'!AM303,'Data Input'!AO303))","v":""},{"$f":"IF(I299=\"\",\"\",I299/COUNTIF('Data Input'!$C$8:$AQ$8,$I$2))","v":""},{"$f":"IF(ISBLANK('Data Input'!A303),\"\",SUM('Data Input'!D303,'Data Input'!E303,'Data Input'!F303,'Data Input'!G303,'Data Input'!J303,'Data Input'!O303,'Data Input'!P303,'Data Input'!S303,'Data Input'!U303,'Data Input'!X303,'Data Input'!Z303,'Data Input'!AA303,'Data Input'!AB303,'Data Input'!AE303,'Data Input'!AG303,'Data Input'!AH303,'Data Input'!AJ303,'Data Input'!AK303,'Data Input'!AL303,'Data Input'!AN303))","v":""},{"$f":"IF(K299=\"\",\"\",K299/COUNTIF('Data Input'!$C$8:$AQ$8,$K$2))","v":""},{"$f":"IF(ISBLANK('Data Input'!A303),\"\",SUM('Data Input'!V303))","v":""},{"$f":"IF(M299=\"\",\"\",M299/COUNTIF('Data Input'!$C$8:$AQ$8,$M$2))","v":""},{"$f":"IF(ISBLANK('Data Input'!A303),\"\",SUM('Data Input'!H303,'Data Input'!I303,'Data Input'!M303,'Data Input'!N303,'Data Input'!Q303,'Data Input'!R303,'Data Input'!T303,'Data Input'!Y303,'Data Input'!AD303,'Data Input'!AI303,'Data Input'!AP303,'Data Input'!AQ303))","v":""},{"$f":"IF(O299=\"\",\"\",O299/COUNTIF('Data Input'!$C$8:$AQ$8,$O$2))","v":""}]
[{"$f":"IF('Data Input'!A304=0,\"\",'Data Input'!A304)","v":""},{"$f":"IF(ISBLANK('Data Input'!A304),\"\",COUNTIF('Data Input'!C304:AQ304,\"\")-1)","v":""},{"$f":"IF(ISBLANK('Data Input'!A304),\"\",COUNTIF('Data Input'!C304:AQ304,\"0\"))","v":""},{"$f":"IF(ISBLANK('Data Input'!A304),\"\",SUM(B300,C300))","v":""},{"$f":"IF(ISBLANK('Data Input'!A304),\"\",SUM('Data Input'!C304:V304))","v":""},{"$f":"IF(ISBLANK('Data Input'!A304),\"\",SUM('Data Input'!X304:AQ304))","v":""},{"$f":"IF(ISBLANK('Data Input'!A304),\"\",SUM('Data Input'!C304:AQ304))","v":""},{"$f":"IF(G300=\"\",\"\",G300/(COUNTA('Data Input'!$C$8:$AQ$8)-1))","v":""},{"$f":"IF(ISBLANK('Data Input'!A304),\"\",SUM('Data Input'!C304,'Data Input'!K304,'Data Input'!L304,'Data Input'!AC304,'Data Input'!AF304,'Data Input'!AM304,'Data Input'!AO304))","v":""},{"$f":"IF(I300=\"\",\"\",I300/COUNTIF('Data Input'!$C$8:$AQ$8,$I$2))","v":""},{"$f":"IF(ISBLANK('Data Input'!A304),\"\",SUM('Data Input'!D304,'Data Input'!E304,'Data Input'!F304,'Data Input'!G304,'Data Input'!J304,'Data Input'!O304,'Data Input'!P304,'Data Input'!S304,'Data Input'!U304,'Data Input'!X304,'Data Input'!Z304,'Data Input'!AA304,'Data Input'!AB304,'Data Input'!AE304,'Data Input'!AG304,'Data Input'!AH304,'Data Input'!AJ304,'Data Input'!AK304,'Data Input'!AL304,'Data Input'!AN304))","v":""},{"$f":"IF(K300=\"\",\"\",K300/COUNTIF('Data Input'!$C$8:$AQ$8,$K$2))","v":""},{"$f":"IF(ISBLANK('Data Input'!A304),\"\",SUM('Data Input'!V304))","v":""},{"$f":"IF(M300=\"\",\"\",M300/COUNTIF('Data Input'!$C$8:$AQ$8,$M$2))","v":""},{"$f":"IF(ISBLANK('Data Input'!A304),\"\",SUM('Data Input'!H304,'Data Input'!I304,'Data Input'!M304,'Data Input'!N304,'Data Input'!Q304,'Data Input'!R304,'Data Input'!T304,'Data Input'!Y304,'Data Input'!AD304,'Data Input'!AI304,'Data Input'!AP304,'Data Input'!AQ304))","v":""},{"$f":"IF(O300=\"\",\"\",O300/COUNTIF('Data Input'!$C$8:$AQ$8,$O$2))","v":""}]
[{"$f":"IF('Data Input'!A305=0,\"\",'Data Input'!A305)","v":""},{"$f":"IF(ISBLANK('Data Input'!A305),\"\",COUNTIF('Data Input'!C305:AQ305,\"\")-1)","v":""},{"$f":"IF(ISBLANK('Data Input'!A305),\"\",COUNTIF('Data Input'!C305:AQ305,\"0\"))","v":""},{"$f":"IF(ISBLANK('Data Input'!A305),\"\",SUM(B301,C301))","v":""},{"$f":"IF(ISBLANK('Data Input'!A305),\"\",SUM('Data Input'!C305:V305))","v":""},{"$f":"IF(ISBLANK('Data Input'!A305),\"\",SUM('Data Input'!X305:AQ305))","v":""},{"$f":"IF(ISBLANK('Data Input'!A305),\"\",SUM('Data Input'!C305:AQ305))","v":""},{"$f":"IF(G301=\"\",\"\",G301/(COUNTA('Data Input'!$C$8:$AQ$8)-1))","v":""},{"$f":"IF(ISBLANK('Data Input'!A305),\"\",SUM('Data Input'!C305,'Data Input'!K305,'Data Input'!L305,'Data Input'!AC305,'Data Input'!AF305,'Data Input'!AM305,'Data Input'!AO305))","v":""},{"$f":"IF(I301=\"\",\"\",I301/COUNTIF('Data Input'!$C$8:$AQ$8,$I$2))","v":""},{"$f":"IF(ISBLANK('Data Input'!A305),\"\",SUM('Data Input'!D305,'Data Input'!E305,'Data Input'!F305,'Data Input'!G305,'Data Input'!J305,'Data Input'!O305,'Data Input'!P305,'Data Input'!S305,'Data Input'!U305,'Data Input'!X305,'Data Input'!Z305,'Data Input'!AA305,'Data Input'!AB305,'Data Input'!AE305,'Data Input'!AG305,'Data Input'!AH305,'Data Input'!AJ305,'Data Input'!AK305,'Data Input'!AL305,'Data Input'!AN305))","v":""},{"$f":"IF(K301=\"\",\"\",K301/COUNTIF('Data Input'!$C$8:$AQ$8,$K$2))","v":""},{"$f":"IF(ISBLANK('Data Input'!A305),\"\",SUM('Data Input'!V305))","v":""},{"$f":"IF(M301=\"\",\"\",M301/COUNTIF('Data Input'!$C$8:$AQ$8,$M$2))","v":""},{"$f":"IF(ISBLANK('Data Input'!A305),\"\",SUM('Data Input'!H305,'Data Input'!I305,'Data Input'!M305,'Data Input'!N305,'Data Input'!Q305,'Data Input'!R305,'Data Input'!T305,'Data Input'!Y305,'Data Input'!AD305,'Data Input'!AI305,'Data Input'!AP305,'Data Input'!AQ305))","v":""},{"$f":"IF(O301=\"\",\"\",O301/COUNTIF('Data Input'!$C$8:$AQ$8,$O$2))","v":""}]
[{"$f":"IF('Data Input'!A306=0,\"\",'Data Input'!A306)","v":""},{"$f":"IF(ISBLANK('Data Input'!A306),\"\",COUNTIF('Data Input'!C306:AQ306,\"\")-1)","v":""},{"$f":"IF(ISBLANK('Data Input'!A306),\"\",COUNTIF('Data Input'!C306:AQ306,\"0\"))","v":""},{"$f":"IF(ISBLANK('Data Input'!A306),\"\",SUM(B302,C302))","v":""},{"$f":"IF(ISBLANK('Data Input'!A306),\"\",SUM('Data Input'!C306:V306))","v":""},{"$f":"IF(ISBLANK('Data Input'!A306),\"\",SUM('Data Input'!X306:AQ306))","v":""},{"$f":"IF(ISBLANK('Data Input'!A306),\"\",SUM('Data Input'!C306:AQ306))","v":""},{"$f":"IF(G302=\"\",\"\",G302/(COUNTA('Data Input'!$C$8:$AQ$8)-1))","v":""},{"$f":"IF(ISBLANK('Data Input'!A306),\"\",SUM('Data Input'!C306,'Data Input'!K306,'Data Input'!L306,'Data Input'!AC306,'Data Input'!AF306,'Data Input'!AM306,'Data Input'!AO306))","v":""},{"$f":"IF(I302=\"\",\"\",I302/COUNTIF('Data Input'!$C$8:$AQ$8,$I$2))","v":""},{"$f":"IF(ISBLANK('Data Input'!A306),\"\",SUM('Data Input'!D306,'Data Input'!E306,'Data Input'!F306,'Data Input'!G306,'Data Input'!J306,'Data Input'!O306,'Data Input'!P306,'Data Input'!S306,'Data Input'!U306,'Data Input'!X306,'Data Input'!Z306,'Data Input'!AA306,'Data Input'!AB306,'Data Input'!AE306,'Data Input'!AG306,'Data Input'!AH306,'Data Input'!AJ306,'Data Input'!AK306,'Data Input'!AL306,'Data Input'!AN306))","v":""},{"$f":"IF(K302=\"\",\"\",K302/COUNTIF('Data Input'!$C$8:$AQ$8,$K$2))","v":""},{"$f":"IF(ISBLANK('Data Input'!A306),\"\",SUM('Data Input'!V306))","v":""},{"$f":"IF(M302=\"\",\"\",M302/COUNTIF('Data Input'!$C$8:$AQ$8,$M$2))","v":""},{"$f":"IF(ISBLANK('Data Input'!A306),\"\",SUM('Data Input'!H306,'Data Input'!I306,'Data Input'!M306,'Data Input'!N306,'Data Input'!Q306,'Data Input'!R306,'Data Input'!T306,'Data Input'!Y306,'Data Input'!AD306,'Data Input'!AI306,'Data Input'!AP306,'Data Input'!AQ306))","v":""},{"$f":"IF(O302=\"\",\"\",O302/COUNTIF('Data Input'!$C$8:$AQ$8,$O$2))","v":""}]
[{"$f":"IF('Data Input'!A307=0,\"\",'Data Input'!A307)","v":""},{"$f":"IF(ISBLANK('Data Input'!A307),\"\",COUNTIF('Data Input'!C307:AQ307,\"\")-1)","v":""},{"$f":"IF(ISBLANK('Data Input'!A307),\"\",COUNTIF('Data Input'!C307:AQ307,\"0\"))","v":""},{"$f":"IF(ISBLANK('Data Input'!A307),\"\",SUM(B303,C303))","v":""},{"$f":"IF(ISBLANK('Data Input'!A307),\"\",SUM('Data Input'!C307:V307))","v":""},{"$f":"IF(ISBLANK('Data Input'!A307),\"\",SUM('Data Input'!X307:AQ307))","v":""},{"$f":"IF(ISBLANK('Data Input'!A307),\"\",SUM('Data Input'!C307:AQ307))","v":""},{"$f":"IF(G303=\"\",\"\",G303/(COUNTA('Data Input'!$C$8:$AQ$8)-1))","v":""},{"$f":"IF(ISBLANK('Data Input'!A307),\"\",SUM('Data Input'!C307,'Data Input'!K307,'Data Input'!L307,'Data Input'!AC307,'Data Input'!AF307,'Data Input'!AM307,'Data Input'!AO307))","v":""},{"$f":"IF(I303=\"\",\"\",I303/COUNTIF('Data Input'!$C$8:$AQ$8,$I$2))","v":""},{"$f":"IF(ISBLANK('Data Input'!A307),\"\",SUM('Data Input'!D307,'Data Input'!E307,'Data Input'!F307,'Data Input'!G307,'Data Input'!J307,'Data Input'!O307,'Data Input'!P307,'Data Input'!S307,'Data Input'!U307,'Data Input'!X307,'Data Input'!Z307,'Data Input'!AA307,'Data Input'!AB307,'Data Input'!AE307,'Data Input'!AG307,'Data Input'!AH307,'Data Input'!AJ307,'Data Input'!AK307,'Data Input'!AL307,'Data Input'!AN307))","v":""},{"$f":"IF(K303=\"\",\"\",K303/COUNTIF('Data Input'!$C$8:$AQ$8,$K$2))","v":""},{"$f":"IF(ISBLANK('Data Input'!A307),\"\",SUM('Data Input'!V307))","v":""},{"$f":"IF(M303=\"\",\"\",M303/COUNTIF('Data Input'!$C$8:$AQ$8,$M$2))","v":""},{"$f":"IF(ISBLANK('Data Input'!A307),\"\",SUM('Data Input'!H307,'Data Input'!I307,'Data Input'!M307,'Data Input'!N307,'Data Input'!Q307,'Data Input'!R307,'Data Input'!T307,'Data Input'!Y307,'Data Input'!AD307,'Data Input'!AI307,'Data Input'!AP307,'Data Input'!AQ307))","v":""},{"$f":"IF(O303=\"\",\"\",O303/COUNTIF('Data Input'!$C$8:$AQ$8,$O$2))","v":""}]
[{"$f":"IF('Data Input'!A308=0,\"\",'Data Input'!A308)","v":""},{"$f":"IF(ISBLANK('Data Input'!A308),\"\",COUNTIF('Data Input'!C308:AQ308,\"\")-1)","v":""},{"$f":"IF(ISBLANK('Data Input'!A308),\"\",COUNTIF('Data Input'!C308:AQ308,\"0\"))","v":""},{"$f":"IF(ISBLANK('Data Input'!A308),\"\",SUM(B304,C304))","v":""},{"$f":"IF(ISBLANK('Data Input'!A308),\"\",SUM('Data Input'!C308:V308))","v":""},{"$f":"IF(ISBLANK('Data Input'!A308),\"\",SUM('Data Input'!X308:AQ308))","v":""},{"$f":"IF(ISBLANK('Data Input'!A308),\"\",SUM('Data Input'!C308:AQ308))","v":""},{"$f":"IF(G304=\"\",\"\",G304/(COUNTA('Data Input'!$C$8:$AQ$8)-1))","v":""},{"$f":"IF(ISBLANK('Data Input'!A308),\"\",SUM('Data Input'!C308,'Data Input'!K308,'Data Input'!L308,'Data Input'!AC308,'Data Input'!AF308,'Data Input'!AM308,'Data Input'!AO308))","v":""},{"$f":"IF(I304=\"\",\"\",I304/COUNTIF('Data Input'!$C$8:$AQ$8,$I$2))","v":""},{"$f":"IF(ISBLANK('Data Input'!A308),\"\",SUM('Data Input'!D308,'Data Input'!E308,'Data Input'!F308,'Data Input'!G308,'Data Input'!J308,'Data Input'!O308,'Data Input'!P308,'Data Input'!S308,'Data Input'!U308,'Data Input'!X308,'Data Input'!Z308,'Data Input'!AA308,'Data Input'!AB308,'Data Input'!AE308,'Data Input'!AG308,'Data Input'!AH308,'Data Input'!AJ308,'Data Input'!AK308,'Data Input'!AL308,'Data Input'!AN308))","v":""},{"$f":"IF(K304=\"\",\"\",K304/COUNTIF('Data Input'!$C$8:$AQ$8,$K$2))","v":""},{"$f":"IF(ISBLANK('Data Input'!A308),\"\",SUM('Data Input'!V308))","v":""},{"$f":"IF(M304=\"\",\"\",M304/COUNTIF('Data Input'!$C$8:$AQ$8,$M$2))","v":""},{"$f":"IF(ISBLANK('Data Input'!A308),\"\",SUM('Data Input'!H308,'Data Input'!I308,'Data Input'!M308,'Data Input'!N308,'Data Input'!Q308,'Data Input'!R308,'Data Input'!T308,'Data Input'!Y308,'Data Input'!AD308,'Data Input'!AI308,'Data Input'!AP308,'Data Input'!AQ308))","v":""},{"$f":"IF(O304=\"\",\"\",O304/COUNTIF('Data Input'!$C$8:$AQ$8,$O$2))","v":""}]
[{"$f":"IF('Data Input'!A309=0,\"\",'Data Input'!A309)","v":""},{"$f":"IF(ISBLANK('Data Input'!A309),\"\",COUNTIF('Data Input'!C309:AQ309,\"\")-1)","v":""},{"$f":"IF(ISBLANK('Data Input'!A309),\"\",COUNTIF('Data Input'!C309:AQ309,\"0\"))","v":""},{"$f":"IF(ISBLANK('Data Input'!A309),\"\",SUM(B305,C305))","v":""},{"$f":"IF(ISBLANK('Data Input'!A309),\"\",SUM('Data Input'!C309:V309))","v":""},{"$f":"IF(ISBLANK('Data Input'!A309),\"\",SUM('Data Input'!X309:AQ309))","v":""},{"$f":"IF(ISBLANK('Data Input'!A309),\"\",SUM('Data Input'!C309:AQ309))","v":""},{"$f":"IF(G305=\"\",\"\",G305/(COUNTA('Data Input'!$C$8:$AQ$8)-1))","v":""},{"$f":"IF(ISBLANK('Data Input'!A309),\"\",SUM('Data Input'!C309,'Data Input'!K309,'Data Input'!L309,'Data Input'!AC309,'Data Input'!AF309,'Data Input'!AM309,'Data Input'!AO309))","v":""},{"$f":"IF(I305=\"\",\"\",I305/COUNTIF('Data Input'!$C$8:$AQ$8,$I$2))","v":""},{"$f":"IF(ISBLANK('Data Input'!A309),\"\",SUM('Data Input'!D309,'Data Input'!E309,'Data Input'!F309,'Data Input'!G309,'Data Input'!J309,'Data Input'!O309,'Data Input'!P309,'Data Input'!S309,'Data Input'!U309,'Data Input'!X309,'Data Input'!Z309,'Data Input'!AA309,'Data Input'!AB309,'Data Input'!AE309,'Data Input'!AG309,'Data Input'!AH309,'Data Input'!AJ309,'Data Input'!AK309,'Data Input'!AL309,'Data Input'!AN309))","v":""},{"$f":"IF(K305=\"\",\"\",K305/COUNTIF('Data Input'!$C$8:$AQ$8,$K$2))","v":""},{"$f":"IF(ISBLANK('Data Input'!A309),\"\",SUM('Data Input'!V309))","v":""},{"$f":"IF(M305=\"\",\"\",M305/COUNTIF('Data Input'!$C$8:$AQ$8,$M$2))","v":""},{"$f":"IF(ISBLANK('Data Input'!A309),\"\",SUM('Data Input'!H309,'Data Input'!I309,'Data Input'!M309,'Data Input'!N309,'Data Input'!Q309,'Data Input'!R309,'Data Input'!T309,'Data Input'!Y309,'Data Input'!AD309,'Data Input'!AI309,'Data Input'!AP309,'Data Input'!AQ309))","v":""},{"$f":"IF(O305=\"\",\"\",O305/COUNTIF('Data Input'!$C$8:$AQ$8,$O$2))","v":""}]
[{"$f":"IF('Data Input'!A310=0,\"\",'Data Input'!A310)","v":""},{"$f":"IF(ISBLANK('Data Input'!A310),\"\",COUNTIF('Data Input'!C310:AQ310,\"\")-1)","v":""},{"$f":"IF(ISBLANK('Data Input'!A310),\"\",COUNTIF('Data Input'!C310:AQ310,\"0\"))","v":""},{"$f":"IF(ISBLANK('Data Input'!A310),\"\",SUM(B306,C306))","v":""},{"$f":"IF(ISBLANK('Data Input'!A310),\"\",SUM('Data Input'!C310:V310))","v":""},{"$f":"IF(ISBLANK('Data Input'!A310),\"\",SUM('Data Input'!X310:AQ310))","v":""},{"$f":"IF(ISBLANK('Data Input'!A310),\"\",SUM('Data Input'!C310:AQ310))","v":""},{"$f":"IF(G306=\"\",\"\",G306/(COUNTA('Data Input'!$C$8:$AQ$8)-1))","v":""},{"$f":"IF(ISBLANK('Data Input'!A310),\"\",SUM('Data Input'!C310,'Data Input'!K310,'Data Input'!L310,'Data Input'!AC310,'Data Input'!AF310,'Data Input'!AM310,'Data Input'!AO310))","v":""},{"$f":"IF(I306=\"\",\"\",I306/COUNTIF('Data Input'!$C$8:$AQ$8,$I$2))","v":""},{"$f":"IF(ISBLANK('Data Input'!A310),\"\",SUM('Data Input'!D310,'Data Input'!E310,'Data Input'!F310,'Data Input'!G310,'Data Input'!J310,'Data Input'!O310,'Data Input'!P310,'Data Input'!S310,'Data Input'!U310,'Data Input'!X310,'Data Input'!Z310,'Data Input'!AA310,'Data Input'!AB310,'Data Input'!AE310,'Data Input'!AG310,'Data Input'!AH310,'Data Input'!AJ310,'Data Input'!AK310,'Data Input'!AL310,'Data Input'!AN310))","v":""},{"$f":"IF(K306=\"\",\"\",K306/COUNTIF('Data Input'!$C$8:$AQ$8,$K$2))","v":""},{"$f":"IF(ISBLANK('Data Input'!A310),\"\",SUM('Data Input'!V310))","v":""},{"$f":"IF(M306=\"\",\"\",M306/COUNTIF('Data Input'!$C$8:$AQ$8,$M$2))","v":""},{"$f":"IF(ISBLANK('Data Input'!A310),\"\",SUM('Data Input'!H310,'Data Input'!I310,'Data Input'!M310,'Data Input'!N310,'Data Input'!Q310,'Data Input'!R310,'Data Input'!T310,'Data Input'!Y310,'Data Input'!AD310,'Data Input'!AI310,'Data Input'!AP310,'Data Input'!AQ310))","v":""},{"$f":"IF(O306=\"\",\"\",O306/COUNTIF('Data Input'!$C$8:$AQ$8,$O$2))","v":""}]
[{"$f":"IF('Data Input'!A311=0,\"\",'Data Input'!A311)","v":""},{"$f":"IF(ISBLANK('Data Input'!A311),\"\",COUNTIF('Data Input'!C311:AQ311,\"\")-1)","v":""},{"$f":"IF(ISBLANK('Data Input'!A311),\"\",COUNTIF('Data Input'!C311:AQ311,\"0\"))","v":""},{"$f":"IF(ISBLANK('Data Input'!A311),\"\",SUM(B307,C307))","v":""},{"$f":"IF(ISBLANK('Data Input'!A311),\"\",SUM('Data Input'!C311:V311))","v":""},{"$f":"IF(ISBLANK('Data Input'!A311),\"\",SUM('Data Input'!X311:AQ311))","v":""},{"$f":"IF(ISBLANK('Data Input'!A311),\"\",SUM('Data Input'!C311:AQ311))","v":""},{"$f":"IF(G307=\"\",\"\",G307/(COUNTA('Data Input'!$C$8:$AQ$8)-1))","v":""},{"$f":"IF(ISBLANK('Data Input'!A311),\"\",SUM('Data Input'!C311,'Data Input'!K311,'Data Input'!L311,'Data Input'!AC311,'Data Input'!AF311,'Data Input'!AM311,'Data Input'!AO311))","v":""},{"$f":"IF(I307=\"\",\"\",I307/COUNTIF('Data Input'!$C$8:$AQ$8,$I$2))","v":""},{"$f":"IF(ISBLANK('Data Input'!A311),\"\",SUM('Data Input'!D311,'Data Input'!E311,'Data Input'!F311,'Data Input'!G311,'Data Input'!J311,'Data Input'!O311,'Data Input'!P311,'Data Input'!S311,'Data Input'!U311,'Data Input'!X311,'Data Input'!Z311,'Data Input'!AA311,'Data Input'!AB311,'Data Input'!AE311,'Data Input'!AG311,'Data Input'!AH311,'Data Input'!AJ311,'Data Input'!AK311,'Data Input'!AL311,'Data Input'!AN311))","v":""},{"$f":"IF(K307=\"\",\"\",K307/COUNTIF('Data Input'!$C$8:$AQ$8,$K$2))","v":""},{"$f":"IF(ISBLANK('Data Input'!A311),\"\",SUM('Data Input'!V311))","v":""},{"$f":"IF(M307=\"\",\"\",M307/COUNTIF('Data Input'!$C$8:$AQ$8,$M$2))","v":""},{"$f":"IF(ISBLANK('Data Input'!A311),\"\",SUM('Data Input'!H311,'Data Input'!I311,'Data Input'!M311,'Data Input'!N311,'Data Input'!Q311,'Data Input'!R311,'Data Input'!T311,'Data Input'!Y311,'Data Input'!AD311,'Data Input'!AI311,'Data Input'!AP311,'Data Input'!AQ311))","v":""},{"$f":"IF(O307=\"\",\"\",O307/COUNTIF('Data Input'!$C$8:$AQ$8,$O$2))","v":""}]
[{"$f":"IF('Data Input'!A312=0,\"\",'Data Input'!A312)","v":""},{"$f":"IF(ISBLANK('Data Input'!A312),\"\",COUNTIF('Data Input'!C312:AQ312,\"\")-1)","v":""},{"$f":"IF(ISBLANK('Data Input'!A312),\"\",COUNTIF('Data Input'!C312:AQ312,\"0\"))","v":""},{"$f":"IF(ISBLANK('Data Input'!A312),\"\",SUM(B308,C308))","v":""},{"$f":"IF(ISBLANK('Data Input'!A312),\"\",SUM('Data Input'!C312:V312))","v":""},{"$f":"IF(ISBLANK('Data Input'!A312),\"\",SUM('Data Input'!X312:AQ312))","v":""},{"$f":"IF(ISBLANK('Data Input'!A312),\"\",SUM('Data Input'!C312:AQ312))","v":""},{"$f":"IF(G308=\"\",\"\",G308/(COUNTA('Data Input'!$C$8:$AQ$8)-1))","v":""},{"$f":"IF(ISBLANK('Data Input'!A312),\"\",SUM('Data Input'!C312,'Data Input'!K312,'Data Input'!L312,'Data Input'!AC312,'Data Input'!AF312,'Data Input'!AM312,'Data Input'!AO312))","v":""},{"$f":"IF(I308=\"\",\"\",I308/COUNTIF('Data Input'!$C$8:$AQ$8,$I$2))","v":""},{"$f":"IF(ISBLANK('Data Input'!A312),\"\",SUM('Data Input'!D312,'Data Input'!E312,'Data Input'!F312,'Data Input'!G312,'Data Input'!J312,'Data Input'!O312,'Data Input'!P312,'Data Input'!S312,'Data Input'!U312,'Data Input'!X312,'Data Input'!Z312,'Data Input'!AA312,'Data Input'!AB312,'Data Input'!AE312,'Data Input'!AG312,'Data Input'!AH312,'Data Input'!AJ312,'Data Input'!AK312,'Data Input'!AL312,'Data Input'!AN312))","v":""},{"$f":"IF(K308=\"\",\"\",K308/COUNTIF('Data Input'!$C$8:$AQ$8,$K$2))","v":""},{"$f":"IF(ISBLANK('Data Input'!A312),\"\",SUM('Data Input'!V312))","v":""},{"$f":"IF(M308=\"\",\"\",M308/COUNTIF('Data Input'!$C$8:$AQ$8,$M$2))","v":""},{"$f":"IF(ISBLANK('Data Input'!A312),\"\",SUM('Data Input'!H312,'Data Input'!I312,'Data Input'!M312,'Data Input'!N312,'Data Input'!Q312,'Data Input'!R312,'Data Input'!T312,'Data Input'!Y312,'Data Input'!AD312,'Data Input'!AI312,'Data Input'!AP312,'Data Input'!AQ312))","v":""},{"$f":"IF(O308=\"\",\"\",O308/COUNTIF('Data Input'!$C$8:$AQ$8,$O$2))","v":""}]
[{"$f":"IF('Data Input'!A313=0,\"\",'Data Input'!A313)","v":""},{"$f":"IF(ISBLANK('Data Input'!A313),\"\",COUNTIF('Data Input'!C313:AQ313,\"\")-1)","v":""},{"$f":"IF(ISBLANK('Data Input'!A313),\"\",COUNTIF('Data Input'!C313:AQ313,\"0\"))","v":""},{"$f":"IF(ISBLANK('Data Input'!A313),\"\",SUM(B309,C309))","v":""},{"$f":"IF(ISBLANK('Data Input'!A313),\"\",SUM('Data Input'!C313:V313))","v":""},{"$f":"IF(ISBLANK('Data Input'!A313),\"\",SUM('Data Input'!X313:AQ313))","v":""},{"$f":"IF(ISBLANK('Data Input'!A313),\"\",SUM('Data Input'!C313:AQ313))","v":""},{"$f":"IF(G309=\"\",\"\",G309/(COUNTA('Data Input'!$C$8:$AQ$8)-1))","v":""},{"$f":"IF(ISBLANK('Data Input'!A313),\"\",SUM('Data Input'!C313,'Data Input'!K313,'Data Input'!L313,'Data Input'!AC313,'Data Input'!AF313,'Data Input'!AM313,'Data Input'!AO313))","v":""},{"$f":"IF(I309=\"\",\"\",I309/COUNTIF('Data Input'!$C$8:$AQ$8,$I$2))","v":""},{"$f":"IF(ISBLANK('Data Input'!A313),\"\",SUM('Data Input'!D313,'Data Input'!E313,'Data Input'!F313,'Data Input'!G313,'Data Input'!J313,'Data Input'!O313,'Data Input'!P313,'Data Input'!S313,'Data Input'!U313,'Data Input'!X313,'Data Input'!Z313,'Data Input'!AA313,'Data Input'!AB313,'Data Input'!AE313,'Data Input'!AG313,'Data Input'!AH313,'Data Input'!AJ313,'Data Input'!AK313,'Data Input'!AL313,'Data Input'!AN313))","v":""},{"$f":"IF(K309=\"\",\"\",K309/COUNTIF('Data Input'!$C$8:$AQ$8,$K$2))","v":""},{"$f":"IF(ISBLANK('Data Input'!A313),\"\",SUM('Data Input'!V313))","v":""},{"$f":"IF(M309=\"\",\"\",M309/COUNTIF('Data Input'!$C$8:$AQ$8,$M$2))","v":""},{"$f":"IF(ISBLANK('Data Input'!A313),\"\",SUM('Data Input'!H313,'Data Input'!I313,'Data Input'!M313,'Data Input'!N313,'Data Input'!Q313,'Data Input'!R313,'Data Input'!T313,'Data Input'!Y313,'Data Input'!AD313,'Data Input'!AI313,'Data Input'!AP313,'Data Input'!AQ313))","v":""},{"$f":"IF(O309=\"\",\"\",O309/COUNTIF('Data Input'!$C$8:$AQ$8,$O$2))","v":""}]
[{"$f":"IF('Data Input'!A314=0,\"\",'Data Input'!A314)","v":""},{"$f":"IF(ISBLANK('Data Input'!A314),\"\",COUNTIF('Data Input'!C314:AQ314,\"\")-1)","v":""},{"$f":"IF(ISBLANK('Data Input'!A314),\"\",COUNTIF('Data Input'!C314:AQ314,\"0\"))","v":""},{"$f":"IF(ISBLANK('Data Input'!A314),\"\",SUM(B310,C310))","v":""},{"$f":"IF(ISBLANK('Data Input'!A314),\"\",SUM('Data Input'!C314:V314))","v":""},{"$f":"IF(ISBLANK('Data Input'!A314),\"\",SUM('Data Input'!X314:AQ314))","v":""},{"$f":"IF(ISBLANK('Data Input'!A314),\"\",SUM('Data Input'!C314:AQ314))","v":""},{"$f":"IF(G310=\"\",\"\",G310/(COUNTA('Data Input'!$C$8:$AQ$8)-1))","v":""},{"$f":"IF(ISBLANK('Data Input'!A314),\"\",SUM('Data Input'!C314,'Data Input'!K314,'Data Input'!L314,'Data Input'!AC314,'Data Input'!AF314,'Data Input'!AM314,'Data Input'!AO314))","v":""},{"$f":"IF(I310=\"\",\"\",I310/COUNTIF('Data Input'!$C$8:$AQ$8,$I$2))","v":""},{"$f":"IF(ISBLANK('Data Input'!A314),\"\",SUM('Data Input'!D314,'Data Input'!E314,'Data Input'!F314,'Data Input'!G314,'Data Input'!J314,'Data Input'!O314,'Data Input'!P314,'Data Input'!S314,'Data Input'!U314,'Data Input'!X314,'Data Input'!Z314,'Data Input'!AA314,'Data Input'!AB314,'Data Input'!AE314,'Data Input'!AG314,'Data Input'!AH314,'Data Input'!AJ314,'Data Input'!AK314,'Data Input'!AL314,'Data Input'!AN314))","v":""},{"$f":"IF(K310=\"\",\"\",K310/COUNTIF('Data Input'!$C$8:$AQ$8,$K$2))","v":""},{"$f":"IF(ISBLANK('Data Input'!A314),\"\",SUM('Data Input'!V314))","v":""},{"$f":"IF(M310=\"\",\"\",M310/COUNTIF('Data Input'!$C$8:$AQ$8,$M$2))","v":""},{"$f":"IF(ISBLANK('Data Input'!A314),\"\",SUM('Data Input'!H314,'Data Input'!I314,'Data Input'!M314,'Data Input'!N314,'Data Input'!Q314,'Data Input'!R314,'Data Input'!T314,'Data Input'!Y314,'Data Input'!AD314,'Data Input'!AI314,'Data Input'!AP314,'Data Input'!AQ314))","v":""},{"$f":"IF(O310=\"\",\"\",O310/COUNTIF('Data Input'!$C$8:$AQ$8,$O$2))","v":""}]
[{"$f":"IF('Data Input'!A315=0,\"\",'Data Input'!A315)","v":""},{"$f":"IF(ISBLANK('Data Input'!A315),\"\",COUNTIF('Data Input'!C315:AQ315,\"\")-1)","v":""},{"$f":"IF(ISBLANK('Data Input'!A315),\"\",COUNTIF('Data Input'!C315:AQ315,\"0\"))","v":""},{"$f":"IF(ISBLANK('Data Input'!A315),\"\",SUM(B311,C311))","v":""},{"$f":"IF(ISBLANK('Data Input'!A315),\"\",SUM('Data Input'!C315:V315))","v":""},{"$f":"IF(ISBLANK('Data Input'!A315),\"\",SUM('Data Input'!X315:AQ315))","v":""},{"$f":"IF(ISBLANK('Data Input'!A315),\"\",SUM('Data Input'!C315:AQ315))","v":""},{"$f":"IF(G311=\"\",\"\",G311/(COUNTA('Data Input'!$C$8:$AQ$8)-1))","v":""},{"$f":"IF(ISBLANK('Data Input'!A315),\"\",SUM('Data Input'!C315,'Data Input'!K315,'Data Input'!L315,'Data Input'!AC315,'Data Input'!AF315,'Data Input'!AM315,'Data Input'!AO315))","v":""},{"$f":"IF(I311=\"\",\"\",I311/COUNTIF('Data Input'!$C$8:$AQ$8,$I$2))","v":""},{"$f":"IF(ISBLANK('Data Input'!A315),\"\",SUM('Data Input'!D315,'Data Input'!E315,'Data Input'!F315,'Data Input'!G315,'Data Input'!J315,'Data Input'!O315,'Data Input'!P315,'Data Input'!S315,'Data Input'!U315,'Data Input'!X315,'Data Input'!Z315,'Data Input'!AA315,'Data Input'!AB315,'Data Input'!AE315,'Data Input'!AG315,'Data Input'!AH315,'Data Input'!AJ315,'Data Input'!AK315,'Data Input'!AL315,'Data Input'!AN315))","v":""},{"$f":"IF(K311=\"\",\"\",K311/COUNTIF('Data Input'!$C$8:$AQ$8,$K$2))","v":""},{"$f":"IF(ISBLANK('Data Input'!A315),\"\",SUM('Data Input'!V315))","v":""},{"$f":"IF(M311=\"\",\"\",M311/COUNTIF('Data Input'!$C$8:$AQ$8,$M$2))","v":""},{"$f":"IF(ISBLANK('Data Input'!A315),\"\",SUM('Data Input'!H315,'Data Input'!I315,'Data Input'!M315,'Data Input'!N315,'Data Input'!Q315,'Data Input'!R315,'Data Input'!T315,'Data Input'!Y315,'Data Input'!AD315,'Data Input'!AI315,'Data Input'!AP315,'Data Input'!AQ315))","v":""},{"$f":"IF(O311=\"\",\"\",O311/COUNTIF('Data Input'!$C$8:$AQ$8,$O$2))","v":""}]
[{"$f":"IF('Data Input'!A316=0,\"\",'Data Input'!A316)","v":""},{"$f":"IF(ISBLANK('Data Input'!A316),\"\",COUNTIF('Data Input'!C316:AQ316,\"\")-1)","v":""},{"$f":"IF(ISBLANK('Data Input'!A316),\"\",COUNTIF('Data Input'!C316:AQ316,\"0\"))","v":""},{"$f":"IF(ISBLANK('Data Input'!A316),\"\",SUM(B312,C312))","v":""},{"$f":"IF(ISBLANK('Data Input'!A316),\"\",SUM('Data Input'!C316:V316))","v":""},{"$f":"IF(ISBLANK('Data Input'!A316),\"\",SUM('Data Input'!X316:AQ316))","v":""},{"$f":"IF(ISBLANK('Data Input'!A316),\"\",SUM('Data Input'!C316:AQ316))","v":""},{"$f":"IF(G312=\"\",\"\",G312/(COUNTA('Data Input'!$C$8:$AQ$8)-1))","v":""},{"$f":"IF(ISBLANK('Data Input'!A316),\"\",SUM('Data Input'!C316,'Data Input'!K316,'Data Input'!L316,'Data Input'!AC316,'Data Input'!AF316,'Data Input'!AM316,'Data Input'!AO316))","v":""},{"$f":"IF(I312=\"\",\"\",I312/COUNTIF('Data Input'!$C$8:$AQ$8,$I$2))","v":""},{"$f":"IF(ISBLANK('Data Input'!A316),\"\",SUM('Data Input'!D316,'Data Input'!E316,'Data Input'!F316,'Data Input'!G316,'Data Input'!J316,'Data Input'!O316,'Data Input'!P316,'Data Input'!S316,'Data Input'!U316,'Data Input'!X316,'Data Input'!Z316,'Data Input'!AA316,'Data Input'!AB316,'Data Input'!AE316,'Data Input'!AG316,'Data Input'!AH316,'Data Input'!AJ316,'Data Input'!AK316,'Data Input'!AL316,'Data Input'!AN316))","v":""},{"$f":"IF(K312=\"\",\"\",K312/COUNTIF('Data Input'!$C$8:$AQ$8,$K$2))","v":""},{"$f":"IF(ISBLANK('Data Input'!A316),\"\",SUM('Data Input'!V316))","v":""},{"$f":"IF(M312=\"\",\"\",M312/COUNTIF('Data Input'!$C$8:$AQ$8,$M$2))","v":""},{"$f":"IF(ISBLANK('Data Input'!A316),\"\",SUM('Data Input'!H316,'Data Input'!I316,'Data Input'!M316,'Data Input'!N316,'Data Input'!Q316,'Data Input'!R316,'Data Input'!T316,'Data Input'!Y316,'Data Input'!AD316,'Data Input'!AI316,'Data Input'!AP316,'Data Input'!AQ316))","v":""},{"$f":"IF(O312=\"\",\"\",O312/COUNTIF('Data Input'!$C$8:$AQ$8,$O$2))","v":""}]
[{"$f":"IF('Data Input'!A317=0,\"\",'Data Input'!A317)","v":""},{"$f":"IF(ISBLANK('Data Input'!A317),\"\",COUNTIF('Data Input'!C317:AQ317,\"\")-1)","v":""},{"$f":"IF(ISBLANK('Data Input'!A317),\"\",COUNTIF('Data Input'!C317:AQ317,\"0\"))","v":""},{"$f":"IF(ISBLANK('Data Input'!A317),\"\",SUM(B313,C313))","v":""},{"$f":"IF(ISBLANK('Data Input'!A317),\"\",SUM('Data Input'!C317:V317))","v":""},{"$f":"IF(ISBLANK('Data Input'!A317),\"\",SUM('Data Input'!X317:AQ317))","v":""},{"$f":"IF(ISBLANK('Data Input'!A317),\"\",SUM('Data Input'!C317:AQ317))","v":""},{"$f":"IF(G313=\"\",\"\",G313/(COUNTA('Data Input'!$C$8:$AQ$8)-1))","v":""},{"$f":"IF(ISBLANK('Data Input'!A317),\"\",SUM('Data Input'!C317,'Data Input'!K317,'Data Input'!L317,'Data Input'!AC317,'Data Input'!AF317,'Data Input'!AM317,'Data Input'!AO317))","v":""},{"$f":"IF(I313=\"\",\"\",I313/COUNTIF('Data Input'!$C$8:$AQ$8,$I$2))","v":""},{"$f":"IF(ISBLANK('Data Input'!A317),\"\",SUM('Data Input'!D317,'Data Input'!E317,'Data Input'!F317,'Data Input'!G317,'Data Input'!J317,'Data Input'!O317,'Data Input'!P317,'Data Input'!S317,'Data Input'!U317,'Data Input'!X317,'Data Input'!Z317,'Data Input'!AA317,'Data Input'!AB317,'Data Input'!AE317,'Data Input'!AG317,'Data Input'!AH317,'Data Input'!AJ317,'Data Input'!AK317,'Data Input'!AL317,'Data Input'!AN317))","v":""},{"$f":"IF(K313=\"\",\"\",K313/COUNTIF('Data Input'!$C$8:$AQ$8,$K$2))","v":""},{"$f":"IF(ISBLANK('Data Input'!A317),\"\",SUM('Data Input'!V317))","v":""},{"$f":"IF(M313=\"\",\"\",M313/COUNTIF('Data Input'!$C$8:$AQ$8,$M$2))","v":""},{"$f":"IF(ISBLANK('Data Input'!A317),\"\",SUM('Data Input'!H317,'Data Input'!I317,'Data Input'!M317,'Data Input'!N317,'Data Input'!Q317,'Data Input'!R317,'Data Input'!T317,'Data Input'!Y317,'Data Input'!AD317,'Data Input'!AI317,'Data Input'!AP317,'Data Input'!AQ317))","v":""},{"$f":"IF(O313=\"\",\"\",O313/COUNTIF('Data Input'!$C$8:$AQ$8,$O$2))","v":""}]
[{"$f":"IF('Data Input'!A318=0,\"\",'Data Input'!A318)","v":""},{"$f":"IF(ISBLANK('Data Input'!A318),\"\",COUNTIF('Data Input'!C318:AQ318,\"\")-1)","v":""},{"$f":"IF(ISBLANK('Data Input'!A318),\"\",COUNTIF('Data Input'!C318:AQ318,\"0\"))","v":""},{"$f":"IF(ISBLANK('Data Input'!A318),\"\",SUM(B314,C314))","v":""},{"$f":"IF(ISBLANK('Data Input'!A318),\"\",SUM('Data Input'!C318:V318))","v":""},{"$f":"IF(ISBLANK('Data Input'!A318),\"\",SUM('Data Input'!X318:AQ318))","v":""},{"$f":"IF(ISBLANK('Data Input'!A318),\"\",SUM('Data Input'!C318:AQ318))","v":""},{"$f":"IF(G314=\"\",\"\",G314/(COUNTA('Data Input'!$C$8:$AQ$8)-1))","v":""},{"$f":"IF(ISBLANK('Data Input'!A318),\"\",SUM('Data Input'!C318,'Data Input'!K318,'Data Input'!L318,'Data Input'!AC318,'Data Input'!AF318,'Data Input'!AM318,'Data Input'!AO318))","v":""},{"$f":"IF(I314=\"\",\"\",I314/COUNTIF('Data Input'!$C$8:$AQ$8,$I$2))","v":""},{"$f":"IF(ISBLANK('Data Input'!A318),\"\",SUM('Data Input'!D318,'Data Input'!E318,'Data Input'!F318,'Data Input'!G318,'Data Input'!J318,'Data Input'!O318,'Data Input'!P318,'Data Input'!S318,'Data Input'!U318,'Data Input'!X318,'Data Input'!Z318,'Data Input'!AA318,'Data Input'!AB318,'Data Input'!AE318,'Data Input'!AG318,'Data Input'!AH318,'Data Input'!AJ318,'Data Input'!AK318,'Data Input'!AL318,'Data Input'!AN318))","v":""},{"$f":"IF(K314=\"\",\"\",K314/COUNTIF('Data Input'!$C$8:$AQ$8,$K$2))","v":""},{"$f":"IF(ISBLANK('Data Input'!A318),\"\",SUM('Data Input'!V318))","v":""},{"$f":"IF(M314=\"\",\"\",M314/COUNTIF('Data Input'!$C$8:$AQ$8,$M$2))","v":""},{"$f":"IF(ISBLANK('Data Input'!A318),\"\",SUM('Data Input'!H318,'Data Input'!I318,'Data Input'!M318,'Data Input'!N318,'Data Input'!Q318,'Data Input'!R318,'Data Input'!T318,'Data Input'!Y318,'Data Input'!AD318,'Data Input'!AI318,'Data Input'!AP318,'Data Input'!AQ318))","v":""},{"$f":"IF(O314=\"\",\"\",O314/COUNTIF('Data Input'!$C$8:$AQ$8,$O$2))","v":""}]
[{"$f":"IF('Data Input'!A319=0,\"\",'Data Input'!A319)","v":""},{"$f":"IF(ISBLANK('Data Input'!A319),\"\",COUNTIF('Data Input'!C319:AQ319,\"\")-1)","v":""},{"$f":"IF(ISBLANK('Data Input'!A319),\"\",COUNTIF('Data Input'!C319:AQ319,\"0\"))","v":""},{"$f":"IF(ISBLANK('Data Input'!A319),\"\",SUM(B315,C315))","v":""},{"$f":"IF(ISBLANK('Data Input'!A319),\"\",SUM('Data Input'!C319:V319))","v":""},{"$f":"IF(ISBLANK('Data Input'!A319),\"\",SUM('Data Input'!X319:AQ319))","v":""},{"$f":"IF(ISBLANK('Data Input'!A319),\"\",SUM('Data Input'!C319:AQ319))","v":""},{"$f":"IF(G315=\"\",\"\",G315/(COUNTA('Data Input'!$C$8:$AQ$8)-1))","v":""},{"$f":"IF(ISBLANK('Data Input'!A319),\"\",SUM('Data Input'!C319,'Data Input'!K319,'Data Input'!L319,'Data Input'!AC319,'Data Input'!AF319,'Data Input'!AM319,'Data Input'!AO319))","v":""},{"$f":"IF(I315=\"\",\"\",I315/COUNTIF('Data Input'!$C$8:$AQ$8,$I$2))","v":""},{"$f":"IF(ISBLANK('Data Input'!A319),\"\",SUM('Data Input'!D319,'Data Input'!E319,'Data Input'!F319,'Data Input'!G319,'Data Input'!J319,'Data Input'!O319,'Data Input'!P319,'Data Input'!S319,'Data Input'!U319,'Data Input'!X319,'Data Input'!Z319,'Data Input'!AA319,'Data Input'!AB319,'Data Input'!AE319,'Data Input'!AG319,'Data Input'!AH319,'Data Input'!AJ319,'Data Input'!AK319,'Data Input'!AL319,'Data Input'!AN319))","v":""},{"$f":"IF(K315=\"\",\"\",K315/COUNTIF('Data Input'!$C$8:$AQ$8,$K$2))","v":""},{"$f":"IF(ISBLANK('Data Input'!A319),\"\",SUM('Data Input'!V319))","v":""},{"$f":"IF(M315=\"\",\"\",M315/COUNTIF('Data Input'!$C$8:$AQ$8,$M$2))","v":""},{"$f":"IF(ISBLANK('Data Input'!A319),\"\",SUM('Data Input'!H319,'Data Input'!I319,'Data Input'!M319,'Data Input'!N319,'Data Input'!Q319,'Data Input'!R319,'Data Input'!T319,'Data Input'!Y319,'Data Input'!AD319,'Data Input'!AI319,'Data Input'!AP319,'Data Input'!AQ319))","v":""},{"$f":"IF(O315=\"\",\"\",O315/COUNTIF('Data Input'!$C$8:$AQ$8,$O$2))","v":""}]
[{"$f":"IF('Data Input'!A320=0,\"\",'Data Input'!A320)","v":""},{"$f":"IF(ISBLANK('Data Input'!A320),\"\",COUNTIF('Data Input'!C320:AQ320,\"\")-1)","v":""},{"$f":"IF(ISBLANK('Data Input'!A320),\"\",COUNTIF('Data Input'!C320:AQ320,\"0\"))","v":""},{"$f":"IF(ISBLANK('Data Input'!A320),\"\",SUM(B316,C316))","v":""},{"$f":"IF(ISBLANK('Data Input'!A320),\"\",SUM('Data Input'!C320:V320))","v":""},{"$f":"IF(ISBLANK('Data Input'!A320),\"\",SUM('Data Input'!X320:AQ320))","v":""},{"$f":"IF(ISBLANK('Data Input'!A320),\"\",SUM('Data Input'!C320:AQ320))","v":""},{"$f":"IF(G316=\"\",\"\",G316/(COUNTA('Data Input'!$C$8:$AQ$8)-1))","v":""},{"$f":"IF(ISBLANK('Data Input'!A320),\"\",SUM('Data Input'!C320,'Data Input'!K320,'Data Input'!L320,'Data Input'!AC320,'Data Input'!AF320,'Data Input'!AM320,'Data Input'!AO320))","v":""},{"$f":"IF(I316=\"\",\"\",I316/COUNTIF('Data Input'!$C$8:$AQ$8,$I$2))","v":""},{"$f":"IF(ISBLANK('Data Input'!A320),\"\",SUM('Data Input'!D320,'Data Input'!E320,'Data Input'!F320,'Data Input'!G320,'Data Input'!J320,'Data Input'!O320,'Data Input'!P320,'Data Input'!S320,'Data Input'!U320,'Data Input'!X320,'Data Input'!Z320,'Data Input'!AA320,'Data Input'!AB320,'Data Input'!AE320,'Data Input'!AG320,'Data Input'!AH320,'Data Input'!AJ320,'Data Input'!AK320,'Data Input'!AL320,'Data Input'!AN320))","v":""},{"$f":"IF(K316=\"\",\"\",K316/COUNTIF('Data Input'!$C$8:$AQ$8,$K$2))","v":""},{"$f":"IF(ISBLANK('Data Input'!A320),\"\",SUM('Data Input'!V320))","v":""},{"$f":"IF(M316=\"\",\"\",M316/COUNTIF('Data Input'!$C$8:$AQ$8,$M$2))","v":""},{"$f":"IF(ISBLANK('Data Input'!A320),\"\",SUM('Data Input'!H320,'Data Input'!I320,'Data Input'!M320,'Data Input'!N320,'Data Input'!Q320,'Data Input'!R320,'Data Input'!T320,'Data Input'!Y320,'Data Input'!AD320,'Data Input'!AI320,'Data Input'!AP320,'Data Input'!AQ320))","v":""},{"$f":"IF(O316=\"\",\"\",O316/COUNTIF('Data Input'!$C$8:$AQ$8,$O$2))","v":""}]
[{"$f":"IF('Data Input'!A321=0,\"\",'Data Input'!A321)","v":""},{"$f":"IF(ISBLANK('Data Input'!A321),\"\",COUNTIF('Data Input'!C321:AQ321,\"\")-1)","v":""},{"$f":"IF(ISBLANK('Data Input'!A321),\"\",COUNTIF('Data Input'!C321:AQ321,\"0\"))","v":""},{"$f":"IF(ISBLANK('Data Input'!A321),\"\",SUM(B317,C317))","v":""},{"$f":"IF(ISBLANK('Data Input'!A321),\"\",SUM('Data Input'!C321:V321))","v":""},{"$f":"IF(ISBLANK('Data Input'!A321),\"\",SUM('Data Input'!X321:AQ321))","v":""},{"$f":"IF(ISBLANK('Data Input'!A321),\"\",SUM('Data Input'!C321:AQ321))","v":""},{"$f":"IF(G317=\"\",\"\",G317/(COUNTA('Data Input'!$C$8:$AQ$8)-1))","v":""},{"$f":"IF(ISBLANK('Data Input'!A321),\"\",SUM('Data Input'!C321,'Data Input'!K321,'Data Input'!L321,'Data Input'!AC321,'Data Input'!AF321,'Data Input'!AM321,'Data Input'!AO321))","v":""},{"$f":"IF(I317=\"\",\"\",I317/COUNTIF('Data Input'!$C$8:$AQ$8,$I$2))","v":""},{"$f":"IF(ISBLANK('Data Input'!A321),\"\",SUM('Data Input'!D321,'Data Input'!E321,'Data Input'!F321,'Data Input'!G321,'Data Input'!J321,'Data Input'!O321,'Data Input'!P321,'Data Input'!S321,'Data Input'!U321,'Data Input'!X321,'Data Input'!Z321,'Data Input'!AA321,'Data Input'!AB321,'Data Input'!AE321,'Data Input'!AG321,'Data Input'!AH321,'Data Input'!AJ321,'Data Input'!AK321,'Data Input'!AL321,'Data Input'!AN321))","v":""},{"$f":"IF(K317=\"\",\"\",K317/COUNTIF('Data Input'!$C$8:$AQ$8,$K$2))","v":""},{"$f":"IF(ISBLANK('Data Input'!A321),\"\",SUM('Data Input'!V321))","v":""},{"$f":"IF(M317=\"\",\"\",M317/COUNTIF('Data Input'!$C$8:$AQ$8,$M$2))","v":""},{"$f":"IF(ISBLANK('Data Input'!A321),\"\",SUM('Data Input'!H321,'Data Input'!I321,'Data Input'!M321,'Data Input'!N321,'Data Input'!Q321,'Data Input'!R321,'Data Input'!T321,'Data Input'!Y321,'Data Input'!AD321,'Data Input'!AI321,'Data Input'!AP321,'Data Input'!AQ321))","v":""},{"$f":"IF(O317=\"\",\"\",O317/COUNTIF('Data Input'!$C$8:$AQ$8,$O$2))","v":""}]
[{"$f":"IF('Data Input'!A322=0,\"\",'Data Input'!A322)","v":""},{"$f":"IF(ISBLANK('Data Input'!A322),\"\",COUNTIF('Data Input'!C322:AQ322,\"\")-1)","v":""},{"$f":"IF(ISBLANK('Data Input'!A322),\"\",COUNTIF('Data Input'!C322:AQ322,\"0\"))","v":""},{"$f":"IF(ISBLANK('Data Input'!A322),\"\",SUM(B318,C318))","v":""},{"$f":"IF(ISBLANK('Data Input'!A322),\"\",SUM('Data Input'!C322:V322))","v":""},{"$f":"IF(ISBLANK('Data Input'!A322),\"\",SUM('Data Input'!X322:AQ322))","v":""},{"$f":"IF(ISBLANK('Data Input'!A322),\"\",SUM('Data Input'!C322:AQ322))","v":""},{"$f":"IF(G318=\"\",\"\",G318/(COUNTA('Data Input'!$C$8:$AQ$8)-1))","v":""},{"$f":"IF(ISBLANK('Data Input'!A322),\"\",SUM('Data Input'!C322,'Data Input'!K322,'Data Input'!L322,'Data Input'!AC322,'Data Input'!AF322,'Data Input'!AM322,'Data Input'!AO322))","v":""},{"$f":"IF(I318=\"\",\"\",I318/COUNTIF('Data Input'!$C$8:$AQ$8,$I$2))","v":""},{"$f":"IF(ISBLANK('Data Input'!A322),\"\",SUM('Data Input'!D322,'Data Input'!E322,'Data Input'!F322,'Data Input'!G322,'Data Input'!J322,'Data Input'!O322,'Data Input'!P322,'Data Input'!S322,'Data Input'!U322,'Data Input'!X322,'Data Input'!Z322,'Data Input'!AA322,'Data Input'!AB322,'Data Input'!AE322,'Data Input'!AG322,'Data Input'!AH322,'Data Input'!AJ322,'Data Input'!AK322,'Data Input'!AL322,'Data Input'!AN322))","v":""},{"$f":"IF(K318=\"\",\"\",K318/COUNTIF('Data Input'!$C$8:$AQ$8,$K$2))","v":""},{"$f":"IF(ISBLANK('Data Input'!A322),\"\",SUM('Data Input'!V322))","v":""},{"$f":"IF(M318=\"\",\"\",M318/COUNTIF('Data Input'!$C$8:$AQ$8,$M$2))","v":""},{"$f":"IF(ISBLANK('Data Input'!A322),\"\",SUM('Data Input'!H322,'Data Input'!I322,'Data Input'!M322,'Data Input'!N322,'Data Input'!Q322,'Data Input'!R322,'Data Input'!T322,'Data Input'!Y322,'Data Input'!AD322,'Data Input'!AI322,'Data Input'!AP322,'Data Input'!AQ322))","v":""},{"$f":"IF(O318=\"\",\"\",O318/COUNTIF('Data Input'!$C$8:$AQ$8,$O$2))","v":""}]
[{"$f":"IF('Data Input'!A323=0,\"\",'Data Input'!A323)","v":""},{"$f":"IF(ISBLANK('Data Input'!A323),\"\",COUNTIF('Data Input'!C323:AQ323,\"\")-1)","v":""},{"$f":"IF(ISBLANK('Data Input'!A323),\"\",COUNTIF('Data Input'!C323:AQ323,\"0\"))","v":""},{"$f":"IF(ISBLANK('Data Input'!A323),\"\",SUM(B319,C319))","v":""},{"$f":"IF(ISBLANK('Data Input'!A323),\"\",SUM('Data Input'!C323:V323))","v":""},{"$f":"IF(ISBLANK('Data Input'!A323),\"\",SUM('Data Input'!X323:AQ323))","v":""},{"$f":"IF(ISBLANK('Data Input'!A323),\"\",SUM('Data Input'!C323:AQ323))","v":""},{"$f":"IF(G319=\"\",\"\",G319/(COUNTA('Data Input'!$C$8:$AQ$8)-1))","v":""},{"$f":"IF(ISBLANK('Data Input'!A323),\"\",SUM('Data Input'!C323,'Data Input'!K323,'Data Input'!L323,'Data Input'!AC323,'Data Input'!AF323,'Data Input'!AM323,'Data Input'!AO323))","v":""},{"$f":"IF(I319=\"\",\"\",I319/COUNTIF('Data Input'!$C$8:$AQ$8,$I$2))","v":""},{"$f":"IF(ISBLANK('Data Input'!A323),\"\",SUM('Data Input'!D323,'Data Input'!E323,'Data Input'!F323,'Data Input'!G323,'Data Input'!J323,'Data Input'!O323,'Data Input'!P323,'Data Input'!S323,'Data Input'!U323,'Data Input'!X323,'Data Input'!Z323,'Data Input'!AA323,'Data Input'!AB323,'Data Input'!AE323,'Data Input'!AG323,'Data Input'!AH323,'Data Input'!AJ323,'Data Input'!AK323,'Data Input'!AL323,'Data Input'!AN323))","v":""},{"$f":"IF(K319=\"\",\"\",K319/COUNTIF('Data Input'!$C$8:$AQ$8,$K$2))","v":""},{"$f":"IF(ISBLANK('Data Input'!A323),\"\",SUM('Data Input'!V323))","v":""},{"$f":"IF(M319=\"\",\"\",M319/COUNTIF('Data Input'!$C$8:$AQ$8,$M$2))","v":""},{"$f":"IF(ISBLANK('Data Input'!A323),\"\",SUM('Data Input'!H323,'Data Input'!I323,'Data Input'!M323,'Data Input'!N323,'Data Input'!Q323,'Data Input'!R323,'Data Input'!T323,'Data Input'!Y323,'Data Input'!AD323,'Data Input'!AI323,'Data Input'!AP323,'Data Input'!AQ323))","v":""},{"$f":"IF(O319=\"\",\"\",O319/COUNTIF('Data Input'!$C$8:$AQ$8,$O$2))","v":""}]
[{"$f":"IF('Data Input'!A324=0,\"\",'Data Input'!A324)","v":""},{"$f":"IF(ISBLANK('Data Input'!A324),\"\",COUNTIF('Data Input'!C324:AQ324,\"\")-1)","v":""},{"$f":"IF(ISBLANK('Data Input'!A324),\"\",COUNTIF('Data Input'!C324:AQ324,\"0\"))","v":""},{"$f":"IF(ISBLANK('Data Input'!A324),\"\",SUM(B320,C320))","v":""},{"$f":"IF(ISBLANK('Data Input'!A324),\"\",SUM('Data Input'!C324:V324))","v":""},{"$f":"IF(ISBLANK('Data Input'!A324),\"\",SUM('Data Input'!X324:AQ324))","v":""},{"$f":"IF(ISBLANK('Data Input'!A324),\"\",SUM('Data Input'!C324:AQ324))","v":""},{"$f":"IF(G320=\"\",\"\",G320/(COUNTA('Data Input'!$C$8:$AQ$8)-1))","v":""},{"$f":"IF(ISBLANK('Data Input'!A324),\"\",SUM('Data Input'!C324,'Data Input'!K324,'Data Input'!L324,'Data Input'!AC324,'Data Input'!AF324,'Data Input'!AM324,'Data Input'!AO324))","v":""},{"$f":"IF(I320=\"\",\"\",I320/COUNTIF('Data Input'!$C$8:$AQ$8,$I$2))","v":""},{"$f":"IF(ISBLANK('Data Input'!A324),\"\",SUM('Data Input'!D324,'Data Input'!E324,'Data Input'!F324,'Data Input'!G324,'Data Input'!J324,'Data Input'!O324,'Data Input'!P324,'Data Input'!S324,'Data Input'!U324,'Data Input'!X324,'Data Input'!Z324,'Data Input'!AA324,'Data Input'!AB324,'Data Input'!AE324,'Data Input'!AG324,'Data Input'!AH324,'Data Input'!AJ324,'Data Input'!AK324,'Data Input'!AL324,'Data Input'!AN324))","v":""},{"$f":"IF(K320=\"\",\"\",K320/COUNTIF('Data Input'!$C$8:$AQ$8,$K$2))","v":""},{"$f":"IF(ISBLANK('Data Input'!A324),\"\",SUM('Data Input'!V324))","v":""},{"$f":"IF(M320=\"\",\"\",M320/COUNTIF('Data Input'!$C$8:$AQ$8,$M$2))","v":""},{"$f":"IF(ISBLANK('Data Input'!A324),\"\",SUM('Data Input'!H324,'Data Input'!I324,'Data Input'!M324,'Data Input'!N324,'Data Input'!Q324,'Data Input'!R324,'Data Input'!T324,'Data Input'!Y324,'Data Input'!AD324,'Data Input'!AI324,'Data Input'!AP324,'Data Input'!AQ324))","v":""},{"$f":"IF(O320=\"\",\"\",O320/COUNTIF('Data Input'!$C$8:$AQ$8,$O$2))","v":""}]
[{"$f":"IF('Data Input'!A325=0,\"\",'Data Input'!A325)","v":""},{"$f":"IF(ISBLANK('Data Input'!A325),\"\",COUNTIF('Data Input'!C325:AQ325,\"\")-1)","v":""},{"$f":"IF(ISBLANK('Data Input'!A325),\"\",COUNTIF('Data Input'!C325:AQ325,\"0\"))","v":""},{"$f":"IF(ISBLANK('Data Input'!A325),\"\",SUM(B321,C321))","v":""},{"$f":"IF(ISBLANK('Data Input'!A325),\"\",SUM('Data Input'!C325:V325))","v":""},{"$f":"IF(ISBLANK('Data Input'!A325),\"\",SUM('Data Input'!X325:AQ325))","v":""},{"$f":"IF(ISBLANK('Data Input'!A325),\"\",SUM('Data Input'!C325:AQ325))","v":""},{"$f":"IF(G321=\"\",\"\",G321/(COUNTA('Data Input'!$C$8:$AQ$8)-1))","v":""},{"$f":"IF(ISBLANK('Data Input'!A325),\"\",SUM('Data Input'!C325,'Data Input'!K325,'Data Input'!L325,'Data Input'!AC325,'Data Input'!AF325,'Data Input'!AM325,'Data Input'!AO325))","v":""},{"$f":"IF(I321=\"\",\"\",I321/COUNTIF('Data Input'!$C$8:$AQ$8,$I$2))","v":""},{"$f":"IF(ISBLANK('Data Input'!A325),\"\",SUM('Data Input'!D325,'Data Input'!E325,'Data Input'!F325,'Data Input'!G325,'Data Input'!J325,'Data Input'!O325,'Data Input'!P325,'Data Input'!S325,'Data Input'!U325,'Data Input'!X325,'Data Input'!Z325,'Data Input'!AA325,'Data Input'!AB325,'Data Input'!AE325,'Data Input'!AG325,'Data Input'!AH325,'Data Input'!AJ325,'Data Input'!AK325,'Data Input'!AL325,'Data Input'!AN325))","v":""},{"$f":"IF(K321=\"\",\"\",K321/COUNTIF('Data Input'!$C$8:$AQ$8,$K$2))","v":""},{"$f":"IF(ISBLANK('Data Input'!A325),\"\",SUM('Data Input'!V325))","v":""},{"$f":"IF(M321=\"\",\"\",M321/COUNTIF('Data Input'!$C$8:$AQ$8,$M$2))","v":""},{"$f":"IF(ISBLANK('Data Input'!A325),\"\",SUM('Data Input'!H325,'Data Input'!I325,'Data Input'!M325,'Data Input'!N325,'Data Input'!Q325,'Data Input'!R325,'Data Input'!T325,'Data Input'!Y325,'Data Input'!AD325,'Data Input'!AI325,'Data Input'!AP325,'Data Input'!AQ325))","v":""},{"$f":"IF(O321=\"\",\"\",O321/COUNTIF('Data Input'!$C$8:$AQ$8,$O$2))","v":""}]
[{"$f":"IF('Data Input'!A326=0,\"\",'Data Input'!A326)","v":""},{"$f":"IF(ISBLANK('Data Input'!A326),\"\",COUNTIF('Data Input'!C326:AQ326,\"\")-1)","v":""},{"$f":"IF(ISBLANK('Data Input'!A326),\"\",COUNTIF('Data Input'!C326:AQ326,\"0\"))","v":""},{"$f":"IF(ISBLANK('Data Input'!A326),\"\",SUM(B322,C322))","v":""},{"$f":"IF(ISBLANK('Data Input'!A326),\"\",SUM('Data Input'!C326:V326))","v":""},{"$f":"IF(ISBLANK('Data Input'!A326),\"\",SUM('Data Input'!X326:AQ326))","v":""},{"$f":"IF(ISBLANK('Data Input'!A326),\"\",SUM('Data Input'!C326:AQ326))","v":""},{"$f":"IF(G322=\"\",\"\",G322/(COUNTA('Data Input'!$C$8:$AQ$8)-1))","v":""},{"$f":"IF(ISBLANK('Data Input'!A326),\"\",SUM('Data Input'!C326,'Data Input'!K326,'Data Input'!L326,'Data Input'!AC326,'Data Input'!AF326,'Data Input'!AM326,'Data Input'!AO326))","v":""},{"$f":"IF(I322=\"\",\"\",I322/COUNTIF('Data Input'!$C$8:$AQ$8,$I$2))","v":""},{"$f":"IF(ISBLANK('Data Input'!A326),\"\",SUM('Data Input'!D326,'Data Input'!E326,'Data Input'!F326,'Data Input'!G326,'Data Input'!J326,'Data Input'!O326,'Data Input'!P326,'Data Input'!S326,'Data Input'!U326,'Data Input'!X326,'Data Input'!Z326,'Data Input'!AA326,'Data Input'!AB326,'Data Input'!AE326,'Data Input'!AG326,'Data Input'!AH326,'Data Input'!AJ326,'Data Input'!AK326,'Data Input'!AL326,'Data Input'!AN326))","v":""},{"$f":"IF(K322=\"\",\"\",K322/COUNTIF('Data Input'!$C$8:$AQ$8,$K$2))","v":""},{"$f":"IF(ISBLANK('Data Input'!A326),\"\",SUM('Data Input'!V326))","v":""},{"$f":"IF(M322=\"\",\"\",M322/COUNTIF('Data Input'!$C$8:$AQ$8,$M$2))","v":""},{"$f":"IF(ISBLANK('Data Input'!A326),\"\",SUM('Data Input'!H326,'Data Input'!I326,'Data Input'!M326,'Data Input'!N326,'Data Input'!Q326,'Data Input'!R326,'Data Input'!T326,'Data Input'!Y326,'Data Input'!AD326,'Data Input'!AI326,'Data Input'!AP326,'Data Input'!AQ326))","v":""},{"$f":"IF(O322=\"\",\"\",O322/COUNTIF('Data Input'!$C$8:$AQ$8,$O$2))","v":""}]
[{"$f":"IF('Data Input'!A327=0,\"\",'Data Input'!A327)","v":""},{"$f":"IF(ISBLANK('Data Input'!A327),\"\",COUNTIF('Data Input'!C327:AQ327,\"\")-1)","v":""},{"$f":"IF(ISBLANK('Data Input'!A327),\"\",COUNTIF('Data Input'!C327:AQ327,\"0\"))","v":""},{"$f":"IF(ISBLANK('Data Input'!A327),\"\",SUM(B323,C323))","v":""},{"$f":"IF(ISBLANK('Data Input'!A327),\"\",SUM('Data Input'!C327:V327))","v":""},{"$f":"IF(ISBLANK('Data Input'!A327),\"\",SUM('Data Input'!X327:AQ327))","v":""},{"$f":"IF(ISBLANK('Data Input'!A327),\"\",SUM('Data Input'!C327:AQ327))","v":""},{"$f":"IF(G323=\"\",\"\",G323/(COUNTA('Data Input'!$C$8:$AQ$8)-1))","v":""},{"$f":"IF(ISBLANK('Data Input'!A327),\"\",SUM('Data Input'!C327,'Data Input'!K327,'Data Input'!L327,'Data Input'!AC327,'Data Input'!AF327,'Data Input'!AM327,'Data Input'!AO327))","v":""},{"$f":"IF(I323=\"\",\"\",I323/COUNTIF('Data Input'!$C$8:$AQ$8,$I$2))","v":""},{"$f":"IF(ISBLANK('Data Input'!A327),\"\",SUM('Data Input'!D327,'Data Input'!E327,'Data Input'!F327,'Data Input'!G327,'Data Input'!J327,'Data Input'!O327,'Data Input'!P327,'Data Input'!S327,'Data Input'!U327,'Data Input'!X327,'Data Input'!Z327,'Data Input'!AA327,'Data Input'!AB327,'Data Input'!AE327,'Data Input'!AG327,'Data Input'!AH327,'Data Input'!AJ327,'Data Input'!AK327,'Data Input'!AL327,'Data Input'!AN327))","v":""},{"$f":"IF(K323=\"\",\"\",K323/COUNTIF('Data Input'!$C$8:$AQ$8,$K$2))","v":""},{"$f":"IF(ISBLANK('Data Input'!A327),\"\",SUM('Data Input'!V327))","v":""},{"$f":"IF(M323=\"\",\"\",M323/COUNTIF('Data Input'!$C$8:$AQ$8,$M$2))","v":""},{"$f":"IF(ISBLANK('Data Input'!A327),\"\",SUM('Data Input'!H327,'Data Input'!I327,'Data Input'!M327,'Data Input'!N327,'Data Input'!Q327,'Data Input'!R327,'Data Input'!T327,'Data Input'!Y327,'Data Input'!AD327,'Data Input'!AI327,'Data Input'!AP327,'Data Input'!AQ327))","v":""},{"$f":"IF(O323=\"\",\"\",O323/COUNTIF('Data Input'!$C$8:$AQ$8,$O$2))","v":""}]
[{"$f":"IF('Data Input'!A328=0,\"\",'Data Input'!A328)","v":""},{"$f":"IF(ISBLANK('Data Input'!A328),\"\",COUNTIF('Data Input'!C328:AQ328,\"\")-1)","v":""},{"$f":"IF(ISBLANK('Data Input'!A328),\"\",COUNTIF('Data Input'!C328:AQ328,\"0\"))","v":""},{"$f":"IF(ISBLANK('Data Input'!A328),\"\",SUM(B324,C324))","v":""},{"$f":"IF(ISBLANK('Data Input'!A328),\"\",SUM('Data Input'!C328:V328))","v":""},{"$f":"IF(ISBLANK('Data Input'!A328),\"\",SUM('Data Input'!X328:AQ328))","v":""},{"$f":"IF(ISBLANK('Data Input'!A328),\"\",SUM('Data Input'!C328:AQ328))","v":""},{"$f":"IF(G324=\"\",\"\",G324/(COUNTA('Data Input'!$C$8:$AQ$8)-1))","v":""},{"$f":"IF(ISBLANK('Data Input'!A328),\"\",SUM('Data Input'!C328,'Data Input'!K328,'Data Input'!L328,'Data Input'!AC328,'Data Input'!AF328,'Data Input'!AM328,'Data Input'!AO328))","v":""},{"$f":"IF(I324=\"\",\"\",I324/COUNTIF('Data Input'!$C$8:$AQ$8,$I$2))","v":""},{"$f":"IF(ISBLANK('Data Input'!A328),\"\",SUM('Data Input'!D328,'Data Input'!E328,'Data Input'!F328,'Data Input'!G328,'Data Input'!J328,'Data Input'!O328,'Data Input'!P328,'Data Input'!S328,'Data Input'!U328,'Data Input'!X328,'Data Input'!Z328,'Data Input'!AA328,'Data Input'!AB328,'Data Input'!AE328,'Data Input'!AG328,'Data Input'!AH328,'Data Input'!AJ328,'Data Input'!AK328,'Data Input'!AL328,'Data Input'!AN328))","v":""},{"$f":"IF(K324=\"\",\"\",K324/COUNTIF('Data Input'!$C$8:$AQ$8,$K$2))","v":""},{"$f":"IF(ISBLANK('Data Input'!A328),\"\",SUM('Data Input'!V328))","v":""},{"$f":"IF(M324=\"\",\"\",M324/COUNTIF('Data Input'!$C$8:$AQ$8,$M$2))","v":""},{"$f":"IF(ISBLANK('Data Input'!A328),\"\",SUM('Data Input'!H328,'Data Input'!I328,'Data Input'!M328,'Data Input'!N328,'Data Input'!Q328,'Data Input'!R328,'Data Input'!T328,'Data Input'!Y328,'Data Input'!AD328,'Data Input'!AI328,'Data Input'!AP328,'Data Input'!AQ328))","v":""},{"$f":"IF(O324=\"\",\"\",O324/COUNTIF('Data Input'!$C$8:$AQ$8,$O$2))","v":""}]
[{"$f":"IF('Data Input'!A329=0,\"\",'Data Input'!A329)","v":""},{"$f":"IF(ISBLANK('Data Input'!A329),\"\",COUNTIF('Data Input'!C329:AQ329,\"\")-1)","v":""},{"$f":"IF(ISBLANK('Data Input'!A329),\"\",COUNTIF('Data Input'!C329:AQ329,\"0\"))","v":""},{"$f":"IF(ISBLANK('Data Input'!A329),\"\",SUM(B325,C325))","v":""},{"$f":"IF(ISBLANK('Data Input'!A329),\"\",SUM('Data Input'!C329:V329))","v":""},{"$f":"IF(ISBLANK('Data Input'!A329),\"\",SUM('Data Input'!X329:AQ329))","v":""},{"$f":"IF(ISBLANK('Data Input'!A329),\"\",SUM('Data Input'!C329:AQ329))","v":""},{"$f":"IF(G325=\"\",\"\",G325/(COUNTA('Data Input'!$C$8:$AQ$8)-1))","v":""},{"$f":"IF(ISBLANK('Data Input'!A329),\"\",SUM('Data Input'!C329,'Data Input'!K329,'Data Input'!L329,'Data Input'!AC329,'Data Input'!AF329,'Data Input'!AM329,'Data Input'!AO329))","v":""},{"$f":"IF(I325=\"\",\"\",I325/COUNTIF('Data Input'!$C$8:$AQ$8,$I$2))","v":""},{"$f":"IF(ISBLANK('Data Input'!A329),\"\",SUM('Data Input'!D329,'Data Input'!E329,'Data Input'!F329,'Data Input'!G329,'Data Input'!J329,'Data Input'!O329,'Data Input'!P329,'Data Input'!S329,'Data Input'!U329,'Data Input'!X329,'Data Input'!Z329,'Data Input'!AA329,'Data Input'!AB329,'Data Input'!AE329,'Data Input'!AG329,'Data Input'!AH329,'Data Input'!AJ329,'Data Input'!AK329,'Data Input'!AL329,'Data Input'!AN329))","v":""},{"$f":"IF(K325=\"\",\"\",K325/COUNTIF('Data Input'!$C$8:$AQ$8,$K$2))","v":""},{"$f":"IF(ISBLANK('Data Input'!A329),\"\",SUM('Data Input'!V329))","v":""},{"$f":"IF(M325=\"\",\"\",M325/COUNTIF('Data Input'!$C$8:$AQ$8,$M$2))","v":""},{"$f":"IF(ISBLANK('Data Input'!A329),\"\",SUM('Data Input'!H329,'Data Input'!I329,'Data Input'!M329,'Data Input'!N329,'Data Input'!Q329,'Data Input'!R329,'Data Input'!T329,'Data Input'!Y329,'Data Input'!AD329,'Data Input'!AI329,'Data Input'!AP329,'Data Input'!AQ329))","v":""},{"$f":"IF(O325=\"\",\"\",O325/COUNTIF('Data Input'!$C$8:$AQ$8,$O$2))","v":""}]
[{"$f":"IF('Data Input'!A330=0,\"\",'Data Input'!A330)","v":""},{"$f":"IF(ISBLANK('Data Input'!A330),\"\",COUNTIF('Data Input'!C330:AQ330,\"\")-1)","v":""},{"$f":"IF(ISBLANK('Data Input'!A330),\"\",COUNTIF('Data Input'!C330:AQ330,\"0\"))","v":""},{"$f":"IF(ISBLANK('Data Input'!A330),\"\",SUM(B326,C326))","v":""},{"$f":"IF(ISBLANK('Data Input'!A330),\"\",SUM('Data Input'!C330:V330))","v":""},{"$f":"IF(ISBLANK('Data Input'!A330),\"\",SUM('Data Input'!X330:AQ330))","v":""},{"$f":"IF(ISBLANK('Data Input'!A330),\"\",SUM('Data Input'!C330:AQ330))","v":""},{"$f":"IF(G326=\"\",\"\",G326/(COUNTA('Data Input'!$C$8:$AQ$8)-1))","v":""},{"$f":"IF(ISBLANK('Data Input'!A330),\"\",SUM('Data Input'!C330,'Data Input'!K330,'Data Input'!L330,'Data Input'!AC330,'Data Input'!AF330,'Data Input'!AM330,'Data Input'!AO330))","v":""},{"$f":"IF(I326=\"\",\"\",I326/COUNTIF('Data Input'!$C$8:$AQ$8,$I$2))","v":""},{"$f":"IF(ISBLANK('Data Input'!A330),\"\",SUM('Data Input'!D330,'Data Input'!E330,'Data Input'!F330,'Data Input'!G330,'Data Input'!J330,'Data Input'!O330,'Data Input'!P330,'Data Input'!S330,'Data Input'!U330,'Data Input'!X330,'Data Input'!Z330,'Data Input'!AA330,'Data Input'!AB330,'Data Input'!AE330,'Data Input'!AG330,'Data Input'!AH330,'Data Input'!AJ330,'Data Input'!AK330,'Data Input'!AL330,'Data Input'!AN330))","v":""},{"$f":"IF(K326=\"\",\"\",K326/COUNTIF('Data Input'!$C$8:$AQ$8,$K$2))","v":""},{"$f":"IF(ISBLANK('Data Input'!A330),\"\",SUM('Data Input'!V330))","v":""},{"$f":"IF(M326=\"\",\"\",M326/COUNTIF('Data Input'!$C$8:$AQ$8,$M$2))","v":""},{"$f":"IF(ISBLANK('Data Input'!A330),\"\",SUM('Data Input'!H330,'Data Input'!I330,'Data Input'!M330,'Data Input'!N330,'Data Input'!Q330,'Data Input'!R330,'Data Input'!T330,'Data Input'!Y330,'Data Input'!AD330,'Data Input'!AI330,'Data Input'!AP330,'Data Input'!AQ330))","v":""},{"$f":"IF(O326=\"\",\"\",O326/COUNTIF('Data Input'!$C$8:$AQ$8,$O$2))","v":""}]
[{"$f":"IF('Data Input'!A331=0,\"\",'Data Input'!A331)","v":""},{"$f":"IF(ISBLANK('Data Input'!A331),\"\",COUNTIF('Data Input'!C331:AQ331,\"\")-1)","v":""},{"$f":"IF(ISBLANK('Data Input'!A331),\"\",COUNTIF('Data Input'!C331:AQ331,\"0\"))","v":""},{"$f":"IF(ISBLANK('Data Input'!A331),\"\",SUM(B327,C327))","v":""},{"$f":"IF(ISBLANK('Data Input'!A331),\"\",SUM('Data Input'!C331:V331))","v":""},{"$f":"IF(ISBLANK('Data Input'!A331),\"\",SUM('Data Input'!X331:AQ331))","v":""},{"$f":"IF(ISBLANK('Data Input'!A331),\"\",SUM('Data Input'!C331:AQ331))","v":""},{"$f":"IF(G327=\"\",\"\",G327/(COUNTA('Data Input'!$C$8:$AQ$8)-1))","v":""},{"$f":"IF(ISBLANK('Data Input'!A331),\"\",SUM('Data Input'!C331,'Data Input'!K331,'Data Input'!L331,'Data Input'!AC331,'Data Input'!AF331,'Data Input'!AM331,'Data Input'!AO331))","v":""},{"$f":"IF(I327=\"\",\"\",I327/COUNTIF('Data Input'!$C$8:$AQ$8,$I$2))","v":""},{"$f":"IF(ISBLANK('Data Input'!A331),\"\",SUM('Data Input'!D331,'Data Input'!E331,'Data Input'!F331,'Data Input'!G331,'Data Input'!J331,'Data Input'!O331,'Data Input'!P331,'Data Input'!S331,'Data Input'!U331,'Data Input'!X331,'Data Input'!Z331,'Data Input'!AA331,'Data Input'!AB331,'Data Input'!AE331,'Data Input'!AG331,'Data Input'!AH331,'Data Input'!AJ331,'Data Input'!AK331,'Data Input'!AL331,'Data Input'!AN331))","v":""},{"$f":"IF(K327=\"\",\"\",K327/COUNTIF('Data Input'!$C$8:$AQ$8,$K$2))","v":""},{"$f":"IF(ISBLANK('Data Input'!A331),\"\",SUM('Data Input'!V331))","v":""},{"$f":"IF(M327=\"\",\"\",M327/COUNTIF('Data Input'!$C$8:$AQ$8,$M$2))","v":""},{"$f":"IF(ISBLANK('Data Input'!A331),\"\",SUM('Data Input'!H331,'Data Input'!I331,'Data Input'!M331,'Data Input'!N331,'Data Input'!Q331,'Data Input'!R331,'Data Input'!T331,'Data Input'!Y331,'Data Input'!AD331,'Data Input'!AI331,'Data Input'!AP331,'Data Input'!AQ331))","v":""},{"$f":"IF(O327=\"\",\"\",O327/COUNTIF('Data Input'!$C$8:$AQ$8,$O$2))","v":""}]
[{"$f":"IF('Data Input'!A332=0,\"\",'Data Input'!A332)","v":""},{"$f":"IF(ISBLANK('Data Input'!A332),\"\",COUNTIF('Data Input'!C332:AQ332,\"\")-1)","v":""},{"$f":"IF(ISBLANK('Data Input'!A332),\"\",COUNTIF('Data Input'!C332:AQ332,\"0\"))","v":""},{"$f":"IF(ISBLANK('Data Input'!A332),\"\",SUM(B328,C328))","v":""},{"$f":"IF(ISBLANK('Data Input'!A332),\"\",SUM('Data Input'!C332:V332))","v":""},{"$f":"IF(ISBLANK('Data Input'!A332),\"\",SUM('Data Input'!X332:AQ332))","v":""},{"$f":"IF(ISBLANK('Data Input'!A332),\"\",SUM('Data Input'!C332:AQ332))","v":""},{"$f":"IF(G328=\"\",\"\",G328/(COUNTA('Data Input'!$C$8:$AQ$8)-1))","v":""},{"$f":"IF(ISBLANK('Data Input'!A332),\"\",SUM('Data Input'!C332,'Data Input'!K332,'Data Input'!L332,'Data Input'!AC332,'Data Input'!AF332,'Data Input'!AM332,'Data Input'!AO332))","v":""},{"$f":"IF(I328=\"\",\"\",I328/COUNTIF('Data Input'!$C$8:$AQ$8,$I$2))","v":""},{"$f":"IF(ISBLANK('Data Input'!A332),\"\",SUM('Data Input'!D332,'Data Input'!E332,'Data Input'!F332,'Data Input'!G332,'Data Input'!J332,'Data Input'!O332,'Data Input'!P332,'Data Input'!S332,'Data Input'!U332,'Data Input'!X332,'Data Input'!Z332,'Data Input'!AA332,'Data Input'!AB332,'Data Input'!AE332,'Data Input'!AG332,'Data Input'!AH332,'Data Input'!AJ332,'Data Input'!AK332,'Data Input'!AL332,'Data Input'!AN332))","v":""},{"$f":"IF(K328=\"\",\"\",K328/COUNTIF('Data Input'!$C$8:$AQ$8,$K$2))","v":""},{"$f":"IF(ISBLANK('Data Input'!A332),\"\",SUM('Data Input'!V332))","v":""},{"$f":"IF(M328=\"\",\"\",M328/COUNTIF('Data Input'!$C$8:$AQ$8,$M$2))","v":""},{"$f":"IF(ISBLANK('Data Input'!A332),\"\",SUM('Data Input'!H332,'Data Input'!I332,'Data Input'!M332,'Data Input'!N332,'Data Input'!Q332,'Data Input'!R332,'Data Input'!T332,'Data Input'!Y332,'Data Input'!AD332,'Data Input'!AI332,'Data Input'!AP332,'Data Input'!AQ332))","v":""},{"$f":"IF(O328=\"\",\"\",O328/COUNTIF('Data Input'!$C$8:$AQ$8,$O$2))","v":""}]
[{"$f":"IF('Data Input'!A333=0,\"\",'Data Input'!A333)","v":""},{"$f":"IF(ISBLANK('Data Input'!A333),\"\",COUNTIF('Data Input'!C333:AQ333,\"\")-1)","v":""},{"$f":"IF(ISBLANK('Data Input'!A333),\"\",COUNTIF('Data Input'!C333:AQ333,\"0\"))","v":""},{"$f":"IF(ISBLANK('Data Input'!A333),\"\",SUM(B329,C329))","v":""},{"$f":"IF(ISBLANK('Data Input'!A333),\"\",SUM('Data Input'!C333:V333))","v":""},{"$f":"IF(ISBLANK('Data Input'!A333),\"\",SUM('Data Input'!X333:AQ333))","v":""},{"$f":"IF(ISBLANK('Data Input'!A333),\"\",SUM('Data Input'!C333:AQ333))","v":""},{"$f":"IF(G329=\"\",\"\",G329/(COUNTA('Data Input'!$C$8:$AQ$8)-1))","v":""},{"$f":"IF(ISBLANK('Data Input'!A333),\"\",SUM('Data Input'!C333,'Data Input'!K333,'Data Input'!L333,'Data Input'!AC333,'Data Input'!AF333,'Data Input'!AM333,'Data Input'!AO333))","v":""},{"$f":"IF(I329=\"\",\"\",I329/COUNTIF('Data Input'!$C$8:$AQ$8,$I$2))","v":""},{"$f":"IF(ISBLANK('Data Input'!A333),\"\",SUM('Data Input'!D333,'Data Input'!E333,'Data Input'!F333,'Data Input'!G333,'Data Input'!J333,'Data Input'!O333,'Data Input'!P333,'Data Input'!S333,'Data Input'!U333,'Data Input'!X333,'Data Input'!Z333,'Data Input'!AA333,'Data Input'!AB333,'Data Input'!AE333,'Data Input'!AG333,'Data Input'!AH333,'Data Input'!AJ333,'Data Input'!AK333,'Data Input'!AL333,'Data Input'!AN333))","v":""},{"$f":"IF(K329=\"\",\"\",K329/COUNTIF('Data Input'!$C$8:$AQ$8,$K$2))","v":""},{"$f":"IF(ISBLANK('Data Input'!A333),\"\",SUM('Data Input'!V333))","v":""},{"$f":"IF(M329=\"\",\"\",M329/COUNTIF('Data Input'!$C$8:$AQ$8,$M$2))","v":""},{"$f":"IF(ISBLANK('Data Input'!A333),\"\",SUM('Data Input'!H333,'Data Input'!I333,'Data Input'!M333,'Data Input'!N333,'Data Input'!Q333,'Data Input'!R333,'Data Input'!T333,'Data Input'!Y333,'Data Input'!AD333,'Data Input'!AI333,'Data Input'!AP333,'Data Input'!AQ333))","v":""},{"$f":"IF(O329=\"\",\"\",O329/COUNTIF('Data Input'!$C$8:$AQ$8,$O$2))","v":""}]
[{"$f":"IF('Data Input'!A334=0,\"\",'Data Input'!A334)","v":""},{"$f":"IF(ISBLANK('Data Input'!A334),\"\",COUNTIF('Data Input'!C334:AQ334,\"\")-1)","v":""},{"$f":"IF(ISBLANK('Data Input'!A334),\"\",COUNTIF('Data Input'!C334:AQ334,\"0\"))","v":""},{"$f":"IF(ISBLANK('Data Input'!A334),\"\",SUM(B330,C330))","v":""},{"$f":"IF(ISBLANK('Data Input'!A334),\"\",SUM('Data Input'!C334:V334))","v":""},{"$f":"IF(ISBLANK('Data Input'!A334),\"\",SUM('Data Input'!X334:AQ334))","v":""},{"$f":"IF(ISBLANK('Data Input'!A334),\"\",SUM('Data Input'!C334:AQ334))","v":""},{"$f":"IF(G330=\"\",\"\",G330/(COUNTA('Data Input'!$C$8:$AQ$8)-1))","v":""},{"$f":"IF(ISBLANK('Data Input'!A334),\"\",SUM('Data Input'!C334,'Data Input'!K334,'Data Input'!L334,'Data Input'!AC334,'Data Input'!AF334,'Data Input'!AM334,'Data Input'!AO334))","v":""},{"$f":"IF(I330=\"\",\"\",I330/COUNTIF('Data Input'!$C$8:$AQ$8,$I$2))","v":""},{"$f":"IF(ISBLANK('Data Input'!A334),\"\",SUM('Data Input'!D334,'Data Input'!E334,'Data Input'!F334,'Data Input'!G334,'Data Input'!J334,'Data Input'!O334,'Data Input'!P334,'Data Input'!S334,'Data Input'!U334,'Data Input'!X334,'Data Input'!Z334,'Data Input'!AA334,'Data Input'!AB334,'Data Input'!AE334,'Data Input'!AG334,'Data Input'!AH334,'Data Input'!AJ334,'Data Input'!AK334,'Data Input'!AL334,'Data Input'!AN334))","v":""},{"$f":"IF(K330=\"\",\"\",K330/COUNTIF('Data Input'!$C$8:$AQ$8,$K$2))","v":""},{"$f":"IF(ISBLANK('Data Input'!A334),\"\",SUM('Data Input'!V334))","v":""},{"$f":"IF(M330=\"\",\"\",M330/COUNTIF('Data Input'!$C$8:$AQ$8,$M$2))","v":""},{"$f":"IF(ISBLANK('Data Input'!A334),\"\",SUM('Data Input'!H334,'Data Input'!I334,'Data Input'!M334,'Data Input'!N334,'Data Input'!Q334,'Data Input'!R334,'Data Input'!T334,'Data Input'!Y334,'Data Input'!AD334,'Data Input'!AI334,'Data Input'!AP334,'Data Input'!AQ334))","v":""},{"$f":"IF(O330=\"\",\"\",O330/COUNTIF('Data Input'!$C$8:$AQ$8,$O$2))","v":""}]
[{"$f":"IF('Data Input'!A335=0,\"\",'Data Input'!A335)","v":""},{"$f":"IF(ISBLANK('Data Input'!A335),\"\",COUNTIF('Data Input'!C335:AQ335,\"\")-1)","v":""},{"$f":"IF(ISBLANK('Data Input'!A335),\"\",COUNTIF('Data Input'!C335:AQ335,\"0\"))","v":""},{"$f":"IF(ISBLANK('Data Input'!A335),\"\",SUM(B331,C331))","v":""},{"$f":"IF(ISBLANK('Data Input'!A335),\"\",SUM('Data Input'!C335:V335))","v":""},{"$f":"IF(ISBLANK('Data Input'!A335),\"\",SUM('Data Input'!X335:AQ335))","v":""},{"$f":"IF(ISBLANK('Data Input'!A335),\"\",SUM('Data Input'!C335:AQ335))","v":""},{"$f":"IF(G331=\"\",\"\",G331/(COUNTA('Data Input'!$C$8:$AQ$8)-1))","v":""},{"$f":"IF(ISBLANK('Data Input'!A335),\"\",SUM('Data Input'!C335,'Data Input'!K335,'Data Input'!L335,'Data Input'!AC335,'Data Input'!AF335,'Data Input'!AM335,'Data Input'!AO335))","v":""},{"$f":"IF(I331=\"\",\"\",I331/COUNTIF('Data Input'!$C$8:$AQ$8,$I$2))","v":""},{"$f":"IF(ISBLANK('Data Input'!A335),\"\",SUM('Data Input'!D335,'Data Input'!E335,'Data Input'!F335,'Data Input'!G335,'Data Input'!J335,'Data Input'!O335,'Data Input'!P335,'Data Input'!S335,'Data Input'!U335,'Data Input'!X335,'Data Input'!Z335,'Data Input'!AA335,'Data Input'!AB335,'Data Input'!AE335,'Data Input'!AG335,'Data Input'!AH335,'Data Input'!AJ335,'Data Input'!AK335,'Data Input'!AL335,'Data Input'!AN335))","v":""},{"$f":"IF(K331=\"\",\"\",K331/COUNTIF('Data Input'!$C$8:$AQ$8,$K$2))","v":""},{"$f":"IF(ISBLANK('Data Input'!A335),\"\",SUM('Data Input'!V335))","v":""},{"$f":"IF(M331=\"\",\"\",M331/COUNTIF('Data Input'!$C$8:$AQ$8,$M$2))","v":""},{"$f":"IF(ISBLANK('Data Input'!A335),\"\",SUM('Data Input'!H335,'Data Input'!I335,'Data Input'!M335,'Data Input'!N335,'Data Input'!Q335,'Data Input'!R335,'Data Input'!T335,'Data Input'!Y335,'Data Input'!AD335,'Data Input'!AI335,'Data Input'!AP335,'Data Input'!AQ335))","v":""},{"$f":"IF(O331=\"\",\"\",O331/COUNTIF('Data Input'!$C$8:$AQ$8,$O$2))","v":""}]
[{"$f":"IF('Data Input'!A336=0,\"\",'Data Input'!A336)","v":""},{"$f":"IF(ISBLANK('Data Input'!A336),\"\",COUNTIF('Data Input'!C336:AQ336,\"\")-1)","v":""},{"$f":"IF(ISBLANK('Data Input'!A336),\"\",COUNTIF('Data Input'!C336:AQ336,\"0\"))","v":""},{"$f":"IF(ISBLANK('Data Input'!A336),\"\",SUM(B332,C332))","v":""},{"$f":"IF(ISBLANK('Data Input'!A336),\"\",SUM('Data Input'!C336:V336))","v":""},{"$f":"IF(ISBLANK('Data Input'!A336),\"\",SUM('Data Input'!X336:AQ336))","v":""},{"$f":"IF(ISBLANK('Data Input'!A336),\"\",SUM('Data Input'!C336:AQ336))","v":""},{"$f":"IF(G332=\"\",\"\",G332/(COUNTA('Data Input'!$C$8:$AQ$8)-1))","v":""},{"$f":"IF(ISBLANK('Data Input'!A336),\"\",SUM('Data Input'!C336,'Data Input'!K336,'Data Input'!L336,'Data Input'!AC336,'Data Input'!AF336,'Data Input'!AM336,'Data Input'!AO336))","v":""},{"$f":"IF(I332=\"\",\"\",I332/COUNTIF('Data Input'!$C$8:$AQ$8,$I$2))","v":""},{"$f":"IF(ISBLANK('Data Input'!A336),\"\",SUM('Data Input'!D336,'Data Input'!E336,'Data Input'!F336,'Data Input'!G336,'Data Input'!J336,'Data Input'!O336,'Data Input'!P336,'Data Input'!S336,'Data Input'!U336,'Data Input'!X336,'Data Input'!Z336,'Data Input'!AA336,'Data Input'!AB336,'Data Input'!AE336,'Data Input'!AG336,'Data Input'!AH336,'Data Input'!AJ336,'Data Input'!AK336,'Data Input'!AL336,'Data Input'!AN336))","v":""},{"$f":"IF(K332=\"\",\"\",K332/COUNTIF('Data Input'!$C$8:$AQ$8,$K$2))","v":""},{"$f":"IF(ISBLANK('Data Input'!A336),\"\",SUM('Data Input'!V336))","v":""},{"$f":"IF(M332=\"\",\"\",M332/COUNTIF('Data Input'!$C$8:$AQ$8,$M$2))","v":""},{"$f":"IF(ISBLANK('Data Input'!A336),\"\",SUM('Data Input'!H336,'Data Input'!I336,'Data Input'!M336,'Data Input'!N336,'Data Input'!Q336,'Data Input'!R336,'Data Input'!T336,'Data Input'!Y336,'Data Input'!AD336,'Data Input'!AI336,'Data Input'!AP336,'Data Input'!AQ336))","v":""},{"$f":"IF(O332=\"\",\"\",O332/COUNTIF('Data Input'!$C$8:$AQ$8,$O$2))","v":""}]
[{"$f":"IF('Data Input'!A337=0,\"\",'Data Input'!A337)","v":""},{"$f":"IF(ISBLANK('Data Input'!A337),\"\",COUNTIF('Data Input'!C337:AQ337,\"\")-1)","v":""},{"$f":"IF(ISBLANK('Data Input'!A337),\"\",COUNTIF('Data Input'!C337:AQ337,\"0\"))","v":""},{"$f":"IF(ISBLANK('Data Input'!A337),\"\",SUM(B333,C333))","v":""},{"$f":"IF(ISBLANK('Data Input'!A337),\"\",SUM('Data Input'!C337:V337))","v":""},{"$f":"IF(ISBLANK('Data Input'!A337),\"\",SUM('Data Input'!X337:AQ337))","v":""},{"$f":"IF(ISBLANK('Data Input'!A337),\"\",SUM('Data Input'!C337:AQ337))","v":""},{"$f":"IF(G333=\"\",\"\",G333/(COUNTA('Data Input'!$C$8:$AQ$8)-1))","v":""},{"$f":"IF(ISBLANK('Data Input'!A337),\"\",SUM('Data Input'!C337,'Data Input'!K337,'Data Input'!L337,'Data Input'!AC337,'Data Input'!AF337,'Data Input'!AM337,'Data Input'!AO337))","v":""},{"$f":"IF(I333=\"\",\"\",I333/COUNTIF('Data Input'!$C$8:$AQ$8,$I$2))","v":""},{"$f":"IF(ISBLANK('Data Input'!A337),\"\",SUM('Data Input'!D337,'Data Input'!E337,'Data Input'!F337,'Data Input'!G337,'Data Input'!J337,'Data Input'!O337,'Data Input'!P337,'Data Input'!S337,'Data Input'!U337,'Data Input'!X337,'Data Input'!Z337,'Data Input'!AA337,'Data Input'!AB337,'Data Input'!AE337,'Data Input'!AG337,'Data Input'!AH337,'Data Input'!AJ337,'Data Input'!AK337,'Data Input'!AL337,'Data Input'!AN337))","v":""},{"$f":"IF(K333=\"\",\"\",K333/COUNTIF('Data Input'!$C$8:$AQ$8,$K$2))","v":""},{"$f":"IF(ISBLANK('Data Input'!A337),\"\",SUM('Data Input'!V337))","v":""},{"$f":"IF(M333=\"\",\"\",M333/COUNTIF('Data Input'!$C$8:$AQ$8,$M$2))","v":""},{"$f":"IF(ISBLANK('Data Input'!A337),\"\",SUM('Data Input'!H337,'Data Input'!I337,'Data Input'!M337,'Data Input'!N337,'Data Input'!Q337,'Data Input'!R337,'Data Input'!T337,'Data Input'!Y337,'Data Input'!AD337,'Data Input'!AI337,'Data Input'!AP337,'Data Input'!AQ337))","v":""},{"$f":"IF(O333=\"\",\"\",O333/COUNTIF('Data Input'!$C$8:$AQ$8,$O$2))","v":""}]
[{"$f":"IF('Data Input'!A338=0,\"\",'Data Input'!A338)","v":""},{"$f":"IF(ISBLANK('Data Input'!A338),\"\",COUNTIF('Data Input'!C338:AQ338,\"\")-1)","v":""},{"$f":"IF(ISBLANK('Data Input'!A338),\"\",COUNTIF('Data Input'!C338:AQ338,\"0\"))","v":""},{"$f":"IF(ISBLANK('Data Input'!A338),\"\",SUM(B334,C334))","v":""},{"$f":"IF(ISBLANK('Data Input'!A338),\"\",SUM('Data Input'!C338:V338))","v":""},{"$f":"IF(ISBLANK('Data Input'!A338),\"\",SUM('Data Input'!X338:AQ338))","v":""},{"$f":"IF(ISBLANK('Data Input'!A338),\"\",SUM('Data Input'!C338:AQ338))","v":""},{"$f":"IF(G334=\"\",\"\",G334/(COUNTA('Data Input'!$C$8:$AQ$8)-1))","v":""},{"$f":"IF(ISBLANK('Data Input'!A338),\"\",SUM('Data Input'!C338,'Data Input'!K338,'Data Input'!L338,'Data Input'!AC338,'Data Input'!AF338,'Data Input'!AM338,'Data Input'!AO338))","v":""},{"$f":"IF(I334=\"\",\"\",I334/COUNTIF('Data Input'!$C$8:$AQ$8,$I$2))","v":""},{"$f":"IF(ISBLANK('Data Input'!A338),\"\",SUM('Data Input'!D338,'Data Input'!E338,'Data Input'!F338,'Data Input'!G338,'Data Input'!J338,'Data Input'!O338,'Data Input'!P338,'Data Input'!S338,'Data Input'!U338,'Data Input'!X338,'Data Input'!Z338,'Data Input'!AA338,'Data Input'!AB338,'Data Input'!AE338,'Data Input'!AG338,'Data Input'!AH338,'Data Input'!AJ338,'Data Input'!AK338,'Data Input'!AL338,'Data Input'!AN338))","v":""},{"$f":"IF(K334=\"\",\"\",K334/COUNTIF('Data Input'!$C$8:$AQ$8,$K$2))","v":""},{"$f":"IF(ISBLANK('Data Input'!A338),\"\",SUM('Data Input'!V338))","v":""},{"$f":"IF(M334=\"\",\"\",M334/COUNTIF('Data Input'!$C$8:$AQ$8,$M$2))","v":""},{"$f":"IF(ISBLANK('Data Input'!A338),\"\",SUM('Data Input'!H338,'Data Input'!I338,'Data Input'!M338,'Data Input'!N338,'Data Input'!Q338,'Data Input'!R338,'Data Input'!T338,'Data Input'!Y338,'Data Input'!AD338,'Data Input'!AI338,'Data Input'!AP338,'Data Input'!AQ338))","v":""},{"$f":"IF(O334=\"\",\"\",O334/COUNTIF('Data Input'!$C$8:$AQ$8,$O$2))","v":""}]
[{"$f":"IF('Data Input'!A339=0,\"\",'Data Input'!A339)","v":""},{"$f":"IF(ISBLANK('Data Input'!A339),\"\",COUNTIF('Data Input'!C339:AQ339,\"\")-1)","v":""},{"$f":"IF(ISBLANK('Data Input'!A339),\"\",COUNTIF('Data Input'!C339:AQ339,\"0\"))","v":""},{"$f":"IF(ISBLANK('Data Input'!A339),\"\",SUM(B335,C335))","v":""},{"$f":"IF(ISBLANK('Data Input'!A339),\"\",SUM('Data Input'!C339:V339))","v":""},{"$f":"IF(ISBLANK('Data Input'!A339),\"\",SUM('Data Input'!X339:AQ339))","v":""},{"$f":"IF(ISBLANK('Data Input'!A339),\"\",SUM('Data Input'!C339:AQ339))","v":""},{"$f":"IF(G335=\"\",\"\",G335/(COUNTA('Data Input'!$C$8:$AQ$8)-1))","v":""},{"$f":"IF(ISBLANK('Data Input'!A339),\"\",SUM('Data Input'!C339,'Data Input'!K339,'Data Input'!L339,'Data Input'!AC339,'Data Input'!AF339,'Data Input'!AM339,'Data Input'!AO339))","v":""},{"$f":"IF(I335=\"\",\"\",I335/COUNTIF('Data Input'!$C$8:$AQ$8,$I$2))","v":""},{"$f":"IF(ISBLANK('Data Input'!A339),\"\",SUM('Data Input'!D339,'Data Input'!E339,'Data Input'!F339,'Data Input'!G339,'Data Input'!J339,'Data Input'!O339,'Data Input'!P339,'Data Input'!S339,'Data Input'!U339,'Data Input'!X339,'Data Input'!Z339,'Data Input'!AA339,'Data Input'!AB339,'Data Input'!AE339,'Data Input'!AG339,'Data Input'!AH339,'Data Input'!AJ339,'Data Input'!AK339,'Data Input'!AL339,'Data Input'!AN339))","v":""},{"$f":"IF(K335=\"\",\"\",K335/COUNTIF('Data Input'!$C$8:$AQ$8,$K$2))","v":""},{"$f":"IF(ISBLANK('Data Input'!A339),\"\",SUM('Data Input'!V339))","v":""},{"$f":"IF(M335=\"\",\"\",M335/COUNTIF('Data Input'!$C$8:$AQ$8,$M$2))","v":""},{"$f":"IF(ISBLANK('Data Input'!A339),\"\",SUM('Data Input'!H339,'Data Input'!I339,'Data Input'!M339,'Data Input'!N339,'Data Input'!Q339,'Data Input'!R339,'Data Input'!T339,'Data Input'!Y339,'Data Input'!AD339,'Data Input'!AI339,'Data Input'!AP339,'Data Input'!AQ339))","v":""},{"$f":"IF(O335=\"\",\"\",O335/COUNTIF('Data Input'!$C$8:$AQ$8,$O$2))","v":""}]
[{"$f":"IF('Data Input'!A340=0,\"\",'Data Input'!A340)","v":""},{"$f":"IF(ISBLANK('Data Input'!A340),\"\",COUNTIF('Data Input'!C340:AQ340,\"\")-1)","v":""},{"$f":"IF(ISBLANK('Data Input'!A340),\"\",COUNTIF('Data Input'!C340:AQ340,\"0\"))","v":""},{"$f":"IF(ISBLANK('Data Input'!A340),\"\",SUM(B336,C336))","v":""},{"$f":"IF(ISBLANK('Data Input'!A340),\"\",SUM('Data Input'!C340:V340))","v":""},{"$f":"IF(ISBLANK('Data Input'!A340),\"\",SUM('Data Input'!X340:AQ340))","v":""},{"$f":"IF(ISBLANK('Data Input'!A340),\"\",SUM('Data Input'!C340:AQ340))","v":""},{"$f":"IF(G336=\"\",\"\",G336/(COUNTA('Data Input'!$C$8:$AQ$8)-1))","v":""},{"$f":"IF(ISBLANK('Data Input'!A340),\"\",SUM('Data Input'!C340,'Data Input'!K340,'Data Input'!L340,'Data Input'!AC340,'Data Input'!AF340,'Data Input'!AM340,'Data Input'!AO340))","v":""},{"$f":"IF(I336=\"\",\"\",I336/COUNTIF('Data Input'!$C$8:$AQ$8,$I$2))","v":""},{"$f":"IF(ISBLANK('Data Input'!A340),\"\",SUM('Data Input'!D340,'Data Input'!E340,'Data Input'!F340,'Data Input'!G340,'Data Input'!J340,'Data Input'!O340,'Data Input'!P340,'Data Input'!S340,'Data Input'!U340,'Data Input'!X340,'Data Input'!Z340,'Data Input'!AA340,'Data Input'!AB340,'Data Input'!AE340,'Data Input'!AG340,'Data Input'!AH340,'Data Input'!AJ340,'Data Input'!AK340,'Data Input'!AL340,'Data Input'!AN340))","v":""},{"$f":"IF(K336=\"\",\"\",K336/COUNTIF('Data Input'!$C$8:$AQ$8,$K$2))","v":""},{"$f":"IF(ISBLANK('Data Input'!A340),\"\",SUM('Data Input'!V340))","v":""},{"$f":"IF(M336=\"\",\"\",M336/COUNTIF('Data Input'!$C$8:$AQ$8,$M$2))","v":""},{"$f":"IF(ISBLANK('Data Input'!A340),\"\",SUM('Data Input'!H340,'Data Input'!I340,'Data Input'!M340,'Data Input'!N340,'Data Input'!Q340,'Data Input'!R340,'Data Input'!T340,'Data Input'!Y340,'Data Input'!AD340,'Data Input'!AI340,'Data Input'!AP340,'Data Input'!AQ340))","v":""},{"$f":"IF(O336=\"\",\"\",O336/COUNTIF('Data Input'!$C$8:$AQ$8,$O$2))","v":""}]
[{"$f":"IF('Data Input'!A341=0,\"\",'Data Input'!A341)","v":""},{"$f":"IF(ISBLANK('Data Input'!A341),\"\",COUNTIF('Data Input'!C341:AQ341,\"\")-1)","v":""},{"$f":"IF(ISBLANK('Data Input'!A341),\"\",COUNTIF('Data Input'!C341:AQ341,\"0\"))","v":""},{"$f":"IF(ISBLANK('Data Input'!A341),\"\",SUM(B337,C337))","v":""},{"$f":"IF(ISBLANK('Data Input'!A341),\"\",SUM('Data Input'!C341:V341))","v":""},{"$f":"IF(ISBLANK('Data Input'!A341),\"\",SUM('Data Input'!X341:AQ341))","v":""},{"$f":"IF(ISBLANK('Data Input'!A341),\"\",SUM('Data Input'!C341:AQ341))","v":""},{"$f":"IF(G337=\"\",\"\",G337/(COUNTA('Data Input'!$C$8:$AQ$8)-1))","v":""},{"$f":"IF(ISBLANK('Data Input'!A341),\"\",SUM('Data Input'!C341,'Data Input'!K341,'Data Input'!L341,'Data Input'!AC341,'Data Input'!AF341,'Data Input'!AM341,'Data Input'!AO341))","v":""},{"$f":"IF(I337=\"\",\"\",I337/COUNTIF('Data Input'!$C$8:$AQ$8,$I$2))","v":""},{"$f":"IF(ISBLANK('Data Input'!A341),\"\",SUM('Data Input'!D341,'Data Input'!E341,'Data Input'!F341,'Data Input'!G341,'Data Input'!J341,'Data Input'!O341,'Data Input'!P341,'Data Input'!S341,'Data Input'!U341,'Data Input'!X341,'Data Input'!Z341,'Data Input'!AA341,'Data Input'!AB341,'Data Input'!AE341,'Data Input'!AG341,'Data Input'!AH341,'Data Input'!AJ341,'Data Input'!AK341,'Data Input'!AL341,'Data Input'!AN341))","v":""},{"$f":"IF(K337=\"\",\"\",K337/COUNTIF('Data Input'!$C$8:$AQ$8,$K$2))","v":""},{"$f":"IF(ISBLANK('Data Input'!A341),\"\",SUM('Data Input'!V341))","v":""},{"$f":"IF(M337=\"\",\"\",M337/COUNTIF('Data Input'!$C$8:$AQ$8,$M$2))","v":""},{"$f":"IF(ISBLANK('Data Input'!A341),\"\",SUM('Data Input'!H341,'Data Input'!I341,'Data Input'!M341,'Data Input'!N341,'Data Input'!Q341,'Data Input'!R341,'Data Input'!T341,'Data Input'!Y341,'Data Input'!AD341,'Data Input'!AI341,'Data Input'!AP341,'Data Input'!AQ341))","v":""},{"$f":"IF(O337=\"\",\"\",O337/COUNTIF('Data Input'!$C$8:$AQ$8,$O$2))","v":""}]
[{"$f":"IF('Data Input'!A342=0,\"\",'Data Input'!A342)","v":""},{"$f":"IF(ISBLANK('Data Input'!A342),\"\",COUNTIF('Data Input'!C342:AQ342,\"\")-1)","v":""},{"$f":"IF(ISBLANK('Data Input'!A342),\"\",COUNTIF('Data Input'!C342:AQ342,\"0\"))","v":""},{"$f":"IF(ISBLANK('Data Input'!A342),\"\",SUM(B338,C338))","v":""},{"$f":"IF(ISBLANK('Data Input'!A342),\"\",SUM('Data Input'!C342:V342))","v":""},{"$f":"IF(ISBLANK('Data Input'!A342),\"\",SUM('Data Input'!X342:AQ342))","v":""},{"$f":"IF(ISBLANK('Data Input'!A342),\"\",SUM('Data Input'!C342:AQ342))","v":""},{"$f":"IF(G338=\"\",\"\",G338/(COUNTA('Data Input'!$C$8:$AQ$8)-1))","v":""},{"$f":"IF(ISBLANK('Data Input'!A342),\"\",SUM('Data Input'!C342,'Data Input'!K342,'Data Input'!L342,'Data Input'!AC342,'Data Input'!AF342,'Data Input'!AM342,'Data Input'!AO342))","v":""},{"$f":"IF(I338=\"\",\"\",I338/COUNTIF('Data Input'!$C$8:$AQ$8,$I$2))","v":""},{"$f":"IF(ISBLANK('Data Input'!A342),\"\",SUM('Data Input'!D342,'Data Input'!E342,'Data Input'!F342,'Data Input'!G342,'Data Input'!J342,'Data Input'!O342,'Data Input'!P342,'Data Input'!S342,'Data Input'!U342,'Data Input'!X342,'Data Input'!Z342,'Data Input'!AA342,'Data Input'!AB342,'Data Input'!AE342,'Data Input'!AG342,'Data Input'!AH342,'Data Input'!AJ342,'Data Input'!AK342,'Data Input'!AL342,'Data Input'!AN342))","v":""},{"$f":"IF(K338=\"\",\"\",K338/COUNTIF('Data Input'!$C$8:$AQ$8,$K$2))","v":""},{"$f":"IF(ISBLANK('Data Input'!A342),\"\",SUM('Data Input'!V342))","v":""},{"$f":"IF(M338=\"\",\"\",M338/COUNTIF('Data Input'!$C$8:$AQ$8,$M$2))","v":""},{"$f":"IF(ISBLANK('Data Input'!A342),\"\",SUM('Data Input'!H342,'Data Input'!I342,'Data Input'!M342,'Data Input'!N342,'Data Input'!Q342,'Data Input'!R342,'Data Input'!T342,'Data Input'!Y342,'Data Input'!AD342,'Data Input'!AI342,'Data Input'!AP342,'Data Input'!AQ342))","v":""},{"$f":"IF(O338=\"\",\"\",O338/COUNTIF('Data Input'!$C$8:$AQ$8,$O$2))","v":""}]
[{"$f":"IF('Data Input'!A343=0,\"\",'Data Input'!A343)","v":""},{"$f":"IF(ISBLANK('Data Input'!A343),\"\",COUNTIF('Data Input'!C343:AQ343,\"\")-1)","v":""},{"$f":"IF(ISBLANK('Data Input'!A343),\"\",COUNTIF('Data Input'!C343:AQ343,\"0\"))","v":""},{"$f":"IF(ISBLANK('Data Input'!A343),\"\",SUM(B339,C339))","v":""},{"$f":"IF(ISBLANK('Data Input'!A343),\"\",SUM('Data Input'!C343:V343))","v":""},{"$f":"IF(ISBLANK('Data Input'!A343),\"\",SUM('Data Input'!X343:AQ343))","v":""},{"$f":"IF(ISBLANK('Data Input'!A343),\"\",SUM('Data Input'!C343:AQ343))","v":""},{"$f":"IF(G339=\"\",\"\",G339/(COUNTA('Data Input'!$C$8:$AQ$8)-1))","v":""},{"$f":"IF(ISBLANK('Data Input'!A343),\"\",SUM('Data Input'!C343,'Data Input'!K343,'Data Input'!L343,'Data Input'!AC343,'Data Input'!AF343,'Data Input'!AM343,'Data Input'!AO343))","v":""},{"$f":"IF(I339=\"\",\"\",I339/COUNTIF('Data Input'!$C$8:$AQ$8,$I$2))","v":""},{"$f":"IF(ISBLANK('Data Input'!A343),\"\",SUM('Data Input'!D343,'Data Input'!E343,'Data Input'!F343,'Data Input'!G343,'Data Input'!J343,'Data Input'!O343,'Data Input'!P343,'Data Input'!S343,'Data Input'!U343,'Data Input'!X343,'Data Input'!Z343,'Data Input'!AA343,'Data Input'!AB343,'Data Input'!AE343,'Data Input'!AG343,'Data Input'!AH343,'Data Input'!AJ343,'Data Input'!AK343,'Data Input'!AL343,'Data Input'!AN343))","v":""},{"$f":"IF(K339=\"\",\"\",K339/COUNTIF('Data Input'!$C$8:$AQ$8,$K$2))","v":""},{"$f":"IF(ISBLANK('Data Input'!A343),\"\",SUM('Data Input'!V343))","v":""},{"$f":"IF(M339=\"\",\"\",M339/COUNTIF('Data Input'!$C$8:$AQ$8,$M$2))","v":""},{"$f":"IF(ISBLANK('Data Input'!A343),\"\",SUM('Data Input'!H343,'Data Input'!I343,'Data Input'!M343,'Data Input'!N343,'Data Input'!Q343,'Data Input'!R343,'Data Input'!T343,'Data Input'!Y343,'Data Input'!AD343,'Data Input'!AI343,'Data Input'!AP343,'Data Input'!AQ343))","v":""},{"$f":"IF(O339=\"\",\"\",O339/COUNTIF('Data Input'!$C$8:$AQ$8,$O$2))","v":""}]
[{"$f":"IF('Data Input'!A344=0,\"\",'Data Input'!A344)","v":""},{"$f":"IF(ISBLANK('Data Input'!A344),\"\",COUNTIF('Data Input'!C344:AQ344,\"\")-1)","v":""},{"$f":"IF(ISBLANK('Data Input'!A344),\"\",COUNTIF('Data Input'!C344:AQ344,\"0\"))","v":""},{"$f":"IF(ISBLANK('Data Input'!A344),\"\",SUM(B340,C340))","v":""},{"$f":"IF(ISBLANK('Data Input'!A344),\"\",SUM('Data Input'!C344:V344))","v":""},{"$f":"IF(ISBLANK('Data Input'!A344),\"\",SUM('Data Input'!X344:AQ344))","v":""},{"$f":"IF(ISBLANK('Data Input'!A344),\"\",SUM('Data Input'!C344:AQ344))","v":""},{"$f":"IF(G340=\"\",\"\",G340/(COUNTA('Data Input'!$C$8:$AQ$8)-1))","v":""},{"$f":"IF(ISBLANK('Data Input'!A344),\"\",SUM('Data Input'!C344,'Data Input'!K344,'Data Input'!L344,'Data Input'!AC344,'Data Input'!AF344,'Data Input'!AM344,'Data Input'!AO344))","v":""},{"$f":"IF(I340=\"\",\"\",I340/COUNTIF('Data Input'!$C$8:$AQ$8,$I$2))","v":""},{"$f":"IF(ISBLANK('Data Input'!A344),\"\",SUM('Data Input'!D344,'Data Input'!E344,'Data Input'!F344,'Data Input'!G344,'Data Input'!J344,'Data Input'!O344,'Data Input'!P344,'Data Input'!S344,'Data Input'!U344,'Data Input'!X344,'Data Input'!Z344,'Data Input'!AA344,'Data Input'!AB344,'Data Input'!AE344,'Data Input'!AG344,'Data Input'!AH344,'Data Input'!AJ344,'Data Input'!AK344,'Data Input'!AL344,'Data Input'!AN344))","v":""},{"$f":"IF(K340=\"\",\"\",K340/COUNTIF('Data Input'!$C$8:$AQ$8,$K$2))","v":""},{"$f":"IF(ISBLANK('Data Input'!A344),\"\",SUM('Data Input'!V344))","v":""},{"$f":"IF(M340=\"\",\"\",M340/COUNTIF('Data Input'!$C$8:$AQ$8,$M$2))","v":""},{"$f":"IF(ISBLANK('Data Input'!A344),\"\",SUM('Data Input'!H344,'Data Input'!I344,'Data Input'!M344,'Data Input'!N344,'Data Input'!Q344,'Data Input'!R344,'Data Input'!T344,'Data Input'!Y344,'Data Input'!AD344,'Data Input'!AI344,'Data Input'!AP344,'Data Input'!AQ344))","v":""},{"$f":"IF(O340=\"\",\"\",O340/COUNTIF('Data Input'!$C$8:$AQ$8,$O$2))","v":""}]
[{"$f":"IF('Data Input'!A345=0,\"\",'Data Input'!A345)","v":""},{"$f":"IF(ISBLANK('Data Input'!A345),\"\",COUNTIF('Data Input'!C345:AQ345,\"\")-1)","v":""},{"$f":"IF(ISBLANK('Data Input'!A345),\"\",COUNTIF('Data Input'!C345:AQ345,\"0\"))","v":""},{"$f":"IF(ISBLANK('Data Input'!A345),\"\",SUM(B341,C341))","v":""},{"$f":"IF(ISBLANK('Data Input'!A345),\"\",SUM('Data Input'!C345:V345))","v":""},{"$f":"IF(ISBLANK('Data Input'!A345),\"\",SUM('Data Input'!X345:AQ345))","v":""},{"$f":"IF(ISBLANK('Data Input'!A345),\"\",SUM('Data Input'!C345:AQ345))","v":""},{"$f":"IF(G341=\"\",\"\",G341/(COUNTA('Data Input'!$C$8:$AQ$8)-1))","v":""},{"$f":"IF(ISBLANK('Data Input'!A345),\"\",SUM('Data Input'!C345,'Data Input'!K345,'Data Input'!L345,'Data Input'!AC345,'Data Input'!AF345,'Data Input'!AM345,'Data Input'!AO345))","v":""},{"$f":"IF(I341=\"\",\"\",I341/COUNTIF('Data Input'!$C$8:$AQ$8,$I$2))","v":""},{"$f":"IF(ISBLANK('Data Input'!A345),\"\",SUM('Data Input'!D345,'Data Input'!E345,'Data Input'!F345,'Data Input'!G345,'Data Input'!J345,'Data Input'!O345,'Data Input'!P345,'Data Input'!S345,'Data Input'!U345,'Data Input'!X345,'Data Input'!Z345,'Data Input'!AA345,'Data Input'!AB345,'Data Input'!AE345,'Data Input'!AG345,'Data Input'!AH345,'Data Input'!AJ345,'Data Input'!AK345,'Data Input'!AL345,'Data Input'!AN345))","v":""},{"$f":"IF(K341=\"\",\"\",K341/COUNTIF('Data Input'!$C$8:$AQ$8,$K$2))","v":""},{"$f":"IF(ISBLANK('Data Input'!A345),\"\",SUM('Data Input'!V345))","v":""},{"$f":"IF(M341=\"\",\"\",M341/COUNTIF('Data Input'!$C$8:$AQ$8,$M$2))","v":""},{"$f":"IF(ISBLANK('Data Input'!A345),\"\",SUM('Data Input'!H345,'Data Input'!I345,'Data Input'!M345,'Data Input'!N345,'Data Input'!Q345,'Data Input'!R345,'Data Input'!T345,'Data Input'!Y345,'Data Input'!AD345,'Data Input'!AI345,'Data Input'!AP345,'Data Input'!AQ345))","v":""},{"$f":"IF(O341=\"\",\"\",O341/COUNTIF('Data Input'!$C$8:$AQ$8,$O$2))","v":""}]
[{"$f":"IF('Data Input'!A346=0,\"\",'Data Input'!A346)","v":""},{"$f":"IF(ISBLANK('Data Input'!A346),\"\",COUNTIF('Data Input'!C346:AQ346,\"\")-1)","v":""},{"$f":"IF(ISBLANK('Data Input'!A346),\"\",COUNTIF('Data Input'!C346:AQ346,\"0\"))","v":""},{"$f":"IF(ISBLANK('Data Input'!A346),\"\",SUM(B342,C342))","v":""},{"$f":"IF(ISBLANK('Data Input'!A346),\"\",SUM('Data Input'!C346:V346))","v":""},{"$f":"IF(ISBLANK('Data Input'!A346),\"\",SUM('Data Input'!X346:AQ346))","v":""},{"$f":"IF(ISBLANK('Data Input'!A346),\"\",SUM('Data Input'!C346:AQ346))","v":""},{"$f":"IF(G342=\"\",\"\",G342/(COUNTA('Data Input'!$C$8:$AQ$8)-1))","v":""},{"$f":"IF(ISBLANK('Data Input'!A346),\"\",SUM('Data Input'!C346,'Data Input'!K346,'Data Input'!L346,'Data Input'!AC346,'Data Input'!AF346,'Data Input'!AM346,'Data Input'!AO346))","v":""},{"$f":"IF(I342=\"\",\"\",I342/COUNTIF('Data Input'!$C$8:$AQ$8,$I$2))","v":""},{"$f":"IF(ISBLANK('Data Input'!A346),\"\",SUM('Data Input'!D346,'Data Input'!E346,'Data Input'!F346,'Data Input'!G346,'Data Input'!J346,'Data Input'!O346,'Data Input'!P346,'Data Input'!S346,'Data Input'!U346,'Data Input'!X346,'Data Input'!Z346,'Data Input'!AA346,'Data Input'!AB346,'Data Input'!AE346,'Data Input'!AG346,'Data Input'!AH346,'Data Input'!AJ346,'Data Input'!AK346,'Data Input'!AL346,'Data Input'!AN346))","v":""},{"$f":"IF(K342=\"\",\"\",K342/COUNTIF('Data Input'!$C$8:$AQ$8,$K$2))","v":""},{"$f":"IF(ISBLANK('Data Input'!A346),\"\",SUM('Data Input'!V346))","v":""},{"$f":"IF(M342=\"\",\"\",M342/COUNTIF('Data Input'!$C$8:$AQ$8,$M$2))","v":""},{"$f":"IF(ISBLANK('Data Input'!A346),\"\",SUM('Data Input'!H346,'Data Input'!I346,'Data Input'!M346,'Data Input'!N346,'Data Input'!Q346,'Data Input'!R346,'Data Input'!T346,'Data Input'!Y346,'Data Input'!AD346,'Data Input'!AI346,'Data Input'!AP346,'Data Input'!AQ346))","v":""},{"$f":"IF(O342=\"\",\"\",O342/COUNTIF('Data Input'!$C$8:$AQ$8,$O$2))","v":""}]
[{"$f":"IF('Data Input'!A347=0,\"\",'Data Input'!A347)","v":""},{"$f":"IF(ISBLANK('Data Input'!A347),\"\",COUNTIF('Data Input'!C347:AQ347,\"\")-1)","v":""},{"$f":"IF(ISBLANK('Data Input'!A347),\"\",COUNTIF('Data Input'!C347:AQ347,\"0\"))","v":""},{"$f":"IF(ISBLANK('Data Input'!A347),\"\",SUM(B343,C343))","v":""},{"$f":"IF(ISBLANK('Data Input'!A347),\"\",SUM('Data Input'!C347:V347))","v":""},{"$f":"IF(ISBLANK('Data Input'!A347),\"\",SUM('Data Input'!X347:AQ347))","v":""},{"$f":"IF(ISBLANK('Data Input'!A347),\"\",SUM('Data Input'!C347:AQ347))","v":""},{"$f":"IF(G343=\"\",\"\",G343/(COUNTA('Data Input'!$C$8:$AQ$8)-1))","v":""},{"$f":"IF(ISBLANK('Data Input'!A347),\"\",SUM('Data Input'!C347,'Data Input'!K347,'Data Input'!L347,'Data Input'!AC347,'Data Input'!AF347,'Data Input'!AM347,'Data Input'!AO347))","v":""},{"$f":"IF(I343=\"\",\"\",I343/COUNTIF('Data Input'!$C$8:$AQ$8,$I$2))","v":""},{"$f":"IF(ISBLANK('Data Input'!A347),\"\",SUM('Data Input'!D347,'Data Input'!E347,'Data Input'!F347,'Data Input'!G347,'Data Input'!J347,'Data Input'!O347,'Data Input'!P347,'Data Input'!S347,'Data Input'!U347,'Data Input'!X347,'Data Input'!Z347,'Data Input'!AA347,'Data Input'!AB347,'Data Input'!AE347,'Data Input'!AG347,'Data Input'!AH347,'Data Input'!AJ347,'Data Input'!AK347,'Data Input'!AL347,'Data Input'!AN347))","v":""},{"$f":"IF(K343=\"\",\"\",K343/COUNTIF('Data Input'!$C$8:$AQ$8,$K$2))","v":""},{"$f":"IF(ISBLANK('Data Input'!A347),\"\",SUM('Data Input'!V347))","v":""},{"$f":"IF(M343=\"\",\"\",M343/COUNTIF('Data Input'!$C$8:$AQ$8,$M$2))","v":""},{"$f":"IF(ISBLANK('Data Input'!A347),\"\",SUM('Data Input'!H347,'Data Input'!I347,'Data Input'!M347,'Data Input'!N347,'Data Input'!Q347,'Data Input'!R347,'Data Input'!T347,'Data Input'!Y347,'Data Input'!AD347,'Data Input'!AI347,'Data Input'!AP347,'Data Input'!AQ347))","v":""},{"$f":"IF(O343=\"\",\"\",O343/COUNTIF('Data Input'!$C$8:$AQ$8,$O$2))","v":""}]
[{"$f":"IF('Data Input'!A348=0,\"\",'Data Input'!A348)","v":""},{"$f":"IF(ISBLANK('Data Input'!A348),\"\",COUNTIF('Data Input'!C348:AQ348,\"\")-1)","v":""},{"$f":"IF(ISBLANK('Data Input'!A348),\"\",COUNTIF('Data Input'!C348:AQ348,\"0\"))","v":""},{"$f":"IF(ISBLANK('Data Input'!A348),\"\",SUM(B344,C344))","v":""},{"$f":"IF(ISBLANK('Data Input'!A348),\"\",SUM('Data Input'!C348:V348))","v":""},{"$f":"IF(ISBLANK('Data Input'!A348),\"\",SUM('Data Input'!X348:AQ348))","v":""},{"$f":"IF(ISBLANK('Data Input'!A348),\"\",SUM('Data Input'!C348:AQ348))","v":""},{"$f":"IF(G344=\"\",\"\",G344/(COUNTA('Data Input'!$C$8:$AQ$8)-1))","v":""},{"$f":"IF(ISBLANK('Data Input'!A348),\"\",SUM('Data Input'!C348,'Data Input'!K348,'Data Input'!L348,'Data Input'!AC348,'Data Input'!AF348,'Data Input'!AM348,'Data Input'!AO348))","v":""},{"$f":"IF(I344=\"\",\"\",I344/COUNTIF('Data Input'!$C$8:$AQ$8,$I$2))","v":""},{"$f":"IF(ISBLANK('Data Input'!A348),\"\",SUM('Data Input'!D348,'Data Input'!E348,'Data Input'!F348,'Data Input'!G348,'Data Input'!J348,'Data Input'!O348,'Data Input'!P348,'Data Input'!S348,'Data Input'!U348,'Data Input'!X348,'Data Input'!Z348,'Data Input'!AA348,'Data Input'!AB348,'Data Input'!AE348,'Data Input'!AG348,'Data Input'!AH348,'Data Input'!AJ348,'Data Input'!AK348,'Data Input'!AL348,'Data Input'!AN348))","v":""},{"$f":"IF(K344=\"\",\"\",K344/COUNTIF('Data Input'!$C$8:$AQ$8,$K$2))","v":""},{"$f":"IF(ISBLANK('Data Input'!A348),\"\",SUM('Data Input'!V348))","v":""},{"$f":"IF(M344=\"\",\"\",M344/COUNTIF('Data Input'!$C$8:$AQ$8,$M$2))","v":""},{"$f":"IF(ISBLANK('Data Input'!A348),\"\",SUM('Data Input'!H348,'Data Input'!I348,'Data Input'!M348,'Data Input'!N348,'Data Input'!Q348,'Data Input'!R348,'Data Input'!T348,'Data Input'!Y348,'Data Input'!AD348,'Data Input'!AI348,'Data Input'!AP348,'Data Input'!AQ348))","v":""},{"$f":"IF(O344=\"\",\"\",O344/COUNTIF('Data Input'!$C$8:$AQ$8,$O$2))","v":""}]
[{"$f":"IF('Data Input'!A349=0,\"\",'Data Input'!A349)","v":""},{"$f":"IF(ISBLANK('Data Input'!A349),\"\",COUNTIF('Data Input'!C349:AQ349,\"\")-1)","v":""},{"$f":"IF(ISBLANK('Data Input'!A349),\"\",COUNTIF('Data Input'!C349:AQ349,\"0\"))","v":""},{"$f":"IF(ISBLANK('Data Input'!A349),\"\",SUM(B345,C345))","v":""},{"$f":"IF(ISBLANK('Data Input'!A349),\"\",SUM('Data Input'!C349:V349))","v":""},{"$f":"IF(ISBLANK('Data Input'!A349),\"\",SUM('Data Input'!X349:AQ349))","v":""},{"$f":"IF(ISBLANK('Data Input'!A349),\"\",SUM('Data Input'!C349:AQ349))","v":""},{"$f":"IF(G345=\"\",\"\",G345/(COUNTA('Data Input'!$C$8:$AQ$8)-1))","v":""},{"$f":"IF(ISBLANK('Data Input'!A349),\"\",SUM('Data Input'!C349,'Data Input'!K349,'Data Input'!L349,'Data Input'!AC349,'Data Input'!AF349,'Data Input'!AM349,'Data Input'!AO349))","v":""},{"$f":"IF(I345=\"\",\"\",I345/COUNTIF('Data Input'!$C$8:$AQ$8,$I$2))","v":""},{"$f":"IF(ISBLANK('Data Input'!A349),\"\",SUM('Data Input'!D349,'Data Input'!E349,'Data Input'!F349,'Data Input'!G349,'Data Input'!J349,'Data Input'!O349,'Data Input'!P349,'Data Input'!S349,'Data Input'!U349,'Data Input'!X349,'Data Input'!Z349,'Data Input'!AA349,'Data Input'!AB349,'Data Input'!AE349,'Data Input'!AG349,'Data Input'!AH349,'Data Input'!AJ349,'Data Input'!AK349,'Data Input'!AL349,'Data Input'!AN349))","v":""},{"$f":"IF(K345=\"\",\"\",K345/COUNTIF('Data Input'!$C$8:$AQ$8,$K$2))","v":""},{"$f":"IF(ISBLANK('Data Input'!A349),\"\",SUM('Data Input'!V349))","v":""},{"$f":"IF(M345=\"\",\"\",M345/COUNTIF('Data Input'!$C$8:$AQ$8,$M$2))","v":""},{"$f":"IF(ISBLANK('Data Input'!A349),\"\",SUM('Data Input'!H349,'Data Input'!I349,'Data Input'!M349,'Data Input'!N349,'Data Input'!Q349,'Data Input'!R349,'Data Input'!T349,'Data Input'!Y349,'Data Input'!AD349,'Data Input'!AI349,'Data Input'!AP349,'Data Input'!AQ349))","v":""},{"$f":"IF(O345=\"\",\"\",O345/COUNTIF('Data Input'!$C$8:$AQ$8,$O$2))","v":""}]
[{"$f":"IF('Data Input'!A350=0,\"\",'Data Input'!A350)","v":""},{"$f":"IF(ISBLANK('Data Input'!A350),\"\",COUNTIF('Data Input'!C350:AQ350,\"\")-1)","v":""},{"$f":"IF(ISBLANK('Data Input'!A350),\"\",COUNTIF('Data Input'!C350:AQ350,\"0\"))","v":""},{"$f":"IF(ISBLANK('Data Input'!A350),\"\",SUM(B346,C346))","v":""},{"$f":"IF(ISBLANK('Data Input'!A350),\"\",SUM('Data Input'!C350:V350))","v":""},{"$f":"IF(ISBLANK('Data Input'!A350),\"\",SUM('Data Input'!X350:AQ350))","v":""},{"$f":"IF(ISBLANK('Data Input'!A350),\"\",SUM('Data Input'!C350:AQ350))","v":""},{"$f":"IF(G346=\"\",\"\",G346/(COUNTA('Data Input'!$C$8:$AQ$8)-1))","v":""},{"$f":"IF(ISBLANK('Data Input'!A350),\"\",SUM('Data Input'!C350,'Data Input'!K350,'Data Input'!L350,'Data Input'!AC350,'Data Input'!AF350,'Data Input'!AM350,'Data Input'!AO350))","v":""},{"$f":"IF(I346=\"\",\"\",I346/COUNTIF('Data Input'!$C$8:$AQ$8,$I$2))","v":""},{"$f":"IF(ISBLANK('Data Input'!A350),\"\",SUM('Data Input'!D350,'Data Input'!E350,'Data Input'!F350,'Data Input'!G350,'Data Input'!J350,'Data Input'!O350,'Data Input'!P350,'Data Input'!S350,'Data Input'!U350,'Data Input'!X350,'Data Input'!Z350,'Data Input'!AA350,'Data Input'!AB350,'Data Input'!AE350,'Data Input'!AG350,'Data Input'!AH350,'Data Input'!AJ350,'Data Input'!AK350,'Data Input'!AL350,'Data Input'!AN350))","v":""},{"$f":"IF(K346=\"\",\"\",K346/COUNTIF('Data Input'!$C$8:$AQ$8,$K$2))","v":""},{"$f":"IF(ISBLANK('Data Input'!A350),\"\",SUM('Data Input'!V350))","v":""},{"$f":"IF(M346=\"\",\"\",M346/COUNTIF('Data Input'!$C$8:$AQ$8,$M$2))","v":""},{"$f":"IF(ISBLANK('Data Input'!A350),\"\",SUM('Data Input'!H350,'Data Input'!I350,'Data Input'!M350,'Data Input'!N350,'Data Input'!Q350,'Data Input'!R350,'Data Input'!T350,'Data Input'!Y350,'Data Input'!AD350,'Data Input'!AI350,'Data Input'!AP350,'Data Input'!AQ350))","v":""},{"$f":"IF(O346=\"\",\"\",O346/COUNTIF('Data Input'!$C$8:$AQ$8,$O$2))","v":""}]
[{"$f":"IF('Data Input'!A351=0,\"\",'Data Input'!A351)","v":""},{"$f":"IF(ISBLANK('Data Input'!A351),\"\",COUNTIF('Data Input'!C351:AQ351,\"\")-1)","v":""},{"$f":"IF(ISBLANK('Data Input'!A351),\"\",COUNTIF('Data Input'!C351:AQ351,\"0\"))","v":""},{"$f":"IF(ISBLANK('Data Input'!A351),\"\",SUM(B347,C347))","v":""},{"$f":"IF(ISBLANK('Data Input'!A351),\"\",SUM('Data Input'!C351:V351))","v":""},{"$f":"IF(ISBLANK('Data Input'!A351),\"\",SUM('Data Input'!X351:AQ351))","v":""},{"$f":"IF(ISBLANK('Data Input'!A351),\"\",SUM('Data Input'!C351:AQ351))","v":""},{"$f":"IF(G347=\"\",\"\",G347/(COUNTA('Data Input'!$C$8:$AQ$8)-1))","v":""},{"$f":"IF(ISBLANK('Data Input'!A351),\"\",SUM('Data Input'!C351,'Data Input'!K351,'Data Input'!L351,'Data Input'!AC351,'Data Input'!AF351,'Data Input'!AM351,'Data Input'!AO351))","v":""},{"$f":"IF(I347=\"\",\"\",I347/COUNTIF('Data Input'!$C$8:$AQ$8,$I$2))","v":""},{"$f":"IF(ISBLANK('Data Input'!A351),\"\",SUM('Data Input'!D351,'Data Input'!E351,'Data Input'!F351,'Data Input'!G351,'Data Input'!J351,'Data Input'!O351,'Data Input'!P351,'Data Input'!S351,'Data Input'!U351,'Data Input'!X351,'Data Input'!Z351,'Data Input'!AA351,'Data Input'!AB351,'Data Input'!AE351,'Data Input'!AG351,'Data Input'!AH351,'Data Input'!AJ351,'Data Input'!AK351,'Data Input'!AL351,'Data Input'!AN351))","v":""},{"$f":"IF(K347=\"\",\"\",K347/COUNTIF('Data Input'!$C$8:$AQ$8,$K$2))","v":""},{"$f":"IF(ISBLANK('Data Input'!A351),\"\",SUM('Data Input'!V351))","v":""},{"$f":"IF(M347=\"\",\"\",M347/COUNTIF('Data Input'!$C$8:$AQ$8,$M$2))","v":""},{"$f":"IF(ISBLANK('Data Input'!A351),\"\",SUM('Data Input'!H351,'Data Input'!I351,'Data Input'!M351,'Data Input'!N351,'Data Input'!Q351,'Data Input'!R351,'Data Input'!T351,'Data Input'!Y351,'Data Input'!AD351,'Data Input'!AI351,'Data Input'!AP351,'Data Input'!AQ351))","v":""},{"$f":"IF(O347=\"\",\"\",O347/COUNTIF('Data Input'!$C$8:$AQ$8,$O$2))","v":""}]
[{"$f":"IF('Data Input'!A352=0,\"\",'Data Input'!A352)","v":""},{"$f":"IF(ISBLANK('Data Input'!A352),\"\",COUNTIF('Data Input'!C352:AQ352,\"\")-1)","v":""},{"$f":"IF(ISBLANK('Data Input'!A352),\"\",COUNTIF('Data Input'!C352:AQ352,\"0\"))","v":""},{"$f":"IF(ISBLANK('Data Input'!A352),\"\",SUM(B348,C348))","v":""},{"$f":"IF(ISBLANK('Data Input'!A352),\"\",SUM('Data Input'!C352:V352))","v":""},{"$f":"IF(ISBLANK('Data Input'!A352),\"\",SUM('Data Input'!X352:AQ352))","v":""},{"$f":"IF(ISBLANK('Data Input'!A352),\"\",SUM('Data Input'!C352:AQ352))","v":""},{"$f":"IF(G348=\"\",\"\",G348/(COUNTA('Data Input'!$C$8:$AQ$8)-1))","v":""},{"$f":"IF(ISBLANK('Data Input'!A352),\"\",SUM('Data Input'!C352,'Data Input'!K352,'Data Input'!L352,'Data Input'!AC352,'Data Input'!AF352,'Data Input'!AM352,'Data Input'!AO352))","v":""},{"$f":"IF(I348=\"\",\"\",I348/COUNTIF('Data Input'!$C$8:$AQ$8,$I$2))","v":""},{"$f":"IF(ISBLANK('Data Input'!A352),\"\",SUM('Data Input'!D352,'Data Input'!E352,'Data Input'!F352,'Data Input'!G352,'Data Input'!J352,'Data Input'!O352,'Data Input'!P352,'Data Input'!S352,'Data Input'!U352,'Data Input'!X352,'Data Input'!Z352,'Data Input'!AA352,'Data Input'!AB352,'Data Input'!AE352,'Data Input'!AG352,'Data Input'!AH352,'Data Input'!AJ352,'Data Input'!AK352,'Data Input'!AL352,'Data Input'!AN352))","v":""},{"$f":"IF(K348=\"\",\"\",K348/COUNTIF('Data Input'!$C$8:$AQ$8,$K$2))","v":""},{"$f":"IF(ISBLANK('Data Input'!A352),\"\",SUM('Data Input'!V352))","v":""},{"$f":"IF(M348=\"\",\"\",M348/COUNTIF('Data Input'!$C$8:$AQ$8,$M$2))","v":""},{"$f":"IF(ISBLANK('Data Input'!A352),\"\",SUM('Data Input'!H352,'Data Input'!I352,'Data Input'!M352,'Data Input'!N352,'Data Input'!Q352,'Data Input'!R352,'Data Input'!T352,'Data Input'!Y352,'Data Input'!AD352,'Data Input'!AI352,'Data Input'!AP352,'Data Input'!AQ352))","v":""},{"$f":"IF(O348=\"\",\"\",O348/COUNTIF('Data Input'!$C$8:$AQ$8,$O$2))","v":""}]
[{"$f":"IF('Data Input'!A353=0,\"\",'Data Input'!A353)","v":""},{"$f":"IF(ISBLANK('Data Input'!A353),\"\",COUNTIF('Data Input'!C353:AQ353,\"\")-1)","v":""},{"$f":"IF(ISBLANK('Data Input'!A353),\"\",COUNTIF('Data Input'!C353:AQ353,\"0\"))","v":""},{"$f":"IF(ISBLANK('Data Input'!A353),\"\",SUM(B349,C349))","v":""},{"$f":"IF(ISBLANK('Data Input'!A353),\"\",SUM('Data Input'!C353:V353))","v":""},{"$f":"IF(ISBLANK('Data Input'!A353),\"\",SUM('Data Input'!X353:AQ353))","v":""},{"$f":"IF(ISBLANK('Data Input'!A353),\"\",SUM('Data Input'!C353:AQ353))","v":""},{"$f":"IF(G349=\"\",\"\",G349/(COUNTA('Data Input'!$C$8:$AQ$8)-1))","v":""},{"$f":"IF(ISBLANK('Data Input'!A353),\"\",SUM('Data Input'!C353,'Data Input'!K353,'Data Input'!L353,'Data Input'!AC353,'Data Input'!AF353,'Data Input'!AM353,'Data Input'!AO353))","v":""},{"$f":"IF(I349=\"\",\"\",I349/COUNTIF('Data Input'!$C$8:$AQ$8,$I$2))","v":""},{"$f":"IF(ISBLANK('Data Input'!A353),\"\",SUM('Data Input'!D353,'Data Input'!E353,'Data Input'!F353,'Data Input'!G353,'Data Input'!J353,'Data Input'!O353,'Data Input'!P353,'Data Input'!S353,'Data Input'!U353,'Data Input'!X353,'Data Input'!Z353,'Data Input'!AA353,'Data Input'!AB353,'Data Input'!AE353,'Data Input'!AG353,'Data Input'!AH353,'Data Input'!AJ353,'Data Input'!AK353,'Data Input'!AL353,'Data Input'!AN353))","v":""},{"$f":"IF(K349=\"\",\"\",K349/COUNTIF('Data Input'!$C$8:$AQ$8,$K$2))","v":""},{"$f":"IF(ISBLANK('Data Input'!A353),\"\",SUM('Data Input'!V353))","v":""},{"$f":"IF(M349=\"\",\"\",M349/COUNTIF('Data Input'!$C$8:$AQ$8,$M$2))","v":""},{"$f":"IF(ISBLANK('Data Input'!A353),\"\",SUM('Data Input'!H353,'Data Input'!I353,'Data Input'!M353,'Data Input'!N353,'Data Input'!Q353,'Data Input'!R353,'Data Input'!T353,'Data Input'!Y353,'Data Input'!AD353,'Data Input'!AI353,'Data Input'!AP353,'Data Input'!AQ353))","v":""},{"$f":"IF(O349=\"\",\"\",O349/COUNTIF('Data Input'!$C$8:$AQ$8,$O$2))","v":""}]
[{"$f":"IF('Data Input'!A354=0,\"\",'Data Input'!A354)","v":""},{"$f":"IF(ISBLANK('Data Input'!A354),\"\",COUNTIF('Data Input'!C354:AQ354,\"\")-1)","v":""},{"$f":"IF(ISBLANK('Data Input'!A354),\"\",COUNTIF('Data Input'!C354:AQ354,\"0\"))","v":""},{"$f":"IF(ISBLANK('Data Input'!A354),\"\",SUM(B350,C350))","v":""},{"$f":"IF(ISBLANK('Data Input'!A354),\"\",SUM('Data Input'!C354:V354))","v":""},{"$f":"IF(ISBLANK('Data Input'!A354),\"\",SUM('Data Input'!X354:AQ354))","v":""},{"$f":"IF(ISBLANK('Data Input'!A354),\"\",SUM('Data Input'!C354:AQ354))","v":""},{"$f":"IF(G350=\"\",\"\",G350/(COUNTA('Data Input'!$C$8:$AQ$8)-1))","v":""},{"$f":"IF(ISBLANK('Data Input'!A354),\"\",SUM('Data Input'!C354,'Data Input'!K354,'Data Input'!L354,'Data Input'!AC354,'Data Input'!AF354,'Data Input'!AM354,'Data Input'!AO354))","v":""},{"$f":"IF(I350=\"\",\"\",I350/COUNTIF('Data Input'!$C$8:$AQ$8,$I$2))","v":""},{"$f":"IF(ISBLANK('Data Input'!A354),\"\",SUM('Data Input'!D354,'Data Input'!E354,'Data Input'!F354,'Data Input'!G354,'Data Input'!J354,'Data Input'!O354,'Data Input'!P354,'Data Input'!S354,'Data Input'!U354,'Data Input'!X354,'Data Input'!Z354,'Data Input'!AA354,'Data Input'!AB354,'Data Input'!AE354,'Data Input'!AG354,'Data Input'!AH354,'Data Input'!AJ354,'Data Input'!AK354,'Data Input'!AL354,'Data Input'!AN354))","v":""},{"$f":"IF(K350=\"\",\"\",K350/COUNTIF('Data Input'!$C$8:$AQ$8,$K$2))","v":""},{"$f":"IF(ISBLANK('Data Input'!A354),\"\",SUM('Data Input'!V354))","v":""},{"$f":"IF(M350=\"\",\"\",M350/COUNTIF('Data Input'!$C$8:$AQ$8,$M$2))","v":""},{"$f":"IF(ISBLANK('Data Input'!A354),\"\",SUM('Data Input'!H354,'Data Input'!I354,'Data Input'!M354,'Data Input'!N354,'Data Input'!Q354,'Data Input'!R354,'Data Input'!T354,'Data Input'!Y354,'Data Input'!AD354,'Data Input'!AI354,'Data Input'!AP354,'Data Input'!AQ354))","v":""},{"$f":"IF(O350=\"\",\"\",O350/COUNTIF('Data Input'!$C$8:$AQ$8,$O$2))","v":""}]
[{"$f":"IF('Data Input'!A355=0,\"\",'Data Input'!A355)","v":""},{"$f":"IF(ISBLANK('Data Input'!A355),\"\",COUNTIF('Data Input'!C355:AQ355,\"\")-1)","v":""},{"$f":"IF(ISBLANK('Data Input'!A355),\"\",COUNTIF('Data Input'!C355:AQ355,\"0\"))","v":""},{"$f":"IF(ISBLANK('Data Input'!A355),\"\",SUM(B351,C351))","v":""},{"$f":"IF(ISBLANK('Data Input'!A355),\"\",SUM('Data Input'!C355:V355))","v":""},{"$f":"IF(ISBLANK('Data Input'!A355),\"\",SUM('Data Input'!X355:AQ355))","v":""},{"$f":"IF(ISBLANK('Data Input'!A355),\"\",SUM('Data Input'!C355:AQ355))","v":""},{"$f":"IF(G351=\"\",\"\",G351/(COUNTA('Data Input'!$C$8:$AQ$8)-1))","v":""},{"$f":"IF(ISBLANK('Data Input'!A355),\"\",SUM('Data Input'!C355,'Data Input'!K355,'Data Input'!L355,'Data Input'!AC355,'Data Input'!AF355,'Data Input'!AM355,'Data Input'!AO355))","v":""},{"$f":"IF(I351=\"\",\"\",I351/COUNTIF('Data Input'!$C$8:$AQ$8,$I$2))","v":""},{"$f":"IF(ISBLANK('Data Input'!A355),\"\",SUM('Data Input'!D355,'Data Input'!E355,'Data Input'!F355,'Data Input'!G355,'Data Input'!J355,'Data Input'!O355,'Data Input'!P355,'Data Input'!S355,'Data Input'!U355,'Data Input'!X355,'Data Input'!Z355,'Data Input'!AA355,'Data Input'!AB355,'Data Input'!AE355,'Data Input'!AG355,'Data Input'!AH355,'Data Input'!AJ355,'Data Input'!AK355,'Data Input'!AL355,'Data Input'!AN355))","v":""},{"$f":"IF(K351=\"\",\"\",K351/COUNTIF('Data Input'!$C$8:$AQ$8,$K$2))","v":""},{"$f":"IF(ISBLANK('Data Input'!A355),\"\",SUM('Data Input'!V355))","v":""},{"$f":"IF(M351=\"\",\"\",M351/COUNTIF('Data Input'!$C$8:$AQ$8,$M$2))","v":""},{"$f":"IF(ISBLANK('Data Input'!A355),\"\",SUM('Data Input'!H355,'Data Input'!I355,'Data Input'!M355,'Data Input'!N355,'Data Input'!Q355,'Data Input'!R355,'Data Input'!T355,'Data Input'!Y355,'Data Input'!AD355,'Data Input'!AI355,'Data Input'!AP355,'Data Input'!AQ355))","v":""},{"$f":"IF(O351=\"\",\"\",O351/COUNTIF('Data Input'!$C$8:$AQ$8,$O$2))","v":""}]
[{"$f":"IF('Data Input'!A356=0,\"\",'Data Input'!A356)","v":""},{"$f":"IF(ISBLANK('Data Input'!A356),\"\",COUNTIF('Data Input'!C356:AQ356,\"\")-1)","v":""},{"$f":"IF(ISBLANK('Data Input'!A356),\"\",COUNTIF('Data Input'!C356:AQ356,\"0\"))","v":""},{"$f":"IF(ISBLANK('Data Input'!A356),\"\",SUM(B352,C352))","v":""},{"$f":"IF(ISBLANK('Data Input'!A356),\"\",SUM('Data Input'!C356:V356))","v":""},{"$f":"IF(ISBLANK('Data Input'!A356),\"\",SUM('Data Input'!X356:AQ356))","v":""},{"$f":"IF(ISBLANK('Data Input'!A356),\"\",SUM('Data Input'!C356:AQ356))","v":""},{"$f":"IF(G352=\"\",\"\",G352/(COUNTA('Data Input'!$C$8:$AQ$8)-1))","v":""},{"$f":"IF(ISBLANK('Data Input'!A356),\"\",SUM('Data Input'!C356,'Data Input'!K356,'Data Input'!L356,'Data Input'!AC356,'Data Input'!AF356,'Data Input'!AM356,'Data Input'!AO356))","v":""},{"$f":"IF(I352=\"\",\"\",I352/COUNTIF('Data Input'!$C$8:$AQ$8,$I$2))","v":""},{"$f":"IF(ISBLANK('Data Input'!A356),\"\",SUM('Data Input'!D356,'Data Input'!E356,'Data Input'!F356,'Data Input'!G356,'Data Input'!J356,'Data Input'!O356,'Data Input'!P356,'Data Input'!S356,'Data Input'!U356,'Data Input'!X356,'Data Input'!Z356,'Data Input'!AA356,'Data Input'!AB356,'Data Input'!AE356,'Data Input'!AG356,'Data Input'!AH356,'Data Input'!AJ356,'Data Input'!AK356,'Data Input'!AL356,'Data Input'!AN356))","v":""},{"$f":"IF(K352=\"\",\"\",K352/COUNTIF('Data Input'!$C$8:$AQ$8,$K$2))","v":""},{"$f":"IF(ISBLANK('Data Input'!A356),\"\",SUM('Data Input'!V356))","v":""},{"$f":"IF(M352=\"\",\"\",M352/COUNTIF('Data Input'!$C$8:$AQ$8,$M$2))","v":""},{"$f":"IF(ISBLANK('Data Input'!A356),\"\",SUM('Data Input'!H356,'Data Input'!I356,'Data Input'!M356,'Data Input'!N356,'Data Input'!Q356,'Data Input'!R356,'Data Input'!T356,'Data Input'!Y356,'Data Input'!AD356,'Data Input'!AI356,'Data Input'!AP356,'Data Input'!AQ356))","v":""},{"$f":"IF(O352=\"\",\"\",O352/COUNTIF('Data Input'!$C$8:$AQ$8,$O$2))","v":""}]
[{"$f":"IF('Data Input'!A357=0,\"\",'Data Input'!A357)","v":""},{"$f":"IF(ISBLANK('Data Input'!A357),\"\",COUNTIF('Data Input'!C357:AQ357,\"\")-1)","v":""},{"$f":"IF(ISBLANK('Data Input'!A357),\"\",COUNTIF('Data Input'!C357:AQ357,\"0\"))","v":""},{"$f":"IF(ISBLANK('Data Input'!A357),\"\",SUM(B353,C353))","v":""},{"$f":"IF(ISBLANK('Data Input'!A357),\"\",SUM('Data Input'!C357:V357))","v":""},{"$f":"IF(ISBLANK('Data Input'!A357),\"\",SUM('Data Input'!X357:AQ357))","v":""},{"$f":"IF(ISBLANK('Data Input'!A357),\"\",SUM('Data Input'!C357:AQ357))","v":""},{"$f":"IF(G353=\"\",\"\",G353/(COUNTA('Data Input'!$C$8:$AQ$8)-1))","v":""},{"$f":"IF(ISBLANK('Data Input'!A357),\"\",SUM('Data Input'!C357,'Data Input'!K357,'Data Input'!L357,'Data Input'!AC357,'Data Input'!AF357,'Data Input'!AM357,'Data Input'!AO357))","v":""},{"$f":"IF(I353=\"\",\"\",I353/COUNTIF('Data Input'!$C$8:$AQ$8,$I$2))","v":""},{"$f":"IF(ISBLANK('Data Input'!A357),\"\",SUM('Data Input'!D357,'Data Input'!E357,'Data Input'!F357,'Data Input'!G357,'Data Input'!J357,'Data Input'!O357,'Data Input'!P357,'Data Input'!S357,'Data Input'!U357,'Data Input'!X357,'Data Input'!Z357,'Data Input'!AA357,'Data Input'!AB357,'Data Input'!AE357,'Data Input'!AG357,'Data Input'!AH357,'Data Input'!AJ357,'Data Input'!AK357,'Data Input'!AL357,'Data Input'!AN357))","v":""},{"$f":"IF(K353=\"\",\"\",K353/COUNTIF('Data Input'!$C$8:$AQ$8,$K$2))","v":""},{"$f":"IF(ISBLANK('Data Input'!A357),\"\",SUM('Data Input'!V357))","v":""},{"$f":"IF(M353=\"\",\"\",M353/COUNTIF('Data Input'!$C$8:$AQ$8,$M$2))","v":""},{"$f":"IF(ISBLANK('Data Input'!A357),\"\",SUM('Data Input'!H357,'Data Input'!I357,'Data Input'!M357,'Data Input'!N357,'Data Input'!Q357,'Data Input'!R357,'Data Input'!T357,'Data Input'!Y357,'Data Input'!AD357,'Data Input'!AI357,'Data Input'!AP357,'Data Input'!AQ357))","v":""},{"$f":"IF(O353=\"\",\"\",O353/COUNTIF('Data Input'!$C$8:$AQ$8,$O$2))","v":""}]
[{"$f":"IF('Data Input'!A358=0,\"\",'Data Input'!A358)","v":""},{"$f":"IF(ISBLANK('Data Input'!A358),\"\",COUNTIF('Data Input'!C358:AQ358,\"\")-1)","v":""},{"$f":"IF(ISBLANK('Data Input'!A358),\"\",COUNTIF('Data Input'!C358:AQ358,\"0\"))","v":""},{"$f":"IF(ISBLANK('Data Input'!A358),\"\",SUM(B354,C354))","v":""},{"$f":"IF(ISBLANK('Data Input'!A358),\"\",SUM('Data Input'!C358:V358))","v":""},{"$f":"IF(ISBLANK('Data Input'!A358),\"\",SUM('Data Input'!X358:AQ358))","v":""},{"$f":"IF(ISBLANK('Data Input'!A358),\"\",SUM('Data Input'!C358:AQ358))","v":""},{"$f":"IF(G354=\"\",\"\",G354/(COUNTA('Data Input'!$C$8:$AQ$8)-1))","v":""},{"$f":"IF(ISBLANK('Data Input'!A358),\"\",SUM('Data Input'!C358,'Data Input'!K358,'Data Input'!L358,'Data Input'!AC358,'Data Input'!AF358,'Data Input'!AM358,'Data Input'!AO358))","v":""},{"$f":"IF(I354=\"\",\"\",I354/COUNTIF('Data Input'!$C$8:$AQ$8,$I$2))","v":""},{"$f":"IF(ISBLANK('Data Input'!A358),\"\",SUM('Data Input'!D358,'Data Input'!E358,'Data Input'!F358,'Data Input'!G358,'Data Input'!J358,'Data Input'!O358,'Data Input'!P358,'Data Input'!S358,'Data Input'!U358,'Data Input'!X358,'Data Input'!Z358,'Data Input'!AA358,'Data Input'!AB358,'Data Input'!AE358,'Data Input'!AG358,'Data Input'!AH358,'Data Input'!AJ358,'Data Input'!AK358,'Data Input'!AL358,'Data Input'!AN358))","v":""},{"$f":"IF(K354=\"\",\"\",K354/COUNTIF('Data Input'!$C$8:$AQ$8,$K$2))","v":""},{"$f":"IF(ISBLANK('Data Input'!A358),\"\",SUM('Data Input'!V358))","v":""},{"$f":"IF(M354=\"\",\"\",M354/COUNTIF('Data Input'!$C$8:$AQ$8,$M$2))","v":""},{"$f":"IF(ISBLANK('Data Input'!A358),\"\",SUM('Data Input'!H358,'Data Input'!I358,'Data Input'!M358,'Data Input'!N358,'Data Input'!Q358,'Data Input'!R358,'Data Input'!T358,'Data Input'!Y358,'Data Input'!AD358,'Data Input'!AI358,'Data Input'!AP358,'Data Input'!AQ358))","v":""},{"$f":"IF(O354=\"\",\"\",O354/COUNTIF('Data Input'!$C$8:$AQ$8,$O$2))","v":""}]
[{"$f":"IF('Data Input'!A359=0,\"\",'Data Input'!A359)","v":""},{"$f":"IF(ISBLANK('Data Input'!A359),\"\",COUNTIF('Data Input'!C359:AQ359,\"\")-1)","v":""},{"$f":"IF(ISBLANK('Data Input'!A359),\"\",COUNTIF('Data Input'!C359:AQ359,\"0\"))","v":""},{"$f":"IF(ISBLANK('Data Input'!A359),\"\",SUM(B355,C355))","v":""},{"$f":"IF(ISBLANK('Data Input'!A359),\"\",SUM('Data Input'!C359:V359))","v":""},{"$f":"IF(ISBLANK('Data Input'!A359),\"\",SUM('Data Input'!X359:AQ359))","v":""},{"$f":"IF(ISBLANK('Data Input'!A359),\"\",SUM('Data Input'!C359:AQ359))","v":""},{"$f":"IF(G355=\"\",\"\",G355/(COUNTA('Data Input'!$C$8:$AQ$8)-1))","v":""},{"$f":"IF(ISBLANK('Data Input'!A359),\"\",SUM('Data Input'!C359,'Data Input'!K359,'Data Input'!L359,'Data Input'!AC359,'Data Input'!AF359,'Data Input'!AM359,'Data Input'!AO359))","v":""},{"$f":"IF(I355=\"\",\"\",I355/COUNTIF('Data Input'!$C$8:$AQ$8,$I$2))","v":""},{"$f":"IF(ISBLANK('Data Input'!A359),\"\",SUM('Data Input'!D359,'Data Input'!E359,'Data Input'!F359,'Data Input'!G359,'Data Input'!J359,'Data Input'!O359,'Data Input'!P359,'Data Input'!S359,'Data Input'!U359,'Data Input'!X359,'Data Input'!Z359,'Data Input'!AA359,'Data Input'!AB359,'Data Input'!AE359,'Data Input'!AG359,'Data Input'!AH359,'Data Input'!AJ359,'Data Input'!AK359,'Data Input'!AL359,'Data Input'!AN359))","v":""},{"$f":"IF(K355=\"\",\"\",K355/COUNTIF('Data Input'!$C$8:$AQ$8,$K$2))","v":""},{"$f":"IF(ISBLANK('Data Input'!A359),\"\",SUM('Data Input'!V359))","v":""},{"$f":"IF(M355=\"\",\"\",M355/COUNTIF('Data Input'!$C$8:$AQ$8,$M$2))","v":""},{"$f":"IF(ISBLANK('Data Input'!A359),\"\",SUM('Data Input'!H359,'Data Input'!I359,'Data Input'!M359,'Data Input'!N359,'Data Input'!Q359,'Data Input'!R359,'Data Input'!T359,'Data Input'!Y359,'Data Input'!AD359,'Data Input'!AI359,'Data Input'!AP359,'Data Input'!AQ359))","v":""},{"$f":"IF(O355=\"\",\"\",O355/COUNTIF('Data Input'!$C$8:$AQ$8,$O$2))","v":""}]
[{"$f":"IF('Data Input'!A360=0,\"\",'Data Input'!A360)","v":""},{"$f":"IF(ISBLANK('Data Input'!A360),\"\",COUNTIF('Data Input'!C360:AQ360,\"\")-1)","v":""},{"$f":"IF(ISBLANK('Data Input'!A360),\"\",COUNTIF('Data Input'!C360:AQ360,\"0\"))","v":""},{"$f":"IF(ISBLANK('Data Input'!A360),\"\",SUM(B356,C356))","v":""},{"$f":"IF(ISBLANK('Data Input'!A360),\"\",SUM('Data Input'!C360:V360))","v":""},{"$f":"IF(ISBLANK('Data Input'!A360),\"\",SUM('Data Input'!X360:AQ360))","v":""},{"$f":"IF(ISBLANK('Data Input'!A360),\"\",SUM('Data Input'!C360:AQ360))","v":""},{"$f":"IF(G356=\"\",\"\",G356/(COUNTA('Data Input'!$C$8:$AQ$8)-1))","v":""},{"$f":"IF(ISBLANK('Data Input'!A360),\"\",SUM('Data Input'!C360,'Data Input'!K360,'Data Input'!L360,'Data Input'!AC360,'Data Input'!AF360,'Data Input'!AM360,'Data Input'!AO360))","v":""},{"$f":"IF(I356=\"\",\"\",I356/COUNTIF('Data Input'!$C$8:$AQ$8,$I$2))","v":""},{"$f":"IF(ISBLANK('Data Input'!A360),\"\",SUM('Data Input'!D360,'Data Input'!E360,'Data Input'!F360,'Data Input'!G360,'Data Input'!J360,'Data Input'!O360,'Data Input'!P360,'Data Input'!S360,'Data Input'!U360,'Data Input'!X360,'Data Input'!Z360,'Data Input'!AA360,'Data Input'!AB360,'Data Input'!AE360,'Data Input'!AG360,'Data Input'!AH360,'Data Input'!AJ360,'Data Input'!AK360,'Data Input'!AL360,'Data Input'!AN360))","v":""},{"$f":"IF(K356=\"\",\"\",K356/COUNTIF('Data Input'!$C$8:$AQ$8,$K$2))","v":""},{"$f":"IF(ISBLANK('Data Input'!A360),\"\",SUM('Data Input'!V360))","v":""},{"$f":"IF(M356=\"\",\"\",M356/COUNTIF('Data Input'!$C$8:$AQ$8,$M$2))","v":""},{"$f":"IF(ISBLANK('Data Input'!A360),\"\",SUM('Data Input'!H360,'Data Input'!I360,'Data Input'!M360,'Data Input'!N360,'Data Input'!Q360,'Data Input'!R360,'Data Input'!T360,'Data Input'!Y360,'Data Input'!AD360,'Data Input'!AI360,'Data Input'!AP360,'Data Input'!AQ360))","v":""},{"$f":"IF(O356=\"\",\"\",O356/COUNTIF('Data Input'!$C$8:$AQ$8,$O$2))","v":""}]
[{"$f":"IF('Data Input'!A361=0,\"\",'Data Input'!A361)","v":""},{"$f":"IF(ISBLANK('Data Input'!A361),\"\",COUNTIF('Data Input'!C361:AQ361,\"\")-1)","v":""},{"$f":"IF(ISBLANK('Data Input'!A361),\"\",COUNTIF('Data Input'!C361:AQ361,\"0\"))","v":""},{"$f":"IF(ISBLANK('Data Input'!A361),\"\",SUM(B357,C357))","v":""},{"$f":"IF(ISBLANK('Data Input'!A361),\"\",SUM('Data Input'!C361:V361))","v":""},{"$f":"IF(ISBLANK('Data Input'!A361),\"\",SUM('Data Input'!X361:AQ361))","v":""},{"$f":"IF(ISBLANK('Data Input'!A361),\"\",SUM('Data Input'!C361:AQ361))","v":""},{"$f":"IF(G357=\"\",\"\",G357/(COUNTA('Data Input'!$C$8:$AQ$8)-1))","v":""},{"$f":"IF(ISBLANK('Data Input'!A361),\"\",SUM('Data Input'!C361,'Data Input'!K361,'Data Input'!L361,'Data Input'!AC361,'Data Input'!AF361,'Data Input'!AM361,'Data Input'!AO361))","v":""},{"$f":"IF(I357=\"\",\"\",I357/COUNTIF('Data Input'!$C$8:$AQ$8,$I$2))","v":""},{"$f":"IF(ISBLANK('Data Input'!A361),\"\",SUM('Data Input'!D361,'Data Input'!E361,'Data Input'!F361,'Data Input'!G361,'Data Input'!J361,'Data Input'!O361,'Data Input'!P361,'Data Input'!S361,'Data Input'!U361,'Data Input'!X361,'Data Input'!Z361,'Data Input'!AA361,'Data Input'!AB361,'Data Input'!AE361,'Data Input'!AG361,'Data Input'!AH361,'Data Input'!AJ361,'Data Input'!AK361,'Data Input'!AL361,'Data Input'!AN361))","v":""},{"$f":"IF(K357=\"\",\"\",K357/COUNTIF('Data Input'!$C$8:$AQ$8,$K$2))","v":""},{"$f":"IF(ISBLANK('Data Input'!A361),\"\",SUM('Data Input'!V361))","v":""},{"$f":"IF(M357=\"\",\"\",M357/COUNTIF('Data Input'!$C$8:$AQ$8,$M$2))","v":""},{"$f":"IF(ISBLANK('Data Input'!A361),\"\",SUM('Data Input'!H361,'Data Input'!I361,'Data Input'!M361,'Data Input'!N361,'Data Input'!Q361,'Data Input'!R361,'Data Input'!T361,'Data Input'!Y361,'Data Input'!AD361,'Data Input'!AI361,'Data Input'!AP361,'Data Input'!AQ361))","v":""},{"$f":"IF(O357=\"\",\"\",O357/COUNTIF('Data Input'!$C$8:$AQ$8,$O$2))","v":""}]
[{"$f":"IF('Data Input'!A362=0,\"\",'Data Input'!A362)","v":""},{"$f":"IF(ISBLANK('Data Input'!A362),\"\",COUNTIF('Data Input'!C362:AQ362,\"\")-1)","v":""},{"$f":"IF(ISBLANK('Data Input'!A362),\"\",COUNTIF('Data Input'!C362:AQ362,\"0\"))","v":""},{"$f":"IF(ISBLANK('Data Input'!A362),\"\",SUM(B358,C358))","v":""},{"$f":"IF(ISBLANK('Data Input'!A362),\"\",SUM('Data Input'!C362:V362))","v":""},{"$f":"IF(ISBLANK('Data Input'!A362),\"\",SUM('Data Input'!X362:AQ362))","v":""},{"$f":"IF(ISBLANK('Data Input'!A362),\"\",SUM('Data Input'!C362:AQ362))","v":""},{"$f":"IF(G358=\"\",\"\",G358/(COUNTA('Data Input'!$C$8:$AQ$8)-1))","v":""},{"$f":"IF(ISBLANK('Data Input'!A362),\"\",SUM('Data Input'!C362,'Data Input'!K362,'Data Input'!L362,'Data Input'!AC362,'Data Input'!AF362,'Data Input'!AM362,'Data Input'!AO362))","v":""},{"$f":"IF(I358=\"\",\"\",I358/COUNTIF('Data Input'!$C$8:$AQ$8,$I$2))","v":""},{"$f":"IF(ISBLANK('Data Input'!A362),\"\",SUM('Data Input'!D362,'Data Input'!E362,'Data Input'!F362,'Data Input'!G362,'Data Input'!J362,'Data Input'!O362,'Data Input'!P362,'Data Input'!S362,'Data Input'!U362,'Data Input'!X362,'Data Input'!Z362,'Data Input'!AA362,'Data Input'!AB362,'Data Input'!AE362,'Data Input'!AG362,'Data Input'!AH362,'Data Input'!AJ362,'Data Input'!AK362,'Data Input'!AL362,'Data Input'!AN362))","v":""},{"$f":"IF(K358=\"\",\"\",K358/COUNTIF('Data Input'!$C$8:$AQ$8,$K$2))","v":""},{"$f":"IF(ISBLANK('Data Input'!A362),\"\",SUM('Data Input'!V362))","v":""},{"$f":"IF(M358=\"\",\"\",M358/COUNTIF('Data Input'!$C$8:$AQ$8,$M$2))","v":""},{"$f":"IF(ISBLANK('Data Input'!A362),\"\",SUM('Data Input'!H362,'Data Input'!I362,'Data Input'!M362,'Data Input'!N362,'Data Input'!Q362,'Data Input'!R362,'Data Input'!T362,'Data Input'!Y362,'Data Input'!AD362,'Data Input'!AI362,'Data Input'!AP362,'Data Input'!AQ362))","v":""},{"$f":"IF(O358=\"\",\"\",O358/COUNTIF('Data Input'!$C$8:$AQ$8,$O$2))","v":""}]
[{"$f":"IF('Data Input'!A363=0,\"\",'Data Input'!A363)","v":""},{"$f":"IF(ISBLANK('Data Input'!A363),\"\",COUNTIF('Data Input'!C363:AQ363,\"\")-1)","v":""},{"$f":"IF(ISBLANK('Data Input'!A363),\"\",COUNTIF('Data Input'!C363:AQ363,\"0\"))","v":""},{"$f":"IF(ISBLANK('Data Input'!A363),\"\",SUM(B359,C359))","v":""},{"$f":"IF(ISBLANK('Data Input'!A363),\"\",SUM('Data Input'!C363:V363))","v":""},{"$f":"IF(ISBLANK('Data Input'!A363),\"\",SUM('Data Input'!X363:AQ363))","v":""},{"$f":"IF(ISBLANK('Data Input'!A363),\"\",SUM('Data Input'!C363:AQ363))","v":""},{"$f":"IF(G359=\"\",\"\",G359/(COUNTA('Data Input'!$C$8:$AQ$8)-1))","v":""},{"$f":"IF(ISBLANK('Data Input'!A363),\"\",SUM('Data Input'!C363,'Data Input'!K363,'Data Input'!L363,'Data Input'!AC363,'Data Input'!AF363,'Data Input'!AM363,'Data Input'!AO363))","v":""},{"$f":"IF(I359=\"\",\"\",I359/COUNTIF('Data Input'!$C$8:$AQ$8,$I$2))","v":""},{"$f":"IF(ISBLANK('Data Input'!A363),\"\",SUM('Data Input'!D363,'Data Input'!E363,'Data Input'!F363,'Data Input'!G363,'Data Input'!J363,'Data Input'!O363,'Data Input'!P363,'Data Input'!S363,'Data Input'!U363,'Data Input'!X363,'Data Input'!Z363,'Data Input'!AA363,'Data Input'!AB363,'Data Input'!AE363,'Data Input'!AG363,'Data Input'!AH363,'Data Input'!AJ363,'Data Input'!AK363,'Data Input'!AL363,'Data Input'!AN363))","v":""},{"$f":"IF(K359=\"\",\"\",K359/COUNTIF('Data Input'!$C$8:$AQ$8,$K$2))","v":""},{"$f":"IF(ISBLANK('Data Input'!A363),\"\",SUM('Data Input'!V363))","v":""},{"$f":"IF(M359=\"\",\"\",M359/COUNTIF('Data Input'!$C$8:$AQ$8,$M$2))","v":""},{"$f":"IF(ISBLANK('Data Input'!A363),\"\",SUM('Data Input'!H363,'Data Input'!I363,'Data Input'!M363,'Data Input'!N363,'Data Input'!Q363,'Data Input'!R363,'Data Input'!T363,'Data Input'!Y363,'Data Input'!AD363,'Data Input'!AI363,'Data Input'!AP363,'Data Input'!AQ363))","v":""},{"$f":"IF(O359=\"\",\"\",O359/COUNTIF('Data Input'!$C$8:$AQ$8,$O$2))","v":""}]
[{"$f":"IF('Data Input'!A364=0,\"\",'Data Input'!A364)","v":""},{"$f":"IF(ISBLANK('Data Input'!A364),\"\",COUNTIF('Data Input'!C364:AQ364,\"\")-1)","v":""},{"$f":"IF(ISBLANK('Data Input'!A364),\"\",COUNTIF('Data Input'!C364:AQ364,\"0\"))","v":""},{"$f":"IF(ISBLANK('Data Input'!A364),\"\",SUM(B360,C360))","v":""},{"$f":"IF(ISBLANK('Data Input'!A364),\"\",SUM('Data Input'!C364:V364))","v":""},{"$f":"IF(ISBLANK('Data Input'!A364),\"\",SUM('Data Input'!X364:AQ364))","v":""},{"$f":"IF(ISBLANK('Data Input'!A364),\"\",SUM('Data Input'!C364:AQ364))","v":""},{"$f":"IF(G360=\"\",\"\",G360/(COUNTA('Data Input'!$C$8:$AQ$8)-1))","v":""},{"$f":"IF(ISBLANK('Data Input'!A364),\"\",SUM('Data Input'!C364,'Data Input'!K364,'Data Input'!L364,'Data Input'!AC364,'Data Input'!AF364,'Data Input'!AM364,'Data Input'!AO364))","v":""},{"$f":"IF(I360=\"\",\"\",I360/COUNTIF('Data Input'!$C$8:$AQ$8,$I$2))","v":""},{"$f":"IF(ISBLANK('Data Input'!A364),\"\",SUM('Data Input'!D364,'Data Input'!E364,'Data Input'!F364,'Data Input'!G364,'Data Input'!J364,'Data Input'!O364,'Data Input'!P364,'Data Input'!S364,'Data Input'!U364,'Data Input'!X364,'Data Input'!Z364,'Data Input'!AA364,'Data Input'!AB364,'Data Input'!AE364,'Data Input'!AG364,'Data Input'!AH364,'Data Input'!AJ364,'Data Input'!AK364,'Data Input'!AL364,'Data Input'!AN364))","v":""},{"$f":"IF(K360=\"\",\"\",K360/COUNTIF('Data Input'!$C$8:$AQ$8,$K$2))","v":""},{"$f":"IF(ISBLANK('Data Input'!A364),\"\",SUM('Data Input'!V364))","v":""},{"$f":"IF(M360=\"\",\"\",M360/COUNTIF('Data Input'!$C$8:$AQ$8,$M$2))","v":""},{"$f":"IF(ISBLANK('Data Input'!A364),\"\",SUM('Data Input'!H364,'Data Input'!I364,'Data Input'!M364,'Data Input'!N364,'Data Input'!Q364,'Data Input'!R364,'Data Input'!T364,'Data Input'!Y364,'Data Input'!AD364,'Data Input'!AI364,'Data Input'!AP364,'Data Input'!AQ364))","v":""},{"$f":"IF(O360=\"\",\"\",O360/COUNTIF('Data Input'!$C$8:$AQ$8,$O$2))","v":""}]
[{"$f":"IF('Data Input'!A365=0,\"\",'Data Input'!A365)","v":""},{"$f":"IF(ISBLANK('Data Input'!A365),\"\",COUNTIF('Data Input'!C365:AQ365,\"\")-1)","v":""},{"$f":"IF(ISBLANK('Data Input'!A365),\"\",COUNTIF('Data Input'!C365:AQ365,\"0\"))","v":""},{"$f":"IF(ISBLANK('Data Input'!A365),\"\",SUM(B361,C361))","v":""},{"$f":"IF(ISBLANK('Data Input'!A365),\"\",SUM('Data Input'!C365:V365))","v":""},{"$f":"IF(ISBLANK('Data Input'!A365),\"\",SUM('Data Input'!X365:AQ365))","v":""},{"$f":"IF(ISBLANK('Data Input'!A365),\"\",SUM('Data Input'!C365:AQ365))","v":""},{"$f":"IF(G361=\"\",\"\",G361/(COUNTA('Data Input'!$C$8:$AQ$8)-1))","v":""},{"$f":"IF(ISBLANK('Data Input'!A365),\"\",SUM('Data Input'!C365,'Data Input'!K365,'Data Input'!L365,'Data Input'!AC365,'Data Input'!AF365,'Data Input'!AM365,'Data Input'!AO365))","v":""},{"$f":"IF(I361=\"\",\"\",I361/COUNTIF('Data Input'!$C$8:$AQ$8,$I$2))","v":""},{"$f":"IF(ISBLANK('Data Input'!A365),\"\",SUM('Data Input'!D365,'Data Input'!E365,'Data Input'!F365,'Data Input'!G365,'Data Input'!J365,'Data Input'!O365,'Data Input'!P365,'Data Input'!S365,'Data Input'!U365,'Data Input'!X365,'Data Input'!Z365,'Data Input'!AA365,'Data Input'!AB365,'Data Input'!AE365,'Data Input'!AG365,'Data Input'!AH365,'Data Input'!AJ365,'Data Input'!AK365,'Data Input'!AL365,'Data Input'!AN365))","v":""},{"$f":"IF(K361=\"\",\"\",K361/COUNTIF('Data Input'!$C$8:$AQ$8,$K$2))","v":""},{"$f":"IF(ISBLANK('Data Input'!A365),\"\",SUM('Data Input'!V365))","v":""},{"$f":"IF(M361=\"\",\"\",M361/COUNTIF('Data Input'!$C$8:$AQ$8,$M$2))","v":""},{"$f":"IF(ISBLANK('Data Input'!A365),\"\",SUM('Data Input'!H365,'Data Input'!I365,'Data Input'!M365,'Data Input'!N365,'Data Input'!Q365,'Data Input'!R365,'Data Input'!T365,'Data Input'!Y365,'Data Input'!AD365,'Data Input'!AI365,'Data Input'!AP365,'Data Input'!AQ365))","v":""},{"$f":"IF(O361=\"\",\"\",O361/COUNTIF('Data Input'!$C$8:$AQ$8,$O$2))","v":""}]
[{"$f":"IF('Data Input'!A366=0,\"\",'Data Input'!A366)","v":""},{"$f":"IF(ISBLANK('Data Input'!A366),\"\",COUNTIF('Data Input'!C366:AQ366,\"\")-1)","v":""},{"$f":"IF(ISBLANK('Data Input'!A366),\"\",COUNTIF('Data Input'!C366:AQ366,\"0\"))","v":""},{"$f":"IF(ISBLANK('Data Input'!A366),\"\",SUM(B362,C362))","v":""},{"$f":"IF(ISBLANK('Data Input'!A366),\"\",SUM('Data Input'!C366:V366))","v":""},{"$f":"IF(ISBLANK('Data Input'!A366),\"\",SUM('Data Input'!X366:AQ366))","v":""},{"$f":"IF(ISBLANK('Data Input'!A366),\"\",SUM('Data Input'!C366:AQ366))","v":""},{"$f":"IF(G362=\"\",\"\",G362/(COUNTA('Data Input'!$C$8:$AQ$8)-1))","v":""},{"$f":"IF(ISBLANK('Data Input'!A366),\"\",SUM('Data Input'!C366,'Data Input'!K366,'Data Input'!L366,'Data Input'!AC366,'Data Input'!AF366,'Data Input'!AM366,'Data Input'!AO366))","v":""},{"$f":"IF(I362=\"\",\"\",I362/COUNTIF('Data Input'!$C$8:$AQ$8,$I$2))","v":""},{"$f":"IF(ISBLANK('Data Input'!A366),\"\",SUM('Data Input'!D366,'Data Input'!E366,'Data Input'!F366,'Data Input'!G366,'Data Input'!J366,'Data Input'!O366,'Data Input'!P366,'Data Input'!S366,'Data Input'!U366,'Data Input'!X366,'Data Input'!Z366,'Data Input'!AA366,'Data Input'!AB366,'Data Input'!AE366,'Data Input'!AG366,'Data Input'!AH366,'Data Input'!AJ366,'Data Input'!AK366,'Data Input'!AL366,'Data Input'!AN366))","v":""},{"$f":"IF(K362=\"\",\"\",K362/COUNTIF('Data Input'!$C$8:$AQ$8,$K$2))","v":""},{"$f":"IF(ISBLANK('Data Input'!A366),\"\",SUM('Data Input'!V366))","v":""},{"$f":"IF(M362=\"\",\"\",M362/COUNTIF('Data Input'!$C$8:$AQ$8,$M$2))","v":""},{"$f":"IF(ISBLANK('Data Input'!A366),\"\",SUM('Data Input'!H366,'Data Input'!I366,'Data Input'!M366,'Data Input'!N366,'Data Input'!Q366,'Data Input'!R366,'Data Input'!T366,'Data Input'!Y366,'Data Input'!AD366,'Data Input'!AI366,'Data Input'!AP366,'Data Input'!AQ366))","v":""},{"$f":"IF(O362=\"\",\"\",O362/COUNTIF('Data Input'!$C$8:$AQ$8,$O$2))","v":""}]
[{"$f":"IF('Data Input'!A367=0,\"\",'Data Input'!A367)","v":""},{"$f":"IF(ISBLANK('Data Input'!A367),\"\",COUNTIF('Data Input'!C367:AQ367,\"\")-1)","v":""},{"$f":"IF(ISBLANK('Data Input'!A367),\"\",COUNTIF('Data Input'!C367:AQ367,\"0\"))","v":""},{"$f":"IF(ISBLANK('Data Input'!A367),\"\",SUM(B363,C363))","v":""},{"$f":"IF(ISBLANK('Data Input'!A367),\"\",SUM('Data Input'!C367:V367))","v":""},{"$f":"IF(ISBLANK('Data Input'!A367),\"\",SUM('Data Input'!X367:AQ367))","v":""},{"$f":"IF(ISBLANK('Data Input'!A367),\"\",SUM('Data Input'!C367:AQ367))","v":""},{"$f":"IF(G363=\"\",\"\",G363/(COUNTA('Data Input'!$C$8:$AQ$8)-1))","v":""},{"$f":"IF(ISBLANK('Data Input'!A367),\"\",SUM('Data Input'!C367,'Data Input'!K367,'Data Input'!L367,'Data Input'!AC367,'Data Input'!AF367,'Data Input'!AM367,'Data Input'!AO367))","v":""},{"$f":"IF(I363=\"\",\"\",I363/COUNTIF('Data Input'!$C$8:$AQ$8,$I$2))","v":""},{"$f":"IF(ISBLANK('Data Input'!A367),\"\",SUM('Data Input'!D367,'Data Input'!E367,'Data Input'!F367,'Data Input'!G367,'Data Input'!J367,'Data Input'!O367,'Data Input'!P367,'Data Input'!S367,'Data Input'!U367,'Data Input'!X367,'Data Input'!Z367,'Data Input'!AA367,'Data Input'!AB367,'Data Input'!AE367,'Data Input'!AG367,'Data Input'!AH367,'Data Input'!AJ367,'Data Input'!AK367,'Data Input'!AL367,'Data Input'!AN367))","v":""},{"$f":"IF(K363=\"\",\"\",K363/COUNTIF('Data Input'!$C$8:$AQ$8,$K$2))","v":""},{"$f":"IF(ISBLANK('Data Input'!A367),\"\",SUM('Data Input'!V367))","v":""},{"$f":"IF(M363=\"\",\"\",M363/COUNTIF('Data Input'!$C$8:$AQ$8,$M$2))","v":""},{"$f":"IF(ISBLANK('Data Input'!A367),\"\",SUM('Data Input'!H367,'Data Input'!I367,'Data Input'!M367,'Data Input'!N367,'Data Input'!Q367,'Data Input'!R367,'Data Input'!T367,'Data Input'!Y367,'Data Input'!AD367,'Data Input'!AI367,'Data Input'!AP367,'Data Input'!AQ367))","v":""},{"$f":"IF(O363=\"\",\"\",O363/COUNTIF('Data Input'!$C$8:$AQ$8,$O$2))","v":""}]
[{"$f":"IF('Data Input'!A368=0,\"\",'Data Input'!A368)","v":""},{"$f":"IF(ISBLANK('Data Input'!A368),\"\",COUNTIF('Data Input'!C368:AQ368,\"\")-1)","v":""},{"$f":"IF(ISBLANK('Data Input'!A368),\"\",COUNTIF('Data Input'!C368:AQ368,\"0\"))","v":""},{"$f":"IF(ISBLANK('Data Input'!A368),\"\",SUM(B364,C364))","v":""},{"$f":"IF(ISBLANK('Data Input'!A368),\"\",SUM('Data Input'!C368:V368))","v":""},{"$f":"IF(ISBLANK('Data Input'!A368),\"\",SUM('Data Input'!X368:AQ368))","v":""},{"$f":"IF(ISBLANK('Data Input'!A368),\"\",SUM('Data Input'!C368:AQ368))","v":""},{"$f":"IF(G364=\"\",\"\",G364/(COUNTA('Data Input'!$C$8:$AQ$8)-1))","v":""},{"$f":"IF(ISBLANK('Data Input'!A368),\"\",SUM('Data Input'!C368,'Data Input'!K368,'Data Input'!L368,'Data Input'!AC368,'Data Input'!AF368,'Data Input'!AM368,'Data Input'!AO368))","v":""},{"$f":"IF(I364=\"\",\"\",I364/COUNTIF('Data Input'!$C$8:$AQ$8,$I$2))","v":""},{"$f":"IF(ISBLANK('Data Input'!A368),\"\",SUM('Data Input'!D368,'Data Input'!E368,'Data Input'!F368,'Data Input'!G368,'Data Input'!J368,'Data Input'!O368,'Data Input'!P368,'Data Input'!S368,'Data Input'!U368,'Data Input'!X368,'Data Input'!Z368,'Data Input'!AA368,'Data Input'!AB368,'Data Input'!AE368,'Data Input'!AG368,'Data Input'!AH368,'Data Input'!AJ368,'Data Input'!AK368,'Data Input'!AL368,'Data Input'!AN368))","v":""},{"$f":"IF(K364=\"\",\"\",K364/COUNTIF('Data Input'!$C$8:$AQ$8,$K$2))","v":""},{"$f":"IF(ISBLANK('Data Input'!A368),\"\",SUM('Data Input'!V368))","v":""},{"$f":"IF(M364=\"\",\"\",M364/COUNTIF('Data Input'!$C$8:$AQ$8,$M$2))","v":""},{"$f":"IF(ISBLANK('Data Input'!A368),\"\",SUM('Data Input'!H368,'Data Input'!I368,'Data Input'!M368,'Data Input'!N368,'Data Input'!Q368,'Data Input'!R368,'Data Input'!T368,'Data Input'!Y368,'Data Input'!AD368,'Data Input'!AI368,'Data Input'!AP368,'Data Input'!AQ368))","v":""},{"$f":"IF(O364=\"\",\"\",O364/COUNTIF('Data Input'!$C$8:$AQ$8,$O$2))","v":""}]
[{"$f":"IF('Data Input'!A369=0,\"\",'Data Input'!A369)","v":""},{"$f":"IF(ISBLANK('Data Input'!A369),\"\",COUNTIF('Data Input'!C369:AQ369,\"\")-1)","v":""},{"$f":"IF(ISBLANK('Data Input'!A369),\"\",COUNTIF('Data Input'!C369:AQ369,\"0\"))","v":""},{"$f":"IF(ISBLANK('Data Input'!A369),\"\",SUM(B365,C365))","v":""},{"$f":"IF(ISBLANK('Data Input'!A369),\"\",SUM('Data Input'!C369:V369))","v":""},{"$f":"IF(ISBLANK('Data Input'!A369),\"\",SUM('Data Input'!X369:AQ369))","v":""},{"$f":"IF(ISBLANK('Data Input'!A369),\"\",SUM('Data Input'!C369:AQ369))","v":""},{"$f":"IF(G365=\"\",\"\",G365/(COUNTA('Data Input'!$C$8:$AQ$8)-1))","v":""},{"$f":"IF(ISBLANK('Data Input'!A369),\"\",SUM('Data Input'!C369,'Data Input'!K369,'Data Input'!L369,'Data Input'!AC369,'Data Input'!AF369,'Data Input'!AM369,'Data Input'!AO369))","v":""},{"$f":"IF(I365=\"\",\"\",I365/COUNTIF('Data Input'!$C$8:$AQ$8,$I$2))","v":""},{"$f":"IF(ISBLANK('Data Input'!A369),\"\",SUM('Data Input'!D369,'Data Input'!E369,'Data Input'!F369,'Data Input'!G369,'Data Input'!J369,'Data Input'!O369,'Data Input'!P369,'Data Input'!S369,'Data Input'!U369,'Data Input'!X369,'Data Input'!Z369,'Data Input'!AA369,'Data Input'!AB369,'Data Input'!AE369,'Data Input'!AG369,'Data Input'!AH369,'Data Input'!AJ369,'Data Input'!AK369,'Data Input'!AL369,'Data Input'!AN369))","v":""},{"$f":"IF(K365=\"\",\"\",K365/COUNTIF('Data Input'!$C$8:$AQ$8,$K$2))","v":""},{"$f":"IF(ISBLANK('Data Input'!A369),\"\",SUM('Data Input'!V369))","v":""},{"$f":"IF(M365=\"\",\"\",M365/COUNTIF('Data Input'!$C$8:$AQ$8,$M$2))","v":""},{"$f":"IF(ISBLANK('Data Input'!A369),\"\",SUM('Data Input'!H369,'Data Input'!I369,'Data Input'!M369,'Data Input'!N369,'Data Input'!Q369,'Data Input'!R369,'Data Input'!T369,'Data Input'!Y369,'Data Input'!AD369,'Data Input'!AI369,'Data Input'!AP369,'Data Input'!AQ369))","v":""},{"$f":"IF(O365=\"\",\"\",O365/COUNTIF('Data Input'!$C$8:$AQ$8,$O$2))","v":""}]
[{"$f":"IF('Data Input'!A370=0,\"\",'Data Input'!A370)","v":""},{"$f":"IF(ISBLANK('Data Input'!A370),\"\",COUNTIF('Data Input'!C370:AQ370,\"\")-1)","v":""},{"$f":"IF(ISBLANK('Data Input'!A370),\"\",COUNTIF('Data Input'!C370:AQ370,\"0\"))","v":""},{"$f":"IF(ISBLANK('Data Input'!A370),\"\",SUM(B366,C366))","v":""},{"$f":"IF(ISBLANK('Data Input'!A370),\"\",SUM('Data Input'!C370:V370))","v":""},{"$f":"IF(ISBLANK('Data Input'!A370),\"\",SUM('Data Input'!X370:AQ370))","v":""},{"$f":"IF(ISBLANK('Data Input'!A370),\"\",SUM('Data Input'!C370:AQ370))","v":""},{"$f":"IF(G366=\"\",\"\",G366/(COUNTA('Data Input'!$C$8:$AQ$8)-1))","v":""},{"$f":"IF(ISBLANK('Data Input'!A370),\"\",SUM('Data Input'!C370,'Data Input'!K370,'Data Input'!L370,'Data Input'!AC370,'Data Input'!AF370,'Data Input'!AM370,'Data Input'!AO370))","v":""},{"$f":"IF(I366=\"\",\"\",I366/COUNTIF('Data Input'!$C$8:$AQ$8,$I$2))","v":""},{"$f":"IF(ISBLANK('Data Input'!A370),\"\",SUM('Data Input'!D370,'Data Input'!E370,'Data Input'!F370,'Data Input'!G370,'Data Input'!J370,'Data Input'!O370,'Data Input'!P370,'Data Input'!S370,'Data Input'!U370,'Data Input'!X370,'Data Input'!Z370,'Data Input'!AA370,'Data Input'!AB370,'Data Input'!AE370,'Data Input'!AG370,'Data Input'!AH370,'Data Input'!AJ370,'Data Input'!AK370,'Data Input'!AL370,'Data Input'!AN370))","v":""},{"$f":"IF(K366=\"\",\"\",K366/COUNTIF('Data Input'!$C$8:$AQ$8,$K$2))","v":""},{"$f":"IF(ISBLANK('Data Input'!A370),\"\",SUM('Data Input'!V370))","v":""},{"$f":"IF(M366=\"\",\"\",M366/COUNTIF('Data Input'!$C$8:$AQ$8,$M$2))","v":""},{"$f":"IF(ISBLANK('Data Input'!A370),\"\",SUM('Data Input'!H370,'Data Input'!I370,'Data Input'!M370,'Data Input'!N370,'Data Input'!Q370,'Data Input'!R370,'Data Input'!T370,'Data Input'!Y370,'Data Input'!AD370,'Data Input'!AI370,'Data Input'!AP370,'Data Input'!AQ370))","v":""},{"$f":"IF(O366=\"\",\"\",O366/COUNTIF('Data Input'!$C$8:$AQ$8,$O$2))","v":""}]
[{"$f":"IF('Data Input'!A371=0,\"\",'Data Input'!A371)","v":""},{"$f":"IF(ISBLANK('Data Input'!A371),\"\",COUNTIF('Data Input'!C371:AQ371,\"\")-1)","v":""},{"$f":"IF(ISBLANK('Data Input'!A371),\"\",COUNTIF('Data Input'!C371:AQ371,\"0\"))","v":""},{"$f":"IF(ISBLANK('Data Input'!A371),\"\",SUM(B367,C367))","v":""},{"$f":"IF(ISBLANK('Data Input'!A371),\"\",SUM('Data Input'!C371:V371))","v":""},{"$f":"IF(ISBLANK('Data Input'!A371),\"\",SUM('Data Input'!X371:AQ371))","v":""},{"$f":"IF(ISBLANK('Data Input'!A371),\"\",SUM('Data Input'!C371:AQ371))","v":""},{"$f":"IF(G367=\"\",\"\",G367/(COUNTA('Data Input'!$C$8:$AQ$8)-1))","v":""},{"$f":"IF(ISBLANK('Data Input'!A371),\"\",SUM('Data Input'!C371,'Data Input'!K371,'Data Input'!L371,'Data Input'!AC371,'Data Input'!AF371,'Data Input'!AM371,'Data Input'!AO371))","v":""},{"$f":"IF(I367=\"\",\"\",I367/COUNTIF('Data Input'!$C$8:$AQ$8,$I$2))","v":""},{"$f":"IF(ISBLANK('Data Input'!A371),\"\",SUM('Data Input'!D371,'Data Input'!E371,'Data Input'!F371,'Data Input'!G371,'Data Input'!J371,'Data Input'!O371,'Data Input'!P371,'Data Input'!S371,'Data Input'!U371,'Data Input'!X371,'Data Input'!Z371,'Data Input'!AA371,'Data Input'!AB371,'Data Input'!AE371,'Data Input'!AG371,'Data Input'!AH371,'Data Input'!AJ371,'Data Input'!AK371,'Data Input'!AL371,'Data Input'!AN371))","v":""},{"$f":"IF(K367=\"\",\"\",K367/COUNTIF('Data Input'!$C$8:$AQ$8,$K$2))","v":""},{"$f":"IF(ISBLANK('Data Input'!A371),\"\",SUM('Data Input'!V371))","v":""},{"$f":"IF(M367=\"\",\"\",M367/COUNTIF('Data Input'!$C$8:$AQ$8,$M$2))","v":""},{"$f":"IF(ISBLANK('Data Input'!A371),\"\",SUM('Data Input'!H371,'Data Input'!I371,'Data Input'!M371,'Data Input'!N371,'Data Input'!Q371,'Data Input'!R371,'Data Input'!T371,'Data Input'!Y371,'Data Input'!AD371,'Data Input'!AI371,'Data Input'!AP371,'Data Input'!AQ371))","v":""},{"$f":"IF(O367=\"\",\"\",O367/COUNTIF('Data Input'!$C$8:$AQ$8,$O$2))","v":""}]
[{"$f":"IF('Data Input'!A372=0,\"\",'Data Input'!A372)","v":""},{"$f":"IF(ISBLANK('Data Input'!A372),\"\",COUNTIF('Data Input'!C372:AQ372,\"\")-1)","v":""},{"$f":"IF(ISBLANK('Data Input'!A372),\"\",COUNTIF('Data Input'!C372:AQ372,\"0\"))","v":""},{"$f":"IF(ISBLANK('Data Input'!A372),\"\",SUM(B368,C368))","v":""},{"$f":"IF(ISBLANK('Data Input'!A372),\"\",SUM('Data Input'!C372:V372))","v":""},{"$f":"IF(ISBLANK('Data Input'!A372),\"\",SUM('Data Input'!X372:AQ372))","v":""},{"$f":"IF(ISBLANK('Data Input'!A372),\"\",SUM('Data Input'!C372:AQ372))","v":""},{"$f":"IF(G368=\"\",\"\",G368/(COUNTA('Data Input'!$C$8:$AQ$8)-1))","v":""},{"$f":"IF(ISBLANK('Data Input'!A372),\"\",SUM('Data Input'!C372,'Data Input'!K372,'Data Input'!L372,'Data Input'!AC372,'Data Input'!AF372,'Data Input'!AM372,'Data Input'!AO372))","v":""},{"$f":"IF(I368=\"\",\"\",I368/COUNTIF('Data Input'!$C$8:$AQ$8,$I$2))","v":""},{"$f":"IF(ISBLANK('Data Input'!A372),\"\",SUM('Data Input'!D372,'Data Input'!E372,'Data Input'!F372,'Data Input'!G372,'Data Input'!J372,'Data Input'!O372,'Data Input'!P372,'Data Input'!S372,'Data Input'!U372,'Data Input'!X372,'Data Input'!Z372,'Data Input'!AA372,'Data Input'!AB372,'Data Input'!AE372,'Data Input'!AG372,'Data Input'!AH372,'Data Input'!AJ372,'Data Input'!AK372,'Data Input'!AL372,'Data Input'!AN372))","v":""},{"$f":"IF(K368=\"\",\"\",K368/COUNTIF('Data Input'!$C$8:$AQ$8,$K$2))","v":""},{"$f":"IF(ISBLANK('Data Input'!A372),\"\",SUM('Data Input'!V372))","v":""},{"$f":"IF(M368=\"\",\"\",M368/COUNTIF('Data Input'!$C$8:$AQ$8,$M$2))","v":""},{"$f":"IF(ISBLANK('Data Input'!A372),\"\",SUM('Data Input'!H372,'Data Input'!I372,'Data Input'!M372,'Data Input'!N372,'Data Input'!Q372,'Data Input'!R372,'Data Input'!T372,'Data Input'!Y372,'Data Input'!AD372,'Data Input'!AI372,'Data Input'!AP372,'Data Input'!AQ372))","v":""},{"$f":"IF(O368=\"\",\"\",O368/COUNTIF('Data Input'!$C$8:$AQ$8,$O$2))","v":""}]
[{"$f":"IF('Data Input'!A373=0,\"\",'Data Input'!A373)","v":""},{"$f":"IF(ISBLANK('Data Input'!A373),\"\",COUNTIF('Data Input'!C373:AQ373,\"\")-1)","v":""},{"$f":"IF(ISBLANK('Data Input'!A373),\"\",COUNTIF('Data Input'!C373:AQ373,\"0\"))","v":""},{"$f":"IF(ISBLANK('Data Input'!A373),\"\",SUM(B369,C369))","v":""},{"$f":"IF(ISBLANK('Data Input'!A373),\"\",SUM('Data Input'!C373:V373))","v":""},{"$f":"IF(ISBLANK('Data Input'!A373),\"\",SUM('Data Input'!X373:AQ373))","v":""},{"$f":"IF(ISBLANK('Data Input'!A373),\"\",SUM('Data Input'!C373:AQ373))","v":""},{"$f":"IF(G369=\"\",\"\",G369/(COUNTA('Data Input'!$C$8:$AQ$8)-1))","v":""},{"$f":"IF(ISBLANK('Data Input'!A373),\"\",SUM('Data Input'!C373,'Data Input'!K373,'Data Input'!L373,'Data Input'!AC373,'Data Input'!AF373,'Data Input'!AM373,'Data Input'!AO373))","v":""},{"$f":"IF(I369=\"\",\"\",I369/COUNTIF('Data Input'!$C$8:$AQ$8,$I$2))","v":""},{"$f":"IF(ISBLANK('Data Input'!A373),\"\",SUM('Data Input'!D373,'Data Input'!E373,'Data Input'!F373,'Data Input'!G373,'Data Input'!J373,'Data Input'!O373,'Data Input'!P373,'Data Input'!S373,'Data Input'!U373,'Data Input'!X373,'Data Input'!Z373,'Data Input'!AA373,'Data Input'!AB373,'Data Input'!AE373,'Data Input'!AG373,'Data Input'!AH373,'Data Input'!AJ373,'Data Input'!AK373,'Data Input'!AL373,'Data Input'!AN373))","v":""},{"$f":"IF(K369=\"\",\"\",K369/COUNTIF('Data Input'!$C$8:$AQ$8,$K$2))","v":""},{"$f":"IF(ISBLANK('Data Input'!A373),\"\",SUM('Data Input'!V373))","v":""},{"$f":"IF(M369=\"\",\"\",M369/COUNTIF('Data Input'!$C$8:$AQ$8,$M$2))","v":""},{"$f":"IF(ISBLANK('Data Input'!A373),\"\",SUM('Data Input'!H373,'Data Input'!I373,'Data Input'!M373,'Data Input'!N373,'Data Input'!Q373,'Data Input'!R373,'Data Input'!T373,'Data Input'!Y373,'Data Input'!AD373,'Data Input'!AI373,'Data Input'!AP373,'Data Input'!AQ373))","v":""},{"$f":"IF(O369=\"\",\"\",O369/COUNTIF('Data Input'!$C$8:$AQ$8,$O$2))","v":""}]
[{"$f":"IF('Data Input'!A374=0,\"\",'Data Input'!A374)","v":""},{"$f":"IF(ISBLANK('Data Input'!A374),\"\",COUNTIF('Data Input'!C374:AQ374,\"\")-1)","v":""},{"$f":"IF(ISBLANK('Data Input'!A374),\"\",COUNTIF('Data Input'!C374:AQ374,\"0\"))","v":""},{"$f":"IF(ISBLANK('Data Input'!A374),\"\",SUM(B370,C370))","v":""},{"$f":"IF(ISBLANK('Data Input'!A374),\"\",SUM('Data Input'!C374:V374))","v":""},{"$f":"IF(ISBLANK('Data Input'!A374),\"\",SUM('Data Input'!X374:AQ374))","v":""},{"$f":"IF(ISBLANK('Data Input'!A374),\"\",SUM('Data Input'!C374:AQ374))","v":""},{"$f":"IF(G370=\"\",\"\",G370/(COUNTA('Data Input'!$C$8:$AQ$8)-1))","v":""},{"$f":"IF(ISBLANK('Data Input'!A374),\"\",SUM('Data Input'!C374,'Data Input'!K374,'Data Input'!L374,'Data Input'!AC374,'Data Input'!AF374,'Data Input'!AM374,'Data Input'!AO374))","v":""},{"$f":"IF(I370=\"\",\"\",I370/COUNTIF('Data Input'!$C$8:$AQ$8,$I$2))","v":""},{"$f":"IF(ISBLANK('Data Input'!A374),\"\",SUM('Data Input'!D374,'Data Input'!E374,'Data Input'!F374,'Data Input'!G374,'Data Input'!J374,'Data Input'!O374,'Data Input'!P374,'Data Input'!S374,'Data Input'!U374,'Data Input'!X374,'Data Input'!Z374,'Data Input'!AA374,'Data Input'!AB374,'Data Input'!AE374,'Data Input'!AG374,'Data Input'!AH374,'Data Input'!AJ374,'Data Input'!AK374,'Data Input'!AL374,'Data Input'!AN374))","v":""},{"$f":"IF(K370=\"\",\"\",K370/COUNTIF('Data Input'!$C$8:$AQ$8,$K$2))","v":""},{"$f":"IF(ISBLANK('Data Input'!A374),\"\",SUM('Data Input'!V374))","v":""},{"$f":"IF(M370=\"\",\"\",M370/COUNTIF('Data Input'!$C$8:$AQ$8,$M$2))","v":""},{"$f":"IF(ISBLANK('Data Input'!A374),\"\",SUM('Data Input'!H374,'Data Input'!I374,'Data Input'!M374,'Data Input'!N374,'Data Input'!Q374,'Data Input'!R374,'Data Input'!T374,'Data Input'!Y374,'Data Input'!AD374,'Data Input'!AI374,'Data Input'!AP374,'Data Input'!AQ374))","v":""},{"$f":"IF(O370=\"\",\"\",O370/COUNTIF('Data Input'!$C$8:$AQ$8,$O$2))","v":""}]
[{"$f":"IF('Data Input'!A375=0,\"\",'Data Input'!A375)","v":""},{"$f":"IF(ISBLANK('Data Input'!A375),\"\",COUNTIF('Data Input'!C375:AQ375,\"\")-1)","v":""},{"$f":"IF(ISBLANK('Data Input'!A375),\"\",COUNTIF('Data Input'!C375:AQ375,\"0\"))","v":""},{"$f":"IF(ISBLANK('Data Input'!A375),\"\",SUM(B371,C371))","v":""},{"$f":"IF(ISBLANK('Data Input'!A375),\"\",SUM('Data Input'!C375:V375))","v":""},{"$f":"IF(ISBLANK('Data Input'!A375),\"\",SUM('Data Input'!X375:AQ375))","v":""},{"$f":"IF(ISBLANK('Data Input'!A375),\"\",SUM('Data Input'!C375:AQ375))","v":""},{"$f":"IF(G371=\"\",\"\",G371/(COUNTA('Data Input'!$C$8:$AQ$8)-1))","v":""},{"$f":"IF(ISBLANK('Data Input'!A375),\"\",SUM('Data Input'!C375,'Data Input'!K375,'Data Input'!L375,'Data Input'!AC375,'Data Input'!AF375,'Data Input'!AM375,'Data Input'!AO375))","v":""},{"$f":"IF(I371=\"\",\"\",I371/COUNTIF('Data Input'!$C$8:$AQ$8,$I$2))","v":""},{"$f":"IF(ISBLANK('Data Input'!A375),\"\",SUM('Data Input'!D375,'Data Input'!E375,'Data Input'!F375,'Data Input'!G375,'Data Input'!J375,'Data Input'!O375,'Data Input'!P375,'Data Input'!S375,'Data Input'!U375,'Data Input'!X375,'Data Input'!Z375,'Data Input'!AA375,'Data Input'!AB375,'Data Input'!AE375,'Data Input'!AG375,'Data Input'!AH375,'Data Input'!AJ375,'Data Input'!AK375,'Data Input'!AL375,'Data Input'!AN375))","v":""},{"$f":"IF(K371=\"\",\"\",K371/COUNTIF('Data Input'!$C$8:$AQ$8,$K$2))","v":""},{"$f":"IF(ISBLANK('Data Input'!A375),\"\",SUM('Data Input'!V375))","v":""},{"$f":"IF(M371=\"\",\"\",M371/COUNTIF('Data Input'!$C$8:$AQ$8,$M$2))","v":""},{"$f":"IF(ISBLANK('Data Input'!A375),\"\",SUM('Data Input'!H375,'Data Input'!I375,'Data Input'!M375,'Data Input'!N375,'Data Input'!Q375,'Data Input'!R375,'Data Input'!T375,'Data Input'!Y375,'Data Input'!AD375,'Data Input'!AI375,'Data Input'!AP375,'Data Input'!AQ375))","v":""},{"$f":"IF(O371=\"\",\"\",O371/COUNTIF('Data Input'!$C$8:$AQ$8,$O$2))","v":""}]
[{"$f":"IF('Data Input'!A376=0,\"\",'Data Input'!A376)","v":""},{"$f":"IF(ISBLANK('Data Input'!A376),\"\",COUNTIF('Data Input'!C376:AQ376,\"\")-1)","v":""},{"$f":"IF(ISBLANK('Data Input'!A376),\"\",COUNTIF('Data Input'!C376:AQ376,\"0\"))","v":""},{"$f":"IF(ISBLANK('Data Input'!A376),\"\",SUM(B372,C372))","v":""},{"$f":"IF(ISBLANK('Data Input'!A376),\"\",SUM('Data Input'!C376:V376))","v":""},{"$f":"IF(ISBLANK('Data Input'!A376),\"\",SUM('Data Input'!X376:AQ376))","v":""},{"$f":"IF(ISBLANK('Data Input'!A376),\"\",SUM('Data Input'!C376:AQ376))","v":""},{"$f":"IF(G372=\"\",\"\",G372/(COUNTA('Data Input'!$C$8:$AQ$8)-1))","v":""},{"$f":"IF(ISBLANK('Data Input'!A376),\"\",SUM('Data Input'!C376,'Data Input'!K376,'Data Input'!L376,'Data Input'!AC376,'Data Input'!AF376,'Data Input'!AM376,'Data Input'!AO376))","v":""},{"$f":"IF(I372=\"\",\"\",I372/COUNTIF('Data Input'!$C$8:$AQ$8,$I$2))","v":""},{"$f":"IF(ISBLANK('Data Input'!A376),\"\",SUM('Data Input'!D376,'Data Input'!E376,'Data Input'!F376,'Data Input'!G376,'Data Input'!J376,'Data Input'!O376,'Data Input'!P376,'Data Input'!S376,'Data Input'!U376,'Data Input'!X376,'Data Input'!Z376,'Data Input'!AA376,'Data Input'!AB376,'Data Input'!AE376,'Data Input'!AG376,'Data Input'!AH376,'Data Input'!AJ376,'Data Input'!AK376,'Data Input'!AL376,'Data Input'!AN376))","v":""},{"$f":"IF(K372=\"\",\"\",K372/COUNTIF('Data Input'!$C$8:$AQ$8,$K$2))","v":""},{"$f":"IF(ISBLANK('Data Input'!A376),\"\",SUM('Data Input'!V376))","v":""},{"$f":"IF(M372=\"\",\"\",M372/COUNTIF('Data Input'!$C$8:$AQ$8,$M$2))","v":""},{"$f":"IF(ISBLANK('Data Input'!A376),\"\",SUM('Data Input'!H376,'Data Input'!I376,'Data Input'!M376,'Data Input'!N376,'Data Input'!Q376,'Data Input'!R376,'Data Input'!T376,'Data Input'!Y376,'Data Input'!AD376,'Data Input'!AI376,'Data Input'!AP376,'Data Input'!AQ376))","v":""},{"$f":"IF(O372=\"\",\"\",O372/COUNTIF('Data Input'!$C$8:$AQ$8,$O$2))","v":""}]
[{"$f":"IF('Data Input'!A377=0,\"\",'Data Input'!A377)","v":""},{"$f":"IF(ISBLANK('Data Input'!A377),\"\",COUNTIF('Data Input'!C377:AQ377,\"\")-1)","v":""},{"$f":"IF(ISBLANK('Data Input'!A377),\"\",COUNTIF('Data Input'!C377:AQ377,\"0\"))","v":""},{"$f":"IF(ISBLANK('Data Input'!A377),\"\",SUM(B373,C373))","v":""},{"$f":"IF(ISBLANK('Data Input'!A377),\"\",SUM('Data Input'!C377:V377))","v":""},{"$f":"IF(ISBLANK('Data Input'!A377),\"\",SUM('Data Input'!X377:AQ377))","v":""},{"$f":"IF(ISBLANK('Data Input'!A377),\"\",SUM('Data Input'!C377:AQ377))","v":""},{"$f":"IF(G373=\"\",\"\",G373/(COUNTA('Data Input'!$C$8:$AQ$8)-1))","v":""},{"$f":"IF(ISBLANK('Data Input'!A377),\"\",SUM('Data Input'!C377,'Data Input'!K377,'Data Input'!L377,'Data Input'!AC377,'Data Input'!AF377,'Data Input'!AM377,'Data Input'!AO377))","v":""},{"$f":"IF(I373=\"\",\"\",I373/COUNTIF('Data Input'!$C$8:$AQ$8,$I$2))","v":""},{"$f":"IF(ISBLANK('Data Input'!A377),\"\",SUM('Data Input'!D377,'Data Input'!E377,'Data Input'!F377,'Data Input'!G377,'Data Input'!J377,'Data Input'!O377,'Data Input'!P377,'Data Input'!S377,'Data Input'!U377,'Data Input'!X377,'Data Input'!Z377,'Data Input'!AA377,'Data Input'!AB377,'Data Input'!AE377,'Data Input'!AG377,'Data Input'!AH377,'Data Input'!AJ377,'Data Input'!AK377,'Data Input'!AL377,'Data Input'!AN377))","v":""},{"$f":"IF(K373=\"\",\"\",K373/COUNTIF('Data Input'!$C$8:$AQ$8,$K$2))","v":""},{"$f":"IF(ISBLANK('Data Input'!A377),\"\",SUM('Data Input'!V377))","v":""},{"$f":"IF(M373=\"\",\"\",M373/COUNTIF('Data Input'!$C$8:$AQ$8,$M$2))","v":""},{"$f":"IF(ISBLANK('Data Input'!A377),\"\",SUM('Data Input'!H377,'Data Input'!I377,'Data Input'!M377,'Data Input'!N377,'Data Input'!Q377,'Data Input'!R377,'Data Input'!T377,'Data Input'!Y377,'Data Input'!AD377,'Data Input'!AI377,'Data Input'!AP377,'Data Input'!AQ377))","v":""},{"$f":"IF(O373=\"\",\"\",O373/COUNTIF('Data Input'!$C$8:$AQ$8,$O$2))","v":""}]
[{"$f":"IF('Data Input'!A378=0,\"\",'Data Input'!A378)","v":""},{"$f":"IF(ISBLANK('Data Input'!A378),\"\",COUNTIF('Data Input'!C378:AQ378,\"\")-1)","v":""},{"$f":"IF(ISBLANK('Data Input'!A378),\"\",COUNTIF('Data Input'!C378:AQ378,\"0\"))","v":""},{"$f":"IF(ISBLANK('Data Input'!A378),\"\",SUM(B374,C374))","v":""},{"$f":"IF(ISBLANK('Data Input'!A378),\"\",SUM('Data Input'!C378:V378))","v":""},{"$f":"IF(ISBLANK('Data Input'!A378),\"\",SUM('Data Input'!X378:AQ378))","v":""},{"$f":"IF(ISBLANK('Data Input'!A378),\"\",SUM('Data Input'!C378:AQ378))","v":""},{"$f":"IF(G374=\"\",\"\",G374/(COUNTA('Data Input'!$C$8:$AQ$8)-1))","v":""},{"$f":"IF(ISBLANK('Data Input'!A378),\"\",SUM('Data Input'!C378,'Data Input'!K378,'Data Input'!L378,'Data Input'!AC378,'Data Input'!AF378,'Data Input'!AM378,'Data Input'!AO378))","v":""},{"$f":"IF(I374=\"\",\"\",I374/COUNTIF('Data Input'!$C$8:$AQ$8,$I$2))","v":""},{"$f":"IF(ISBLANK('Data Input'!A378),\"\",SUM('Data Input'!D378,'Data Input'!E378,'Data Input'!F378,'Data Input'!G378,'Data Input'!J378,'Data Input'!O378,'Data Input'!P378,'Data Input'!S378,'Data Input'!U378,'Data Input'!X378,'Data Input'!Z378,'Data Input'!AA378,'Data Input'!AB378,'Data Input'!AE378,'Data Input'!AG378,'Data Input'!AH378,'Data Input'!AJ378,'Data Input'!AK378,'Data Input'!AL378,'Data Input'!AN378))","v":""},{"$f":"IF(K374=\"\",\"\",K374/COUNTIF('Data Input'!$C$8:$AQ$8,$K$2))","v":""},{"$f":"IF(ISBLANK('Data Input'!A378),\"\",SUM('Data Input'!V378))","v":""},{"$f":"IF(M374=\"\",\"\",M374/COUNTIF('Data Input'!$C$8:$AQ$8,$M$2))","v":""},{"$f":"IF(ISBLANK('Data Input'!A378),\"\",SUM('Data Input'!H378,'Data Input'!I378,'Data Input'!M378,'Data Input'!N378,'Data Input'!Q378,'Data Input'!R378,'Data Input'!T378,'Data Input'!Y378,'Data Input'!AD378,'Data Input'!AI378,'Data Input'!AP378,'Data Input'!AQ378))","v":""},{"$f":"IF(O374=\"\",\"\",O374/COUNTIF('Data Input'!$C$8:$AQ$8,$O$2))","v":""}]
[{"$f":"IF('Data Input'!A379=0,\"\",'Data Input'!A379)","v":""},{"$f":"IF(ISBLANK('Data Input'!A379),\"\",COUNTIF('Data Input'!C379:AQ379,\"\")-1)","v":""},{"$f":"IF(ISBLANK('Data Input'!A379),\"\",COUNTIF('Data Input'!C379:AQ379,\"0\"))","v":""},{"$f":"IF(ISBLANK('Data Input'!A379),\"\",SUM(B375,C375))","v":""},{"$f":"IF(ISBLANK('Data Input'!A379),\"\",SUM('Data Input'!C379:V379))","v":""},{"$f":"IF(ISBLANK('Data Input'!A379),\"\",SUM('Data Input'!X379:AQ379))","v":""},{"$f":"IF(ISBLANK('Data Input'!A379),\"\",SUM('Data Input'!C379:AQ379))","v":""},{"$f":"IF(G375=\"\",\"\",G375/(COUNTA('Data Input'!$C$8:$AQ$8)-1))","v":""},{"$f":"IF(ISBLANK('Data Input'!A379),\"\",SUM('Data Input'!C379,'Data Input'!K379,'Data Input'!L379,'Data Input'!AC379,'Data Input'!AF379,'Data Input'!AM379,'Data Input'!AO379))","v":""},{"$f":"IF(I375=\"\",\"\",I375/COUNTIF('Data Input'!$C$8:$AQ$8,$I$2))","v":""},{"$f":"IF(ISBLANK('Data Input'!A379),\"\",SUM('Data Input'!D379,'Data Input'!E379,'Data Input'!F379,'Data Input'!G379,'Data Input'!J379,'Data Input'!O379,'Data Input'!P379,'Data Input'!S379,'Data Input'!U379,'Data Input'!X379,'Data Input'!Z379,'Data Input'!AA379,'Data Input'!AB379,'Data Input'!AE379,'Data Input'!AG379,'Data Input'!AH379,'Data Input'!AJ379,'Data Input'!AK379,'Data Input'!AL379,'Data Input'!AN379))","v":""},{"$f":"IF(K375=\"\",\"\",K375/COUNTIF('Data Input'!$C$8:$AQ$8,$K$2))","v":""},{"$f":"IF(ISBLANK('Data Input'!A379),\"\",SUM('Data Input'!V379))","v":""},{"$f":"IF(M375=\"\",\"\",M375/COUNTIF('Data Input'!$C$8:$AQ$8,$M$2))","v":""},{"$f":"IF(ISBLANK('Data Input'!A379),\"\",SUM('Data Input'!H379,'Data Input'!I379,'Data Input'!M379,'Data Input'!N379,'Data Input'!Q379,'Data Input'!R379,'Data Input'!T379,'Data Input'!Y379,'Data Input'!AD379,'Data Input'!AI379,'Data Input'!AP379,'Data Input'!AQ379))","v":""},{"$f":"IF(O375=\"\",\"\",O375/COUNTIF('Data Input'!$C$8:$AQ$8,$O$2))","v":""}]
[{"$f":"IF('Data Input'!A380=0,\"\",'Data Input'!A380)","v":""},{"$f":"IF(ISBLANK('Data Input'!A380),\"\",COUNTIF('Data Input'!C380:AQ380,\"\")-1)","v":""},{"$f":"IF(ISBLANK('Data Input'!A380),\"\",COUNTIF('Data Input'!C380:AQ380,\"0\"))","v":""},{"$f":"IF(ISBLANK('Data Input'!A380),\"\",SUM(B376,C376))","v":""},{"$f":"IF(ISBLANK('Data Input'!A380),\"\",SUM('Data Input'!C380:V380))","v":""},{"$f":"IF(ISBLANK('Data Input'!A380),\"\",SUM('Data Input'!X380:AQ380))","v":""},{"$f":"IF(ISBLANK('Data Input'!A380),\"\",SUM('Data Input'!C380:AQ380))","v":""},{"$f":"IF(G376=\"\",\"\",G376/(COUNTA('Data Input'!$C$8:$AQ$8)-1))","v":""},{"$f":"IF(ISBLANK('Data Input'!A380),\"\",SUM('Data Input'!C380,'Data Input'!K380,'Data Input'!L380,'Data Input'!AC380,'Data Input'!AF380,'Data Input'!AM380,'Data Input'!AO380))","v":""},{"$f":"IF(I376=\"\",\"\",I376/COUNTIF('Data Input'!$C$8:$AQ$8,$I$2))","v":""},{"$f":"IF(ISBLANK('Data Input'!A380),\"\",SUM('Data Input'!D380,'Data Input'!E380,'Data Input'!F380,'Data Input'!G380,'Data Input'!J380,'Data Input'!O380,'Data Input'!P380,'Data Input'!S380,'Data Input'!U380,'Data Input'!X380,'Data Input'!Z380,'Data Input'!AA380,'Data Input'!AB380,'Data Input'!AE380,'Data Input'!AG380,'Data Input'!AH380,'Data Input'!AJ380,'Data Input'!AK380,'Data Input'!AL380,'Data Input'!AN380))","v":""},{"$f":"IF(K376=\"\",\"\",K376/COUNTIF('Data Input'!$C$8:$AQ$8,$K$2))","v":""},{"$f":"IF(ISBLANK('Data Input'!A380),\"\",SUM('Data Input'!V380))","v":""},{"$f":"IF(M376=\"\",\"\",M376/COUNTIF('Data Input'!$C$8:$AQ$8,$M$2))","v":""},{"$f":"IF(ISBLANK('Data Input'!A380),\"\",SUM('Data Input'!H380,'Data Input'!I380,'Data Input'!M380,'Data Input'!N380,'Data Input'!Q380,'Data Input'!R380,'Data Input'!T380,'Data Input'!Y380,'Data Input'!AD380,'Data Input'!AI380,'Data Input'!AP380,'Data Input'!AQ380))","v":""},{"$f":"IF(O376=\"\",\"\",O376/COUNTIF('Data Input'!$C$8:$AQ$8,$O$2))","v":""}]
[{"$f":"IF('Data Input'!A381=0,\"\",'Data Input'!A381)","v":""},{"$f":"IF(ISBLANK('Data Input'!A381),\"\",COUNTIF('Data Input'!C381:AQ381,\"\")-1)","v":""},{"$f":"IF(ISBLANK('Data Input'!A381),\"\",COUNTIF('Data Input'!C381:AQ381,\"0\"))","v":""},{"$f":"IF(ISBLANK('Data Input'!A381),\"\",SUM(B377,C377))","v":""},{"$f":"IF(ISBLANK('Data Input'!A381),\"\",SUM('Data Input'!C381:V381))","v":""},{"$f":"IF(ISBLANK('Data Input'!A381),\"\",SUM('Data Input'!X381:AQ381))","v":""},{"$f":"IF(ISBLANK('Data Input'!A381),\"\",SUM('Data Input'!C381:AQ381))","v":""},{"$f":"IF(G377=\"\",\"\",G377/(COUNTA('Data Input'!$C$8:$AQ$8)-1))","v":""},{"$f":"IF(ISBLANK('Data Input'!A381),\"\",SUM('Data Input'!C381,'Data Input'!K381,'Data Input'!L381,'Data Input'!AC381,'Data Input'!AF381,'Data Input'!AM381,'Data Input'!AO381))","v":""},{"$f":"IF(I377=\"\",\"\",I377/COUNTIF('Data Input'!$C$8:$AQ$8,$I$2))","v":""},{"$f":"IF(ISBLANK('Data Input'!A381),\"\",SUM('Data Input'!D381,'Data Input'!E381,'Data Input'!F381,'Data Input'!G381,'Data Input'!J381,'Data Input'!O381,'Data Input'!P381,'Data Input'!S381,'Data Input'!U381,'Data Input'!X381,'Data Input'!Z381,'Data Input'!AA381,'Data Input'!AB381,'Data Input'!AE381,'Data Input'!AG381,'Data Input'!AH381,'Data Input'!AJ381,'Data Input'!AK381,'Data Input'!AL381,'Data Input'!AN381))","v":""},{"$f":"IF(K377=\"\",\"\",K377/COUNTIF('Data Input'!$C$8:$AQ$8,$K$2))","v":""},{"$f":"IF(ISBLANK('Data Input'!A381),\"\",SUM('Data Input'!V381))","v":""},{"$f":"IF(M377=\"\",\"\",M377/COUNTIF('Data Input'!$C$8:$AQ$8,$M$2))","v":""},{"$f":"IF(ISBLANK('Data Input'!A381),\"\",SUM('Data Input'!H381,'Data Input'!I381,'Data Input'!M381,'Data Input'!N381,'Data Input'!Q381,'Data Input'!R381,'Data Input'!T381,'Data Input'!Y381,'Data Input'!AD381,'Data Input'!AI381,'Data Input'!AP381,'Data Input'!AQ381))","v":""},{"$f":"IF(O377=\"\",\"\",O377/COUNTIF('Data Input'!$C$8:$AQ$8,$O$2))","v":""}]
[{"$f":"IF('Data Input'!A382=0,\"\",'Data Input'!A382)","v":""},{"$f":"IF(ISBLANK('Data Input'!A382),\"\",COUNTIF('Data Input'!C382:AQ382,\"\")-1)","v":""},{"$f":"IF(ISBLANK('Data Input'!A382),\"\",COUNTIF('Data Input'!C382:AQ382,\"0\"))","v":""},{"$f":"IF(ISBLANK('Data Input'!A382),\"\",SUM(B378,C378))","v":""},{"$f":"IF(ISBLANK('Data Input'!A382),\"\",SUM('Data Input'!C382:V382))","v":""},{"$f":"IF(ISBLANK('Data Input'!A382),\"\",SUM('Data Input'!X382:AQ382))","v":""},{"$f":"IF(ISBLANK('Data Input'!A382),\"\",SUM('Data Input'!C382:AQ382))","v":""},{"$f":"IF(G378=\"\",\"\",G378/(COUNTA('Data Input'!$C$8:$AQ$8)-1))","v":""},{"$f":"IF(ISBLANK('Data Input'!A382),\"\",SUM('Data Input'!C382,'Data Input'!K382,'Data Input'!L382,'Data Input'!AC382,'Data Input'!AF382,'Data Input'!AM382,'Data Input'!AO382))","v":""},{"$f":"IF(I378=\"\",\"\",I378/COUNTIF('Data Input'!$C$8:$AQ$8,$I$2))","v":""},{"$f":"IF(ISBLANK('Data Input'!A382),\"\",SUM('Data Input'!D382,'Data Input'!E382,'Data Input'!F382,'Data Input'!G382,'Data Input'!J382,'Data Input'!O382,'Data Input'!P382,'Data Input'!S382,'Data Input'!U382,'Data Input'!X382,'Data Input'!Z382,'Data Input'!AA382,'Data Input'!AB382,'Data Input'!AE382,'Data Input'!AG382,'Data Input'!AH382,'Data Input'!AJ382,'Data Input'!AK382,'Data Input'!AL382,'Data Input'!AN382))","v":""},{"$f":"IF(K378=\"\",\"\",K378/COUNTIF('Data Input'!$C$8:$AQ$8,$K$2))","v":""},{"$f":"IF(ISBLANK('Data Input'!A382),\"\",SUM('Data Input'!V382))","v":""},{"$f":"IF(M378=\"\",\"\",M378/COUNTIF('Data Input'!$C$8:$AQ$8,$M$2))","v":""},{"$f":"IF(ISBLANK('Data Input'!A382),\"\",SUM('Data Input'!H382,'Data Input'!I382,'Data Input'!M382,'Data Input'!N382,'Data Input'!Q382,'Data Input'!R382,'Data Input'!T382,'Data Input'!Y382,'Data Input'!AD382,'Data Input'!AI382,'Data Input'!AP382,'Data Input'!AQ382))","v":""},{"$f":"IF(O378=\"\",\"\",O378/COUNTIF('Data Input'!$C$8:$AQ$8,$O$2))","v":""}]
[{"$f":"IF('Data Input'!A383=0,\"\",'Data Input'!A383)","v":""},{"$f":"IF(ISBLANK('Data Input'!A383),\"\",COUNTIF('Data Input'!C383:AQ383,\"\")-1)","v":""},{"$f":"IF(ISBLANK('Data Input'!A383),\"\",COUNTIF('Data Input'!C383:AQ383,\"0\"))","v":""},{"$f":"IF(ISBLANK('Data Input'!A383),\"\",SUM(B379,C379))","v":""},{"$f":"IF(ISBLANK('Data Input'!A383),\"\",SUM('Data Input'!C383:V383))","v":""},{"$f":"IF(ISBLANK('Data Input'!A383),\"\",SUM('Data Input'!X383:AQ383))","v":""},{"$f":"IF(ISBLANK('Data Input'!A383),\"\",SUM('Data Input'!C383:AQ383))","v":""},{"$f":"IF(G379=\"\",\"\",G379/(COUNTA('Data Input'!$C$8:$AQ$8)-1))","v":""},{"$f":"IF(ISBLANK('Data Input'!A383),\"\",SUM('Data Input'!C383,'Data Input'!K383,'Data Input'!L383,'Data Input'!AC383,'Data Input'!AF383,'Data Input'!AM383,'Data Input'!AO383))","v":""},{"$f":"IF(I379=\"\",\"\",I379/COUNTIF('Data Input'!$C$8:$AQ$8,$I$2))","v":""},{"$f":"IF(ISBLANK('Data Input'!A383),\"\",SUM('Data Input'!D383,'Data Input'!E383,'Data Input'!F383,'Data Input'!G383,'Data Input'!J383,'Data Input'!O383,'Data Input'!P383,'Data Input'!S383,'Data Input'!U383,'Data Input'!X383,'Data Input'!Z383,'Data Input'!AA383,'Data Input'!AB383,'Data Input'!AE383,'Data Input'!AG383,'Data Input'!AH383,'Data Input'!AJ383,'Data Input'!AK383,'Data Input'!AL383,'Data Input'!AN383))","v":""},{"$f":"IF(K379=\"\",\"\",K379/COUNTIF('Data Input'!$C$8:$AQ$8,$K$2))","v":""},{"$f":"IF(ISBLANK('Data Input'!A383),\"\",SUM('Data Input'!V383))","v":""},{"$f":"IF(M379=\"\",\"\",M379/COUNTIF('Data Input'!$C$8:$AQ$8,$M$2))","v":""},{"$f":"IF(ISBLANK('Data Input'!A383),\"\",SUM('Data Input'!H383,'Data Input'!I383,'Data Input'!M383,'Data Input'!N383,'Data Input'!Q383,'Data Input'!R383,'Data Input'!T383,'Data Input'!Y383,'Data Input'!AD383,'Data Input'!AI383,'Data Input'!AP383,'Data Input'!AQ383))","v":""},{"$f":"IF(O379=\"\",\"\",O379/COUNTIF('Data Input'!$C$8:$AQ$8,$O$2))","v":""}]
[{"$f":"IF('Data Input'!A384=0,\"\",'Data Input'!A384)","v":""},{"$f":"IF(ISBLANK('Data Input'!A384),\"\",COUNTIF('Data Input'!C384:AQ384,\"\")-1)","v":""},{"$f":"IF(ISBLANK('Data Input'!A384),\"\",COUNTIF('Data Input'!C384:AQ384,\"0\"))","v":""},{"$f":"IF(ISBLANK('Data Input'!A384),\"\",SUM(B380,C380))","v":""},{"$f":"IF(ISBLANK('Data Input'!A384),\"\",SUM('Data Input'!C384:V384))","v":""},{"$f":"IF(ISBLANK('Data Input'!A384),\"\",SUM('Data Input'!X384:AQ384))","v":""},{"$f":"IF(ISBLANK('Data Input'!A384),\"\",SUM('Data Input'!C384:AQ384))","v":""},{"$f":"IF(G380=\"\",\"\",G380/(COUNTA('Data Input'!$C$8:$AQ$8)-1))","v":""},{"$f":"IF(ISBLANK('Data Input'!A384),\"\",SUM('Data Input'!C384,'Data Input'!K384,'Data Input'!L384,'Data Input'!AC384,'Data Input'!AF384,'Data Input'!AM384,'Data Input'!AO384))","v":""},{"$f":"IF(I380=\"\",\"\",I380/COUNTIF('Data Input'!$C$8:$AQ$8,$I$2))","v":""},{"$f":"IF(ISBLANK('Data Input'!A384),\"\",SUM('Data Input'!D384,'Data Input'!E384,'Data Input'!F384,'Data Input'!G384,'Data Input'!J384,'Data Input'!O384,'Data Input'!P384,'Data Input'!S384,'Data Input'!U384,'Data Input'!X384,'Data Input'!Z384,'Data Input'!AA384,'Data Input'!AB384,'Data Input'!AE384,'Data Input'!AG384,'Data Input'!AH384,'Data Input'!AJ384,'Data Input'!AK384,'Data Input'!AL384,'Data Input'!AN384))","v":""},{"$f":"IF(K380=\"\",\"\",K380/COUNTIF('Data Input'!$C$8:$AQ$8,$K$2))","v":""},{"$f":"IF(ISBLANK('Data Input'!A384),\"\",SUM('Data Input'!V384))","v":""},{"$f":"IF(M380=\"\",\"\",M380/COUNTIF('Data Input'!$C$8:$AQ$8,$M$2))","v":""},{"$f":"IF(ISBLANK('Data Input'!A384),\"\",SUM('Data Input'!H384,'Data Input'!I384,'Data Input'!M384,'Data Input'!N384,'Data Input'!Q384,'Data Input'!R384,'Data Input'!T384,'Data Input'!Y384,'Data Input'!AD384,'Data Input'!AI384,'Data Input'!AP384,'Data Input'!AQ384))","v":""},{"$f":"IF(O380=\"\",\"\",O380/COUNTIF('Data Input'!$C$8:$AQ$8,$O$2))","v":""}]
[{"$f":"IF('Data Input'!A385=0,\"\",'Data Input'!A385)","v":""},{"$f":"IF(ISBLANK('Data Input'!A385),\"\",COUNTIF('Data Input'!C385:AQ385,\"\")-1)","v":""},{"$f":"IF(ISBLANK('Data Input'!A385),\"\",COUNTIF('Data Input'!C385:AQ385,\"0\"))","v":""},{"$f":"IF(ISBLANK('Data Input'!A385),\"\",SUM(B381,C381))","v":""},{"$f":"IF(ISBLANK('Data Input'!A385),\"\",SUM('Data Input'!C385:V385))","v":""},{"$f":"IF(ISBLANK('Data Input'!A385),\"\",SUM('Data Input'!X385:AQ385))","v":""},{"$f":"IF(ISBLANK('Data Input'!A385),\"\",SUM('Data Input'!C385:AQ385))","v":""},{"$f":"IF(G381=\"\",\"\",G381/(COUNTA('Data Input'!$C$8:$AQ$8)-1))","v":""},{"$f":"IF(ISBLANK('Data Input'!A385),\"\",SUM('Data Input'!C385,'Data Input'!K385,'Data Input'!L385,'Data Input'!AC385,'Data Input'!AF385,'Data Input'!AM385,'Data Input'!AO385))","v":""},{"$f":"IF(I381=\"\",\"\",I381/COUNTIF('Data Input'!$C$8:$AQ$8,$I$2))","v":""},{"$f":"IF(ISBLANK('Data Input'!A385),\"\",SUM('Data Input'!D385,'Data Input'!E385,'Data Input'!F385,'Data Input'!G385,'Data Input'!J385,'Data Input'!O385,'Data Input'!P385,'Data Input'!S385,'Data Input'!U385,'Data Input'!X385,'Data Input'!Z385,'Data Input'!AA385,'Data Input'!AB385,'Data Input'!AE385,'Data Input'!AG385,'Data Input'!AH385,'Data Input'!AJ385,'Data Input'!AK385,'Data Input'!AL385,'Data Input'!AN385))","v":""},{"$f":"IF(K381=\"\",\"\",K381/COUNTIF('Data Input'!$C$8:$AQ$8,$K$2))","v":""},{"$f":"IF(ISBLANK('Data Input'!A385),\"\",SUM('Data Input'!V385))","v":""},{"$f":"IF(M381=\"\",\"\",M381/COUNTIF('Data Input'!$C$8:$AQ$8,$M$2))","v":""},{"$f":"IF(ISBLANK('Data Input'!A385),\"\",SUM('Data Input'!H385,'Data Input'!I385,'Data Input'!M385,'Data Input'!N385,'Data Input'!Q385,'Data Input'!R385,'Data Input'!T385,'Data Input'!Y385,'Data Input'!AD385,'Data Input'!AI385,'Data Input'!AP385,'Data Input'!AQ385))","v":""},{"$f":"IF(O381=\"\",\"\",O381/COUNTIF('Data Input'!$C$8:$AQ$8,$O$2))","v":""}]
[{"$f":"IF('Data Input'!A386=0,\"\",'Data Input'!A386)","v":""},{"$f":"IF(ISBLANK('Data Input'!A386),\"\",COUNTIF('Data Input'!C386:AQ386,\"\")-1)","v":""},{"$f":"IF(ISBLANK('Data Input'!A386),\"\",COUNTIF('Data Input'!C386:AQ386,\"0\"))","v":""},{"$f":"IF(ISBLANK('Data Input'!A386),\"\",SUM(B382,C382))","v":""},{"$f":"IF(ISBLANK('Data Input'!A386),\"\",SUM('Data Input'!C386:V386))","v":""},{"$f":"IF(ISBLANK('Data Input'!A386),\"\",SUM('Data Input'!X386:AQ386))","v":""},{"$f":"IF(ISBLANK('Data Input'!A386),\"\",SUM('Data Input'!C386:AQ386))","v":""},{"$f":"IF(G382=\"\",\"\",G382/(COUNTA('Data Input'!$C$8:$AQ$8)-1))","v":""},{"$f":"IF(ISBLANK('Data Input'!A386),\"\",SUM('Data Input'!C386,'Data Input'!K386,'Data Input'!L386,'Data Input'!AC386,'Data Input'!AF386,'Data Input'!AM386,'Data Input'!AO386))","v":""},{"$f":"IF(I382=\"\",\"\",I382/COUNTIF('Data Input'!$C$8:$AQ$8,$I$2))","v":""},{"$f":"IF(ISBLANK('Data Input'!A386),\"\",SUM('Data Input'!D386,'Data Input'!E386,'Data Input'!F386,'Data Input'!G386,'Data Input'!J386,'Data Input'!O386,'Data Input'!P386,'Data Input'!S386,'Data Input'!U386,'Data Input'!X386,'Data Input'!Z386,'Data Input'!AA386,'Data Input'!AB386,'Data Input'!AE386,'Data Input'!AG386,'Data Input'!AH386,'Data Input'!AJ386,'Data Input'!AK386,'Data Input'!AL386,'Data Input'!AN386))","v":""},{"$f":"IF(K382=\"\",\"\",K382/COUNTIF('Data Input'!$C$8:$AQ$8,$K$2))","v":""},{"$f":"IF(ISBLANK('Data Input'!A386),\"\",SUM('Data Input'!V386))","v":""},{"$f":"IF(M382=\"\",\"\",M382/COUNTIF('Data Input'!$C$8:$AQ$8,$M$2))","v":""},{"$f":"IF(ISBLANK('Data Input'!A386),\"\",SUM('Data Input'!H386,'Data Input'!I386,'Data Input'!M386,'Data Input'!N386,'Data Input'!Q386,'Data Input'!R386,'Data Input'!T386,'Data Input'!Y386,'Data Input'!AD386,'Data Input'!AI386,'Data Input'!AP386,'Data Input'!AQ386))","v":""},{"$f":"IF(O382=\"\",\"\",O382/COUNTIF('Data Input'!$C$8:$AQ$8,$O$2))","v":""}]
[{"$f":"IF('Data Input'!A387=0,\"\",'Data Input'!A387)","v":""},{"$f":"IF(ISBLANK('Data Input'!A387),\"\",COUNTIF('Data Input'!C387:AQ387,\"\")-1)","v":""},{"$f":"IF(ISBLANK('Data Input'!A387),\"\",COUNTIF('Data Input'!C387:AQ387,\"0\"))","v":""},{"$f":"IF(ISBLANK('Data Input'!A387),\"\",SUM(B383,C383))","v":""},{"$f":"IF(ISBLANK('Data Input'!A387),\"\",SUM('Data Input'!C387:V387))","v":""},{"$f":"IF(ISBLANK('Data Input'!A387),\"\",SUM('Data Input'!X387:AQ387))","v":""},{"$f":"IF(ISBLANK('Data Input'!A387),\"\",SUM('Data Input'!C387:AQ387))","v":""},{"$f":"IF(G383=\"\",\"\",G383/(COUNTA('Data Input'!$C$8:$AQ$8)-1))","v":""},{"$f":"IF(ISBLANK('Data Input'!A387),\"\",SUM('Data Input'!C387,'Data Input'!K387,'Data Input'!L387,'Data Input'!AC387,'Data Input'!AF387,'Data Input'!AM387,'Data Input'!AO387))","v":""},{"$f":"IF(I383=\"\",\"\",I383/COUNTIF('Data Input'!$C$8:$AQ$8,$I$2))","v":""},{"$f":"IF(ISBLANK('Data Input'!A387),\"\",SUM('Data Input'!D387,'Data Input'!E387,'Data Input'!F387,'Data Input'!G387,'Data Input'!J387,'Data Input'!O387,'Data Input'!P387,'Data Input'!S387,'Data Input'!U387,'Data Input'!X387,'Data Input'!Z387,'Data Input'!AA387,'Data Input'!AB387,'Data Input'!AE387,'Data Input'!AG387,'Data Input'!AH387,'Data Input'!AJ387,'Data Input'!AK387,'Data Input'!AL387,'Data Input'!AN387))","v":""},{"$f":"IF(K383=\"\",\"\",K383/COUNTIF('Data Input'!$C$8:$AQ$8,$K$2))","v":""},{"$f":"IF(ISBLANK('Data Input'!A387),\"\",SUM('Data Input'!V387))","v":""},{"$f":"IF(M383=\"\",\"\",M383/COUNTIF('Data Input'!$C$8:$AQ$8,$M$2))","v":""},{"$f":"IF(ISBLANK('Data Input'!A387),\"\",SUM('Data Input'!H387,'Data Input'!I387,'Data Input'!M387,'Data Input'!N387,'Data Input'!Q387,'Data Input'!R387,'Data Input'!T387,'Data Input'!Y387,'Data Input'!AD387,'Data Input'!AI387,'Data Input'!AP387,'Data Input'!AQ387))","v":""},{"$f":"IF(O383=\"\",\"\",O383/COUNTIF('Data Input'!$C$8:$AQ$8,$O$2))","v":""}]
[{"$f":"IF('Data Input'!A388=0,\"\",'Data Input'!A388)","v":""},{"$f":"IF(ISBLANK('Data Input'!A388),\"\",COUNTIF('Data Input'!C388:AQ388,\"\")-1)","v":""},{"$f":"IF(ISBLANK('Data Input'!A388),\"\",COUNTIF('Data Input'!C388:AQ388,\"0\"))","v":""},{"$f":"IF(ISBLANK('Data Input'!A388),\"\",SUM(B384,C384))","v":""},{"$f":"IF(ISBLANK('Data Input'!A388),\"\",SUM('Data Input'!C388:V388))","v":""},{"$f":"IF(ISBLANK('Data Input'!A388),\"\",SUM('Data Input'!X388:AQ388))","v":""},{"$f":"IF(ISBLANK('Data Input'!A388),\"\",SUM('Data Input'!C388:AQ388))","v":""},{"$f":"IF(G384=\"\",\"\",G384/(COUNTA('Data Input'!$C$8:$AQ$8)-1))","v":""},{"$f":"IF(ISBLANK('Data Input'!A388),\"\",SUM('Data Input'!C388,'Data Input'!K388,'Data Input'!L388,'Data Input'!AC388,'Data Input'!AF388,'Data Input'!AM388,'Data Input'!AO388))","v":""},{"$f":"IF(I384=\"\",\"\",I384/COUNTIF('Data Input'!$C$8:$AQ$8,$I$2))","v":""},{"$f":"IF(ISBLANK('Data Input'!A388),\"\",SUM('Data Input'!D388,'Data Input'!E388,'Data Input'!F388,'Data Input'!G388,'Data Input'!J388,'Data Input'!O388,'Data Input'!P388,'Data Input'!S388,'Data Input'!U388,'Data Input'!X388,'Data Input'!Z388,'Data Input'!AA388,'Data Input'!AB388,'Data Input'!AE388,'Data Input'!AG388,'Data Input'!AH388,'Data Input'!AJ388,'Data Input'!AK388,'Data Input'!AL388,'Data Input'!AN388))","v":""},{"$f":"IF(K384=\"\",\"\",K384/COUNTIF('Data Input'!$C$8:$AQ$8,$K$2))","v":""},{"$f":"IF(ISBLANK('Data Input'!A388),\"\",SUM('Data Input'!V388))","v":""},{"$f":"IF(M384=\"\",\"\",M384/COUNTIF('Data Input'!$C$8:$AQ$8,$M$2))","v":""},{"$f":"IF(ISBLANK('Data Input'!A388),\"\",SUM('Data Input'!H388,'Data Input'!I388,'Data Input'!M388,'Data Input'!N388,'Data Input'!Q388,'Data Input'!R388,'Data Input'!T388,'Data Input'!Y388,'Data Input'!AD388,'Data Input'!AI388,'Data Input'!AP388,'Data Input'!AQ388))","v":""},{"$f":"IF(O384=\"\",\"\",O384/COUNTIF('Data Input'!$C$8:$AQ$8,$O$2))","v":""}]
[{"$f":"IF('Data Input'!A389=0,\"\",'Data Input'!A389)","v":""},{"$f":"IF(ISBLANK('Data Input'!A389),\"\",COUNTIF('Data Input'!C389:AQ389,\"\")-1)","v":""},{"$f":"IF(ISBLANK('Data Input'!A389),\"\",COUNTIF('Data Input'!C389:AQ389,\"0\"))","v":""},{"$f":"IF(ISBLANK('Data Input'!A389),\"\",SUM(B385,C385))","v":""},{"$f":"IF(ISBLANK('Data Input'!A389),\"\",SUM('Data Input'!C389:V389))","v":""},{"$f":"IF(ISBLANK('Data Input'!A389),\"\",SUM('Data Input'!X389:AQ389))","v":""},{"$f":"IF(ISBLANK('Data Input'!A389),\"\",SUM('Data Input'!C389:AQ389))","v":""},{"$f":"IF(G385=\"\",\"\",G385/(COUNTA('Data Input'!$C$8:$AQ$8)-1))","v":""},{"$f":"IF(ISBLANK('Data Input'!A389),\"\",SUM('Data Input'!C389,'Data Input'!K389,'Data Input'!L389,'Data Input'!AC389,'Data Input'!AF389,'Data Input'!AM389,'Data Input'!AO389))","v":""},{"$f":"IF(I385=\"\",\"\",I385/COUNTIF('Data Input'!$C$8:$AQ$8,$I$2))","v":""},{"$f":"IF(ISBLANK('Data Input'!A389),\"\",SUM('Data Input'!D389,'Data Input'!E389,'Data Input'!F389,'Data Input'!G389,'Data Input'!J389,'Data Input'!O389,'Data Input'!P389,'Data Input'!S389,'Data Input'!U389,'Data Input'!X389,'Data Input'!Z389,'Data Input'!AA389,'Data Input'!AB389,'Data Input'!AE389,'Data Input'!AG389,'Data Input'!AH389,'Data Input'!AJ389,'Data Input'!AK389,'Data Input'!AL389,'Data Input'!AN389))","v":""},{"$f":"IF(K385=\"\",\"\",K385/COUNTIF('Data Input'!$C$8:$AQ$8,$K$2))","v":""},{"$f":"IF(ISBLANK('Data Input'!A389),\"\",SUM('Data Input'!V389))","v":""},{"$f":"IF(M385=\"\",\"\",M385/COUNTIF('Data Input'!$C$8:$AQ$8,$M$2))","v":""},{"$f":"IF(ISBLANK('Data Input'!A389),\"\",SUM('Data Input'!H389,'Data Input'!I389,'Data Input'!M389,'Data Input'!N389,'Data Input'!Q389,'Data Input'!R389,'Data Input'!T389,'Data Input'!Y389,'Data Input'!AD389,'Data Input'!AI389,'Data Input'!AP389,'Data Input'!AQ389))","v":""},{"$f":"IF(O385=\"\",\"\",O385/COUNTIF('Data Input'!$C$8:$AQ$8,$O$2))","v":""}]
[{"$f":"IF('Data Input'!A390=0,\"\",'Data Input'!A390)","v":""},{"$f":"IF(ISBLANK('Data Input'!A390),\"\",COUNTIF('Data Input'!C390:AQ390,\"\")-1)","v":""},{"$f":"IF(ISBLANK('Data Input'!A390),\"\",COUNTIF('Data Input'!C390:AQ390,\"0\"))","v":""},{"$f":"IF(ISBLANK('Data Input'!A390),\"\",SUM(B386,C386))","v":""},{"$f":"IF(ISBLANK('Data Input'!A390),\"\",SUM('Data Input'!C390:V390))","v":""},{"$f":"IF(ISBLANK('Data Input'!A390),\"\",SUM('Data Input'!X390:AQ390))","v":""},{"$f":"IF(ISBLANK('Data Input'!A390),\"\",SUM('Data Input'!C390:AQ390))","v":""},{"$f":"IF(G386=\"\",\"\",G386/(COUNTA('Data Input'!$C$8:$AQ$8)-1))","v":""},{"$f":"IF(ISBLANK('Data Input'!A390),\"\",SUM('Data Input'!C390,'Data Input'!K390,'Data Input'!L390,'Data Input'!AC390,'Data Input'!AF390,'Data Input'!AM390,'Data Input'!AO390))","v":""},{"$f":"IF(I386=\"\",\"\",I386/COUNTIF('Data Input'!$C$8:$AQ$8,$I$2))","v":""},{"$f":"IF(ISBLANK('Data Input'!A390),\"\",SUM('Data Input'!D390,'Data Input'!E390,'Data Input'!F390,'Data Input'!G390,'Data Input'!J390,'Data Input'!O390,'Data Input'!P390,'Data Input'!S390,'Data Input'!U390,'Data Input'!X390,'Data Input'!Z390,'Data Input'!AA390,'Data Input'!AB390,'Data Input'!AE390,'Data Input'!AG390,'Data Input'!AH390,'Data Input'!AJ390,'Data Input'!AK390,'Data Input'!AL390,'Data Input'!AN390))","v":""},{"$f":"IF(K386=\"\",\"\",K386/COUNTIF('Data Input'!$C$8:$AQ$8,$K$2))","v":""},{"$f":"IF(ISBLANK('Data Input'!A390),\"\",SUM('Data Input'!V390))","v":""},{"$f":"IF(M386=\"\",\"\",M386/COUNTIF('Data Input'!$C$8:$AQ$8,$M$2))","v":""},{"$f":"IF(ISBLANK('Data Input'!A390),\"\",SUM('Data Input'!H390,'Data Input'!I390,'Data Input'!M390,'Data Input'!N390,'Data Input'!Q390,'Data Input'!R390,'Data Input'!T390,'Data Input'!Y390,'Data Input'!AD390,'Data Input'!AI390,'Data Input'!AP390,'Data Input'!AQ390))","v":""},{"$f":"IF(O386=\"\",\"\",O386/COUNTIF('Data Input'!$C$8:$AQ$8,$O$2))","v":""}]
[{"$f":"IF('Data Input'!A391=0,\"\",'Data Input'!A391)","v":""},{"$f":"IF(ISBLANK('Data Input'!A391),\"\",COUNTIF('Data Input'!C391:AQ391,\"\")-1)","v":""},{"$f":"IF(ISBLANK('Data Input'!A391),\"\",COUNTIF('Data Input'!C391:AQ391,\"0\"))","v":""},{"$f":"IF(ISBLANK('Data Input'!A391),\"\",SUM(B387,C387))","v":""},{"$f":"IF(ISBLANK('Data Input'!A391),\"\",SUM('Data Input'!C391:V391))","v":""},{"$f":"IF(ISBLANK('Data Input'!A391),\"\",SUM('Data Input'!X391:AQ391))","v":""},{"$f":"IF(ISBLANK('Data Input'!A391),\"\",SUM('Data Input'!C391:AQ391))","v":""},{"$f":"IF(G387=\"\",\"\",G387/(COUNTA('Data Input'!$C$8:$AQ$8)-1))","v":""},{"$f":"IF(ISBLANK('Data Input'!A391),\"\",SUM('Data Input'!C391,'Data Input'!K391,'Data Input'!L391,'Data Input'!AC391,'Data Input'!AF391,'Data Input'!AM391,'Data Input'!AO391))","v":""},{"$f":"IF(I387=\"\",\"\",I387/COUNTIF('Data Input'!$C$8:$AQ$8,$I$2))","v":""},{"$f":"IF(ISBLANK('Data Input'!A391),\"\",SUM('Data Input'!D391,'Data Input'!E391,'Data Input'!F391,'Data Input'!G391,'Data Input'!J391,'Data Input'!O391,'Data Input'!P391,'Data Input'!S391,'Data Input'!U391,'Data Input'!X391,'Data Input'!Z391,'Data Input'!AA391,'Data Input'!AB391,'Data Input'!AE391,'Data Input'!AG391,'Data Input'!AH391,'Data Input'!AJ391,'Data Input'!AK391,'Data Input'!AL391,'Data Input'!AN391))","v":""},{"$f":"IF(K387=\"\",\"\",K387/COUNTIF('Data Input'!$C$8:$AQ$8,$K$2))","v":""},{"$f":"IF(ISBLANK('Data Input'!A391),\"\",SUM('Data Input'!V391))","v":""},{"$f":"IF(M387=\"\",\"\",M387/COUNTIF('Data Input'!$C$8:$AQ$8,$M$2))","v":""},{"$f":"IF(ISBLANK('Data Input'!A391),\"\",SUM('Data Input'!H391,'Data Input'!I391,'Data Input'!M391,'Data Input'!N391,'Data Input'!Q391,'Data Input'!R391,'Data Input'!T391,'Data Input'!Y391,'Data Input'!AD391,'Data Input'!AI391,'Data Input'!AP391,'Data Input'!AQ391))","v":""},{"$f":"IF(O387=\"\",\"\",O387/COUNTIF('Data Input'!$C$8:$AQ$8,$O$2))","v":""}]
[{"$f":"IF('Data Input'!A392=0,\"\",'Data Input'!A392)","v":""},{"$f":"IF(ISBLANK('Data Input'!A392),\"\",COUNTIF('Data Input'!C392:AQ392,\"\")-1)","v":""},{"$f":"IF(ISBLANK('Data Input'!A392),\"\",COUNTIF('Data Input'!C392:AQ392,\"0\"))","v":""},{"$f":"IF(ISBLANK('Data Input'!A392),\"\",SUM(B388,C388))","v":""},{"$f":"IF(ISBLANK('Data Input'!A392),\"\",SUM('Data Input'!C392:V392))","v":""},{"$f":"IF(ISBLANK('Data Input'!A392),\"\",SUM('Data Input'!X392:AQ392))","v":""},{"$f":"IF(ISBLANK('Data Input'!A392),\"\",SUM('Data Input'!C392:AQ392))","v":""},{"$f":"IF(G388=\"\",\"\",G388/(COUNTA('Data Input'!$C$8:$AQ$8)-1))","v":""},{"$f":"IF(ISBLANK('Data Input'!A392),\"\",SUM('Data Input'!C392,'Data Input'!K392,'Data Input'!L392,'Data Input'!AC392,'Data Input'!AF392,'Data Input'!AM392,'Data Input'!AO392))","v":""},{"$f":"IF(I388=\"\",\"\",I388/COUNTIF('Data Input'!$C$8:$AQ$8,$I$2))","v":""},{"$f":"IF(ISBLANK('Data Input'!A392),\"\",SUM('Data Input'!D392,'Data Input'!E392,'Data Input'!F392,'Data Input'!G392,'Data Input'!J392,'Data Input'!O392,'Data Input'!P392,'Data Input'!S392,'Data Input'!U392,'Data Input'!X392,'Data Input'!Z392,'Data Input'!AA392,'Data Input'!AB392,'Data Input'!AE392,'Data Input'!AG392,'Data Input'!AH392,'Data Input'!AJ392,'Data Input'!AK392,'Data Input'!AL392,'Data Input'!AN392))","v":""},{"$f":"IF(K388=\"\",\"\",K388/COUNTIF('Data Input'!$C$8:$AQ$8,$K$2))","v":""},{"$f":"IF(ISBLANK('Data Input'!A392),\"\",SUM('Data Input'!V392))","v":""},{"$f":"IF(M388=\"\",\"\",M388/COUNTIF('Data Input'!$C$8:$AQ$8,$M$2))","v":""},{"$f":"IF(ISBLANK('Data Input'!A392),\"\",SUM('Data Input'!H392,'Data Input'!I392,'Data Input'!M392,'Data Input'!N392,'Data Input'!Q392,'Data Input'!R392,'Data Input'!T392,'Data Input'!Y392,'Data Input'!AD392,'Data Input'!AI392,'Data Input'!AP392,'Data Input'!AQ392))","v":""},{"$f":"IF(O388=\"\",\"\",O388/COUNTIF('Data Input'!$C$8:$AQ$8,$O$2))","v":""}]
[{"$f":"IF('Data Input'!A393=0,\"\",'Data Input'!A393)","v":""},{"$f":"IF(ISBLANK('Data Input'!A393),\"\",COUNTIF('Data Input'!C393:AQ393,\"\")-1)","v":""},{"$f":"IF(ISBLANK('Data Input'!A393),\"\",COUNTIF('Data Input'!C393:AQ393,\"0\"))","v":""},{"$f":"IF(ISBLANK('Data Input'!A393),\"\",SUM(B389,C389))","v":""},{"$f":"IF(ISBLANK('Data Input'!A393),\"\",SUM('Data Input'!C393:V393))","v":""},{"$f":"IF(ISBLANK('Data Input'!A393),\"\",SUM('Data Input'!X393:AQ393))","v":""},{"$f":"IF(ISBLANK('Data Input'!A393),\"\",SUM('Data Input'!C393:AQ393))","v":""},{"$f":"IF(G389=\"\",\"\",G389/(COUNTA('Data Input'!$C$8:$AQ$8)-1))","v":""},{"$f":"IF(ISBLANK('Data Input'!A393),\"\",SUM('Data Input'!C393,'Data Input'!K393,'Data Input'!L393,'Data Input'!AC393,'Data Input'!AF393,'Data Input'!AM393,'Data Input'!AO393))","v":""},{"$f":"IF(I389=\"\",\"\",I389/COUNTIF('Data Input'!$C$8:$AQ$8,$I$2))","v":""},{"$f":"IF(ISBLANK('Data Input'!A393),\"\",SUM('Data Input'!D393,'Data Input'!E393,'Data Input'!F393,'Data Input'!G393,'Data Input'!J393,'Data Input'!O393,'Data Input'!P393,'Data Input'!S393,'Data Input'!U393,'Data Input'!X393,'Data Input'!Z393,'Data Input'!AA393,'Data Input'!AB393,'Data Input'!AE393,'Data Input'!AG393,'Data Input'!AH393,'Data Input'!AJ393,'Data Input'!AK393,'Data Input'!AL393,'Data Input'!AN393))","v":""},{"$f":"IF(K389=\"\",\"\",K389/COUNTIF('Data Input'!$C$8:$AQ$8,$K$2))","v":""},{"$f":"IF(ISBLANK('Data Input'!A393),\"\",SUM('Data Input'!V393))","v":""},{"$f":"IF(M389=\"\",\"\",M389/COUNTIF('Data Input'!$C$8:$AQ$8,$M$2))","v":""},{"$f":"IF(ISBLANK('Data Input'!A393),\"\",SUM('Data Input'!H393,'Data Input'!I393,'Data Input'!M393,'Data Input'!N393,'Data Input'!Q393,'Data Input'!R393,'Data Input'!T393,'Data Input'!Y393,'Data Input'!AD393,'Data Input'!AI393,'Data Input'!AP393,'Data Input'!AQ393))","v":""},{"$f":"IF(O389=\"\",\"\",O389/COUNTIF('Data Input'!$C$8:$AQ$8,$O$2))","v":""}]
[{"$f":"IF('Data Input'!A394=0,\"\",'Data Input'!A394)","v":""},{"$f":"IF(ISBLANK('Data Input'!A394),\"\",COUNTIF('Data Input'!C394:AQ394,\"\")-1)","v":""},{"$f":"IF(ISBLANK('Data Input'!A394),\"\",COUNTIF('Data Input'!C394:AQ394,\"0\"))","v":""},{"$f":"IF(ISBLANK('Data Input'!A394),\"\",SUM(B390,C390))","v":""},{"$f":"IF(ISBLANK('Data Input'!A394),\"\",SUM('Data Input'!C394:V394))","v":""},{"$f":"IF(ISBLANK('Data Input'!A394),\"\",SUM('Data Input'!X394:AQ394))","v":""},{"$f":"IF(ISBLANK('Data Input'!A394),\"\",SUM('Data Input'!C394:AQ394))","v":""},{"$f":"IF(G390=\"\",\"\",G390/(COUNTA('Data Input'!$C$8:$AQ$8)-1))","v":""},{"$f":"IF(ISBLANK('Data Input'!A394),\"\",SUM('Data Input'!C394,'Data Input'!K394,'Data Input'!L394,'Data Input'!AC394,'Data Input'!AF394,'Data Input'!AM394,'Data Input'!AO394))","v":""},{"$f":"IF(I390=\"\",\"\",I390/COUNTIF('Data Input'!$C$8:$AQ$8,$I$2))","v":""},{"$f":"IF(ISBLANK('Data Input'!A394),\"\",SUM('Data Input'!D394,'Data Input'!E394,'Data Input'!F394,'Data Input'!G394,'Data Input'!J394,'Data Input'!O394,'Data Input'!P394,'Data Input'!S394,'Data Input'!U394,'Data Input'!X394,'Data Input'!Z394,'Data Input'!AA394,'Data Input'!AB394,'Data Input'!AE394,'Data Input'!AG394,'Data Input'!AH394,'Data Input'!AJ394,'Data Input'!AK394,'Data Input'!AL394,'Data Input'!AN394))","v":""},{"$f":"IF(K390=\"\",\"\",K390/COUNTIF('Data Input'!$C$8:$AQ$8,$K$2))","v":""},{"$f":"IF(ISBLANK('Data Input'!A394),\"\",SUM('Data Input'!V394))","v":""},{"$f":"IF(M390=\"\",\"\",M390/COUNTIF('Data Input'!$C$8:$AQ$8,$M$2))","v":""},{"$f":"IF(ISBLANK('Data Input'!A394),\"\",SUM('Data Input'!H394,'Data Input'!I394,'Data Input'!M394,'Data Input'!N394,'Data Input'!Q394,'Data Input'!R394,'Data Input'!T394,'Data Input'!Y394,'Data Input'!AD394,'Data Input'!AI394,'Data Input'!AP394,'Data Input'!AQ394))","v":""},{"$f":"IF(O390=\"\",\"\",O390/COUNTIF('Data Input'!$C$8:$AQ$8,$O$2))","v":""}]
[{"$f":"IF('Data Input'!A395=0,\"\",'Data Input'!A395)","v":""},{"$f":"IF(ISBLANK('Data Input'!A395),\"\",COUNTIF('Data Input'!C395:AQ395,\"\")-1)","v":""},{"$f":"IF(ISBLANK('Data Input'!A395),\"\",COUNTIF('Data Input'!C395:AQ395,\"0\"))","v":""},{"$f":"IF(ISBLANK('Data Input'!A395),\"\",SUM(B391,C391))","v":""},{"$f":"IF(ISBLANK('Data Input'!A395),\"\",SUM('Data Input'!C395:V395))","v":""},{"$f":"IF(ISBLANK('Data Input'!A395),\"\",SUM('Data Input'!X395:AQ395))","v":""},{"$f":"IF(ISBLANK('Data Input'!A395),\"\",SUM('Data Input'!C395:AQ395))","v":""},{"$f":"IF(G391=\"\",\"\",G391/(COUNTA('Data Input'!$C$8:$AQ$8)-1))","v":""},{"$f":"IF(ISBLANK('Data Input'!A395),\"\",SUM('Data Input'!C395,'Data Input'!K395,'Data Input'!L395,'Data Input'!AC395,'Data Input'!AF395,'Data Input'!AM395,'Data Input'!AO395))","v":""},{"$f":"IF(I391=\"\",\"\",I391/COUNTIF('Data Input'!$C$8:$AQ$8,$I$2))","v":""},{"$f":"IF(ISBLANK('Data Input'!A395),\"\",SUM('Data Input'!D395,'Data Input'!E395,'Data Input'!F395,'Data Input'!G395,'Data Input'!J395,'Data Input'!O395,'Data Input'!P395,'Data Input'!S395,'Data Input'!U395,'Data Input'!X395,'Data Input'!Z395,'Data Input'!AA395,'Data Input'!AB395,'Data Input'!AE395,'Data Input'!AG395,'Data Input'!AH395,'Data Input'!AJ395,'Data Input'!AK395,'Data Input'!AL395,'Data Input'!AN395))","v":""},{"$f":"IF(K391=\"\",\"\",K391/COUNTIF('Data Input'!$C$8:$AQ$8,$K$2))","v":""},{"$f":"IF(ISBLANK('Data Input'!A395),\"\",SUM('Data Input'!V395))","v":""},{"$f":"IF(M391=\"\",\"\",M391/COUNTIF('Data Input'!$C$8:$AQ$8,$M$2))","v":""},{"$f":"IF(ISBLANK('Data Input'!A395),\"\",SUM('Data Input'!H395,'Data Input'!I395,'Data Input'!M395,'Data Input'!N395,'Data Input'!Q395,'Data Input'!R395,'Data Input'!T395,'Data Input'!Y395,'Data Input'!AD395,'Data Input'!AI395,'Data Input'!AP395,'Data Input'!AQ395))","v":""},{"$f":"IF(O391=\"\",\"\",O391/COUNTIF('Data Input'!$C$8:$AQ$8,$O$2))","v":""}]
[{"$f":"IF('Data Input'!A396=0,\"\",'Data Input'!A396)","v":""},{"$f":"IF(ISBLANK('Data Input'!A396),\"\",COUNTIF('Data Input'!C396:AQ396,\"\")-1)","v":""},{"$f":"IF(ISBLANK('Data Input'!A396),\"\",COUNTIF('Data Input'!C396:AQ396,\"0\"))","v":""},{"$f":"IF(ISBLANK('Data Input'!A396),\"\",SUM(B392,C392))","v":""},{"$f":"IF(ISBLANK('Data Input'!A396),\"\",SUM('Data Input'!C396:V396))","v":""},{"$f":"IF(ISBLANK('Data Input'!A396),\"\",SUM('Data Input'!X396:AQ396))","v":""},{"$f":"IF(ISBLANK('Data Input'!A396),\"\",SUM('Data Input'!C396:AQ396))","v":""},{"$f":"IF(G392=\"\",\"\",G392/(COUNTA('Data Input'!$C$8:$AQ$8)-1))","v":""},{"$f":"IF(ISBLANK('Data Input'!A396),\"\",SUM('Data Input'!C396,'Data Input'!K396,'Data Input'!L396,'Data Input'!AC396,'Data Input'!AF396,'Data Input'!AM396,'Data Input'!AO396))","v":""},{"$f":"IF(I392=\"\",\"\",I392/COUNTIF('Data Input'!$C$8:$AQ$8,$I$2))","v":""},{"$f":"IF(ISBLANK('Data Input'!A396),\"\",SUM('Data Input'!D396,'Data Input'!E396,'Data Input'!F396,'Data Input'!G396,'Data Input'!J396,'Data Input'!O396,'Data Input'!P396,'Data Input'!S396,'Data Input'!U396,'Data Input'!X396,'Data Input'!Z396,'Data Input'!AA396,'Data Input'!AB396,'Data Input'!AE396,'Data Input'!AG396,'Data Input'!AH396,'Data Input'!AJ396,'Data Input'!AK396,'Data Input'!AL396,'Data Input'!AN396))","v":""},{"$f":"IF(K392=\"\",\"\",K392/COUNTIF('Data Input'!$C$8:$AQ$8,$K$2))","v":""},{"$f":"IF(ISBLANK('Data Input'!A396),\"\",SUM('Data Input'!V396))","v":""},{"$f":"IF(M392=\"\",\"\",M392/COUNTIF('Data Input'!$C$8:$AQ$8,$M$2))","v":""},{"$f":"IF(ISBLANK('Data Input'!A396),\"\",SUM('Data Input'!H396,'Data Input'!I396,'Data Input'!M396,'Data Input'!N396,'Data Input'!Q396,'Data Input'!R396,'Data Input'!T396,'Data Input'!Y396,'Data Input'!AD396,'Data Input'!AI396,'Data Input'!AP396,'Data Input'!AQ396))","v":""},{"$f":"IF(O392=\"\",\"\",O392/COUNTIF('Data Input'!$C$8:$AQ$8,$O$2))","v":""}]
[{"$f":"IF('Data Input'!A397=0,\"\",'Data Input'!A397)","v":""},{"$f":"IF(ISBLANK('Data Input'!A397),\"\",COUNTIF('Data Input'!C397:AQ397,\"\")-1)","v":""},{"$f":"IF(ISBLANK('Data Input'!A397),\"\",COUNTIF('Data Input'!C397:AQ397,\"0\"))","v":""},{"$f":"IF(ISBLANK('Data Input'!A397),\"\",SUM(B393,C393))","v":""},{"$f":"IF(ISBLANK('Data Input'!A397),\"\",SUM('Data Input'!C397:V397))","v":""},{"$f":"IF(ISBLANK('Data Input'!A397),\"\",SUM('Data Input'!X397:AQ397))","v":""},{"$f":"IF(ISBLANK('Data Input'!A397),\"\",SUM('Data Input'!C397:AQ397))","v":""},{"$f":"IF(G393=\"\",\"\",G393/(COUNTA('Data Input'!$C$8:$AQ$8)-1))","v":""},{"$f":"IF(ISBLANK('Data Input'!A397),\"\",SUM('Data Input'!C397,'Data Input'!K397,'Data Input'!L397,'Data Input'!AC397,'Data Input'!AF397,'Data Input'!AM397,'Data Input'!AO397))","v":""},{"$f":"IF(I393=\"\",\"\",I393/COUNTIF('Data Input'!$C$8:$AQ$8,$I$2))","v":""},{"$f":"IF(ISBLANK('Data Input'!A397),\"\",SUM('Data Input'!D397,'Data Input'!E397,'Data Input'!F397,'Data Input'!G397,'Data Input'!J397,'Data Input'!O397,'Data Input'!P397,'Data Input'!S397,'Data Input'!U397,'Data Input'!X397,'Data Input'!Z397,'Data Input'!AA397,'Data Input'!AB397,'Data Input'!AE397,'Data Input'!AG397,'Data Input'!AH397,'Data Input'!AJ397,'Data Input'!AK397,'Data Input'!AL397,'Data Input'!AN397))","v":""},{"$f":"IF(K393=\"\",\"\",K393/COUNTIF('Data Input'!$C$8:$AQ$8,$K$2))","v":""},{"$f":"IF(ISBLANK('Data Input'!A397),\"\",SUM('Data Input'!V397))","v":""},{"$f":"IF(M393=\"\",\"\",M393/COUNTIF('Data Input'!$C$8:$AQ$8,$M$2))","v":""},{"$f":"IF(ISBLANK('Data Input'!A397),\"\",SUM('Data Input'!H397,'Data Input'!I397,'Data Input'!M397,'Data Input'!N397,'Data Input'!Q397,'Data Input'!R397,'Data Input'!T397,'Data Input'!Y397,'Data Input'!AD397,'Data Input'!AI397,'Data Input'!AP397,'Data Input'!AQ397))","v":""},{"$f":"IF(O393=\"\",\"\",O393/COUNTIF('Data Input'!$C$8:$AQ$8,$O$2))","v":""}]
[{"$f":"IF('Data Input'!A398=0,\"\",'Data Input'!A398)","v":""},{"$f":"IF(ISBLANK('Data Input'!A398),\"\",COUNTIF('Data Input'!C398:AQ398,\"\")-1)","v":""},{"$f":"IF(ISBLANK('Data Input'!A398),\"\",COUNTIF('Data Input'!C398:AQ398,\"0\"))","v":""},{"$f":"IF(ISBLANK('Data Input'!A398),\"\",SUM(B394,C394))","v":""},{"$f":"IF(ISBLANK('Data Input'!A398),\"\",SUM('Data Input'!C398:V398))","v":""},{"$f":"IF(ISBLANK('Data Input'!A398),\"\",SUM('Data Input'!X398:AQ398))","v":""},{"$f":"IF(ISBLANK('Data Input'!A398),\"\",SUM('Data Input'!C398:AQ398))","v":""},{"$f":"IF(G394=\"\",\"\",G394/(COUNTA('Data Input'!$C$8:$AQ$8)-1))","v":""},{"$f":"IF(ISBLANK('Data Input'!A398),\"\",SUM('Data Input'!C398,'Data Input'!K398,'Data Input'!L398,'Data Input'!AC398,'Data Input'!AF398,'Data Input'!AM398,'Data Input'!AO398))","v":""},{"$f":"IF(I394=\"\",\"\",I394/COUNTIF('Data Input'!$C$8:$AQ$8,$I$2))","v":""},{"$f":"IF(ISBLANK('Data Input'!A398),\"\",SUM('Data Input'!D398,'Data Input'!E398,'Data Input'!F398,'Data Input'!G398,'Data Input'!J398,'Data Input'!O398,'Data Input'!P398,'Data Input'!S398,'Data Input'!U398,'Data Input'!X398,'Data Input'!Z398,'Data Input'!AA398,'Data Input'!AB398,'Data Input'!AE398,'Data Input'!AG398,'Data Input'!AH398,'Data Input'!AJ398,'Data Input'!AK398,'Data Input'!AL398,'Data Input'!AN398))","v":""},{"$f":"IF(K394=\"\",\"\",K394/COUNTIF('Data Input'!$C$8:$AQ$8,$K$2))","v":""},{"$f":"IF(ISBLANK('Data Input'!A398),\"\",SUM('Data Input'!V398))","v":""},{"$f":"IF(M394=\"\",\"\",M394/COUNTIF('Data Input'!$C$8:$AQ$8,$M$2))","v":""},{"$f":"IF(ISBLANK('Data Input'!A398),\"\",SUM('Data Input'!H398,'Data Input'!I398,'Data Input'!M398,'Data Input'!N398,'Data Input'!Q398,'Data Input'!R398,'Data Input'!T398,'Data Input'!Y398,'Data Input'!AD398,'Data Input'!AI398,'Data Input'!AP398,'Data Input'!AQ398))","v":""},{"$f":"IF(O394=\"\",\"\",O394/COUNTIF('Data Input'!$C$8:$AQ$8,$O$2))","v":""}]
[{"$f":"IF('Data Input'!A399=0,\"\",'Data Input'!A399)","v":""},{"$f":"IF(ISBLANK('Data Input'!A399),\"\",COUNTIF('Data Input'!C399:AQ399,\"\")-1)","v":""},{"$f":"IF(ISBLANK('Data Input'!A399),\"\",COUNTIF('Data Input'!C399:AQ399,\"0\"))","v":""},{"$f":"IF(ISBLANK('Data Input'!A399),\"\",SUM(B395,C395))","v":""},{"$f":"IF(ISBLANK('Data Input'!A399),\"\",SUM('Data Input'!C399:V399))","v":""},{"$f":"IF(ISBLANK('Data Input'!A399),\"\",SUM('Data Input'!X399:AQ399))","v":""},{"$f":"IF(ISBLANK('Data Input'!A399),\"\",SUM('Data Input'!C399:AQ399))","v":""},{"$f":"IF(G395=\"\",\"\",G395/(COUNTA('Data Input'!$C$8:$AQ$8)-1))","v":""},{"$f":"IF(ISBLANK('Data Input'!A399),\"\",SUM('Data Input'!C399,'Data Input'!K399,'Data Input'!L399,'Data Input'!AC399,'Data Input'!AF399,'Data Input'!AM399,'Data Input'!AO399))","v":""},{"$f":"IF(I395=\"\",\"\",I395/COUNTIF('Data Input'!$C$8:$AQ$8,$I$2))","v":""},{"$f":"IF(ISBLANK('Data Input'!A399),\"\",SUM('Data Input'!D399,'Data Input'!E399,'Data Input'!F399,'Data Input'!G399,'Data Input'!J399,'Data Input'!O399,'Data Input'!P399,'Data Input'!S399,'Data Input'!U399,'Data Input'!X399,'Data Input'!Z399,'Data Input'!AA399,'Data Input'!AB399,'Data Input'!AE399,'Data Input'!AG399,'Data Input'!AH399,'Data Input'!AJ399,'Data Input'!AK399,'Data Input'!AL399,'Data Input'!AN399))","v":""},{"$f":"IF(K395=\"\",\"\",K395/COUNTIF('Data Input'!$C$8:$AQ$8,$K$2))","v":""},{"$f":"IF(ISBLANK('Data Input'!A399),\"\",SUM('Data Input'!V399))","v":""},{"$f":"IF(M395=\"\",\"\",M395/COUNTIF('Data Input'!$C$8:$AQ$8,$M$2))","v":""},{"$f":"IF(ISBLANK('Data Input'!A399),\"\",SUM('Data Input'!H399,'Data Input'!I399,'Data Input'!M399,'Data Input'!N399,'Data Input'!Q399,'Data Input'!R399,'Data Input'!T399,'Data Input'!Y399,'Data Input'!AD399,'Data Input'!AI399,'Data Input'!AP399,'Data Input'!AQ399))","v":""},{"$f":"IF(O395=\"\",\"\",O395/COUNTIF('Data Input'!$C$8:$AQ$8,$O$2))","v":""}]
[{"$f":"IF('Data Input'!A400=0,\"\",'Data Input'!A400)","v":""},{"$f":"IF(ISBLANK('Data Input'!A400),\"\",COUNTIF('Data Input'!C400:AQ400,\"\")-1)","v":""},{"$f":"IF(ISBLANK('Data Input'!A400),\"\",COUNTIF('Data Input'!C400:AQ400,\"0\"))","v":""},{"$f":"IF(ISBLANK('Data Input'!A400),\"\",SUM(B396,C396))","v":""},{"$f":"IF(ISBLANK('Data Input'!A400),\"\",SUM('Data Input'!C400:V400))","v":""},{"$f":"IF(ISBLANK('Data Input'!A400),\"\",SUM('Data Input'!X400:AQ400))","v":""},{"$f":"IF(ISBLANK('Data Input'!A400),\"\",SUM('Data Input'!C400:AQ400))","v":""},{"$f":"IF(G396=\"\",\"\",G396/(COUNTA('Data Input'!$C$8:$AQ$8)-1))","v":""},{"$f":"IF(ISBLANK('Data Input'!A400),\"\",SUM('Data Input'!C400,'Data Input'!K400,'Data Input'!L400,'Data Input'!AC400,'Data Input'!AF400,'Data Input'!AM400,'Data Input'!AO400))","v":""},{"$f":"IF(I396=\"\",\"\",I396/COUNTIF('Data Input'!$C$8:$AQ$8,$I$2))","v":""},{"$f":"IF(ISBLANK('Data Input'!A400),\"\",SUM('Data Input'!D400,'Data Input'!E400,'Data Input'!F400,'Data Input'!G400,'Data Input'!J400,'Data Input'!O400,'Data Input'!P400,'Data Input'!S400,'Data Input'!U400,'Data Input'!X400,'Data Input'!Z400,'Data Input'!AA400,'Data Input'!AB400,'Data Input'!AE400,'Data Input'!AG400,'Data Input'!AH400,'Data Input'!AJ400,'Data Input'!AK400,'Data Input'!AL400,'Data Input'!AN400))","v":""},{"$f":"IF(K396=\"\",\"\",K396/COUNTIF('Data Input'!$C$8:$AQ$8,$K$2))","v":""},{"$f":"IF(ISBLANK('Data Input'!A400),\"\",SUM('Data Input'!V400))","v":""},{"$f":"IF(M396=\"\",\"\",M396/COUNTIF('Data Input'!$C$8:$AQ$8,$M$2))","v":""},{"$f":"IF(ISBLANK('Data Input'!A400),\"\",SUM('Data Input'!H400,'Data Input'!I400,'Data Input'!M400,'Data Input'!N400,'Data Input'!Q400,'Data Input'!R400,'Data Input'!T400,'Data Input'!Y400,'Data Input'!AD400,'Data Input'!AI400,'Data Input'!AP400,'Data Input'!AQ400))","v":""},{"$f":"IF(O396=\"\",\"\",O396/COUNTIF('Data Input'!$C$8:$AQ$8,$O$2))","v":""}]
[{"$f":"IF('Data Input'!A401=0,\"\",'Data Input'!A401)","v":""},{"$f":"IF(ISBLANK('Data Input'!A401),\"\",COUNTIF('Data Input'!C401:AQ401,\"\")-1)","v":""},{"$f":"IF(ISBLANK('Data Input'!A401),\"\",COUNTIF('Data Input'!C401:AQ401,\"0\"))","v":""},{"$f":"IF(ISBLANK('Data Input'!A401),\"\",SUM(B397,C397))","v":""},{"$f":"IF(ISBLANK('Data Input'!A401),\"\",SUM('Data Input'!C401:V401))","v":""},{"$f":"IF(ISBLANK('Data Input'!A401),\"\",SUM('Data Input'!X401:AQ401))","v":""},{"$f":"IF(ISBLANK('Data Input'!A401),\"\",SUM('Data Input'!C401:AQ401))","v":""},{"$f":"IF(G397=\"\",\"\",G397/(COUNTA('Data Input'!$C$8:$AQ$8)-1))","v":""},{"$f":"IF(ISBLANK('Data Input'!A401),\"\",SUM('Data Input'!C401,'Data Input'!K401,'Data Input'!L401,'Data Input'!AC401,'Data Input'!AF401,'Data Input'!AM401,'Data Input'!AO401))","v":""},{"$f":"IF(I397=\"\",\"\",I397/COUNTIF('Data Input'!$C$8:$AQ$8,$I$2))","v":""},{"$f":"IF(ISBLANK('Data Input'!A401),\"\",SUM('Data Input'!D401,'Data Input'!E401,'Data Input'!F401,'Data Input'!G401,'Data Input'!J401,'Data Input'!O401,'Data Input'!P401,'Data Input'!S401,'Data Input'!U401,'Data Input'!X401,'Data Input'!Z401,'Data Input'!AA401,'Data Input'!AB401,'Data Input'!AE401,'Data Input'!AG401,'Data Input'!AH401,'Data Input'!AJ401,'Data Input'!AK401,'Data Input'!AL401,'Data Input'!AN401))","v":""},{"$f":"IF(K397=\"\",\"\",K397/COUNTIF('Data Input'!$C$8:$AQ$8,$K$2))","v":""},{"$f":"IF(ISBLANK('Data Input'!A401),\"\",SUM('Data Input'!V401))","v":""},{"$f":"IF(M397=\"\",\"\",M397/COUNTIF('Data Input'!$C$8:$AQ$8,$M$2))","v":""},{"$f":"IF(ISBLANK('Data Input'!A401),\"\",SUM('Data Input'!H401,'Data Input'!I401,'Data Input'!M401,'Data Input'!N401,'Data Input'!Q401,'Data Input'!R401,'Data Input'!T401,'Data Input'!Y401,'Data Input'!AD401,'Data Input'!AI401,'Data Input'!AP401,'Data Input'!AQ401))","v":""},{"$f":"IF(O397=\"\",\"\",O397/COUNTIF('Data Input'!$C$8:$AQ$8,$O$2))","v":""}]
[{"$f":"IF('Data Input'!A402=0,\"\",'Data Input'!A402)","v":""},{"$f":"IF(ISBLANK('Data Input'!A402),\"\",COUNTIF('Data Input'!C402:AQ402,\"\")-1)","v":""},{"$f":"IF(ISBLANK('Data Input'!A402),\"\",COUNTIF('Data Input'!C402:AQ402,\"0\"))","v":""},{"$f":"IF(ISBLANK('Data Input'!A402),\"\",SUM(B398,C398))","v":""},{"$f":"IF(ISBLANK('Data Input'!A402),\"\",SUM('Data Input'!C402:V402))","v":""},{"$f":"IF(ISBLANK('Data Input'!A402),\"\",SUM('Data Input'!X402:AQ402))","v":""},{"$f":"IF(ISBLANK('Data Input'!A402),\"\",SUM('Data Input'!C402:AQ402))","v":""},{"$f":"IF(G398=\"\",\"\",G398/(COUNTA('Data Input'!$C$8:$AQ$8)-1))","v":""},{"$f":"IF(ISBLANK('Data Input'!A402),\"\",SUM('Data Input'!C402,'Data Input'!K402,'Data Input'!L402,'Data Input'!AC402,'Data Input'!AF402,'Data Input'!AM402,'Data Input'!AO402))","v":""},{"$f":"IF(I398=\"\",\"\",I398/COUNTIF('Data Input'!$C$8:$AQ$8,$I$2))","v":""},{"$f":"IF(ISBLANK('Data Input'!A402),\"\",SUM('Data Input'!D402,'Data Input'!E402,'Data Input'!F402,'Data Input'!G402,'Data Input'!J402,'Data Input'!O402,'Data Input'!P402,'Data Input'!S402,'Data Input'!U402,'Data Input'!X402,'Data Input'!Z402,'Data Input'!AA402,'Data Input'!AB402,'Data Input'!AE402,'Data Input'!AG402,'Data Input'!AH402,'Data Input'!AJ402,'Data Input'!AK402,'Data Input'!AL402,'Data Input'!AN402))","v":""},{"$f":"IF(K398=\"\",\"\",K398/COUNTIF('Data Input'!$C$8:$AQ$8,$K$2))","v":""},{"$f":"IF(ISBLANK('Data Input'!A402),\"\",SUM('Data Input'!V402))","v":""},{"$f":"IF(M398=\"\",\"\",M398/COUNTIF('Data Input'!$C$8:$AQ$8,$M$2))","v":""},{"$f":"IF(ISBLANK('Data Input'!A402),\"\",SUM('Data Input'!H402,'Data Input'!I402,'Data Input'!M402,'Data Input'!N402,'Data Input'!Q402,'Data Input'!R402,'Data Input'!T402,'Data Input'!Y402,'Data Input'!AD402,'Data Input'!AI402,'Data Input'!AP402,'Data Input'!AQ402))","v":""},{"$f":"IF(O398=\"\",\"\",O398/COUNTIF('Data Input'!$C$8:$AQ$8,$O$2))","v":""}]
[{"$f":"IF('Data Input'!A403=0,\"\",'Data Input'!A403)","v":""},{"$f":"IF(ISBLANK('Data Input'!A403),\"\",COUNTIF('Data Input'!C403:AQ403,\"\")-1)","v":""},{"$f":"IF(ISBLANK('Data Input'!A403),\"\",COUNTIF('Data Input'!C403:AQ403,\"0\"))","v":""},{"$f":"IF(ISBLANK('Data Input'!A403),\"\",SUM(B399,C399))","v":""},{"$f":"IF(ISBLANK('Data Input'!A403),\"\",SUM('Data Input'!C403:V403))","v":""},{"$f":"IF(ISBLANK('Data Input'!A403),\"\",SUM('Data Input'!X403:AQ403))","v":""},{"$f":"IF(ISBLANK('Data Input'!A403),\"\",SUM('Data Input'!C403:AQ403))","v":""},{"$f":"IF(G399=\"\",\"\",G399/(COUNTA('Data Input'!$C$8:$AQ$8)-1))","v":""},{"$f":"IF(ISBLANK('Data Input'!A403),\"\",SUM('Data Input'!C403,'Data Input'!K403,'Data Input'!L403,'Data Input'!AC403,'Data Input'!AF403,'Data Input'!AM403,'Data Input'!AO403))","v":""},{"$f":"IF(I399=\"\",\"\",I399/COUNTIF('Data Input'!$C$8:$AQ$8,$I$2))","v":""},{"$f":"IF(ISBLANK('Data Input'!A403),\"\",SUM('Data Input'!D403,'Data Input'!E403,'Data Input'!F403,'Data Input'!G403,'Data Input'!J403,'Data Input'!O403,'Data Input'!P403,'Data Input'!S403,'Data Input'!U403,'Data Input'!X403,'Data Input'!Z403,'Data Input'!AA403,'Data Input'!AB403,'Data Input'!AE403,'Data Input'!AG403,'Data Input'!AH403,'Data Input'!AJ403,'Data Input'!AK403,'Data Input'!AL403,'Data Input'!AN403))","v":""},{"$f":"IF(K399=\"\",\"\",K399/COUNTIF('Data Input'!$C$8:$AQ$8,$K$2))","v":""},{"$f":"IF(ISBLANK('Data Input'!A403),\"\",SUM('Data Input'!V403))","v":""},{"$f":"IF(M399=\"\",\"\",M399/COUNTIF('Data Input'!$C$8:$AQ$8,$M$2))","v":""},{"$f":"IF(ISBLANK('Data Input'!A403),\"\",SUM('Data Input'!H403,'Data Input'!I403,'Data Input'!M403,'Data Input'!N403,'Data Input'!Q403,'Data Input'!R403,'Data Input'!T403,'Data Input'!Y403,'Data Input'!AD403,'Data Input'!AI403,'Data Input'!AP403,'Data Input'!AQ403))","v":""},{"$f":"IF(O399=\"\",\"\",O399/COUNTIF('Data Input'!$C$8:$AQ$8,$O$2))","v":""}]
[{"$f":"IF('Data Input'!A404=0,\"\",'Data Input'!A404)","v":""},{"$f":"IF(ISBLANK('Data Input'!A404),\"\",COUNTIF('Data Input'!C404:AQ404,\"\")-1)","v":""},{"$f":"IF(ISBLANK('Data Input'!A404),\"\",COUNTIF('Data Input'!C404:AQ404,\"0\"))","v":""},{"$f":"IF(ISBLANK('Data Input'!A404),\"\",SUM(B400,C400))","v":""},{"$f":"IF(ISBLANK('Data Input'!A404),\"\",SUM('Data Input'!C404:V404))","v":""},{"$f":"IF(ISBLANK('Data Input'!A404),\"\",SUM('Data Input'!X404:AQ404))","v":""},{"$f":"IF(ISBLANK('Data Input'!A404),\"\",SUM('Data Input'!C404:AQ404))","v":""},{"$f":"IF(G400=\"\",\"\",G400/(COUNTA('Data Input'!$C$8:$AQ$8)-1))","v":""},{"$f":"IF(ISBLANK('Data Input'!A404),\"\",SUM('Data Input'!C404,'Data Input'!K404,'Data Input'!L404,'Data Input'!AC404,'Data Input'!AF404,'Data Input'!AM404,'Data Input'!AO404))","v":""},{"$f":"IF(I400=\"\",\"\",I400/COUNTIF('Data Input'!$C$8:$AQ$8,$I$2))","v":""},{"$f":"IF(ISBLANK('Data Input'!A404),\"\",SUM('Data Input'!D404,'Data Input'!E404,'Data Input'!F404,'Data Input'!G404,'Data Input'!J404,'Data Input'!O404,'Data Input'!P404,'Data Input'!S404,'Data Input'!U404,'Data Input'!X404,'Data Input'!Z404,'Data Input'!AA404,'Data Input'!AB404,'Data Input'!AE404,'Data Input'!AG404,'Data Input'!AH404,'Data Input'!AJ404,'Data Input'!AK404,'Data Input'!AL404,'Data Input'!AN404))","v":""},{"$f":"IF(K400=\"\",\"\",K400/COUNTIF('Data Input'!$C$8:$AQ$8,$K$2))","v":""},{"$f":"IF(ISBLANK('Data Input'!A404),\"\",SUM('Data Input'!V404))","v":""},{"$f":"IF(M400=\"\",\"\",M400/COUNTIF('Data Input'!$C$8:$AQ$8,$M$2))","v":""},{"$f":"IF(ISBLANK('Data Input'!A404),\"\",SUM('Data Input'!H404,'Data Input'!I404,'Data Input'!M404,'Data Input'!N404,'Data Input'!Q404,'Data Input'!R404,'Data Input'!T404,'Data Input'!Y404,'Data Input'!AD404,'Data Input'!AI404,'Data Input'!AP404,'Data Input'!AQ404))","v":""},{"$f":"IF(O400=\"\",\"\",O400/COUNTIF('Data Input'!$C$8:$AQ$8,$O$2))","v":""}]
[{"$f":"IF('Data Input'!A405=0,\"\",'Data Input'!A405)","v":""},{"$f":"IF(ISBLANK('Data Input'!A405),\"\",COUNTIF('Data Input'!C405:AQ405,\"\")-1)","v":""},{"$f":"IF(ISBLANK('Data Input'!A405),\"\",COUNTIF('Data Input'!C405:AQ405,\"0\"))","v":""},{"$f":"IF(ISBLANK('Data Input'!A405),\"\",SUM(B401,C401))","v":""},{"$f":"IF(ISBLANK('Data Input'!A405),\"\",SUM('Data Input'!C405:V405))","v":""},{"$f":"IF(ISBLANK('Data Input'!A405),\"\",SUM('Data Input'!X405:AQ405))","v":""},{"$f":"IF(ISBLANK('Data Input'!A405),\"\",SUM('Data Input'!C405:AQ405))","v":""},{"$f":"IF(G401=\"\",\"\",G401/(COUNTA('Data Input'!$C$8:$AQ$8)-1))","v":""},{"$f":"IF(ISBLANK('Data Input'!A405),\"\",SUM('Data Input'!C405,'Data Input'!K405,'Data Input'!L405,'Data Input'!AC405,'Data Input'!AF405,'Data Input'!AM405,'Data Input'!AO405))","v":""},{"$f":"IF(I401=\"\",\"\",I401/COUNTIF('Data Input'!$C$8:$AQ$8,$I$2))","v":""},{"$f":"IF(ISBLANK('Data Input'!A405),\"\",SUM('Data Input'!D405,'Data Input'!E405,'Data Input'!F405,'Data Input'!G405,'Data Input'!J405,'Data Input'!O405,'Data Input'!P405,'Data Input'!S405,'Data Input'!U405,'Data Input'!X405,'Data Input'!Z405,'Data Input'!AA405,'Data Input'!AB405,'Data Input'!AE405,'Data Input'!AG405,'Data Input'!AH405,'Data Input'!AJ405,'Data Input'!AK405,'Data Input'!AL405,'Data Input'!AN405))","v":""},{"$f":"IF(K401=\"\",\"\",K401/COUNTIF('Data Input'!$C$8:$AQ$8,$K$2))","v":""},{"$f":"IF(ISBLANK('Data Input'!A405),\"\",SUM('Data Input'!V405))","v":""},{"$f":"IF(M401=\"\",\"\",M401/COUNTIF('Data Input'!$C$8:$AQ$8,$M$2))","v":""},{"$f":"IF(ISBLANK('Data Input'!A405),\"\",SUM('Data Input'!H405,'Data Input'!I405,'Data Input'!M405,'Data Input'!N405,'Data Input'!Q405,'Data Input'!R405,'Data Input'!T405,'Data Input'!Y405,'Data Input'!AD405,'Data Input'!AI405,'Data Input'!AP405,'Data Input'!AQ405))","v":""},{"$f":"IF(O401=\"\",\"\",O401/COUNTIF('Data Input'!$C$8:$AQ$8,$O$2))","v":""}]
[{"$f":"IF('Data Input'!A406=0,\"\",'Data Input'!A406)","v":""},{"$f":"IF(ISBLANK('Data Input'!A406),\"\",COUNTIF('Data Input'!C406:AQ406,\"\")-1)","v":""},{"$f":"IF(ISBLANK('Data Input'!A406),\"\",COUNTIF('Data Input'!C406:AQ406,\"0\"))","v":""},{"$f":"IF(ISBLANK('Data Input'!A406),\"\",SUM(B402,C402))","v":""},{"$f":"IF(ISBLANK('Data Input'!A406),\"\",SUM('Data Input'!C406:V406))","v":""},{"$f":"IF(ISBLANK('Data Input'!A406),\"\",SUM('Data Input'!X406:AQ406))","v":""},{"$f":"IF(ISBLANK('Data Input'!A406),\"\",SUM('Data Input'!C406:AQ406))","v":""},{"$f":"IF(G402=\"\",\"\",G402/(COUNTA('Data Input'!$C$8:$AQ$8)-1))","v":""},{"$f":"IF(ISBLANK('Data Input'!A406),\"\",SUM('Data Input'!C406,'Data Input'!K406,'Data Input'!L406,'Data Input'!AC406,'Data Input'!AF406,'Data Input'!AM406,'Data Input'!AO406))","v":""},{"$f":"IF(I402=\"\",\"\",I402/COUNTIF('Data Input'!$C$8:$AQ$8,$I$2))","v":""},{"$f":"IF(ISBLANK('Data Input'!A406),\"\",SUM('Data Input'!D406,'Data Input'!E406,'Data Input'!F406,'Data Input'!G406,'Data Input'!J406,'Data Input'!O406,'Data Input'!P406,'Data Input'!S406,'Data Input'!U406,'Data Input'!X406,'Data Input'!Z406,'Data Input'!AA406,'Data Input'!AB406,'Data Input'!AE406,'Data Input'!AG406,'Data Input'!AH406,'Data Input'!AJ406,'Data Input'!AK406,'Data Input'!AL406,'Data Input'!AN406))","v":""},{"$f":"IF(K402=\"\",\"\",K402/COUNTIF('Data Input'!$C$8:$AQ$8,$K$2))","v":""},{"$f":"IF(ISBLANK('Data Input'!A406),\"\",SUM('Data Input'!V406))","v":""},{"$f":"IF(M402=\"\",\"\",M402/COUNTIF('Data Input'!$C$8:$AQ$8,$M$2))","v":""},{"$f":"IF(ISBLANK('Data Input'!A406),\"\",SUM('Data Input'!H406,'Data Input'!I406,'Data Input'!M406,'Data Input'!N406,'Data Input'!Q406,'Data Input'!R406,'Data Input'!T406,'Data Input'!Y406,'Data Input'!AD406,'Data Input'!AI406,'Data Input'!AP406,'Data Input'!AQ406))","v":""},{"$f":"IF(O402=\"\",\"\",O402/COUNTIF('Data Input'!$C$8:$AQ$8,$O$2))","v":""}]
[{"$f":"IF('Data Input'!A407=0,\"\",'Data Input'!A407)","v":""},{"$f":"IF(ISBLANK('Data Input'!A407),\"\",COUNTIF('Data Input'!C407:AQ407,\"\")-1)","v":""},{"$f":"IF(ISBLANK('Data Input'!A407),\"\",COUNTIF('Data Input'!C407:AQ407,\"0\"))","v":""},{"$f":"IF(ISBLANK('Data Input'!A407),\"\",SUM(B403,C403))","v":""},{"$f":"IF(ISBLANK('Data Input'!A407),\"\",SUM('Data Input'!C407:V407))","v":""},{"$f":"IF(ISBLANK('Data Input'!A407),\"\",SUM('Data Input'!X407:AQ407))","v":""},{"$f":"IF(ISBLANK('Data Input'!A407),\"\",SUM('Data Input'!C407:AQ407))","v":""},{"$f":"IF(G403=\"\",\"\",G403/(COUNTA('Data Input'!$C$8:$AQ$8)-1))","v":""},{"$f":"IF(ISBLANK('Data Input'!A407),\"\",SUM('Data Input'!C407,'Data Input'!K407,'Data Input'!L407,'Data Input'!AC407,'Data Input'!AF407,'Data Input'!AM407,'Data Input'!AO407))","v":""},{"$f":"IF(I403=\"\",\"\",I403/COUNTIF('Data Input'!$C$8:$AQ$8,$I$2))","v":""},{"$f":"IF(ISBLANK('Data Input'!A407),\"\",SUM('Data Input'!D407,'Data Input'!E407,'Data Input'!F407,'Data Input'!G407,'Data Input'!J407,'Data Input'!O407,'Data Input'!P407,'Data Input'!S407,'Data Input'!U407,'Data Input'!X407,'Data Input'!Z407,'Data Input'!AA407,'Data Input'!AB407,'Data Input'!AE407,'Data Input'!AG407,'Data Input'!AH407,'Data Input'!AJ407,'Data Input'!AK407,'Data Input'!AL407,'Data Input'!AN407))","v":""},{"$f":"IF(K403=\"\",\"\",K403/COUNTIF('Data Input'!$C$8:$AQ$8,$K$2))","v":""},{"$f":"IF(ISBLANK('Data Input'!A407),\"\",SUM('Data Input'!V407))","v":""},{"$f":"IF(M403=\"\",\"\",M403/COUNTIF('Data Input'!$C$8:$AQ$8,$M$2))","v":""},{"$f":"IF(ISBLANK('Data Input'!A407),\"\",SUM('Data Input'!H407,'Data Input'!I407,'Data Input'!M407,'Data Input'!N407,'Data Input'!Q407,'Data Input'!R407,'Data Input'!T407,'Data Input'!Y407,'Data Input'!AD407,'Data Input'!AI407,'Data Input'!AP407,'Data Input'!AQ407))","v":""},{"$f":"IF(O403=\"\",\"\",O403/COUNTIF('Data Input'!$C$8:$AQ$8,$O$2))","v":""}]
[{"$f":"IF('Data Input'!A408=0,\"\",'Data Input'!A408)","v":""},{"$f":"IF(ISBLANK('Data Input'!A408),\"\",COUNTIF('Data Input'!C408:AQ408,\"\")-1)","v":""},{"$f":"IF(ISBLANK('Data Input'!A408),\"\",COUNTIF('Data Input'!C408:AQ408,\"0\"))","v":""},{"$f":"IF(ISBLANK('Data Input'!A408),\"\",SUM(B404,C404))","v":""},{"$f":"IF(ISBLANK('Data Input'!A408),\"\",SUM('Data Input'!C408:V408))","v":""},{"$f":"IF(ISBLANK('Data Input'!A408),\"\",SUM('Data Input'!X408:AQ408))","v":""},{"$f":"IF(ISBLANK('Data Input'!A408),\"\",SUM('Data Input'!C408:AQ408))","v":""},{"$f":"IF(G404=\"\",\"\",G404/(COUNTA('Data Input'!$C$8:$AQ$8)-1))","v":""},{"$f":"IF(ISBLANK('Data Input'!A408),\"\",SUM('Data Input'!C408,'Data Input'!K408,'Data Input'!L408,'Data Input'!AC408,'Data Input'!AF408,'Data Input'!AM408,'Data Input'!AO408))","v":""},{"$f":"IF(I404=\"\",\"\",I404/COUNTIF('Data Input'!$C$8:$AQ$8,$I$2))","v":""},{"$f":"IF(ISBLANK('Data Input'!A408),\"\",SUM('Data Input'!D408,'Data Input'!E408,'Data Input'!F408,'Data Input'!G408,'Data Input'!J408,'Data Input'!O408,'Data Input'!P408,'Data Input'!S408,'Data Input'!U408,'Data Input'!X408,'Data Input'!Z408,'Data Input'!AA408,'Data Input'!AB408,'Data Input'!AE408,'Data Input'!AG408,'Data Input'!AH408,'Data Input'!AJ408,'Data Input'!AK408,'Data Input'!AL408,'Data Input'!AN408))","v":""},{"$f":"IF(K404=\"\",\"\",K404/COUNTIF('Data Input'!$C$8:$AQ$8,$K$2))","v":""},{"$f":"IF(ISBLANK('Data Input'!A408),\"\",SUM('Data Input'!V408))","v":""},{"$f":"IF(M404=\"\",\"\",M404/COUNTIF('Data Input'!$C$8:$AQ$8,$M$2))","v":""},{"$f":"IF(ISBLANK('Data Input'!A408),\"\",SUM('Data Input'!H408,'Data Input'!I408,'Data Input'!M408,'Data Input'!N408,'Data Input'!Q408,'Data Input'!R408,'Data Input'!T408,'Data Input'!Y408,'Data Input'!AD408,'Data Input'!AI408,'Data Input'!AP408,'Data Input'!AQ408))","v":""},{"$f":"IF(O404=\"\",\"\",O404/COUNTIF('Data Input'!$C$8:$AQ$8,$O$2))","v":""}]
[{"$f":"IF('Data Input'!A409=0,\"\",'Data Input'!A409)","v":""},{"$f":"IF(ISBLANK('Data Input'!A409),\"\",COUNTIF('Data Input'!C409:AQ409,\"\")-1)","v":""},{"$f":"IF(ISBLANK('Data Input'!A409),\"\",COUNTIF('Data Input'!C409:AQ409,\"0\"))","v":""},{"$f":"IF(ISBLANK('Data Input'!A409),\"\",SUM(B405,C405))","v":""},{"$f":"IF(ISBLANK('Data Input'!A409),\"\",SUM('Data Input'!C409:V409))","v":""},{"$f":"IF(ISBLANK('Data Input'!A409),\"\",SUM('Data Input'!X409:AQ409))","v":""},{"$f":"IF(ISBLANK('Data Input'!A409),\"\",SUM('Data Input'!C409:AQ409))","v":""},{"$f":"IF(G405=\"\",\"\",G405/(COUNTA('Data Input'!$C$8:$AQ$8)-1))","v":""},{"$f":"IF(ISBLANK('Data Input'!A409),\"\",SUM('Data Input'!C409,'Data Input'!K409,'Data Input'!L409,'Data Input'!AC409,'Data Input'!AF409,'Data Input'!AM409,'Data Input'!AO409))","v":""},{"$f":"IF(I405=\"\",\"\",I405/COUNTIF('Data Input'!$C$8:$AQ$8,$I$2))","v":""},{"$f":"IF(ISBLANK('Data Input'!A409),\"\",SUM('Data Input'!D409,'Data Input'!E409,'Data Input'!F409,'Data Input'!G409,'Data Input'!J409,'Data Input'!O409,'Data Input'!P409,'Data Input'!S409,'Data Input'!U409,'Data Input'!X409,'Data Input'!Z409,'Data Input'!AA409,'Data Input'!AB409,'Data Input'!AE409,'Data Input'!AG409,'Data Input'!AH409,'Data Input'!AJ409,'Data Input'!AK409,'Data Input'!AL409,'Data Input'!AN409))","v":""},{"$f":"IF(K405=\"\",\"\",K405/COUNTIF('Data Input'!$C$8:$AQ$8,$K$2))","v":""},{"$f":"IF(ISBLANK('Data Input'!A409),\"\",SUM('Data Input'!V409))","v":""},{"$f":"IF(M405=\"\",\"\",M405/COUNTIF('Data Input'!$C$8:$AQ$8,$M$2))","v":""},{"$f":"IF(ISBLANK('Data Input'!A409),\"\",SUM('Data Input'!H409,'Data Input'!I409,'Data Input'!M409,'Data Input'!N409,'Data Input'!Q409,'Data Input'!R409,'Data Input'!T409,'Data Input'!Y409,'Data Input'!AD409,'Data Input'!AI409,'Data Input'!AP409,'Data Input'!AQ409))","v":""},{"$f":"IF(O405=\"\",\"\",O405/COUNTIF('Data Input'!$C$8:$AQ$8,$O$2))","v":""}]
[{"$f":"IF('Data Input'!A410=0,\"\",'Data Input'!A410)","v":""},{"$f":"IF(ISBLANK('Data Input'!A410),\"\",COUNTIF('Data Input'!C410:AQ410,\"\")-1)","v":""},{"$f":"IF(ISBLANK('Data Input'!A410),\"\",COUNTIF('Data Input'!C410:AQ410,\"0\"))","v":""},{"$f":"IF(ISBLANK('Data Input'!A410),\"\",SUM(B406,C406))","v":""},{"$f":"IF(ISBLANK('Data Input'!A410),\"\",SUM('Data Input'!C410:V410))","v":""},{"$f":"IF(ISBLANK('Data Input'!A410),\"\",SUM('Data Input'!X410:AQ410))","v":""},{"$f":"IF(ISBLANK('Data Input'!A410),\"\",SUM('Data Input'!C410:AQ410))","v":""},{"$f":"IF(G406=\"\",\"\",G406/(COUNTA('Data Input'!$C$8:$AQ$8)-1))","v":""},{"$f":"IF(ISBLANK('Data Input'!A410),\"\",SUM('Data Input'!C410,'Data Input'!K410,'Data Input'!L410,'Data Input'!AC410,'Data Input'!AF410,'Data Input'!AM410,'Data Input'!AO410))","v":""},{"$f":"IF(I406=\"\",\"\",I406/COUNTIF('Data Input'!$C$8:$AQ$8,$I$2))","v":""},{"$f":"IF(ISBLANK('Data Input'!A410),\"\",SUM('Data Input'!D410,'Data Input'!E410,'Data Input'!F410,'Data Input'!G410,'Data Input'!J410,'Data Input'!O410,'Data Input'!P410,'Data Input'!S410,'Data Input'!U410,'Data Input'!X410,'Data Input'!Z410,'Data Input'!AA410,'Data Input'!AB410,'Data Input'!AE410,'Data Input'!AG410,'Data Input'!AH410,'Data Input'!AJ410,'Data Input'!AK410,'Data Input'!AL410,'Data Input'!AN410))","v":""},{"$f":"IF(K406=\"\",\"\",K406/COUNTIF('Data Input'!$C$8:$AQ$8,$K$2))","v":""},{"$f":"IF(ISBLANK('Data Input'!A410),\"\",SUM('Data Input'!V410))","v":""},{"$f":"IF(M406=\"\",\"\",M406/COUNTIF('Data Input'!$C$8:$AQ$8,$M$2))","v":""},{"$f":"IF(ISBLANK('Data Input'!A410),\"\",SUM('Data Input'!H410,'Data Input'!I410,'Data Input'!M410,'Data Input'!N410,'Data Input'!Q410,'Data Input'!R410,'Data Input'!T410,'Data Input'!Y410,'Data Input'!AD410,'Data Input'!AI410,'Data Input'!AP410,'Data Input'!AQ410))","v":""},{"$f":"IF(O406=\"\",\"\",O406/COUNTIF('Data Input'!$C$8:$AQ$8,$O$2))","v":""}]
[{"$f":"IF('Data Input'!A411=0,\"\",'Data Input'!A411)","v":""},{"$f":"IF(ISBLANK('Data Input'!A411),\"\",COUNTIF('Data Input'!C411:AQ411,\"\")-1)","v":""},{"$f":"IF(ISBLANK('Data Input'!A411),\"\",COUNTIF('Data Input'!C411:AQ411,\"0\"))","v":""},{"$f":"IF(ISBLANK('Data Input'!A411),\"\",SUM(B407,C407))","v":""},{"$f":"IF(ISBLANK('Data Input'!A411),\"\",SUM('Data Input'!C411:V411))","v":""},{"$f":"IF(ISBLANK('Data Input'!A411),\"\",SUM('Data Input'!X411:AQ411))","v":""},{"$f":"IF(ISBLANK('Data Input'!A411),\"\",SUM('Data Input'!C411:AQ411))","v":""},{"$f":"IF(G407=\"\",\"\",G407/(COUNTA('Data Input'!$C$8:$AQ$8)-1))","v":""},{"$f":"IF(ISBLANK('Data Input'!A411),\"\",SUM('Data Input'!C411,'Data Input'!K411,'Data Input'!L411,'Data Input'!AC411,'Data Input'!AF411,'Data Input'!AM411,'Data Input'!AO411))","v":""},{"$f":"IF(I407=\"\",\"\",I407/COUNTIF('Data Input'!$C$8:$AQ$8,$I$2))","v":""},{"$f":"IF(ISBLANK('Data Input'!A411),\"\",SUM('Data Input'!D411,'Data Input'!E411,'Data Input'!F411,'Data Input'!G411,'Data Input'!J411,'Data Input'!O411,'Data Input'!P411,'Data Input'!S411,'Data Input'!U411,'Data Input'!X411,'Data Input'!Z411,'Data Input'!AA411,'Data Input'!AB411,'Data Input'!AE411,'Data Input'!AG411,'Data Input'!AH411,'Data Input'!AJ411,'Data Input'!AK411,'Data Input'!AL411,'Data Input'!AN411))","v":""},{"$f":"IF(K407=\"\",\"\",K407/COUNTIF('Data Input'!$C$8:$AQ$8,$K$2))","v":""},{"$f":"IF(ISBLANK('Data Input'!A411),\"\",SUM('Data Input'!V411))","v":""},{"$f":"IF(M407=\"\",\"\",M407/COUNTIF('Data Input'!$C$8:$AQ$8,$M$2))","v":""},{"$f":"IF(ISBLANK('Data Input'!A411),\"\",SUM('Data Input'!H411,'Data Input'!I411,'Data Input'!M411,'Data Input'!N411,'Data Input'!Q411,'Data Input'!R411,'Data Input'!T411,'Data Input'!Y411,'Data Input'!AD411,'Data Input'!AI411,'Data Input'!AP411,'Data Input'!AQ411))","v":""},{"$f":"IF(O407=\"\",\"\",O407/COUNTIF('Data Input'!$C$8:$AQ$8,$O$2))","v":""}]
[{"$f":"IF('Data Input'!A412=0,\"\",'Data Input'!A412)","v":""},{"$f":"IF(ISBLANK('Data Input'!A412),\"\",COUNTIF('Data Input'!C412:AQ412,\"\")-1)","v":""},{"$f":"IF(ISBLANK('Data Input'!A412),\"\",COUNTIF('Data Input'!C412:AQ412,\"0\"))","v":""},{"$f":"IF(ISBLANK('Data Input'!A412),\"\",SUM(B408,C408))","v":""},{"$f":"IF(ISBLANK('Data Input'!A412),\"\",SUM('Data Input'!C412:V412))","v":""},{"$f":"IF(ISBLANK('Data Input'!A412),\"\",SUM('Data Input'!X412:AQ412))","v":""},{"$f":"IF(ISBLANK('Data Input'!A412),\"\",SUM('Data Input'!C412:AQ412))","v":""},{"$f":"IF(G408=\"\",\"\",G408/(COUNTA('Data Input'!$C$8:$AQ$8)-1))","v":""},{"$f":"IF(ISBLANK('Data Input'!A412),\"\",SUM('Data Input'!C412,'Data Input'!K412,'Data Input'!L412,'Data Input'!AC412,'Data Input'!AF412,'Data Input'!AM412,'Data Input'!AO412))","v":""},{"$f":"IF(I408=\"\",\"\",I408/COUNTIF('Data Input'!$C$8:$AQ$8,$I$2))","v":""},{"$f":"IF(ISBLANK('Data Input'!A412),\"\",SUM('Data Input'!D412,'Data Input'!E412,'Data Input'!F412,'Data Input'!G412,'Data Input'!J412,'Data Input'!O412,'Data Input'!P412,'Data Input'!S412,'Data Input'!U412,'Data Input'!X412,'Data Input'!Z412,'Data Input'!AA412,'Data Input'!AB412,'Data Input'!AE412,'Data Input'!AG412,'Data Input'!AH412,'Data Input'!AJ412,'Data Input'!AK412,'Data Input'!AL412,'Data Input'!AN412))","v":""},{"$f":"IF(K408=\"\",\"\",K408/COUNTIF('Data Input'!$C$8:$AQ$8,$K$2))","v":""},{"$f":"IF(ISBLANK('Data Input'!A412),\"\",SUM('Data Input'!V412))","v":""},{"$f":"IF(M408=\"\",\"\",M408/COUNTIF('Data Input'!$C$8:$AQ$8,$M$2))","v":""},{"$f":"IF(ISBLANK('Data Input'!A412),\"\",SUM('Data Input'!H412,'Data Input'!I412,'Data Input'!M412,'Data Input'!N412,'Data Input'!Q412,'Data Input'!R412,'Data Input'!T412,'Data Input'!Y412,'Data Input'!AD412,'Data Input'!AI412,'Data Input'!AP412,'Data Input'!AQ412))","v":""},{"$f":"IF(O408=\"\",\"\",O408/COUNTIF('Data Input'!$C$8:$AQ$8,$O$2))","v":""}]
[{"$f":"IF('Data Input'!A413=0,\"\",'Data Input'!A413)","v":""},{"$f":"IF(ISBLANK('Data Input'!A413),\"\",COUNTIF('Data Input'!C413:AQ413,\"\")-1)","v":""},{"$f":"IF(ISBLANK('Data Input'!A413),\"\",COUNTIF('Data Input'!C413:AQ413,\"0\"))","v":""},{"$f":"IF(ISBLANK('Data Input'!A413),\"\",SUM(B409,C409))","v":""},{"$f":"IF(ISBLANK('Data Input'!A413),\"\",SUM('Data Input'!C413:V413))","v":""},{"$f":"IF(ISBLANK('Data Input'!A413),\"\",SUM('Data Input'!X413:AQ413))","v":""},{"$f":"IF(ISBLANK('Data Input'!A413),\"\",SUM('Data Input'!C413:AQ413))","v":""},{"$f":"IF(G409=\"\",\"\",G409/(COUNTA('Data Input'!$C$8:$AQ$8)-1))","v":""},{"$f":"IF(ISBLANK('Data Input'!A413),\"\",SUM('Data Input'!C413,'Data Input'!K413,'Data Input'!L413,'Data Input'!AC413,'Data Input'!AF413,'Data Input'!AM413,'Data Input'!AO413))","v":""},{"$f":"IF(I409=\"\",\"\",I409/COUNTIF('Data Input'!$C$8:$AQ$8,$I$2))","v":""},{"$f":"IF(ISBLANK('Data Input'!A413),\"\",SUM('Data Input'!D413,'Data Input'!E413,'Data Input'!F413,'Data Input'!G413,'Data Input'!J413,'Data Input'!O413,'Data Input'!P413,'Data Input'!S413,'Data Input'!U413,'Data Input'!X413,'Data Input'!Z413,'Data Input'!AA413,'Data Input'!AB413,'Data Input'!AE413,'Data Input'!AG413,'Data Input'!AH413,'Data Input'!AJ413,'Data Input'!AK413,'Data Input'!AL413,'Data Input'!AN413))","v":""},{"$f":"IF(K409=\"\",\"\",K409/COUNTIF('Data Input'!$C$8:$AQ$8,$K$2))","v":""},{"$f":"IF(ISBLANK('Data Input'!A413),\"\",SUM('Data Input'!V413))","v":""},{"$f":"IF(M409=\"\",\"\",M409/COUNTIF('Data Input'!$C$8:$AQ$8,$M$2))","v":""},{"$f":"IF(ISBLANK('Data Input'!A413),\"\",SUM('Data Input'!H413,'Data Input'!I413,'Data Input'!M413,'Data Input'!N413,'Data Input'!Q413,'Data Input'!R413,'Data Input'!T413,'Data Input'!Y413,'Data Input'!AD413,'Data Input'!AI413,'Data Input'!AP413,'Data Input'!AQ413))","v":""},{"$f":"IF(O409=\"\",\"\",O409/COUNTIF('Data Input'!$C$8:$AQ$8,$O$2))","v":""}]
[{"$f":"IF('Data Input'!A414=0,\"\",'Data Input'!A414)","v":""},{"$f":"IF(ISBLANK('Data Input'!A414),\"\",COUNTIF('Data Input'!C414:AQ414,\"\")-1)","v":""},{"$f":"IF(ISBLANK('Data Input'!A414),\"\",COUNTIF('Data Input'!C414:AQ414,\"0\"))","v":""},{"$f":"IF(ISBLANK('Data Input'!A414),\"\",SUM(B410,C410))","v":""},{"$f":"IF(ISBLANK('Data Input'!A414),\"\",SUM('Data Input'!C414:V414))","v":""},{"$f":"IF(ISBLANK('Data Input'!A414),\"\",SUM('Data Input'!X414:AQ414))","v":""},{"$f":"IF(ISBLANK('Data Input'!A414),\"\",SUM('Data Input'!C414:AQ414))","v":""},{"$f":"IF(G410=\"\",\"\",G410/(COUNTA('Data Input'!$C$8:$AQ$8)-1))","v":""},{"$f":"IF(ISBLANK('Data Input'!A414),\"\",SUM('Data Input'!C414,'Data Input'!K414,'Data Input'!L414,'Data Input'!AC414,'Data Input'!AF414,'Data Input'!AM414,'Data Input'!AO414))","v":""},{"$f":"IF(I410=\"\",\"\",I410/COUNTIF('Data Input'!$C$8:$AQ$8,$I$2))","v":""},{"$f":"IF(ISBLANK('Data Input'!A414),\"\",SUM('Data Input'!D414,'Data Input'!E414,'Data Input'!F414,'Data Input'!G414,'Data Input'!J414,'Data Input'!O414,'Data Input'!P414,'Data Input'!S414,'Data Input'!U414,'Data Input'!X414,'Data Input'!Z414,'Data Input'!AA414,'Data Input'!AB414,'Data Input'!AE414,'Data Input'!AG414,'Data Input'!AH414,'Data Input'!AJ414,'Data Input'!AK414,'Data Input'!AL414,'Data Input'!AN414))","v":""},{"$f":"IF(K410=\"\",\"\",K410/COUNTIF('Data Input'!$C$8:$AQ$8,$K$2))","v":""},{"$f":"IF(ISBLANK('Data Input'!A414),\"\",SUM('Data Input'!V414))","v":""},{"$f":"IF(M410=\"\",\"\",M410/COUNTIF('Data Input'!$C$8:$AQ$8,$M$2))","v":""},{"$f":"IF(ISBLANK('Data Input'!A414),\"\",SUM('Data Input'!H414,'Data Input'!I414,'Data Input'!M414,'Data Input'!N414,'Data Input'!Q414,'Data Input'!R414,'Data Input'!T414,'Data Input'!Y414,'Data Input'!AD414,'Data Input'!AI414,'Data Input'!AP414,'Data Input'!AQ414))","v":""},{"$f":"IF(O410=\"\",\"\",O410/COUNTIF('Data Input'!$C$8:$AQ$8,$O$2))","v":""}]
[{"$f":"IF('Data Input'!A415=0,\"\",'Data Input'!A415)","v":""},{"$f":"IF(ISBLANK('Data Input'!A415),\"\",COUNTIF('Data Input'!C415:AQ415,\"\")-1)","v":""},{"$f":"IF(ISBLANK('Data Input'!A415),\"\",COUNTIF('Data Input'!C415:AQ415,\"0\"))","v":""},{"$f":"IF(ISBLANK('Data Input'!A415),\"\",SUM(B411,C411))","v":""},{"$f":"IF(ISBLANK('Data Input'!A415),\"\",SUM('Data Input'!C415:V415))","v":""},{"$f":"IF(ISBLANK('Data Input'!A415),\"\",SUM('Data Input'!X415:AQ415))","v":""},{"$f":"IF(ISBLANK('Data Input'!A415),\"\",SUM('Data Input'!C415:AQ415))","v":""},{"$f":"IF(G411=\"\",\"\",G411/(COUNTA('Data Input'!$C$8:$AQ$8)-1))","v":""},{"$f":"IF(ISBLANK('Data Input'!A415),\"\",SUM('Data Input'!C415,'Data Input'!K415,'Data Input'!L415,'Data Input'!AC415,'Data Input'!AF415,'Data Input'!AM415,'Data Input'!AO415))","v":""},{"$f":"IF(I411=\"\",\"\",I411/COUNTIF('Data Input'!$C$8:$AQ$8,$I$2))","v":""},{"$f":"IF(ISBLANK('Data Input'!A415),\"\",SUM('Data Input'!D415,'Data Input'!E415,'Data Input'!F415,'Data Input'!G415,'Data Input'!J415,'Data Input'!O415,'Data Input'!P415,'Data Input'!S415,'Data Input'!U415,'Data Input'!X415,'Data Input'!Z415,'Data Input'!AA415,'Data Input'!AB415,'Data Input'!AE415,'Data Input'!AG415,'Data Input'!AH415,'Data Input'!AJ415,'Data Input'!AK415,'Data Input'!AL415,'Data Input'!AN415))","v":""},{"$f":"IF(K411=\"\",\"\",K411/COUNTIF('Data Input'!$C$8:$AQ$8,$K$2))","v":""},{"$f":"IF(ISBLANK('Data Input'!A415),\"\",SUM('Data Input'!V415))","v":""},{"$f":"IF(M411=\"\",\"\",M411/COUNTIF('Data Input'!$C$8:$AQ$8,$M$2))","v":""},{"$f":"IF(ISBLANK('Data Input'!A415),\"\",SUM('Data Input'!H415,'Data Input'!I415,'Data Input'!M415,'Data Input'!N415,'Data Input'!Q415,'Data Input'!R415,'Data Input'!T415,'Data Input'!Y415,'Data Input'!AD415,'Data Input'!AI415,'Data Input'!AP415,'Data Input'!AQ415))","v":""},{"$f":"IF(O411=\"\",\"\",O411/COUNTIF('Data Input'!$C$8:$AQ$8,$O$2))","v":""}]
[{"$f":"IF('Data Input'!A416=0,\"\",'Data Input'!A416)","v":""},{"$f":"IF(ISBLANK('Data Input'!A416),\"\",COUNTIF('Data Input'!C416:AQ416,\"\")-1)","v":""},{"$f":"IF(ISBLANK('Data Input'!A416),\"\",COUNTIF('Data Input'!C416:AQ416,\"0\"))","v":""},{"$f":"IF(ISBLANK('Data Input'!A416),\"\",SUM(B412,C412))","v":""},{"$f":"IF(ISBLANK('Data Input'!A416),\"\",SUM('Data Input'!C416:V416))","v":""},{"$f":"IF(ISBLANK('Data Input'!A416),\"\",SUM('Data Input'!X416:AQ416))","v":""},{"$f":"IF(ISBLANK('Data Input'!A416),\"\",SUM('Data Input'!C416:AQ416))","v":""},{"$f":"IF(G412=\"\",\"\",G412/(COUNTA('Data Input'!$C$8:$AQ$8)-1))","v":""},{"$f":"IF(ISBLANK('Data Input'!A416),\"\",SUM('Data Input'!C416,'Data Input'!K416,'Data Input'!L416,'Data Input'!AC416,'Data Input'!AF416,'Data Input'!AM416,'Data Input'!AO416))","v":""},{"$f":"IF(I412=\"\",\"\",I412/COUNTIF('Data Input'!$C$8:$AQ$8,$I$2))","v":""},{"$f":"IF(ISBLANK('Data Input'!A416),\"\",SUM('Data Input'!D416,'Data Input'!E416,'Data Input'!F416,'Data Input'!G416,'Data Input'!J416,'Data Input'!O416,'Data Input'!P416,'Data Input'!S416,'Data Input'!U416,'Data Input'!X416,'Data Input'!Z416,'Data Input'!AA416,'Data Input'!AB416,'Data Input'!AE416,'Data Input'!AG416,'Data Input'!AH416,'Data Input'!AJ416,'Data Input'!AK416,'Data Input'!AL416,'Data Input'!AN416))","v":""},{"$f":"IF(K412=\"\",\"\",K412/COUNTIF('Data Input'!$C$8:$AQ$8,$K$2))","v":""},{"$f":"IF(ISBLANK('Data Input'!A416),\"\",SUM('Data Input'!V416))","v":""},{"$f":"IF(M412=\"\",\"\",M412/COUNTIF('Data Input'!$C$8:$AQ$8,$M$2))","v":""},{"$f":"IF(ISBLANK('Data Input'!A416),\"\",SUM('Data Input'!H416,'Data Input'!I416,'Data Input'!M416,'Data Input'!N416,'Data Input'!Q416,'Data Input'!R416,'Data Input'!T416,'Data Input'!Y416,'Data Input'!AD416,'Data Input'!AI416,'Data Input'!AP416,'Data Input'!AQ416))","v":""},{"$f":"IF(O412=\"\",\"\",O412/COUNTIF('Data Input'!$C$8:$AQ$8,$O$2))","v":""}]
[{"$f":"IF('Data Input'!A417=0,\"\",'Data Input'!A417)","v":""},{"$f":"IF(ISBLANK('Data Input'!A417),\"\",COUNTIF('Data Input'!C417:AQ417,\"\")-1)","v":""},{"$f":"IF(ISBLANK('Data Input'!A417),\"\",COUNTIF('Data Input'!C417:AQ417,\"0\"))","v":""},{"$f":"IF(ISBLANK('Data Input'!A417),\"\",SUM(B413,C413))","v":""},{"$f":"IF(ISBLANK('Data Input'!A417),\"\",SUM('Data Input'!C417:V417))","v":""},{"$f":"IF(ISBLANK('Data Input'!A417),\"\",SUM('Data Input'!X417:AQ417))","v":""},{"$f":"IF(ISBLANK('Data Input'!A417),\"\",SUM('Data Input'!C417:AQ417))","v":""},{"$f":"IF(G413=\"\",\"\",G413/(COUNTA('Data Input'!$C$8:$AQ$8)-1))","v":""},{"$f":"IF(ISBLANK('Data Input'!A417),\"\",SUM('Data Input'!C417,'Data Input'!K417,'Data Input'!L417,'Data Input'!AC417,'Data Input'!AF417,'Data Input'!AM417,'Data Input'!AO417))","v":""},{"$f":"IF(I413=\"\",\"\",I413/COUNTIF('Data Input'!$C$8:$AQ$8,$I$2))","v":""},{"$f":"IF(ISBLANK('Data Input'!A417),\"\",SUM('Data Input'!D417,'Data Input'!E417,'Data Input'!F417,'Data Input'!G417,'Data Input'!J417,'Data Input'!O417,'Data Input'!P417,'Data Input'!S417,'Data Input'!U417,'Data Input'!X417,'Data Input'!Z417,'Data Input'!AA417,'Data Input'!AB417,'Data Input'!AE417,'Data Input'!AG417,'Data Input'!AH417,'Data Input'!AJ417,'Data Input'!AK417,'Data Input'!AL417,'Data Input'!AN417))","v":""},{"$f":"IF(K413=\"\",\"\",K413/COUNTIF('Data Input'!$C$8:$AQ$8,$K$2))","v":""},{"$f":"IF(ISBLANK('Data Input'!A417),\"\",SUM('Data Input'!V417))","v":""},{"$f":"IF(M413=\"\",\"\",M413/COUNTIF('Data Input'!$C$8:$AQ$8,$M$2))","v":""},{"$f":"IF(ISBLANK('Data Input'!A417),\"\",SUM('Data Input'!H417,'Data Input'!I417,'Data Input'!M417,'Data Input'!N417,'Data Input'!Q417,'Data Input'!R417,'Data Input'!T417,'Data Input'!Y417,'Data Input'!AD417,'Data Input'!AI417,'Data Input'!AP417,'Data Input'!AQ417))","v":""},{"$f":"IF(O413=\"\",\"\",O413/COUNTIF('Data Input'!$C$8:$AQ$8,$O$2))","v":""}]
[{"$f":"IF('Data Input'!A418=0,\"\",'Data Input'!A418)","v":""},{"$f":"IF(ISBLANK('Data Input'!A418),\"\",COUNTIF('Data Input'!C418:AQ418,\"\")-1)","v":""},{"$f":"IF(ISBLANK('Data Input'!A418),\"\",COUNTIF('Data Input'!C418:AQ418,\"0\"))","v":""},{"$f":"IF(ISBLANK('Data Input'!A418),\"\",SUM(B414,C414))","v":""},{"$f":"IF(ISBLANK('Data Input'!A418),\"\",SUM('Data Input'!C418:V418))","v":""},{"$f":"IF(ISBLANK('Data Input'!A418),\"\",SUM('Data Input'!X418:AQ418))","v":""},{"$f":"IF(ISBLANK('Data Input'!A418),\"\",SUM('Data Input'!C418:AQ418))","v":""},{"$f":"IF(G414=\"\",\"\",G414/(COUNTA('Data Input'!$C$8:$AQ$8)-1))","v":""},{"$f":"IF(ISBLANK('Data Input'!A418),\"\",SUM('Data Input'!C418,'Data Input'!K418,'Data Input'!L418,'Data Input'!AC418,'Data Input'!AF418,'Data Input'!AM418,'Data Input'!AO418))","v":""},{"$f":"IF(I414=\"\",\"\",I414/COUNTIF('Data Input'!$C$8:$AQ$8,$I$2))","v":""},{"$f":"IF(ISBLANK('Data Input'!A418),\"\",SUM('Data Input'!D418,'Data Input'!E418,'Data Input'!F418,'Data Input'!G418,'Data Input'!J418,'Data Input'!O418,'Data Input'!P418,'Data Input'!S418,'Data Input'!U418,'Data Input'!X418,'Data Input'!Z418,'Data Input'!AA418,'Data Input'!AB418,'Data Input'!AE418,'Data Input'!AG418,'Data Input'!AH418,'Data Input'!AJ418,'Data Input'!AK418,'Data Input'!AL418,'Data Input'!AN418))","v":""},{"$f":"IF(K414=\"\",\"\",K414/COUNTIF('Data Input'!$C$8:$AQ$8,$K$2))","v":""},{"$f":"IF(ISBLANK('Data Input'!A418),\"\",SUM('Data Input'!V418))","v":""},{"$f":"IF(M414=\"\",\"\",M414/COUNTIF('Data Input'!$C$8:$AQ$8,$M$2))","v":""},{"$f":"IF(ISBLANK('Data Input'!A418),\"\",SUM('Data Input'!H418,'Data Input'!I418,'Data Input'!M418,'Data Input'!N418,'Data Input'!Q418,'Data Input'!R418,'Data Input'!T418,'Data Input'!Y418,'Data Input'!AD418,'Data Input'!AI418,'Data Input'!AP418,'Data Input'!AQ418))","v":""},{"$f":"IF(O414=\"\",\"\",O414/COUNTIF('Data Input'!$C$8:$AQ$8,$O$2))","v":""}]
[{"$f":"IF('Data Input'!A419=0,\"\",'Data Input'!A419)","v":""},{"$f":"IF(ISBLANK('Data Input'!A419),\"\",COUNTIF('Data Input'!C419:AQ419,\"\")-1)","v":""},{"$f":"IF(ISBLANK('Data Input'!A419),\"\",COUNTIF('Data Input'!C419:AQ419,\"0\"))","v":""},{"$f":"IF(ISBLANK('Data Input'!A419),\"\",SUM(B415,C415))","v":""},{"$f":"IF(ISBLANK('Data Input'!A419),\"\",SUM('Data Input'!C419:V419))","v":""},{"$f":"IF(ISBLANK('Data Input'!A419),\"\",SUM('Data Input'!X419:AQ419))","v":""},{"$f":"IF(ISBLANK('Data Input'!A419),\"\",SUM('Data Input'!C419:AQ419))","v":""},{"$f":"IF(G415=\"\",\"\",G415/(COUNTA('Data Input'!$C$8:$AQ$8)-1))","v":""},{"$f":"IF(ISBLANK('Data Input'!A419),\"\",SUM('Data Input'!C419,'Data Input'!K419,'Data Input'!L419,'Data Input'!AC419,'Data Input'!AF419,'Data Input'!AM419,'Data Input'!AO419))","v":""},{"$f":"IF(I415=\"\",\"\",I415/COUNTIF('Data Input'!$C$8:$AQ$8,$I$2))","v":""},{"$f":"IF(ISBLANK('Data Input'!A419),\"\",SUM('Data Input'!D419,'Data Input'!E419,'Data Input'!F419,'Data Input'!G419,'Data Input'!J419,'Data Input'!O419,'Data Input'!P419,'Data Input'!S419,'Data Input'!U419,'Data Input'!X419,'Data Input'!Z419,'Data Input'!AA419,'Data Input'!AB419,'Data Input'!AE419,'Data Input'!AG419,'Data Input'!AH419,'Data Input'!AJ419,'Data Input'!AK419,'Data Input'!AL419,'Data Input'!AN419))","v":""},{"$f":"IF(K415=\"\",\"\",K415/COUNTIF('Data Input'!$C$8:$AQ$8,$K$2))","v":""},{"$f":"IF(ISBLANK('Data Input'!A419),\"\",SUM('Data Input'!V419))","v":""},{"$f":"IF(M415=\"\",\"\",M415/COUNTIF('Data Input'!$C$8:$AQ$8,$M$2))","v":""},{"$f":"IF(ISBLANK('Data Input'!A419),\"\",SUM('Data Input'!H419,'Data Input'!I419,'Data Input'!M419,'Data Input'!N419,'Data Input'!Q419,'Data Input'!R419,'Data Input'!T419,'Data Input'!Y419,'Data Input'!AD419,'Data Input'!AI419,'Data Input'!AP419,'Data Input'!AQ419))","v":""},{"$f":"IF(O415=\"\",\"\",O415/COUNTIF('Data Input'!$C$8:$AQ$8,$O$2))","v":""}]
[{"$f":"IF('Data Input'!A420=0,\"\",'Data Input'!A420)","v":""},{"$f":"IF(ISBLANK('Data Input'!A420),\"\",COUNTIF('Data Input'!C420:AQ420,\"\")-1)","v":""},{"$f":"IF(ISBLANK('Data Input'!A420),\"\",COUNTIF('Data Input'!C420:AQ420,\"0\"))","v":""},{"$f":"IF(ISBLANK('Data Input'!A420),\"\",SUM(B416,C416))","v":""},{"$f":"IF(ISBLANK('Data Input'!A420),\"\",SUM('Data Input'!C420:V420))","v":""},{"$f":"IF(ISBLANK('Data Input'!A420),\"\",SUM('Data Input'!X420:AQ420))","v":""},{"$f":"IF(ISBLANK('Data Input'!A420),\"\",SUM('Data Input'!C420:AQ420))","v":""},{"$f":"IF(G416=\"\",\"\",G416/(COUNTA('Data Input'!$C$8:$AQ$8)-1))","v":""},{"$f":"IF(ISBLANK('Data Input'!A420),\"\",SUM('Data Input'!C420,'Data Input'!K420,'Data Input'!L420,'Data Input'!AC420,'Data Input'!AF420,'Data Input'!AM420,'Data Input'!AO420))","v":""},{"$f":"IF(I416=\"\",\"\",I416/COUNTIF('Data Input'!$C$8:$AQ$8,$I$2))","v":""},{"$f":"IF(ISBLANK('Data Input'!A420),\"\",SUM('Data Input'!D420,'Data Input'!E420,'Data Input'!F420,'Data Input'!G420,'Data Input'!J420,'Data Input'!O420,'Data Input'!P420,'Data Input'!S420,'Data Input'!U420,'Data Input'!X420,'Data Input'!Z420,'Data Input'!AA420,'Data Input'!AB420,'Data Input'!AE420,'Data Input'!AG420,'Data Input'!AH420,'Data Input'!AJ420,'Data Input'!AK420,'Data Input'!AL420,'Data Input'!AN420))","v":""},{"$f":"IF(K416=\"\",\"\",K416/COUNTIF('Data Input'!$C$8:$AQ$8,$K$2))","v":""},{"$f":"IF(ISBLANK('Data Input'!A420),\"\",SUM('Data Input'!V420))","v":""},{"$f":"IF(M416=\"\",\"\",M416/COUNTIF('Data Input'!$C$8:$AQ$8,$M$2))","v":""},{"$f":"IF(ISBLANK('Data Input'!A420),\"\",SUM('Data Input'!H420,'Data Input'!I420,'Data Input'!M420,'Data Input'!N420,'Data Input'!Q420,'Data Input'!R420,'Data Input'!T420,'Data Input'!Y420,'Data Input'!AD420,'Data Input'!AI420,'Data Input'!AP420,'Data Input'!AQ420))","v":""},{"$f":"IF(O416=\"\",\"\",O416/COUNTIF('Data Input'!$C$8:$AQ$8,$O$2))","v":""}]
[{"$f":"IF('Data Input'!A421=0,\"\",'Data Input'!A421)","v":""},{"$f":"IF(ISBLANK('Data Input'!A421),\"\",COUNTIF('Data Input'!C421:AQ421,\"\")-1)","v":""},{"$f":"IF(ISBLANK('Data Input'!A421),\"\",COUNTIF('Data Input'!C421:AQ421,\"0\"))","v":""},{"$f":"IF(ISBLANK('Data Input'!A421),\"\",SUM(B417,C417))","v":""},{"$f":"IF(ISBLANK('Data Input'!A421),\"\",SUM('Data Input'!C421:V421))","v":""},{"$f":"IF(ISBLANK('Data Input'!A421),\"\",SUM('Data Input'!X421:AQ421))","v":""},{"$f":"IF(ISBLANK('Data Input'!A421),\"\",SUM('Data Input'!C421:AQ421))","v":""},{"$f":"IF(G417=\"\",\"\",G417/(COUNTA('Data Input'!$C$8:$AQ$8)-1))","v":""},{"$f":"IF(ISBLANK('Data Input'!A421),\"\",SUM('Data Input'!C421,'Data Input'!K421,'Data Input'!L421,'Data Input'!AC421,'Data Input'!AF421,'Data Input'!AM421,'Data Input'!AO421))","v":""},{"$f":"IF(I417=\"\",\"\",I417/COUNTIF('Data Input'!$C$8:$AQ$8,$I$2))","v":""},{"$f":"IF(ISBLANK('Data Input'!A421),\"\",SUM('Data Input'!D421,'Data Input'!E421,'Data Input'!F421,'Data Input'!G421,'Data Input'!J421,'Data Input'!O421,'Data Input'!P421,'Data Input'!S421,'Data Input'!U421,'Data Input'!X421,'Data Input'!Z421,'Data Input'!AA421,'Data Input'!AB421,'Data Input'!AE421,'Data Input'!AG421,'Data Input'!AH421,'Data Input'!AJ421,'Data Input'!AK421,'Data Input'!AL421,'Data Input'!AN421))","v":""},{"$f":"IF(K417=\"\",\"\",K417/COUNTIF('Data Input'!$C$8:$AQ$8,$K$2))","v":""},{"$f":"IF(ISBLANK('Data Input'!A421),\"\",SUM('Data Input'!V421))","v":""},{"$f":"IF(M417=\"\",\"\",M417/COUNTIF('Data Input'!$C$8:$AQ$8,$M$2))","v":""},{"$f":"IF(ISBLANK('Data Input'!A421),\"\",SUM('Data Input'!H421,'Data Input'!I421,'Data Input'!M421,'Data Input'!N421,'Data Input'!Q421,'Data Input'!R421,'Data Input'!T421,'Data Input'!Y421,'Data Input'!AD421,'Data Input'!AI421,'Data Input'!AP421,'Data Input'!AQ421))","v":""},{"$f":"IF(O417=\"\",\"\",O417/COUNTIF('Data Input'!$C$8:$AQ$8,$O$2))","v":""}]
[{"$f":"IF('Data Input'!A422=0,\"\",'Data Input'!A422)","v":""},{"$f":"IF(ISBLANK('Data Input'!A422),\"\",COUNTIF('Data Input'!C422:AQ422,\"\")-1)","v":""},{"$f":"IF(ISBLANK('Data Input'!A422),\"\",COUNTIF('Data Input'!C422:AQ422,\"0\"))","v":""},{"$f":"IF(ISBLANK('Data Input'!A422),\"\",SUM(B418,C418))","v":""},{"$f":"IF(ISBLANK('Data Input'!A422),\"\",SUM('Data Input'!C422:V422))","v":""},{"$f":"IF(ISBLANK('Data Input'!A422),\"\",SUM('Data Input'!X422:AQ422))","v":""},{"$f":"IF(ISBLANK('Data Input'!A422),\"\",SUM('Data Input'!C422:AQ422))","v":""},{"$f":"IF(G418=\"\",\"\",G418/(COUNTA('Data Input'!$C$8:$AQ$8)-1))","v":""},{"$f":"IF(ISBLANK('Data Input'!A422),\"\",SUM('Data Input'!C422,'Data Input'!K422,'Data Input'!L422,'Data Input'!AC422,'Data Input'!AF422,'Data Input'!AM422,'Data Input'!AO422))","v":""},{"$f":"IF(I418=\"\",\"\",I418/COUNTIF('Data Input'!$C$8:$AQ$8,$I$2))","v":""},{"$f":"IF(ISBLANK('Data Input'!A422),\"\",SUM('Data Input'!D422,'Data Input'!E422,'Data Input'!F422,'Data Input'!G422,'Data Input'!J422,'Data Input'!O422,'Data Input'!P422,'Data Input'!S422,'Data Input'!U422,'Data Input'!X422,'Data Input'!Z422,'Data Input'!AA422,'Data Input'!AB422,'Data Input'!AE422,'Data Input'!AG422,'Data Input'!AH422,'Data Input'!AJ422,'Data Input'!AK422,'Data Input'!AL422,'Data Input'!AN422))","v":""},{"$f":"IF(K418=\"\",\"\",K418/COUNTIF('Data Input'!$C$8:$AQ$8,$K$2))","v":""},{"$f":"IF(ISBLANK('Data Input'!A422),\"\",SUM('Data Input'!V422))","v":""},{"$f":"IF(M418=\"\",\"\",M418/COUNTIF('Data Input'!$C$8:$AQ$8,$M$2))","v":""},{"$f":"IF(ISBLANK('Data Input'!A422),\"\",SUM('Data Input'!H422,'Data Input'!I422,'Data Input'!M422,'Data Input'!N422,'Data Input'!Q422,'Data Input'!R422,'Data Input'!T422,'Data Input'!Y422,'Data Input'!AD422,'Data Input'!AI422,'Data Input'!AP422,'Data Input'!AQ422))","v":""},{"$f":"IF(O418=\"\",\"\",O418/COUNTIF('Data Input'!$C$8:$AQ$8,$O$2))","v":""}]
[{"$f":"IF('Data Input'!A423=0,\"\",'Data Input'!A423)","v":""},{"$f":"IF(ISBLANK('Data Input'!A423),\"\",COUNTIF('Data Input'!C423:AQ423,\"\")-1)","v":""},{"$f":"IF(ISBLANK('Data Input'!A423),\"\",COUNTIF('Data Input'!C423:AQ423,\"0\"))","v":""},{"$f":"IF(ISBLANK('Data Input'!A423),\"\",SUM(B419,C419))","v":""},{"$f":"IF(ISBLANK('Data Input'!A423),\"\",SUM('Data Input'!C423:V423))","v":""},{"$f":"IF(ISBLANK('Data Input'!A423),\"\",SUM('Data Input'!X423:AQ423))","v":""},{"$f":"IF(ISBLANK('Data Input'!A423),\"\",SUM('Data Input'!C423:AQ423))","v":""},{"$f":"IF(G419=\"\",\"\",G419/(COUNTA('Data Input'!$C$8:$AQ$8)-1))","v":""},{"$f":"IF(ISBLANK('Data Input'!A423),\"\",SUM('Data Input'!C423,'Data Input'!K423,'Data Input'!L423,'Data Input'!AC423,'Data Input'!AF423,'Data Input'!AM423,'Data Input'!AO423))","v":""},{"$f":"IF(I419=\"\",\"\",I419/COUNTIF('Data Input'!$C$8:$AQ$8,$I$2))","v":""},{"$f":"IF(ISBLANK('Data Input'!A423),\"\",SUM('Data Input'!D423,'Data Input'!E423,'Data Input'!F423,'Data Input'!G423,'Data Input'!J423,'Data Input'!O423,'Data Input'!P423,'Data Input'!S423,'Data Input'!U423,'Data Input'!X423,'Data Input'!Z423,'Data Input'!AA423,'Data Input'!AB423,'Data Input'!AE423,'Data Input'!AG423,'Data Input'!AH423,'Data Input'!AJ423,'Data Input'!AK423,'Data Input'!AL423,'Data Input'!AN423))","v":""},{"$f":"IF(K419=\"\",\"\",K419/COUNTIF('Data Input'!$C$8:$AQ$8,$K$2))","v":""},{"$f":"IF(ISBLANK('Data Input'!A423),\"\",SUM('Data Input'!V423))","v":""},{"$f":"IF(M419=\"\",\"\",M419/COUNTIF('Data Input'!$C$8:$AQ$8,$M$2))","v":""},{"$f":"IF(ISBLANK('Data Input'!A423),\"\",SUM('Data Input'!H423,'Data Input'!I423,'Data Input'!M423,'Data Input'!N423,'Data Input'!Q423,'Data Input'!R423,'Data Input'!T423,'Data Input'!Y423,'Data Input'!AD423,'Data Input'!AI423,'Data Input'!AP423,'Data Input'!AQ423))","v":""},{"$f":"IF(O419=\"\",\"\",O419/COUNTIF('Data Input'!$C$8:$AQ$8,$O$2))","v":""}]
[{"$f":"IF('Data Input'!A424=0,\"\",'Data Input'!A424)","v":""},{"$f":"IF(ISBLANK('Data Input'!A424),\"\",COUNTIF('Data Input'!C424:AQ424,\"\")-1)","v":""},{"$f":"IF(ISBLANK('Data Input'!A424),\"\",COUNTIF('Data Input'!C424:AQ424,\"0\"))","v":""},{"$f":"IF(ISBLANK('Data Input'!A424),\"\",SUM(B420,C420))","v":""},{"$f":"IF(ISBLANK('Data Input'!A424),\"\",SUM('Data Input'!C424:V424))","v":""},{"$f":"IF(ISBLANK('Data Input'!A424),\"\",SUM('Data Input'!X424:AQ424))","v":""},{"$f":"IF(ISBLANK('Data Input'!A424),\"\",SUM('Data Input'!C424:AQ424))","v":""},{"$f":"IF(G420=\"\",\"\",G420/(COUNTA('Data Input'!$C$8:$AQ$8)-1))","v":""},{"$f":"IF(ISBLANK('Data Input'!A424),\"\",SUM('Data Input'!C424,'Data Input'!K424,'Data Input'!L424,'Data Input'!AC424,'Data Input'!AF424,'Data Input'!AM424,'Data Input'!AO424))","v":""},{"$f":"IF(I420=\"\",\"\",I420/COUNTIF('Data Input'!$C$8:$AQ$8,$I$2))","v":""},{"$f":"IF(ISBLANK('Data Input'!A424),\"\",SUM('Data Input'!D424,'Data Input'!E424,'Data Input'!F424,'Data Input'!G424,'Data Input'!J424,'Data Input'!O424,'Data Input'!P424,'Data Input'!S424,'Data Input'!U424,'Data Input'!X424,'Data Input'!Z424,'Data Input'!AA424,'Data Input'!AB424,'Data Input'!AE424,'Data Input'!AG424,'Data Input'!AH424,'Data Input'!AJ424,'Data Input'!AK424,'Data Input'!AL424,'Data Input'!AN424))","v":""},{"$f":"IF(K420=\"\",\"\",K420/COUNTIF('Data Input'!$C$8:$AQ$8,$K$2))","v":""},{"$f":"IF(ISBLANK('Data Input'!A424),\"\",SUM('Data Input'!V424))","v":""},{"$f":"IF(M420=\"\",\"\",M420/COUNTIF('Data Input'!$C$8:$AQ$8,$M$2))","v":""},{"$f":"IF(ISBLANK('Data Input'!A424),\"\",SUM('Data Input'!H424,'Data Input'!I424,'Data Input'!M424,'Data Input'!N424,'Data Input'!Q424,'Data Input'!R424,'Data Input'!T424,'Data Input'!Y424,'Data Input'!AD424,'Data Input'!AI424,'Data Input'!AP424,'Data Input'!AQ424))","v":""},{"$f":"IF(O420=\"\",\"\",O420/COUNTIF('Data Input'!$C$8:$AQ$8,$O$2))","v":""}]
[{"$f":"IF('Data Input'!A425=0,\"\",'Data Input'!A425)","v":""},{"$f":"IF(ISBLANK('Data Input'!A425),\"\",COUNTIF('Data Input'!C425:AQ425,\"\")-1)","v":""},{"$f":"IF(ISBLANK('Data Input'!A425),\"\",COUNTIF('Data Input'!C425:AQ425,\"0\"))","v":""},{"$f":"IF(ISBLANK('Data Input'!A425),\"\",SUM(B421,C421))","v":""},{"$f":"IF(ISBLANK('Data Input'!A425),\"\",SUM('Data Input'!C425:V425))","v":""},{"$f":"IF(ISBLANK('Data Input'!A425),\"\",SUM('Data Input'!X425:AQ425))","v":""},{"$f":"IF(ISBLANK('Data Input'!A425),\"\",SUM('Data Input'!C425:AQ425))","v":""},{"$f":"IF(G421=\"\",\"\",G421/(COUNTA('Data Input'!$C$8:$AQ$8)-1))","v":""},{"$f":"IF(ISBLANK('Data Input'!A425),\"\",SUM('Data Input'!C425,'Data Input'!K425,'Data Input'!L425,'Data Input'!AC425,'Data Input'!AF425,'Data Input'!AM425,'Data Input'!AO425))","v":""},{"$f":"IF(I421=\"\",\"\",I421/COUNTIF('Data Input'!$C$8:$AQ$8,$I$2))","v":""},{"$f":"IF(ISBLANK('Data Input'!A425),\"\",SUM('Data Input'!D425,'Data Input'!E425,'Data Input'!F425,'Data Input'!G425,'Data Input'!J425,'Data Input'!O425,'Data Input'!P425,'Data Input'!S425,'Data Input'!U425,'Data Input'!X425,'Data Input'!Z425,'Data Input'!AA425,'Data Input'!AB425,'Data Input'!AE425,'Data Input'!AG425,'Data Input'!AH425,'Data Input'!AJ425,'Data Input'!AK425,'Data Input'!AL425,'Data Input'!AN425))","v":""},{"$f":"IF(K421=\"\",\"\",K421/COUNTIF('Data Input'!$C$8:$AQ$8,$K$2))","v":""},{"$f":"IF(ISBLANK('Data Input'!A425),\"\",SUM('Data Input'!V425))","v":""},{"$f":"IF(M421=\"\",\"\",M421/COUNTIF('Data Input'!$C$8:$AQ$8,$M$2))","v":""},{"$f":"IF(ISBLANK('Data Input'!A425),\"\",SUM('Data Input'!H425,'Data Input'!I425,'Data Input'!M425,'Data Input'!N425,'Data Input'!Q425,'Data Input'!R425,'Data Input'!T425,'Data Input'!Y425,'Data Input'!AD425,'Data Input'!AI425,'Data Input'!AP425,'Data Input'!AQ425))","v":""},{"$f":"IF(O421=\"\",\"\",O421/COUNTIF('Data Input'!$C$8:$AQ$8,$O$2))","v":""}]
[{"$f":"IF('Data Input'!A426=0,\"\",'Data Input'!A426)","v":""},{"$f":"IF(ISBLANK('Data Input'!A426),\"\",COUNTIF('Data Input'!C426:AQ426,\"\")-1)","v":""},{"$f":"IF(ISBLANK('Data Input'!A426),\"\",COUNTIF('Data Input'!C426:AQ426,\"0\"))","v":""},{"$f":"IF(ISBLANK('Data Input'!A426),\"\",SUM(B422,C422))","v":""},{"$f":"IF(ISBLANK('Data Input'!A426),\"\",SUM('Data Input'!C426:V426))","v":""},{"$f":"IF(ISBLANK('Data Input'!A426),\"\",SUM('Data Input'!X426:AQ426))","v":""},{"$f":"IF(ISBLANK('Data Input'!A426),\"\",SUM('Data Input'!C426:AQ426))","v":""},{"$f":"IF(G422=\"\",\"\",G422/(COUNTA('Data Input'!$C$8:$AQ$8)-1))","v":""},{"$f":"IF(ISBLANK('Data Input'!A426),\"\",SUM('Data Input'!C426,'Data Input'!K426,'Data Input'!L426,'Data Input'!AC426,'Data Input'!AF426,'Data Input'!AM426,'Data Input'!AO426))","v":""},{"$f":"IF(I422=\"\",\"\",I422/COUNTIF('Data Input'!$C$8:$AQ$8,$I$2))","v":""},{"$f":"IF(ISBLANK('Data Input'!A426),\"\",SUM('Data Input'!D426,'Data Input'!E426,'Data Input'!F426,'Data Input'!G426,'Data Input'!J426,'Data Input'!O426,'Data Input'!P426,'Data Input'!S426,'Data Input'!U426,'Data Input'!X426,'Data Input'!Z426,'Data Input'!AA426,'Data Input'!AB426,'Data Input'!AE426,'Data Input'!AG426,'Data Input'!AH426,'Data Input'!AJ426,'Data Input'!AK426,'Data Input'!AL426,'Data Input'!AN426))","v":""},{"$f":"IF(K422=\"\",\"\",K422/COUNTIF('Data Input'!$C$8:$AQ$8,$K$2))","v":""},{"$f":"IF(ISBLANK('Data Input'!A426),\"\",SUM('Data Input'!V426))","v":""},{"$f":"IF(M422=\"\",\"\",M422/COUNTIF('Data Input'!$C$8:$AQ$8,$M$2))","v":""},{"$f":"IF(ISBLANK('Data Input'!A426),\"\",SUM('Data Input'!H426,'Data Input'!I426,'Data Input'!M426,'Data Input'!N426,'Data Input'!Q426,'Data Input'!R426,'Data Input'!T426,'Data Input'!Y426,'Data Input'!AD426,'Data Input'!AI426,'Data Input'!AP426,'Data Input'!AQ426))","v":""},{"$f":"IF(O422=\"\",\"\",O422/COUNTIF('Data Input'!$C$8:$AQ$8,$O$2))","v":""}]
[{"$f":"IF('Data Input'!A427=0,\"\",'Data Input'!A427)","v":""},{"$f":"IF(ISBLANK('Data Input'!A427),\"\",COUNTIF('Data Input'!C427:AQ427,\"\")-1)","v":""},{"$f":"IF(ISBLANK('Data Input'!A427),\"\",COUNTIF('Data Input'!C427:AQ427,\"0\"))","v":""},{"$f":"IF(ISBLANK('Data Input'!A427),\"\",SUM(B423,C423))","v":""},{"$f":"IF(ISBLANK('Data Input'!A427),\"\",SUM('Data Input'!C427:V427))","v":""},{"$f":"IF(ISBLANK('Data Input'!A427),\"\",SUM('Data Input'!X427:AQ427))","v":""},{"$f":"IF(ISBLANK('Data Input'!A427),\"\",SUM('Data Input'!C427:AQ427))","v":""},{"$f":"IF(G423=\"\",\"\",G423/(COUNTA('Data Input'!$C$8:$AQ$8)-1))","v":""},{"$f":"IF(ISBLANK('Data Input'!A427),\"\",SUM('Data Input'!C427,'Data Input'!K427,'Data Input'!L427,'Data Input'!AC427,'Data Input'!AF427,'Data Input'!AM427,'Data Input'!AO427))","v":""},{"$f":"IF(I423=\"\",\"\",I423/COUNTIF('Data Input'!$C$8:$AQ$8,$I$2))","v":""},{"$f":"IF(ISBLANK('Data Input'!A427),\"\",SUM('Data Input'!D427,'Data Input'!E427,'Data Input'!F427,'Data Input'!G427,'Data Input'!J427,'Data Input'!O427,'Data Input'!P427,'Data Input'!S427,'Data Input'!U427,'Data Input'!X427,'Data Input'!Z427,'Data Input'!AA427,'Data Input'!AB427,'Data Input'!AE427,'Data Input'!AG427,'Data Input'!AH427,'Data Input'!AJ427,'Data Input'!AK427,'Data Input'!AL427,'Data Input'!AN427))","v":""},{"$f":"IF(K423=\"\",\"\",K423/COUNTIF('Data Input'!$C$8:$AQ$8,$K$2))","v":""},{"$f":"IF(ISBLANK('Data Input'!A427),\"\",SUM('Data Input'!V427))","v":""},{"$f":"IF(M423=\"\",\"\",M423/COUNTIF('Data Input'!$C$8:$AQ$8,$M$2))","v":""},{"$f":"IF(ISBLANK('Data Input'!A427),\"\",SUM('Data Input'!H427,'Data Input'!I427,'Data Input'!M427,'Data Input'!N427,'Data Input'!Q427,'Data Input'!R427,'Data Input'!T427,'Data Input'!Y427,'Data Input'!AD427,'Data Input'!AI427,'Data Input'!AP427,'Data Input'!AQ427))","v":""},{"$f":"IF(O423=\"\",\"\",O423/COUNTIF('Data Input'!$C$8:$AQ$8,$O$2))","v":""}]
[{"$f":"IF('Data Input'!A428=0,\"\",'Data Input'!A428)","v":""},{"$f":"IF(ISBLANK('Data Input'!A428),\"\",COUNTIF('Data Input'!C428:AQ428,\"\")-1)","v":""},{"$f":"IF(ISBLANK('Data Input'!A428),\"\",COUNTIF('Data Input'!C428:AQ428,\"0\"))","v":""},{"$f":"IF(ISBLANK('Data Input'!A428),\"\",SUM(B424,C424))","v":""},{"$f":"IF(ISBLANK('Data Input'!A428),\"\",SUM('Data Input'!C428:V428))","v":""},{"$f":"IF(ISBLANK('Data Input'!A428),\"\",SUM('Data Input'!X428:AQ428))","v":""},{"$f":"IF(ISBLANK('Data Input'!A428),\"\",SUM('Data Input'!C428:AQ428))","v":""},{"$f":"IF(G424=\"\",\"\",G424/(COUNTA('Data Input'!$C$8:$AQ$8)-1))","v":""},{"$f":"IF(ISBLANK('Data Input'!A428),\"\",SUM('Data Input'!C428,'Data Input'!K428,'Data Input'!L428,'Data Input'!AC428,'Data Input'!AF428,'Data Input'!AM428,'Data Input'!AO428))","v":""},{"$f":"IF(I424=\"\",\"\",I424/COUNTIF('Data Input'!$C$8:$AQ$8,$I$2))","v":""},{"$f":"IF(ISBLANK('Data Input'!A428),\"\",SUM('Data Input'!D428,'Data Input'!E428,'Data Input'!F428,'Data Input'!G428,'Data Input'!J428,'Data Input'!O428,'Data Input'!P428,'Data Input'!S428,'Data Input'!U428,'Data Input'!X428,'Data Input'!Z428,'Data Input'!AA428,'Data Input'!AB428,'Data Input'!AE428,'Data Input'!AG428,'Data Input'!AH428,'Data Input'!AJ428,'Data Input'!AK428,'Data Input'!AL428,'Data Input'!AN428))","v":""},{"$f":"IF(K424=\"\",\"\",K424/COUNTIF('Data Input'!$C$8:$AQ$8,$K$2))","v":""},{"$f":"IF(ISBLANK('Data Input'!A428),\"\",SUM('Data Input'!V428))","v":""},{"$f":"IF(M424=\"\",\"\",M424/COUNTIF('Data Input'!$C$8:$AQ$8,$M$2))","v":""},{"$f":"IF(ISBLANK('Data Input'!A428),\"\",SUM('Data Input'!H428,'Data Input'!I428,'Data Input'!M428,'Data Input'!N428,'Data Input'!Q428,'Data Input'!R428,'Data Input'!T428,'Data Input'!Y428,'Data Input'!AD428,'Data Input'!AI428,'Data Input'!AP428,'Data Input'!AQ428))","v":""},{"$f":"IF(O424=\"\",\"\",O424/COUNTIF('Data Input'!$C$8:$AQ$8,$O$2))","v":""}]
[{"$f":"IF('Data Input'!A429=0,\"\",'Data Input'!A429)","v":""},{"$f":"IF(ISBLANK('Data Input'!A429),\"\",COUNTIF('Data Input'!C429:AQ429,\"\")-1)","v":""},{"$f":"IF(ISBLANK('Data Input'!A429),\"\",COUNTIF('Data Input'!C429:AQ429,\"0\"))","v":""},{"$f":"IF(ISBLANK('Data Input'!A429),\"\",SUM(B425,C425))","v":""},{"$f":"IF(ISBLANK('Data Input'!A429),\"\",SUM('Data Input'!C429:V429))","v":""},{"$f":"IF(ISBLANK('Data Input'!A429),\"\",SUM('Data Input'!X429:AQ429))","v":""},{"$f":"IF(ISBLANK('Data Input'!A429),\"\",SUM('Data Input'!C429:AQ429))","v":""},{"$f":"IF(G425=\"\",\"\",G425/(COUNTA('Data Input'!$C$8:$AQ$8)-1))","v":""},{"$f":"IF(ISBLANK('Data Input'!A429),\"\",SUM('Data Input'!C429,'Data Input'!K429,'Data Input'!L429,'Data Input'!AC429,'Data Input'!AF429,'Data Input'!AM429,'Data Input'!AO429))","v":""},{"$f":"IF(I425=\"\",\"\",I425/COUNTIF('Data Input'!$C$8:$AQ$8,$I$2))","v":""},{"$f":"IF(ISBLANK('Data Input'!A429),\"\",SUM('Data Input'!D429,'Data Input'!E429,'Data Input'!F429,'Data Input'!G429,'Data Input'!J429,'Data Input'!O429,'Data Input'!P429,'Data Input'!S429,'Data Input'!U429,'Data Input'!X429,'Data Input'!Z429,'Data Input'!AA429,'Data Input'!AB429,'Data Input'!AE429,'Data Input'!AG429,'Data Input'!AH429,'Data Input'!AJ429,'Data Input'!AK429,'Data Input'!AL429,'Data Input'!AN429))","v":""},{"$f":"IF(K425=\"\",\"\",K425/COUNTIF('Data Input'!$C$8:$AQ$8,$K$2))","v":""},{"$f":"IF(ISBLANK('Data Input'!A429),\"\",SUM('Data Input'!V429))","v":""},{"$f":"IF(M425=\"\",\"\",M425/COUNTIF('Data Input'!$C$8:$AQ$8,$M$2))","v":""},{"$f":"IF(ISBLANK('Data Input'!A429),\"\",SUM('Data Input'!H429,'Data Input'!I429,'Data Input'!M429,'Data Input'!N429,'Data Input'!Q429,'Data Input'!R429,'Data Input'!T429,'Data Input'!Y429,'Data Input'!AD429,'Data Input'!AI429,'Data Input'!AP429,'Data Input'!AQ429))","v":""},{"$f":"IF(O425=\"\",\"\",O425/COUNTIF('Data Input'!$C$8:$AQ$8,$O$2))","v":""}]
[{"$f":"IF('Data Input'!A430=0,\"\",'Data Input'!A430)","v":""},{"$f":"IF(ISBLANK('Data Input'!A430),\"\",COUNTIF('Data Input'!C430:AQ430,\"\")-1)","v":""},{"$f":"IF(ISBLANK('Data Input'!A430),\"\",COUNTIF('Data Input'!C430:AQ430,\"0\"))","v":""},{"$f":"IF(ISBLANK('Data Input'!A430),\"\",SUM(B426,C426))","v":""},{"$f":"IF(ISBLANK('Data Input'!A430),\"\",SUM('Data Input'!C430:V430))","v":""},{"$f":"IF(ISBLANK('Data Input'!A430),\"\",SUM('Data Input'!X430:AQ430))","v":""},{"$f":"IF(ISBLANK('Data Input'!A430),\"\",SUM('Data Input'!C430:AQ430))","v":""},{"$f":"IF(G426=\"\",\"\",G426/(COUNTA('Data Input'!$C$8:$AQ$8)-1))","v":""},{"$f":"IF(ISBLANK('Data Input'!A430),\"\",SUM('Data Input'!C430,'Data Input'!K430,'Data Input'!L430,'Data Input'!AC430,'Data Input'!AF430,'Data Input'!AM430,'Data Input'!AO430))","v":""},{"$f":"IF(I426=\"\",\"\",I426/COUNTIF('Data Input'!$C$8:$AQ$8,$I$2))","v":""},{"$f":"IF(ISBLANK('Data Input'!A430),\"\",SUM('Data Input'!D430,'Data Input'!E430,'Data Input'!F430,'Data Input'!G430,'Data Input'!J430,'Data Input'!O430,'Data Input'!P430,'Data Input'!S430,'Data Input'!U430,'Data Input'!X430,'Data Input'!Z430,'Data Input'!AA430,'Data Input'!AB430,'Data Input'!AE430,'Data Input'!AG430,'Data Input'!AH430,'Data Input'!AJ430,'Data Input'!AK430,'Data Input'!AL430,'Data Input'!AN430))","v":""},{"$f":"IF(K426=\"\",\"\",K426/COUNTIF('Data Input'!$C$8:$AQ$8,$K$2))","v":""},{"$f":"IF(ISBLANK('Data Input'!A430),\"\",SUM('Data Input'!V430))","v":""},{"$f":"IF(M426=\"\",\"\",M426/COUNTIF('Data Input'!$C$8:$AQ$8,$M$2))","v":""},{"$f":"IF(ISBLANK('Data Input'!A430),\"\",SUM('Data Input'!H430,'Data Input'!I430,'Data Input'!M430,'Data Input'!N430,'Data Input'!Q430,'Data Input'!R430,'Data Input'!T430,'Data Input'!Y430,'Data Input'!AD430,'Data Input'!AI430,'Data Input'!AP430,'Data Input'!AQ430))","v":""},{"$f":"IF(O426=\"\",\"\",O426/COUNTIF('Data Input'!$C$8:$AQ$8,$O$2))","v":""}]
[{"$f":"IF('Data Input'!A431=0,\"\",'Data Input'!A431)","v":""},{"$f":"IF(ISBLANK('Data Input'!A431),\"\",COUNTIF('Data Input'!C431:AQ431,\"\")-1)","v":""},{"$f":"IF(ISBLANK('Data Input'!A431),\"\",COUNTIF('Data Input'!C431:AQ431,\"0\"))","v":""},{"$f":"IF(ISBLANK('Data Input'!A431),\"\",SUM(B427,C427))","v":""},{"$f":"IF(ISBLANK('Data Input'!A431),\"\",SUM('Data Input'!C431:V431))","v":""},{"$f":"IF(ISBLANK('Data Input'!A431),\"\",SUM('Data Input'!X431:AQ431))","v":""},{"$f":"IF(ISBLANK('Data Input'!A431),\"\",SUM('Data Input'!C431:AQ431))","v":""},{"$f":"IF(G427=\"\",\"\",G427/(COUNTA('Data Input'!$C$8:$AQ$8)-1))","v":""},{"$f":"IF(ISBLANK('Data Input'!A431),\"\",SUM('Data Input'!C431,'Data Input'!K431,'Data Input'!L431,'Data Input'!AC431,'Data Input'!AF431,'Data Input'!AM431,'Data Input'!AO431))","v":""},{"$f":"IF(I427=\"\",\"\",I427/COUNTIF('Data Input'!$C$8:$AQ$8,$I$2))","v":""},{"$f":"IF(ISBLANK('Data Input'!A431),\"\",SUM('Data Input'!D431,'Data Input'!E431,'Data Input'!F431,'Data Input'!G431,'Data Input'!J431,'Data Input'!O431,'Data Input'!P431,'Data Input'!S431,'Data Input'!U431,'Data Input'!X431,'Data Input'!Z431,'Data Input'!AA431,'Data Input'!AB431,'Data Input'!AE431,'Data Input'!AG431,'Data Input'!AH431,'Data Input'!AJ431,'Data Input'!AK431,'Data Input'!AL431,'Data Input'!AN431))","v":""},{"$f":"IF(K427=\"\",\"\",K427/COUNTIF('Data Input'!$C$8:$AQ$8,$K$2))","v":""},{"$f":"IF(ISBLANK('Data Input'!A431),\"\",SUM('Data Input'!V431))","v":""},{"$f":"IF(M427=\"\",\"\",M427/COUNTIF('Data Input'!$C$8:$AQ$8,$M$2))","v":""},{"$f":"IF(ISBLANK('Data Input'!A431),\"\",SUM('Data Input'!H431,'Data Input'!I431,'Data Input'!M431,'Data Input'!N431,'Data Input'!Q431,'Data Input'!R431,'Data Input'!T431,'Data Input'!Y431,'Data Input'!AD431,'Data Input'!AI431,'Data Input'!AP431,'Data Input'!AQ431))","v":""},{"$f":"IF(O427=\"\",\"\",O427/COUNTIF('Data Input'!$C$8:$AQ$8,$O$2))","v":""}]
[{"$f":"IF('Data Input'!A432=0,\"\",'Data Input'!A432)","v":""},{"$f":"IF(ISBLANK('Data Input'!A432),\"\",COUNTIF('Data Input'!C432:AQ432,\"\")-1)","v":""},{"$f":"IF(ISBLANK('Data Input'!A432),\"\",COUNTIF('Data Input'!C432:AQ432,\"0\"))","v":""},{"$f":"IF(ISBLANK('Data Input'!A432),\"\",SUM(B428,C428))","v":""},{"$f":"IF(ISBLANK('Data Input'!A432),\"\",SUM('Data Input'!C432:V432))","v":""},{"$f":"IF(ISBLANK('Data Input'!A432),\"\",SUM('Data Input'!X432:AQ432))","v":""},{"$f":"IF(ISBLANK('Data Input'!A432),\"\",SUM('Data Input'!C432:AQ432))","v":""},{"$f":"IF(G428=\"\",\"\",G428/(COUNTA('Data Input'!$C$8:$AQ$8)-1))","v":""},{"$f":"IF(ISBLANK('Data Input'!A432),\"\",SUM('Data Input'!C432,'Data Input'!K432,'Data Input'!L432,'Data Input'!AC432,'Data Input'!AF432,'Data Input'!AM432,'Data Input'!AO432))","v":""},{"$f":"IF(I428=\"\",\"\",I428/COUNTIF('Data Input'!$C$8:$AQ$8,$I$2))","v":""},{"$f":"IF(ISBLANK('Data Input'!A432),\"\",SUM('Data Input'!D432,'Data Input'!E432,'Data Input'!F432,'Data Input'!G432,'Data Input'!J432,'Data Input'!O432,'Data Input'!P432,'Data Input'!S432,'Data Input'!U432,'Data Input'!X432,'Data Input'!Z432,'Data Input'!AA432,'Data Input'!AB432,'Data Input'!AE432,'Data Input'!AG432,'Data Input'!AH432,'Data Input'!AJ432,'Data Input'!AK432,'Data Input'!AL432,'Data Input'!AN432))","v":""},{"$f":"IF(K428=\"\",\"\",K428/COUNTIF('Data Input'!$C$8:$AQ$8,$K$2))","v":""},{"$f":"IF(ISBLANK('Data Input'!A432),\"\",SUM('Data Input'!V432))","v":""},{"$f":"IF(M428=\"\",\"\",M428/COUNTIF('Data Input'!$C$8:$AQ$8,$M$2))","v":""},{"$f":"IF(ISBLANK('Data Input'!A432),\"\",SUM('Data Input'!H432,'Data Input'!I432,'Data Input'!M432,'Data Input'!N432,'Data Input'!Q432,'Data Input'!R432,'Data Input'!T432,'Data Input'!Y432,'Data Input'!AD432,'Data Input'!AI432,'Data Input'!AP432,'Data Input'!AQ432))","v":""},{"$f":"IF(O428=\"\",\"\",O428/COUNTIF('Data Input'!$C$8:$AQ$8,$O$2))","v":""}]
[{"$f":"IF('Data Input'!A433=0,\"\",'Data Input'!A433)","v":""},{"$f":"IF(ISBLANK('Data Input'!A433),\"\",COUNTIF('Data Input'!C433:AQ433,\"\")-1)","v":""},{"$f":"IF(ISBLANK('Data Input'!A433),\"\",COUNTIF('Data Input'!C433:AQ433,\"0\"))","v":""},{"$f":"IF(ISBLANK('Data Input'!A433),\"\",SUM(B429,C429))","v":""},{"$f":"IF(ISBLANK('Data Input'!A433),\"\",SUM('Data Input'!C433:V433))","v":""},{"$f":"IF(ISBLANK('Data Input'!A433),\"\",SUM('Data Input'!X433:AQ433))","v":""},{"$f":"IF(ISBLANK('Data Input'!A433),\"\",SUM('Data Input'!C433:AQ433))","v":""},{"$f":"IF(G429=\"\",\"\",G429/(COUNTA('Data Input'!$C$8:$AQ$8)-1))","v":""},{"$f":"IF(ISBLANK('Data Input'!A433),\"\",SUM('Data Input'!C433,'Data Input'!K433,'Data Input'!L433,'Data Input'!AC433,'Data Input'!AF433,'Data Input'!AM433,'Data Input'!AO433))","v":""},{"$f":"IF(I429=\"\",\"\",I429/COUNTIF('Data Input'!$C$8:$AQ$8,$I$2))","v":""},{"$f":"IF(ISBLANK('Data Input'!A433),\"\",SUM('Data Input'!D433,'Data Input'!E433,'Data Input'!F433,'Data Input'!G433,'Data Input'!J433,'Data Input'!O433,'Data Input'!P433,'Data Input'!S433,'Data Input'!U433,'Data Input'!X433,'Data Input'!Z433,'Data Input'!AA433,'Data Input'!AB433,'Data Input'!AE433,'Data Input'!AG433,'Data Input'!AH433,'Data Input'!AJ433,'Data Input'!AK433,'Data Input'!AL433,'Data Input'!AN433))","v":""},{"$f":"IF(K429=\"\",\"\",K429/COUNTIF('Data Input'!$C$8:$AQ$8,$K$2))","v":""},{"$f":"IF(ISBLANK('Data Input'!A433),\"\",SUM('Data Input'!V433))","v":""},{"$f":"IF(M429=\"\",\"\",M429/COUNTIF('Data Input'!$C$8:$AQ$8,$M$2))","v":""},{"$f":"IF(ISBLANK('Data Input'!A433),\"\",SUM('Data Input'!H433,'Data Input'!I433,'Data Input'!M433,'Data Input'!N433,'Data Input'!Q433,'Data Input'!R433,'Data Input'!T433,'Data Input'!Y433,'Data Input'!AD433,'Data Input'!AI433,'Data Input'!AP433,'Data Input'!AQ433))","v":""},{"$f":"IF(O429=\"\",\"\",O429/COUNTIF('Data Input'!$C$8:$AQ$8,$O$2))","v":""}]
[{"$f":"IF('Data Input'!A434=0,\"\",'Data Input'!A434)","v":""},{"$f":"IF(ISBLANK('Data Input'!A434),\"\",COUNTIF('Data Input'!C434:AQ434,\"\")-1)","v":""},{"$f":"IF(ISBLANK('Data Input'!A434),\"\",COUNTIF('Data Input'!C434:AQ434,\"0\"))","v":""},{"$f":"IF(ISBLANK('Data Input'!A434),\"\",SUM(B430,C430))","v":""},{"$f":"IF(ISBLANK('Data Input'!A434),\"\",SUM('Data Input'!C434:V434))","v":""},{"$f":"IF(ISBLANK('Data Input'!A434),\"\",SUM('Data Input'!X434:AQ434))","v":""},{"$f":"IF(ISBLANK('Data Input'!A434),\"\",SUM('Data Input'!C434:AQ434))","v":""},{"$f":"IF(G430=\"\",\"\",G430/(COUNTA('Data Input'!$C$8:$AQ$8)-1))","v":""},{"$f":"IF(ISBLANK('Data Input'!A434),\"\",SUM('Data Input'!C434,'Data Input'!K434,'Data Input'!L434,'Data Input'!AC434,'Data Input'!AF434,'Data Input'!AM434,'Data Input'!AO434))","v":""},{"$f":"IF(I430=\"\",\"\",I430/COUNTIF('Data Input'!$C$8:$AQ$8,$I$2))","v":""},{"$f":"IF(ISBLANK('Data Input'!A434),\"\",SUM('Data Input'!D434,'Data Input'!E434,'Data Input'!F434,'Data Input'!G434,'Data Input'!J434,'Data Input'!O434,'Data Input'!P434,'Data Input'!S434,'Data Input'!U434,'Data Input'!X434,'Data Input'!Z434,'Data Input'!AA434,'Data Input'!AB434,'Data Input'!AE434,'Data Input'!AG434,'Data Input'!AH434,'Data Input'!AJ434,'Data Input'!AK434,'Data Input'!AL434,'Data Input'!AN434))","v":""},{"$f":"IF(K430=\"\",\"\",K430/COUNTIF('Data Input'!$C$8:$AQ$8,$K$2))","v":""},{"$f":"IF(ISBLANK('Data Input'!A434),\"\",SUM('Data Input'!V434))","v":""},{"$f":"IF(M430=\"\",\"\",M430/COUNTIF('Data Input'!$C$8:$AQ$8,$M$2))","v":""},{"$f":"IF(ISBLANK('Data Input'!A434),\"\",SUM('Data Input'!H434,'Data Input'!I434,'Data Input'!M434,'Data Input'!N434,'Data Input'!Q434,'Data Input'!R434,'Data Input'!T434,'Data Input'!Y434,'Data Input'!AD434,'Data Input'!AI434,'Data Input'!AP434,'Data Input'!AQ434))","v":""},{"$f":"IF(O430=\"\",\"\",O430/COUNTIF('Data Input'!$C$8:$AQ$8,$O$2))","v":""}]
[{"$f":"IF('Data Input'!A435=0,\"\",'Data Input'!A435)","v":""},{"$f":"IF(ISBLANK('Data Input'!A435),\"\",COUNTIF('Data Input'!C435:AQ435,\"\")-1)","v":""},{"$f":"IF(ISBLANK('Data Input'!A435),\"\",COUNTIF('Data Input'!C435:AQ435,\"0\"))","v":""},{"$f":"IF(ISBLANK('Data Input'!A435),\"\",SUM(B431,C431))","v":""},{"$f":"IF(ISBLANK('Data Input'!A435),\"\",SUM('Data Input'!C435:V435))","v":""},{"$f":"IF(ISBLANK('Data Input'!A435),\"\",SUM('Data Input'!X435:AQ435))","v":""},{"$f":"IF(ISBLANK('Data Input'!A435),\"\",SUM('Data Input'!C435:AQ435))","v":""},{"$f":"IF(G431=\"\",\"\",G431/(COUNTA('Data Input'!$C$8:$AQ$8)-1))","v":""},{"$f":"IF(ISBLANK('Data Input'!A435),\"\",SUM('Data Input'!C435,'Data Input'!K435,'Data Input'!L435,'Data Input'!AC435,'Data Input'!AF435,'Data Input'!AM435,'Data Input'!AO435))","v":""},{"$f":"IF(I431=\"\",\"\",I431/COUNTIF('Data Input'!$C$8:$AQ$8,$I$2))","v":""},{"$f":"IF(ISBLANK('Data Input'!A435),\"\",SUM('Data Input'!D435,'Data Input'!E435,'Data Input'!F435,'Data Input'!G435,'Data Input'!J435,'Data Input'!O435,'Data Input'!P435,'Data Input'!S435,'Data Input'!U435,'Data Input'!X435,'Data Input'!Z435,'Data Input'!AA435,'Data Input'!AB435,'Data Input'!AE435,'Data Input'!AG435,'Data Input'!AH435,'Data Input'!AJ435,'Data Input'!AK435,'Data Input'!AL435,'Data Input'!AN435))","v":""},{"$f":"IF(K431=\"\",\"\",K431/COUNTIF('Data Input'!$C$8:$AQ$8,$K$2))","v":""},{"$f":"IF(ISBLANK('Data Input'!A435),\"\",SUM('Data Input'!V435))","v":""},{"$f":"IF(M431=\"\",\"\",M431/COUNTIF('Data Input'!$C$8:$AQ$8,$M$2))","v":""},{"$f":"IF(ISBLANK('Data Input'!A435),\"\",SUM('Data Input'!H435,'Data Input'!I435,'Data Input'!M435,'Data Input'!N435,'Data Input'!Q435,'Data Input'!R435,'Data Input'!T435,'Data Input'!Y435,'Data Input'!AD435,'Data Input'!AI435,'Data Input'!AP435,'Data Input'!AQ435))","v":""},{"$f":"IF(O431=\"\",\"\",O431/COUNTIF('Data Input'!$C$8:$AQ$8,$O$2))","v":""}]
[{"$f":"IF('Data Input'!A436=0,\"\",'Data Input'!A436)","v":""},{"$f":"IF(ISBLANK('Data Input'!A436),\"\",COUNTIF('Data Input'!C436:AQ436,\"\")-1)","v":""},{"$f":"IF(ISBLANK('Data Input'!A436),\"\",COUNTIF('Data Input'!C436:AQ436,\"0\"))","v":""},{"$f":"IF(ISBLANK('Data Input'!A436),\"\",SUM(B432,C432))","v":""},{"$f":"IF(ISBLANK('Data Input'!A436),\"\",SUM('Data Input'!C436:V436))","v":""},{"$f":"IF(ISBLANK('Data Input'!A436),\"\",SUM('Data Input'!X436:AQ436))","v":""},{"$f":"IF(ISBLANK('Data Input'!A436),\"\",SUM('Data Input'!C436:AQ436))","v":""},{"$f":"IF(G432=\"\",\"\",G432/(COUNTA('Data Input'!$C$8:$AQ$8)-1))","v":""},{"$f":"IF(ISBLANK('Data Input'!A436),\"\",SUM('Data Input'!C436,'Data Input'!K436,'Data Input'!L436,'Data Input'!AC436,'Data Input'!AF436,'Data Input'!AM436,'Data Input'!AO436))","v":""},{"$f":"IF(I432=\"\",\"\",I432/COUNTIF('Data Input'!$C$8:$AQ$8,$I$2))","v":""},{"$f":"IF(ISBLANK('Data Input'!A436),\"\",SUM('Data Input'!D436,'Data Input'!E436,'Data Input'!F436,'Data Input'!G436,'Data Input'!J436,'Data Input'!O436,'Data Input'!P436,'Data Input'!S436,'Data Input'!U436,'Data Input'!X436,'Data Input'!Z436,'Data Input'!AA436,'Data Input'!AB436,'Data Input'!AE436,'Data Input'!AG436,'Data Input'!AH436,'Data Input'!AJ436,'Data Input'!AK436,'Data Input'!AL436,'Data Input'!AN436))","v":""},{"$f":"IF(K432=\"\",\"\",K432/COUNTIF('Data Input'!$C$8:$AQ$8,$K$2))","v":""},{"$f":"IF(ISBLANK('Data Input'!A436),\"\",SUM('Data Input'!V436))","v":""},{"$f":"IF(M432=\"\",\"\",M432/COUNTIF('Data Input'!$C$8:$AQ$8,$M$2))","v":""},{"$f":"IF(ISBLANK('Data Input'!A436),\"\",SUM('Data Input'!H436,'Data Input'!I436,'Data Input'!M436,'Data Input'!N436,'Data Input'!Q436,'Data Input'!R436,'Data Input'!T436,'Data Input'!Y436,'Data Input'!AD436,'Data Input'!AI436,'Data Input'!AP436,'Data Input'!AQ436))","v":""},{"$f":"IF(O432=\"\",\"\",O432/COUNTIF('Data Input'!$C$8:$AQ$8,$O$2))","v":""}]
[{"$f":"IF('Data Input'!A437=0,\"\",'Data Input'!A437)","v":""},{"$f":"IF(ISBLANK('Data Input'!A437),\"\",COUNTIF('Data Input'!C437:AQ437,\"\")-1)","v":""},{"$f":"IF(ISBLANK('Data Input'!A437),\"\",COUNTIF('Data Input'!C437:AQ437,\"0\"))","v":""},{"$f":"IF(ISBLANK('Data Input'!A437),\"\",SUM(B433,C433))","v":""},{"$f":"IF(ISBLANK('Data Input'!A437),\"\",SUM('Data Input'!C437:V437))","v":""},{"$f":"IF(ISBLANK('Data Input'!A437),\"\",SUM('Data Input'!X437:AQ437))","v":""},{"$f":"IF(ISBLANK('Data Input'!A437),\"\",SUM('Data Input'!C437:AQ437))","v":""},{"$f":"IF(G433=\"\",\"\",G433/(COUNTA('Data Input'!$C$8:$AQ$8)-1))","v":""},{"$f":"IF(ISBLANK('Data Input'!A437),\"\",SUM('Data Input'!C437,'Data Input'!K437,'Data Input'!L437,'Data Input'!AC437,'Data Input'!AF437,'Data Input'!AM437,'Data Input'!AO437))","v":""},{"$f":"IF(I433=\"\",\"\",I433/COUNTIF('Data Input'!$C$8:$AQ$8,$I$2))","v":""},{"$f":"IF(ISBLANK('Data Input'!A437),\"\",SUM('Data Input'!D437,'Data Input'!E437,'Data Input'!F437,'Data Input'!G437,'Data Input'!J437,'Data Input'!O437,'Data Input'!P437,'Data Input'!S437,'Data Input'!U437,'Data Input'!X437,'Data Input'!Z437,'Data Input'!AA437,'Data Input'!AB437,'Data Input'!AE437,'Data Input'!AG437,'Data Input'!AH437,'Data Input'!AJ437,'Data Input'!AK437,'Data Input'!AL437,'Data Input'!AN437))","v":""},{"$f":"IF(K433=\"\",\"\",K433/COUNTIF('Data Input'!$C$8:$AQ$8,$K$2))","v":""},{"$f":"IF(ISBLANK('Data Input'!A437),\"\",SUM('Data Input'!V437))","v":""},{"$f":"IF(M433=\"\",\"\",M433/COUNTIF('Data Input'!$C$8:$AQ$8,$M$2))","v":""},{"$f":"IF(ISBLANK('Data Input'!A437),\"\",SUM('Data Input'!H437,'Data Input'!I437,'Data Input'!M437,'Data Input'!N437,'Data Input'!Q437,'Data Input'!R437,'Data Input'!T437,'Data Input'!Y437,'Data Input'!AD437,'Data Input'!AI437,'Data Input'!AP437,'Data Input'!AQ437))","v":""},{"$f":"IF(O433=\"\",\"\",O433/COUNTIF('Data Input'!$C$8:$AQ$8,$O$2))","v":""}]
[{"$f":"IF('Data Input'!A438=0,\"\",'Data Input'!A438)","v":""},{"$f":"IF(ISBLANK('Data Input'!A438),\"\",COUNTIF('Data Input'!C438:AQ438,\"\")-1)","v":""},{"$f":"IF(ISBLANK('Data Input'!A438),\"\",COUNTIF('Data Input'!C438:AQ438,\"0\"))","v":""},{"$f":"IF(ISBLANK('Data Input'!A438),\"\",SUM(B434,C434))","v":""},{"$f":"IF(ISBLANK('Data Input'!A438),\"\",SUM('Data Input'!C438:V438))","v":""},{"$f":"IF(ISBLANK('Data Input'!A438),\"\",SUM('Data Input'!X438:AQ438))","v":""},{"$f":"IF(ISBLANK('Data Input'!A438),\"\",SUM('Data Input'!C438:AQ438))","v":""},{"$f":"IF(G434=\"\",\"\",G434/(COUNTA('Data Input'!$C$8:$AQ$8)-1))","v":""},{"$f":"IF(ISBLANK('Data Input'!A438),\"\",SUM('Data Input'!C438,'Data Input'!K438,'Data Input'!L438,'Data Input'!AC438,'Data Input'!AF438,'Data Input'!AM438,'Data Input'!AO438))","v":""},{"$f":"IF(I434=\"\",\"\",I434/COUNTIF('Data Input'!$C$8:$AQ$8,$I$2))","v":""},{"$f":"IF(ISBLANK('Data Input'!A438),\"\",SUM('Data Input'!D438,'Data Input'!E438,'Data Input'!F438,'Data Input'!G438,'Data Input'!J438,'Data Input'!O438,'Data Input'!P438,'Data Input'!S438,'Data Input'!U438,'Data Input'!X438,'Data Input'!Z438,'Data Input'!AA438,'Data Input'!AB438,'Data Input'!AE438,'Data Input'!AG438,'Data Input'!AH438,'Data Input'!AJ438,'Data Input'!AK438,'Data Input'!AL438,'Data Input'!AN438))","v":""},{"$f":"IF(K434=\"\",\"\",K434/COUNTIF('Data Input'!$C$8:$AQ$8,$K$2))","v":""},{"$f":"IF(ISBLANK('Data Input'!A438),\"\",SUM('Data Input'!V438))","v":""},{"$f":"IF(M434=\"\",\"\",M434/COUNTIF('Data Input'!$C$8:$AQ$8,$M$2))","v":""},{"$f":"IF(ISBLANK('Data Input'!A438),\"\",SUM('Data Input'!H438,'Data Input'!I438,'Data Input'!M438,'Data Input'!N438,'Data Input'!Q438,'Data Input'!R438,'Data Input'!T438,'Data Input'!Y438,'Data Input'!AD438,'Data Input'!AI438,'Data Input'!AP438,'Data Input'!AQ438))","v":""},{"$f":"IF(O434=\"\",\"\",O434/COUNTIF('Data Input'!$C$8:$AQ$8,$O$2))","v":""}]
[{"$f":"IF('Data Input'!A439=0,\"\",'Data Input'!A439)","v":""},{"$f":"IF(ISBLANK('Data Input'!A439),\"\",COUNTIF('Data Input'!C439:AQ439,\"\")-1)","v":""},{"$f":"IF(ISBLANK('Data Input'!A439),\"\",COUNTIF('Data Input'!C439:AQ439,\"0\"))","v":""},{"$f":"IF(ISBLANK('Data Input'!A439),\"\",SUM(B435,C435))","v":""},{"$f":"IF(ISBLANK('Data Input'!A439),\"\",SUM('Data Input'!C439:V439))","v":""},{"$f":"IF(ISBLANK('Data Input'!A439),\"\",SUM('Data Input'!X439:AQ439))","v":""},{"$f":"IF(ISBLANK('Data Input'!A439),\"\",SUM('Data Input'!C439:AQ439))","v":""},{"$f":"IF(G435=\"\",\"\",G435/(COUNTA('Data Input'!$C$8:$AQ$8)-1))","v":""},{"$f":"IF(ISBLANK('Data Input'!A439),\"\",SUM('Data Input'!C439,'Data Input'!K439,'Data Input'!L439,'Data Input'!AC439,'Data Input'!AF439,'Data Input'!AM439,'Data Input'!AO439))","v":""},{"$f":"IF(I435=\"\",\"\",I435/COUNTIF('Data Input'!$C$8:$AQ$8,$I$2))","v":""},{"$f":"IF(ISBLANK('Data Input'!A439),\"\",SUM('Data Input'!D439,'Data Input'!E439,'Data Input'!F439,'Data Input'!G439,'Data Input'!J439,'Data Input'!O439,'Data Input'!P439,'Data Input'!S439,'Data Input'!U439,'Data Input'!X439,'Data Input'!Z439,'Data Input'!AA439,'Data Input'!AB439,'Data Input'!AE439,'Data Input'!AG439,'Data Input'!AH439,'Data Input'!AJ439,'Data Input'!AK439,'Data Input'!AL439,'Data Input'!AN439))","v":""},{"$f":"IF(K435=\"\",\"\",K435/COUNTIF('Data Input'!$C$8:$AQ$8,$K$2))","v":""},{"$f":"IF(ISBLANK('Data Input'!A439),\"\",SUM('Data Input'!V439))","v":""},{"$f":"IF(M435=\"\",\"\",M435/COUNTIF('Data Input'!$C$8:$AQ$8,$M$2))","v":""},{"$f":"IF(ISBLANK('Data Input'!A439),\"\",SUM('Data Input'!H439,'Data Input'!I439,'Data Input'!M439,'Data Input'!N439,'Data Input'!Q439,'Data Input'!R439,'Data Input'!T439,'Data Input'!Y439,'Data Input'!AD439,'Data Input'!AI439,'Data Input'!AP439,'Data Input'!AQ439))","v":""},{"$f":"IF(O435=\"\",\"\",O435/COUNTIF('Data Input'!$C$8:$AQ$8,$O$2))","v":""}]
[{"$f":"IF('Data Input'!A440=0,\"\",'Data Input'!A440)","v":""},{"$f":"IF(ISBLANK('Data Input'!A440),\"\",COUNTIF('Data Input'!C440:AQ440,\"\")-1)","v":""},{"$f":"IF(ISBLANK('Data Input'!A440),\"\",COUNTIF('Data Input'!C440:AQ440,\"0\"))","v":""},{"$f":"IF(ISBLANK('Data Input'!A440),\"\",SUM(B436,C436))","v":""},{"$f":"IF(ISBLANK('Data Input'!A440),\"\",SUM('Data Input'!C440:V440))","v":""},{"$f":"IF(ISBLANK('Data Input'!A440),\"\",SUM('Data Input'!X440:AQ440))","v":""},{"$f":"IF(ISBLANK('Data Input'!A440),\"\",SUM('Data Input'!C440:AQ440))","v":""},{"$f":"IF(G436=\"\",\"\",G436/(COUNTA('Data Input'!$C$8:$AQ$8)-1))","v":""},{"$f":"IF(ISBLANK('Data Input'!A440),\"\",SUM('Data Input'!C440,'Data Input'!K440,'Data Input'!L440,'Data Input'!AC440,'Data Input'!AF440,'Data Input'!AM440,'Data Input'!AO440))","v":""},{"$f":"IF(I436=\"\",\"\",I436/COUNTIF('Data Input'!$C$8:$AQ$8,$I$2))","v":""},{"$f":"IF(ISBLANK('Data Input'!A440),\"\",SUM('Data Input'!D440,'Data Input'!E440,'Data Input'!F440,'Data Input'!G440,'Data Input'!J440,'Data Input'!O440,'Data Input'!P440,'Data Input'!S440,'Data Input'!U440,'Data Input'!X440,'Data Input'!Z440,'Data Input'!AA440,'Data Input'!AB440,'Data Input'!AE440,'Data Input'!AG440,'Data Input'!AH440,'Data Input'!AJ440,'Data Input'!AK440,'Data Input'!AL440,'Data Input'!AN440))","v":""},{"$f":"IF(K436=\"\",\"\",K436/COUNTIF('Data Input'!$C$8:$AQ$8,$K$2))","v":""},{"$f":"IF(ISBLANK('Data Input'!A440),\"\",SUM('Data Input'!V440))","v":""},{"$f":"IF(M436=\"\",\"\",M436/COUNTIF('Data Input'!$C$8:$AQ$8,$M$2))","v":""},{"$f":"IF(ISBLANK('Data Input'!A440),\"\",SUM('Data Input'!H440,'Data Input'!I440,'Data Input'!M440,'Data Input'!N440,'Data Input'!Q440,'Data Input'!R440,'Data Input'!T440,'Data Input'!Y440,'Data Input'!AD440,'Data Input'!AI440,'Data Input'!AP440,'Data Input'!AQ440))","v":""},{"$f":"IF(O436=\"\",\"\",O436/COUNTIF('Data Input'!$C$8:$AQ$8,$O$2))","v":""}]
[{"$f":"IF('Data Input'!A441=0,\"\",'Data Input'!A441)","v":""},{"$f":"IF(ISBLANK('Data Input'!A441),\"\",COUNTIF('Data Input'!C441:AQ441,\"\")-1)","v":""},{"$f":"IF(ISBLANK('Data Input'!A441),\"\",COUNTIF('Data Input'!C441:AQ441,\"0\"))","v":""},{"$f":"IF(ISBLANK('Data Input'!A441),\"\",SUM(B437,C437))","v":""},{"$f":"IF(ISBLANK('Data Input'!A441),\"\",SUM('Data Input'!C441:V441))","v":""},{"$f":"IF(ISBLANK('Data Input'!A441),\"\",SUM('Data Input'!X441:AQ441))","v":""},{"$f":"IF(ISBLANK('Data Input'!A441),\"\",SUM('Data Input'!C441:AQ441))","v":""},{"$f":"IF(G437=\"\",\"\",G437/(COUNTA('Data Input'!$C$8:$AQ$8)-1))","v":""},{"$f":"IF(ISBLANK('Data Input'!A441),\"\",SUM('Data Input'!C441,'Data Input'!K441,'Data Input'!L441,'Data Input'!AC441,'Data Input'!AF441,'Data Input'!AM441,'Data Input'!AO441))","v":""},{"$f":"IF(I437=\"\",\"\",I437/COUNTIF('Data Input'!$C$8:$AQ$8,$I$2))","v":""},{"$f":"IF(ISBLANK('Data Input'!A441),\"\",SUM('Data Input'!D441,'Data Input'!E441,'Data Input'!F441,'Data Input'!G441,'Data Input'!J441,'Data Input'!O441,'Data Input'!P441,'Data Input'!S441,'Data Input'!U441,'Data Input'!X441,'Data Input'!Z441,'Data Input'!AA441,'Data Input'!AB441,'Data Input'!AE441,'Data Input'!AG441,'Data Input'!AH441,'Data Input'!AJ441,'Data Input'!AK441,'Data Input'!AL441,'Data Input'!AN441))","v":""},{"$f":"IF(K437=\"\",\"\",K437/COUNTIF('Data Input'!$C$8:$AQ$8,$K$2))","v":""},{"$f":"IF(ISBLANK('Data Input'!A441),\"\",SUM('Data Input'!V441))","v":""},{"$f":"IF(M437=\"\",\"\",M437/COUNTIF('Data Input'!$C$8:$AQ$8,$M$2))","v":""},{"$f":"IF(ISBLANK('Data Input'!A441),\"\",SUM('Data Input'!H441,'Data Input'!I441,'Data Input'!M441,'Data Input'!N441,'Data Input'!Q441,'Data Input'!R441,'Data Input'!T441,'Data Input'!Y441,'Data Input'!AD441,'Data Input'!AI441,'Data Input'!AP441,'Data Input'!AQ441))","v":""},{"$f":"IF(O437=\"\",\"\",O437/COUNTIF('Data Input'!$C$8:$AQ$8,$O$2))","v":""}]
[{"$f":"IF('Data Input'!A442=0,\"\",'Data Input'!A442)","v":""},{"$f":"IF(ISBLANK('Data Input'!A442),\"\",COUNTIF('Data Input'!C442:AQ442,\"\")-1)","v":""},{"$f":"IF(ISBLANK('Data Input'!A442),\"\",COUNTIF('Data Input'!C442:AQ442,\"0\"))","v":""},{"$f":"IF(ISBLANK('Data Input'!A442),\"\",SUM(B438,C438))","v":""},{"$f":"IF(ISBLANK('Data Input'!A442),\"\",SUM('Data Input'!C442:V442))","v":""},{"$f":"IF(ISBLANK('Data Input'!A442),\"\",SUM('Data Input'!X442:AQ442))","v":""},{"$f":"IF(ISBLANK('Data Input'!A442),\"\",SUM('Data Input'!C442:AQ442))","v":""},{"$f":"IF(G438=\"\",\"\",G438/(COUNTA('Data Input'!$C$8:$AQ$8)-1))","v":""},{"$f":"IF(ISBLANK('Data Input'!A442),\"\",SUM('Data Input'!C442,'Data Input'!K442,'Data Input'!L442,'Data Input'!AC442,'Data Input'!AF442,'Data Input'!AM442,'Data Input'!AO442))","v":""},{"$f":"IF(I438=\"\",\"\",I438/COUNTIF('Data Input'!$C$8:$AQ$8,$I$2))","v":""},{"$f":"IF(ISBLANK('Data Input'!A442),\"\",SUM('Data Input'!D442,'Data Input'!E442,'Data Input'!F442,'Data Input'!G442,'Data Input'!J442,'Data Input'!O442,'Data Input'!P442,'Data Input'!S442,'Data Input'!U442,'Data Input'!X442,'Data Input'!Z442,'Data Input'!AA442,'Data Input'!AB442,'Data Input'!AE442,'Data Input'!AG442,'Data Input'!AH442,'Data Input'!AJ442,'Data Input'!AK442,'Data Input'!AL442,'Data Input'!AN442))","v":""},{"$f":"IF(K438=\"\",\"\",K438/COUNTIF('Data Input'!$C$8:$AQ$8,$K$2))","v":""},{"$f":"IF(ISBLANK('Data Input'!A442),\"\",SUM('Data Input'!V442))","v":""},{"$f":"IF(M438=\"\",\"\",M438/COUNTIF('Data Input'!$C$8:$AQ$8,$M$2))","v":""},{"$f":"IF(ISBLANK('Data Input'!A442),\"\",SUM('Data Input'!H442,'Data Input'!I442,'Data Input'!M442,'Data Input'!N442,'Data Input'!Q442,'Data Input'!R442,'Data Input'!T442,'Data Input'!Y442,'Data Input'!AD442,'Data Input'!AI442,'Data Input'!AP442,'Data Input'!AQ442))","v":""},{"$f":"IF(O438=\"\",\"\",O438/COUNTIF('Data Input'!$C$8:$AQ$8,$O$2))","v":""}]
[{"$f":"IF('Data Input'!A443=0,\"\",'Data Input'!A443)","v":""},{"$f":"IF(ISBLANK('Data Input'!A443),\"\",COUNTIF('Data Input'!C443:AQ443,\"\")-1)","v":""},{"$f":"IF(ISBLANK('Data Input'!A443),\"\",COUNTIF('Data Input'!C443:AQ443,\"0\"))","v":""},{"$f":"IF(ISBLANK('Data Input'!A443),\"\",SUM(B439,C439))","v":""},{"$f":"IF(ISBLANK('Data Input'!A443),\"\",SUM('Data Input'!C443:V443))","v":""},{"$f":"IF(ISBLANK('Data Input'!A443),\"\",SUM('Data Input'!X443:AQ443))","v":""},{"$f":"IF(ISBLANK('Data Input'!A443),\"\",SUM('Data Input'!C443:AQ443))","v":""},{"$f":"IF(G439=\"\",\"\",G439/(COUNTA('Data Input'!$C$8:$AQ$8)-1))","v":""},{"$f":"IF(ISBLANK('Data Input'!A443),\"\",SUM('Data Input'!C443,'Data Input'!K443,'Data Input'!L443,'Data Input'!AC443,'Data Input'!AF443,'Data Input'!AM443,'Data Input'!AO443))","v":""},{"$f":"IF(I439=\"\",\"\",I439/COUNTIF('Data Input'!$C$8:$AQ$8,$I$2))","v":""},{"$f":"IF(ISBLANK('Data Input'!A443),\"\",SUM('Data Input'!D443,'Data Input'!E443,'Data Input'!F443,'Data Input'!G443,'Data Input'!J443,'Data Input'!O443,'Data Input'!P443,'Data Input'!S443,'Data Input'!U443,'Data Input'!X443,'Data Input'!Z443,'Data Input'!AA443,'Data Input'!AB443,'Data Input'!AE443,'Data Input'!AG443,'Data Input'!AH443,'Data Input'!AJ443,'Data Input'!AK443,'Data Input'!AL443,'Data Input'!AN443))","v":""},{"$f":"IF(K439=\"\",\"\",K439/COUNTIF('Data Input'!$C$8:$AQ$8,$K$2))","v":""},{"$f":"IF(ISBLANK('Data Input'!A443),\"\",SUM('Data Input'!V443))","v":""},{"$f":"IF(M439=\"\",\"\",M439/COUNTIF('Data Input'!$C$8:$AQ$8,$M$2))","v":""},{"$f":"IF(ISBLANK('Data Input'!A443),\"\",SUM('Data Input'!H443,'Data Input'!I443,'Data Input'!M443,'Data Input'!N443,'Data Input'!Q443,'Data Input'!R443,'Data Input'!T443,'Data Input'!Y443,'Data Input'!AD443,'Data Input'!AI443,'Data Input'!AP443,'Data Input'!AQ443))","v":""},{"$f":"IF(O439=\"\",\"\",O439/COUNTIF('Data Input'!$C$8:$AQ$8,$O$2))","v":""}]
[{"$f":"IF('Data Input'!A444=0,\"\",'Data Input'!A444)","v":""},{"$f":"IF(ISBLANK('Data Input'!A444),\"\",COUNTIF('Data Input'!C444:AQ444,\"\")-1)","v":""},{"$f":"IF(ISBLANK('Data Input'!A444),\"\",COUNTIF('Data Input'!C444:AQ444,\"0\"))","v":""},{"$f":"IF(ISBLANK('Data Input'!A444),\"\",SUM(B440,C440))","v":""},{"$f":"IF(ISBLANK('Data Input'!A444),\"\",SUM('Data Input'!C444:V444))","v":""},{"$f":"IF(ISBLANK('Data Input'!A444),\"\",SUM('Data Input'!X444:AQ444))","v":""},{"$f":"IF(ISBLANK('Data Input'!A444),\"\",SUM('Data Input'!C444:AQ444))","v":""},{"$f":"IF(G440=\"\",\"\",G440/(COUNTA('Data Input'!$C$8:$AQ$8)-1))","v":""},{"$f":"IF(ISBLANK('Data Input'!A444),\"\",SUM('Data Input'!C444,'Data Input'!K444,'Data Input'!L444,'Data Input'!AC444,'Data Input'!AF444,'Data Input'!AM444,'Data Input'!AO444))","v":""},{"$f":"IF(I440=\"\",\"\",I440/COUNTIF('Data Input'!$C$8:$AQ$8,$I$2))","v":""},{"$f":"IF(ISBLANK('Data Input'!A444),\"\",SUM('Data Input'!D444,'Data Input'!E444,'Data Input'!F444,'Data Input'!G444,'Data Input'!J444,'Data Input'!O444,'Data Input'!P444,'Data Input'!S444,'Data Input'!U444,'Data Input'!X444,'Data Input'!Z444,'Data Input'!AA444,'Data Input'!AB444,'Data Input'!AE444,'Data Input'!AG444,'Data Input'!AH444,'Data Input'!AJ444,'Data Input'!AK444,'Data Input'!AL444,'Data Input'!AN444))","v":""},{"$f":"IF(K440=\"\",\"\",K440/COUNTIF('Data Input'!$C$8:$AQ$8,$K$2))","v":""},{"$f":"IF(ISBLANK('Data Input'!A444),\"\",SUM('Data Input'!V444))","v":""},{"$f":"IF(M440=\"\",\"\",M440/COUNTIF('Data Input'!$C$8:$AQ$8,$M$2))","v":""},{"$f":"IF(ISBLANK('Data Input'!A444),\"\",SUM('Data Input'!H444,'Data Input'!I444,'Data Input'!M444,'Data Input'!N444,'Data Input'!Q444,'Data Input'!R444,'Data Input'!T444,'Data Input'!Y444,'Data Input'!AD444,'Data Input'!AI444,'Data Input'!AP444,'Data Input'!AQ444))","v":""},{"$f":"IF(O440=\"\",\"\",O440/COUNTIF('Data Input'!$C$8:$AQ$8,$O$2))","v":""}]
[{"$f":"IF('Data Input'!A445=0,\"\",'Data Input'!A445)","v":""},{"$f":"IF(ISBLANK('Data Input'!A445),\"\",COUNTIF('Data Input'!C445:AQ445,\"\")-1)","v":""},{"$f":"IF(ISBLANK('Data Input'!A445),\"\",COUNTIF('Data Input'!C445:AQ445,\"0\"))","v":""},{"$f":"IF(ISBLANK('Data Input'!A445),\"\",SUM(B441,C441))","v":""},{"$f":"IF(ISBLANK('Data Input'!A445),\"\",SUM('Data Input'!C445:V445))","v":""},{"$f":"IF(ISBLANK('Data Input'!A445),\"\",SUM('Data Input'!X445:AQ445))","v":""},{"$f":"IF(ISBLANK('Data Input'!A445),\"\",SUM('Data Input'!C445:AQ445))","v":""},{"$f":"IF(G441=\"\",\"\",G441/(COUNTA('Data Input'!$C$8:$AQ$8)-1))","v":""},{"$f":"IF(ISBLANK('Data Input'!A445),\"\",SUM('Data Input'!C445,'Data Input'!K445,'Data Input'!L445,'Data Input'!AC445,'Data Input'!AF445,'Data Input'!AM445,'Data Input'!AO445))","v":""},{"$f":"IF(I441=\"\",\"\",I441/COUNTIF('Data Input'!$C$8:$AQ$8,$I$2))","v":""},{"$f":"IF(ISBLANK('Data Input'!A445),\"\",SUM('Data Input'!D445,'Data Input'!E445,'Data Input'!F445,'Data Input'!G445,'Data Input'!J445,'Data Input'!O445,'Data Input'!P445,'Data Input'!S445,'Data Input'!U445,'Data Input'!X445,'Data Input'!Z445,'Data Input'!AA445,'Data Input'!AB445,'Data Input'!AE445,'Data Input'!AG445,'Data Input'!AH445,'Data Input'!AJ445,'Data Input'!AK445,'Data Input'!AL445,'Data Input'!AN445))","v":""},{"$f":"IF(K441=\"\",\"\",K441/COUNTIF('Data Input'!$C$8:$AQ$8,$K$2))","v":""},{"$f":"IF(ISBLANK('Data Input'!A445),\"\",SUM('Data Input'!V445))","v":""},{"$f":"IF(M441=\"\",\"\",M441/COUNTIF('Data Input'!$C$8:$AQ$8,$M$2))","v":""},{"$f":"IF(ISBLANK('Data Input'!A445),\"\",SUM('Data Input'!H445,'Data Input'!I445,'Data Input'!M445,'Data Input'!N445,'Data Input'!Q445,'Data Input'!R445,'Data Input'!T445,'Data Input'!Y445,'Data Input'!AD445,'Data Input'!AI445,'Data Input'!AP445,'Data Input'!AQ445))","v":""},{"$f":"IF(O441=\"\",\"\",O441/COUNTIF('Data Input'!$C$8:$AQ$8,$O$2))","v":""}]
[{"$f":"IF('Data Input'!A446=0,\"\",'Data Input'!A446)","v":""},{"$f":"IF(ISBLANK('Data Input'!A446),\"\",COUNTIF('Data Input'!C446:AQ446,\"\")-1)","v":""},{"$f":"IF(ISBLANK('Data Input'!A446),\"\",COUNTIF('Data Input'!C446:AQ446,\"0\"))","v":""},{"$f":"IF(ISBLANK('Data Input'!A446),\"\",SUM(B442,C442))","v":""},{"$f":"IF(ISBLANK('Data Input'!A446),\"\",SUM('Data Input'!C446:V446))","v":""},{"$f":"IF(ISBLANK('Data Input'!A446),\"\",SUM('Data Input'!X446:AQ446))","v":""},{"$f":"IF(ISBLANK('Data Input'!A446),\"\",SUM('Data Input'!C446:AQ446))","v":""},{"$f":"IF(G442=\"\",\"\",G442/(COUNTA('Data Input'!$C$8:$AQ$8)-1))","v":""},{"$f":"IF(ISBLANK('Data Input'!A446),\"\",SUM('Data Input'!C446,'Data Input'!K446,'Data Input'!L446,'Data Input'!AC446,'Data Input'!AF446,'Data Input'!AM446,'Data Input'!AO446))","v":""},{"$f":"IF(I442=\"\",\"\",I442/COUNTIF('Data Input'!$C$8:$AQ$8,$I$2))","v":""},{"$f":"IF(ISBLANK('Data Input'!A446),\"\",SUM('Data Input'!D446,'Data Input'!E446,'Data Input'!F446,'Data Input'!G446,'Data Input'!J446,'Data Input'!O446,'Data Input'!P446,'Data Input'!S446,'Data Input'!U446,'Data Input'!X446,'Data Input'!Z446,'Data Input'!AA446,'Data Input'!AB446,'Data Input'!AE446,'Data Input'!AG446,'Data Input'!AH446,'Data Input'!AJ446,'Data Input'!AK446,'Data Input'!AL446,'Data Input'!AN446))","v":""},{"$f":"IF(K442=\"\",\"\",K442/COUNTIF('Data Input'!$C$8:$AQ$8,$K$2))","v":""},{"$f":"IF(ISBLANK('Data Input'!A446),\"\",SUM('Data Input'!V446))","v":""},{"$f":"IF(M442=\"\",\"\",M442/COUNTIF('Data Input'!$C$8:$AQ$8,$M$2))","v":""},{"$f":"IF(ISBLANK('Data Input'!A446),\"\",SUM('Data Input'!H446,'Data Input'!I446,'Data Input'!M446,'Data Input'!N446,'Data Input'!Q446,'Data Input'!R446,'Data Input'!T446,'Data Input'!Y446,'Data Input'!AD446,'Data Input'!AI446,'Data Input'!AP446,'Data Input'!AQ446))","v":""},{"$f":"IF(O442=\"\",\"\",O442/COUNTIF('Data Input'!$C$8:$AQ$8,$O$2))","v":""}]
[{"$f":"IF('Data Input'!A447=0,\"\",'Data Input'!A447)","v":""},{"$f":"IF(ISBLANK('Data Input'!A447),\"\",COUNTIF('Data Input'!C447:AQ447,\"\")-1)","v":""},{"$f":"IF(ISBLANK('Data Input'!A447),\"\",COUNTIF('Data Input'!C447:AQ447,\"0\"))","v":""},{"$f":"IF(ISBLANK('Data Input'!A447),\"\",SUM(B443,C443))","v":""},{"$f":"IF(ISBLANK('Data Input'!A447),\"\",SUM('Data Input'!C447:V447))","v":""},{"$f":"IF(ISBLANK('Data Input'!A447),\"\",SUM('Data Input'!X447:AQ447))","v":""},{"$f":"IF(ISBLANK('Data Input'!A447),\"\",SUM('Data Input'!C447:AQ447))","v":""},{"$f":"IF(G443=\"\",\"\",G443/(COUNTA('Data Input'!$C$8:$AQ$8)-1))","v":""},{"$f":"IF(ISBLANK('Data Input'!A447),\"\",SUM('Data Input'!C447,'Data Input'!K447,'Data Input'!L447,'Data Input'!AC447,'Data Input'!AF447,'Data Input'!AM447,'Data Input'!AO447))","v":""},{"$f":"IF(I443=\"\",\"\",I443/COUNTIF('Data Input'!$C$8:$AQ$8,$I$2))","v":""},{"$f":"IF(ISBLANK('Data Input'!A447),\"\",SUM('Data Input'!D447,'Data Input'!E447,'Data Input'!F447,'Data Input'!G447,'Data Input'!J447,'Data Input'!O447,'Data Input'!P447,'Data Input'!S447,'Data Input'!U447,'Data Input'!X447,'Data Input'!Z447,'Data Input'!AA447,'Data Input'!AB447,'Data Input'!AE447,'Data Input'!AG447,'Data Input'!AH447,'Data Input'!AJ447,'Data Input'!AK447,'Data Input'!AL447,'Data Input'!AN447))","v":""},{"$f":"IF(K443=\"\",\"\",K443/COUNTIF('Data Input'!$C$8:$AQ$8,$K$2))","v":""},{"$f":"IF(ISBLANK('Data Input'!A447),\"\",SUM('Data Input'!V447))","v":""},{"$f":"IF(M443=\"\",\"\",M443/COUNTIF('Data Input'!$C$8:$AQ$8,$M$2))","v":""},{"$f":"IF(ISBLANK('Data Input'!A447),\"\",SUM('Data Input'!H447,'Data Input'!I447,'Data Input'!M447,'Data Input'!N447,'Data Input'!Q447,'Data Input'!R447,'Data Input'!T447,'Data Input'!Y447,'Data Input'!AD447,'Data Input'!AI447,'Data Input'!AP447,'Data Input'!AQ447))","v":""},{"$f":"IF(O443=\"\",\"\",O443/COUNTIF('Data Input'!$C$8:$AQ$8,$O$2))","v":""}]
[{"$f":"IF('Data Input'!A448=0,\"\",'Data Input'!A448)","v":""},{"$f":"IF(ISBLANK('Data Input'!A448),\"\",COUNTIF('Data Input'!C448:AQ448,\"\")-1)","v":""},{"$f":"IF(ISBLANK('Data Input'!A448),\"\",COUNTIF('Data Input'!C448:AQ448,\"0\"))","v":""},{"$f":"IF(ISBLANK('Data Input'!A448),\"\",SUM(B444,C444))","v":""},{"$f":"IF(ISBLANK('Data Input'!A448),\"\",SUM('Data Input'!C448:V448))","v":""},{"$f":"IF(ISBLANK('Data Input'!A448),\"\",SUM('Data Input'!X448:AQ448))","v":""},{"$f":"IF(ISBLANK('Data Input'!A448),\"\",SUM('Data Input'!C448:AQ448))","v":""},{"$f":"IF(G444=\"\",\"\",G444/(COUNTA('Data Input'!$C$8:$AQ$8)-1))","v":""},{"$f":"IF(ISBLANK('Data Input'!A448),\"\",SUM('Data Input'!C448,'Data Input'!K448,'Data Input'!L448,'Data Input'!AC448,'Data Input'!AF448,'Data Input'!AM448,'Data Input'!AO448))","v":""},{"$f":"IF(I444=\"\",\"\",I444/COUNTIF('Data Input'!$C$8:$AQ$8,$I$2))","v":""},{"$f":"IF(ISBLANK('Data Input'!A448),\"\",SUM('Data Input'!D448,'Data Input'!E448,'Data Input'!F448,'Data Input'!G448,'Data Input'!J448,'Data Input'!O448,'Data Input'!P448,'Data Input'!S448,'Data Input'!U448,'Data Input'!X448,'Data Input'!Z448,'Data Input'!AA448,'Data Input'!AB448,'Data Input'!AE448,'Data Input'!AG448,'Data Input'!AH448,'Data Input'!AJ448,'Data Input'!AK448,'Data Input'!AL448,'Data Input'!AN448))","v":""},{"$f":"IF(K444=\"\",\"\",K444/COUNTIF('Data Input'!$C$8:$AQ$8,$K$2))","v":""},{"$f":"IF(ISBLANK('Data Input'!A448),\"\",SUM('Data Input'!V448))","v":""},{"$f":"IF(M444=\"\",\"\",M444/COUNTIF('Data Input'!$C$8:$AQ$8,$M$2))","v":""},{"$f":"IF(ISBLANK('Data Input'!A448),\"\",SUM('Data Input'!H448,'Data Input'!I448,'Data Input'!M448,'Data Input'!N448,'Data Input'!Q448,'Data Input'!R448,'Data Input'!T448,'Data Input'!Y448,'Data Input'!AD448,'Data Input'!AI448,'Data Input'!AP448,'Data Input'!AQ448))","v":""},{"$f":"IF(O444=\"\",\"\",O444/COUNTIF('Data Input'!$C$8:$AQ$8,$O$2))","v":""}]
[{"$f":"IF('Data Input'!A449=0,\"\",'Data Input'!A449)","v":""},{"$f":"IF(ISBLANK('Data Input'!A449),\"\",COUNTIF('Data Input'!C449:AQ449,\"\")-1)","v":""},{"$f":"IF(ISBLANK('Data Input'!A449),\"\",COUNTIF('Data Input'!C449:AQ449,\"0\"))","v":""},{"$f":"IF(ISBLANK('Data Input'!A449),\"\",SUM(B445,C445))","v":""},{"$f":"IF(ISBLANK('Data Input'!A449),\"\",SUM('Data Input'!C449:V449))","v":""},{"$f":"IF(ISBLANK('Data Input'!A449),\"\",SUM('Data Input'!X449:AQ449))","v":""},{"$f":"IF(ISBLANK('Data Input'!A449),\"\",SUM('Data Input'!C449:AQ449))","v":""},{"$f":"IF(G445=\"\",\"\",G445/(COUNTA('Data Input'!$C$8:$AQ$8)-1))","v":""},{"$f":"IF(ISBLANK('Data Input'!A449),\"\",SUM('Data Input'!C449,'Data Input'!K449,'Data Input'!L449,'Data Input'!AC449,'Data Input'!AF449,'Data Input'!AM449,'Data Input'!AO449))","v":""},{"$f":"IF(I445=\"\",\"\",I445/COUNTIF('Data Input'!$C$8:$AQ$8,$I$2))","v":""},{"$f":"IF(ISBLANK('Data Input'!A449),\"\",SUM('Data Input'!D449,'Data Input'!E449,'Data Input'!F449,'Data Input'!G449,'Data Input'!J449,'Data Input'!O449,'Data Input'!P449,'Data Input'!S449,'Data Input'!U449,'Data Input'!X449,'Data Input'!Z449,'Data Input'!AA449,'Data Input'!AB449,'Data Input'!AE449,'Data Input'!AG449,'Data Input'!AH449,'Data Input'!AJ449,'Data Input'!AK449,'Data Input'!AL449,'Data Input'!AN449))","v":""},{"$f":"IF(K445=\"\",\"\",K445/COUNTIF('Data Input'!$C$8:$AQ$8,$K$2))","v":""},{"$f":"IF(ISBLANK('Data Input'!A449),\"\",SUM('Data Input'!V449))","v":""},{"$f":"IF(M445=\"\",\"\",M445/COUNTIF('Data Input'!$C$8:$AQ$8,$M$2))","v":""},{"$f":"IF(ISBLANK('Data Input'!A449),\"\",SUM('Data Input'!H449,'Data Input'!I449,'Data Input'!M449,'Data Input'!N449,'Data Input'!Q449,'Data Input'!R449,'Data Input'!T449,'Data Input'!Y449,'Data Input'!AD449,'Data Input'!AI449,'Data Input'!AP449,'Data Input'!AQ449))","v":""},{"$f":"IF(O445=\"\",\"\",O445/COUNTIF('Data Input'!$C$8:$AQ$8,$O$2))","v":""}]
[{"$f":"IF('Data Input'!A450=0,\"\",'Data Input'!A450)","v":""},{"$f":"IF(ISBLANK('Data Input'!A450),\"\",COUNTIF('Data Input'!C450:AQ450,\"\")-1)","v":""},{"$f":"IF(ISBLANK('Data Input'!A450),\"\",COUNTIF('Data Input'!C450:AQ450,\"0\"))","v":""},{"$f":"IF(ISBLANK('Data Input'!A450),\"\",SUM(B446,C446))","v":""},{"$f":"IF(ISBLANK('Data Input'!A450),\"\",SUM('Data Input'!C450:V450))","v":""},{"$f":"IF(ISBLANK('Data Input'!A450),\"\",SUM('Data Input'!X450:AQ450))","v":""},{"$f":"IF(ISBLANK('Data Input'!A450),\"\",SUM('Data Input'!C450:AQ450))","v":""},{"$f":"IF(G446=\"\",\"\",G446/(COUNTA('Data Input'!$C$8:$AQ$8)-1))","v":""},{"$f":"IF(ISBLANK('Data Input'!A450),\"\",SUM('Data Input'!C450,'Data Input'!K450,'Data Input'!L450,'Data Input'!AC450,'Data Input'!AF450,'Data Input'!AM450,'Data Input'!AO450))","v":""},{"$f":"IF(I446=\"\",\"\",I446/COUNTIF('Data Input'!$C$8:$AQ$8,$I$2))","v":""},{"$f":"IF(ISBLANK('Data Input'!A450),\"\",SUM('Data Input'!D450,'Data Input'!E450,'Data Input'!F450,'Data Input'!G450,'Data Input'!J450,'Data Input'!O450,'Data Input'!P450,'Data Input'!S450,'Data Input'!U450,'Data Input'!X450,'Data Input'!Z450,'Data Input'!AA450,'Data Input'!AB450,'Data Input'!AE450,'Data Input'!AG450,'Data Input'!AH450,'Data Input'!AJ450,'Data Input'!AK450,'Data Input'!AL450,'Data Input'!AN450))","v":""},{"$f":"IF(K446=\"\",\"\",K446/COUNTIF('Data Input'!$C$8:$AQ$8,$K$2))","v":""},{"$f":"IF(ISBLANK('Data Input'!A450),\"\",SUM('Data Input'!V450))","v":""},{"$f":"IF(M446=\"\",\"\",M446/COUNTIF('Data Input'!$C$8:$AQ$8,$M$2))","v":""},{"$f":"IF(ISBLANK('Data Input'!A450),\"\",SUM('Data Input'!H450,'Data Input'!I450,'Data Input'!M450,'Data Input'!N450,'Data Input'!Q450,'Data Input'!R450,'Data Input'!T450,'Data Input'!Y450,'Data Input'!AD450,'Data Input'!AI450,'Data Input'!AP450,'Data Input'!AQ450))","v":""},{"$f":"IF(O446=\"\",\"\",O446/COUNTIF('Data Input'!$C$8:$AQ$8,$O$2))","v":""}]
[{"$f":"IF('Data Input'!A451=0,\"\",'Data Input'!A451)","v":""},{"$f":"IF(ISBLANK('Data Input'!A451),\"\",COUNTIF('Data Input'!C451:AQ451,\"\")-1)","v":""},{"$f":"IF(ISBLANK('Data Input'!A451),\"\",COUNTIF('Data Input'!C451:AQ451,\"0\"))","v":""},{"$f":"IF(ISBLANK('Data Input'!A451),\"\",SUM(B447,C447))","v":""},{"$f":"IF(ISBLANK('Data Input'!A451),\"\",SUM('Data Input'!C451:V451))","v":""},{"$f":"IF(ISBLANK('Data Input'!A451),\"\",SUM('Data Input'!X451:AQ451))","v":""},{"$f":"IF(ISBLANK('Data Input'!A451),\"\",SUM('Data Input'!C451:AQ451))","v":""},{"$f":"IF(G447=\"\",\"\",G447/(COUNTA('Data Input'!$C$8:$AQ$8)-1))","v":""},{"$f":"IF(ISBLANK('Data Input'!A451),\"\",SUM('Data Input'!C451,'Data Input'!K451,'Data Input'!L451,'Data Input'!AC451,'Data Input'!AF451,'Data Input'!AM451,'Data Input'!AO451))","v":""},{"$f":"IF(I447=\"\",\"\",I447/COUNTIF('Data Input'!$C$8:$AQ$8,$I$2))","v":""},{"$f":"IF(ISBLANK('Data Input'!A451),\"\",SUM('Data Input'!D451,'Data Input'!E451,'Data Input'!F451,'Data Input'!G451,'Data Input'!J451,'Data Input'!O451,'Data Input'!P451,'Data Input'!S451,'Data Input'!U451,'Data Input'!X451,'Data Input'!Z451,'Data Input'!AA451,'Data Input'!AB451,'Data Input'!AE451,'Data Input'!AG451,'Data Input'!AH451,'Data Input'!AJ451,'Data Input'!AK451,'Data Input'!AL451,'Data Input'!AN451))","v":""},{"$f":"IF(K447=\"\",\"\",K447/COUNTIF('Data Input'!$C$8:$AQ$8,$K$2))","v":""},{"$f":"IF(ISBLANK('Data Input'!A451),\"\",SUM('Data Input'!V451))","v":""},{"$f":"IF(M447=\"\",\"\",M447/COUNTIF('Data Input'!$C$8:$AQ$8,$M$2))","v":""},{"$f":"IF(ISBLANK('Data Input'!A451),\"\",SUM('Data Input'!H451,'Data Input'!I451,'Data Input'!M451,'Data Input'!N451,'Data Input'!Q451,'Data Input'!R451,'Data Input'!T451,'Data Input'!Y451,'Data Input'!AD451,'Data Input'!AI451,'Data Input'!AP451,'Data Input'!AQ451))","v":""},{"$f":"IF(O447=\"\",\"\",O447/COUNTIF('Data Input'!$C$8:$AQ$8,$O$2))","v":""}]
[{"$f":"IF('Data Input'!A452=0,\"\",'Data Input'!A452)","v":""},{"$f":"IF(ISBLANK('Data Input'!A452),\"\",COUNTIF('Data Input'!C452:AQ452,\"\")-1)","v":""},{"$f":"IF(ISBLANK('Data Input'!A452),\"\",COUNTIF('Data Input'!C452:AQ452,\"0\"))","v":""},{"$f":"IF(ISBLANK('Data Input'!A452),\"\",SUM(B448,C448))","v":""},{"$f":"IF(ISBLANK('Data Input'!A452),\"\",SUM('Data Input'!C452:V452))","v":""},{"$f":"IF(ISBLANK('Data Input'!A452),\"\",SUM('Data Input'!X452:AQ452))","v":""},{"$f":"IF(ISBLANK('Data Input'!A452),\"\",SUM('Data Input'!C452:AQ452))","v":""},{"$f":"IF(G448=\"\",\"\",G448/(COUNTA('Data Input'!$C$8:$AQ$8)-1))","v":""},{"$f":"IF(ISBLANK('Data Input'!A452),\"\",SUM('Data Input'!C452,'Data Input'!K452,'Data Input'!L452,'Data Input'!AC452,'Data Input'!AF452,'Data Input'!AM452,'Data Input'!AO452))","v":""},{"$f":"IF(I448=\"\",\"\",I448/COUNTIF('Data Input'!$C$8:$AQ$8,$I$2))","v":""},{"$f":"IF(ISBLANK('Data Input'!A452),\"\",SUM('Data Input'!D452,'Data Input'!E452,'Data Input'!F452,'Data Input'!G452,'Data Input'!J452,'Data Input'!O452,'Data Input'!P452,'Data Input'!S452,'Data Input'!U452,'Data Input'!X452,'Data Input'!Z452,'Data Input'!AA452,'Data Input'!AB452,'Data Input'!AE452,'Data Input'!AG452,'Data Input'!AH452,'Data Input'!AJ452,'Data Input'!AK452,'Data Input'!AL452,'Data Input'!AN452))","v":""},{"$f":"IF(K448=\"\",\"\",K448/COUNTIF('Data Input'!$C$8:$AQ$8,$K$2))","v":""},{"$f":"IF(ISBLANK('Data Input'!A452),\"\",SUM('Data Input'!V452))","v":""},{"$f":"IF(M448=\"\",\"\",M448/COUNTIF('Data Input'!$C$8:$AQ$8,$M$2))","v":""},{"$f":"IF(ISBLANK('Data Input'!A452),\"\",SUM('Data Input'!H452,'Data Input'!I452,'Data Input'!M452,'Data Input'!N452,'Data Input'!Q452,'Data Input'!R452,'Data Input'!T452,'Data Input'!Y452,'Data Input'!AD452,'Data Input'!AI452,'Data Input'!AP452,'Data Input'!AQ452))","v":""},{"$f":"IF(O448=\"\",\"\",O448/COUNTIF('Data Input'!$C$8:$AQ$8,$O$2))","v":""}]
[{"$f":"IF('Data Input'!A453=0,\"\",'Data Input'!A453)","v":""},{"$f":"IF(ISBLANK('Data Input'!A453),\"\",COUNTIF('Data Input'!C453:AQ453,\"\")-1)","v":""},{"$f":"IF(ISBLANK('Data Input'!A453),\"\",COUNTIF('Data Input'!C453:AQ453,\"0\"))","v":""},{"$f":"IF(ISBLANK('Data Input'!A453),\"\",SUM(B449,C449))","v":""},{"$f":"IF(ISBLANK('Data Input'!A453),\"\",SUM('Data Input'!C453:V453))","v":""},{"$f":"IF(ISBLANK('Data Input'!A453),\"\",SUM('Data Input'!X453:AQ453))","v":""},{"$f":"IF(ISBLANK('Data Input'!A453),\"\",SUM('Data Input'!C453:AQ453))","v":""},{"$f":"IF(G449=\"\",\"\",G449/(COUNTA('Data Input'!$C$8:$AQ$8)-1))","v":""},{"$f":"IF(ISBLANK('Data Input'!A453),\"\",SUM('Data Input'!C453,'Data Input'!K453,'Data Input'!L453,'Data Input'!AC453,'Data Input'!AF453,'Data Input'!AM453,'Data Input'!AO453))","v":""},{"$f":"IF(I449=\"\",\"\",I449/COUNTIF('Data Input'!$C$8:$AQ$8,$I$2))","v":""},{"$f":"IF(ISBLANK('Data Input'!A453),\"\",SUM('Data Input'!D453,'Data Input'!E453,'Data Input'!F453,'Data Input'!G453,'Data Input'!J453,'Data Input'!O453,'Data Input'!P453,'Data Input'!S453,'Data Input'!U453,'Data Input'!X453,'Data Input'!Z453,'Data Input'!AA453,'Data Input'!AB453,'Data Input'!AE453,'Data Input'!AG453,'Data Input'!AH453,'Data Input'!AJ453,'Data Input'!AK453,'Data Input'!AL453,'Data Input'!AN453))","v":""},{"$f":"IF(K449=\"\",\"\",K449/COUNTIF('Data Input'!$C$8:$AQ$8,$K$2))","v":""},{"$f":"IF(ISBLANK('Data Input'!A453),\"\",SUM('Data Input'!V453))","v":""},{"$f":"IF(M449=\"\",\"\",M449/COUNTIF('Data Input'!$C$8:$AQ$8,$M$2))","v":""},{"$f":"IF(ISBLANK('Data Input'!A453),\"\",SUM('Data Input'!H453,'Data Input'!I453,'Data Input'!M453,'Data Input'!N453,'Data Input'!Q453,'Data Input'!R453,'Data Input'!T453,'Data Input'!Y453,'Data Input'!AD453,'Data Input'!AI453,'Data Input'!AP453,'Data Input'!AQ453))","v":""},{"$f":"IF(O449=\"\",\"\",O449/COUNTIF('Data Input'!$C$8:$AQ$8,$O$2))","v":""}]
[{"$f":"IF('Data Input'!A454=0,\"\",'Data Input'!A454)","v":""},{"$f":"IF(ISBLANK('Data Input'!A454),\"\",COUNTIF('Data Input'!C454:AQ454,\"\")-1)","v":""},{"$f":"IF(ISBLANK('Data Input'!A454),\"\",COUNTIF('Data Input'!C454:AQ454,\"0\"))","v":""},{"$f":"IF(ISBLANK('Data Input'!A454),\"\",SUM(B450,C450))","v":""},{"$f":"IF(ISBLANK('Data Input'!A454),\"\",SUM('Data Input'!C454:V454))","v":""},{"$f":"IF(ISBLANK('Data Input'!A454),\"\",SUM('Data Input'!X454:AQ454))","v":""},{"$f":"IF(ISBLANK('Data Input'!A454),\"\",SUM('Data Input'!C454:AQ454))","v":""},{"$f":"IF(G450=\"\",\"\",G450/(COUNTA('Data Input'!$C$8:$AQ$8)-1))","v":""},{"$f":"IF(ISBLANK('Data Input'!A454),\"\",SUM('Data Input'!C454,'Data Input'!K454,'Data Input'!L454,'Data Input'!AC454,'Data Input'!AF454,'Data Input'!AM454,'Data Input'!AO454))","v":""},{"$f":"IF(I450=\"\",\"\",I450/COUNTIF('Data Input'!$C$8:$AQ$8,$I$2))","v":""},{"$f":"IF(ISBLANK('Data Input'!A454),\"\",SUM('Data Input'!D454,'Data Input'!E454,'Data Input'!F454,'Data Input'!G454,'Data Input'!J454,'Data Input'!O454,'Data Input'!P454,'Data Input'!S454,'Data Input'!U454,'Data Input'!X454,'Data Input'!Z454,'Data Input'!AA454,'Data Input'!AB454,'Data Input'!AE454,'Data Input'!AG454,'Data Input'!AH454,'Data Input'!AJ454,'Data Input'!AK454,'Data Input'!AL454,'Data Input'!AN454))","v":""},{"$f":"IF(K450=\"\",\"\",K450/COUNTIF('Data Input'!$C$8:$AQ$8,$K$2))","v":""},{"$f":"IF(ISBLANK('Data Input'!A454),\"\",SUM('Data Input'!V454))","v":""},{"$f":"IF(M450=\"\",\"\",M450/COUNTIF('Data Input'!$C$8:$AQ$8,$M$2))","v":""},{"$f":"IF(ISBLANK('Data Input'!A454),\"\",SUM('Data Input'!H454,'Data Input'!I454,'Data Input'!M454,'Data Input'!N454,'Data Input'!Q454,'Data Input'!R454,'Data Input'!T454,'Data Input'!Y454,'Data Input'!AD454,'Data Input'!AI454,'Data Input'!AP454,'Data Input'!AQ454))","v":""},{"$f":"IF(O450=\"\",\"\",O450/COUNTIF('Data Input'!$C$8:$AQ$8,$O$2))","v":""}]
[{"$f":"IF('Data Input'!A455=0,\"\",'Data Input'!A455)","v":""},{"$f":"IF(ISBLANK('Data Input'!A455),\"\",COUNTIF('Data Input'!C455:AQ455,\"\")-1)","v":""},{"$f":"IF(ISBLANK('Data Input'!A455),\"\",COUNTIF('Data Input'!C455:AQ455,\"0\"))","v":""},{"$f":"IF(ISBLANK('Data Input'!A455),\"\",SUM(B451,C451))","v":""},{"$f":"IF(ISBLANK('Data Input'!A455),\"\",SUM('Data Input'!C455:V455))","v":""},{"$f":"IF(ISBLANK('Data Input'!A455),\"\",SUM('Data Input'!X455:AQ455))","v":""},{"$f":"IF(ISBLANK('Data Input'!A455),\"\",SUM('Data Input'!C455:AQ455))","v":""},{"$f":"IF(G451=\"\",\"\",G451/(COUNTA('Data Input'!$C$8:$AQ$8)-1))","v":""},{"$f":"IF(ISBLANK('Data Input'!A455),\"\",SUM('Data Input'!C455,'Data Input'!K455,'Data Input'!L455,'Data Input'!AC455,'Data Input'!AF455,'Data Input'!AM455,'Data Input'!AO455))","v":""},{"$f":"IF(I451=\"\",\"\",I451/COUNTIF('Data Input'!$C$8:$AQ$8,$I$2))","v":""},{"$f":"IF(ISBLANK('Data Input'!A455),\"\",SUM('Data Input'!D455,'Data Input'!E455,'Data Input'!F455,'Data Input'!G455,'Data Input'!J455,'Data Input'!O455,'Data Input'!P455,'Data Input'!S455,'Data Input'!U455,'Data Input'!X455,'Data Input'!Z455,'Data Input'!AA455,'Data Input'!AB455,'Data Input'!AE455,'Data Input'!AG455,'Data Input'!AH455,'Data Input'!AJ455,'Data Input'!AK455,'Data Input'!AL455,'Data Input'!AN455))","v":""},{"$f":"IF(K451=\"\",\"\",K451/COUNTIF('Data Input'!$C$8:$AQ$8,$K$2))","v":""},{"$f":"IF(ISBLANK('Data Input'!A455),\"\",SUM('Data Input'!V455))","v":""},{"$f":"IF(M451=\"\",\"\",M451/COUNTIF('Data Input'!$C$8:$AQ$8,$M$2))","v":""},{"$f":"IF(ISBLANK('Data Input'!A455),\"\",SUM('Data Input'!H455,'Data Input'!I455,'Data Input'!M455,'Data Input'!N455,'Data Input'!Q455,'Data Input'!R455,'Data Input'!T455,'Data Input'!Y455,'Data Input'!AD455,'Data Input'!AI455,'Data Input'!AP455,'Data Input'!AQ455))","v":""},{"$f":"IF(O451=\"\",\"\",O451/COUNTIF('Data Input'!$C$8:$AQ$8,$O$2))","v":""}]
[{"$f":"IF('Data Input'!A456=0,\"\",'Data Input'!A456)","v":""},{"$f":"IF(ISBLANK('Data Input'!A456),\"\",COUNTIF('Data Input'!C456:AQ456,\"\")-1)","v":""},{"$f":"IF(ISBLANK('Data Input'!A456),\"\",COUNTIF('Data Input'!C456:AQ456,\"0\"))","v":""},{"$f":"IF(ISBLANK('Data Input'!A456),\"\",SUM(B452,C452))","v":""},{"$f":"IF(ISBLANK('Data Input'!A456),\"\",SUM('Data Input'!C456:V456))","v":""},{"$f":"IF(ISBLANK('Data Input'!A456),\"\",SUM('Data Input'!X456:AQ456))","v":""},{"$f":"IF(ISBLANK('Data Input'!A456),\"\",SUM('Data Input'!C456:AQ456))","v":""},{"$f":"IF(G452=\"\",\"\",G452/(COUNTA('Data Input'!$C$8:$AQ$8)-1))","v":""},{"$f":"IF(ISBLANK('Data Input'!A456),\"\",SUM('Data Input'!C456,'Data Input'!K456,'Data Input'!L456,'Data Input'!AC456,'Data Input'!AF456,'Data Input'!AM456,'Data Input'!AO456))","v":""},{"$f":"IF(I452=\"\",\"\",I452/COUNTIF('Data Input'!$C$8:$AQ$8,$I$2))","v":""},{"$f":"IF(ISBLANK('Data Input'!A456),\"\",SUM('Data Input'!D456,'Data Input'!E456,'Data Input'!F456,'Data Input'!G456,'Data Input'!J456,'Data Input'!O456,'Data Input'!P456,'Data Input'!S456,'Data Input'!U456,'Data Input'!X456,'Data Input'!Z456,'Data Input'!AA456,'Data Input'!AB456,'Data Input'!AE456,'Data Input'!AG456,'Data Input'!AH456,'Data Input'!AJ456,'Data Input'!AK456,'Data Input'!AL456,'Data Input'!AN456))","v":""},{"$f":"IF(K452=\"\",\"\",K452/COUNTIF('Data Input'!$C$8:$AQ$8,$K$2))","v":""},{"$f":"IF(ISBLANK('Data Input'!A456),\"\",SUM('Data Input'!V456))","v":""},{"$f":"IF(M452=\"\",\"\",M452/COUNTIF('Data Input'!$C$8:$AQ$8,$M$2))","v":""},{"$f":"IF(ISBLANK('Data Input'!A456),\"\",SUM('Data Input'!H456,'Data Input'!I456,'Data Input'!M456,'Data Input'!N456,'Data Input'!Q456,'Data Input'!R456,'Data Input'!T456,'Data Input'!Y456,'Data Input'!AD456,'Data Input'!AI456,'Data Input'!AP456,'Data Input'!AQ456))","v":""},{"$f":"IF(O452=\"\",\"\",O452/COUNTIF('Data Input'!$C$8:$AQ$8,$O$2))","v":""}]
[{"$f":"IF('Data Input'!A457=0,\"\",'Data Input'!A457)","v":""},{"$f":"IF(ISBLANK('Data Input'!A457),\"\",COUNTIF('Data Input'!C457:AQ457,\"\")-1)","v":""},{"$f":"IF(ISBLANK('Data Input'!A457),\"\",COUNTIF('Data Input'!C457:AQ457,\"0\"))","v":""},{"$f":"IF(ISBLANK('Data Input'!A457),\"\",SUM(B453,C453))","v":""},{"$f":"IF(ISBLANK('Data Input'!A457),\"\",SUM('Data Input'!C457:V457))","v":""},{"$f":"IF(ISBLANK('Data Input'!A457),\"\",SUM('Data Input'!X457:AQ457))","v":""},{"$f":"IF(ISBLANK('Data Input'!A457),\"\",SUM('Data Input'!C457:AQ457))","v":""},{"$f":"IF(G453=\"\",\"\",G453/(COUNTA('Data Input'!$C$8:$AQ$8)-1))","v":""},{"$f":"IF(ISBLANK('Data Input'!A457),\"\",SUM('Data Input'!C457,'Data Input'!K457,'Data Input'!L457,'Data Input'!AC457,'Data Input'!AF457,'Data Input'!AM457,'Data Input'!AO457))","v":""},{"$f":"IF(I453=\"\",\"\",I453/COUNTIF('Data Input'!$C$8:$AQ$8,$I$2))","v":""},{"$f":"IF(ISBLANK('Data Input'!A457),\"\",SUM('Data Input'!D457,'Data Input'!E457,'Data Input'!F457,'Data Input'!G457,'Data Input'!J457,'Data Input'!O457,'Data Input'!P457,'Data Input'!S457,'Data Input'!U457,'Data Input'!X457,'Data Input'!Z457,'Data Input'!AA457,'Data Input'!AB457,'Data Input'!AE457,'Data Input'!AG457,'Data Input'!AH457,'Data Input'!AJ457,'Data Input'!AK457,'Data Input'!AL457,'Data Input'!AN457))","v":""},{"$f":"IF(K453=\"\",\"\",K453/COUNTIF('Data Input'!$C$8:$AQ$8,$K$2))","v":""},{"$f":"IF(ISBLANK('Data Input'!A457),\"\",SUM('Data Input'!V457))","v":""},{"$f":"IF(M453=\"\",\"\",M453/COUNTIF('Data Input'!$C$8:$AQ$8,$M$2))","v":""},{"$f":"IF(ISBLANK('Data Input'!A457),\"\",SUM('Data Input'!H457,'Data Input'!I457,'Data Input'!M457,'Data Input'!N457,'Data Input'!Q457,'Data Input'!R457,'Data Input'!T457,'Data Input'!Y457,'Data Input'!AD457,'Data Input'!AI457,'Data Input'!AP457,'Data Input'!AQ457))","v":""},{"$f":"IF(O453=\"\",\"\",O453/COUNTIF('Data Input'!$C$8:$AQ$8,$O$2))","v":""}]
[{"$f":"IF('Data Input'!A458=0,\"\",'Data Input'!A458)","v":""},{"$f":"IF(ISBLANK('Data Input'!A458),\"\",COUNTIF('Data Input'!C458:AQ458,\"\")-1)","v":""},{"$f":"IF(ISBLANK('Data Input'!A458),\"\",COUNTIF('Data Input'!C458:AQ458,\"0\"))","v":""},{"$f":"IF(ISBLANK('Data Input'!A458),\"\",SUM(B454,C454))","v":""},{"$f":"IF(ISBLANK('Data Input'!A458),\"\",SUM('Data Input'!C458:V458))","v":""},{"$f":"IF(ISBLANK('Data Input'!A458),\"\",SUM('Data Input'!X458:AQ458))","v":""},{"$f":"IF(ISBLANK('Data Input'!A458),\"\",SUM('Data Input'!C458:AQ458))","v":""},{"$f":"IF(G454=\"\",\"\",G454/(COUNTA('Data Input'!$C$8:$AQ$8)-1))","v":""},{"$f":"IF(ISBLANK('Data Input'!A458),\"\",SUM('Data Input'!C458,'Data Input'!K458,'Data Input'!L458,'Data Input'!AC458,'Data Input'!AF458,'Data Input'!AM458,'Data Input'!AO458))","v":""},{"$f":"IF(I454=\"\",\"\",I454/COUNTIF('Data Input'!$C$8:$AQ$8,$I$2))","v":""},{"$f":"IF(ISBLANK('Data Input'!A458),\"\",SUM('Data Input'!D458,'Data Input'!E458,'Data Input'!F458,'Data Input'!G458,'Data Input'!J458,'Data Input'!O458,'Data Input'!P458,'Data Input'!S458,'Data Input'!U458,'Data Input'!X458,'Data Input'!Z458,'Data Input'!AA458,'Data Input'!AB458,'Data Input'!AE458,'Data Input'!AG458,'Data Input'!AH458,'Data Input'!AJ458,'Data Input'!AK458,'Data Input'!AL458,'Data Input'!AN458))","v":""},{"$f":"IF(K454=\"\",\"\",K454/COUNTIF('Data Input'!$C$8:$AQ$8,$K$2))","v":""},{"$f":"IF(ISBLANK('Data Input'!A458),\"\",SUM('Data Input'!V458))","v":""},{"$f":"IF(M454=\"\",\"\",M454/COUNTIF('Data Input'!$C$8:$AQ$8,$M$2))","v":""},{"$f":"IF(ISBLANK('Data Input'!A458),\"\",SUM('Data Input'!H458,'Data Input'!I458,'Data Input'!M458,'Data Input'!N458,'Data Input'!Q458,'Data Input'!R458,'Data Input'!T458,'Data Input'!Y458,'Data Input'!AD458,'Data Input'!AI458,'Data Input'!AP458,'Data Input'!AQ458))","v":""},{"$f":"IF(O454=\"\",\"\",O454/COUNTIF('Data Input'!$C$8:$AQ$8,$O$2))","v":""}]
[{"$f":"IF('Data Input'!A459=0,\"\",'Data Input'!A459)","v":""},{"$f":"IF(ISBLANK('Data Input'!A459),\"\",COUNTIF('Data Input'!C459:AQ459,\"\")-1)","v":""},{"$f":"IF(ISBLANK('Data Input'!A459),\"\",COUNTIF('Data Input'!C459:AQ459,\"0\"))","v":""},{"$f":"IF(ISBLANK('Data Input'!A459),\"\",SUM(B455,C455))","v":""},{"$f":"IF(ISBLANK('Data Input'!A459),\"\",SUM('Data Input'!C459:V459))","v":""},{"$f":"IF(ISBLANK('Data Input'!A459),\"\",SUM('Data Input'!X459:AQ459))","v":""},{"$f":"IF(ISBLANK('Data Input'!A459),\"\",SUM('Data Input'!C459:AQ459))","v":""},{"$f":"IF(G455=\"\",\"\",G455/(COUNTA('Data Input'!$C$8:$AQ$8)-1))","v":""},{"$f":"IF(ISBLANK('Data Input'!A459),\"\",SUM('Data Input'!C459,'Data Input'!K459,'Data Input'!L459,'Data Input'!AC459,'Data Input'!AF459,'Data Input'!AM459,'Data Input'!AO459))","v":""},{"$f":"IF(I455=\"\",\"\",I455/COUNTIF('Data Input'!$C$8:$AQ$8,$I$2))","v":""},{"$f":"IF(ISBLANK('Data Input'!A459),\"\",SUM('Data Input'!D459,'Data Input'!E459,'Data Input'!F459,'Data Input'!G459,'Data Input'!J459,'Data Input'!O459,'Data Input'!P459,'Data Input'!S459,'Data Input'!U459,'Data Input'!X459,'Data Input'!Z459,'Data Input'!AA459,'Data Input'!AB459,'Data Input'!AE459,'Data Input'!AG459,'Data Input'!AH459,'Data Input'!AJ459,'Data Input'!AK459,'Data Input'!AL459,'Data Input'!AN459))","v":""},{"$f":"IF(K455=\"\",\"\",K455/COUNTIF('Data Input'!$C$8:$AQ$8,$K$2))","v":""},{"$f":"IF(ISBLANK('Data Input'!A459),\"\",SUM('Data Input'!V459))","v":""},{"$f":"IF(M455=\"\",\"\",M455/COUNTIF('Data Input'!$C$8:$AQ$8,$M$2))","v":""},{"$f":"IF(ISBLANK('Data Input'!A459),\"\",SUM('Data Input'!H459,'Data Input'!I459,'Data Input'!M459,'Data Input'!N459,'Data Input'!Q459,'Data Input'!R459,'Data Input'!T459,'Data Input'!Y459,'Data Input'!AD459,'Data Input'!AI459,'Data Input'!AP459,'Data Input'!AQ459))","v":""},{"$f":"IF(O455=\"\",\"\",O455/COUNTIF('Data Input'!$C$8:$AQ$8,$O$2))","v":""}]
[{"$f":"IF('Data Input'!A460=0,\"\",'Data Input'!A460)","v":""},{"$f":"IF(ISBLANK('Data Input'!A460),\"\",COUNTIF('Data Input'!C460:AQ460,\"\")-1)","v":""},{"$f":"IF(ISBLANK('Data Input'!A460),\"\",COUNTIF('Data Input'!C460:AQ460,\"0\"))","v":""},{"$f":"IF(ISBLANK('Data Input'!A460),\"\",SUM(B456,C456))","v":""},{"$f":"IF(ISBLANK('Data Input'!A460),\"\",SUM('Data Input'!C460:V460))","v":""},{"$f":"IF(ISBLANK('Data Input'!A460),\"\",SUM('Data Input'!X460:AQ460))","v":""},{"$f":"IF(ISBLANK('Data Input'!A460),\"\",SUM('Data Input'!C460:AQ460))","v":""},{"$f":"IF(G456=\"\",\"\",G456/(COUNTA('Data Input'!$C$8:$AQ$8)-1))","v":""},{"$f":"IF(ISBLANK('Data Input'!A460),\"\",SUM('Data Input'!C460,'Data Input'!K460,'Data Input'!L460,'Data Input'!AC460,'Data Input'!AF460,'Data Input'!AM460,'Data Input'!AO460))","v":""},{"$f":"IF(I456=\"\",\"\",I456/COUNTIF('Data Input'!$C$8:$AQ$8,$I$2))","v":""},{"$f":"IF(ISBLANK('Data Input'!A460),\"\",SUM('Data Input'!D460,'Data Input'!E460,'Data Input'!F460,'Data Input'!G460,'Data Input'!J460,'Data Input'!O460,'Data Input'!P460,'Data Input'!S460,'Data Input'!U460,'Data Input'!X460,'Data Input'!Z460,'Data Input'!AA460,'Data Input'!AB460,'Data Input'!AE460,'Data Input'!AG460,'Data Input'!AH460,'Data Input'!AJ460,'Data Input'!AK460,'Data Input'!AL460,'Data Input'!AN460))","v":""},{"$f":"IF(K456=\"\",\"\",K456/COUNTIF('Data Input'!$C$8:$AQ$8,$K$2))","v":""},{"$f":"IF(ISBLANK('Data Input'!A460),\"\",SUM('Data Input'!V460))","v":""},{"$f":"IF(M456=\"\",\"\",M456/COUNTIF('Data Input'!$C$8:$AQ$8,$M$2))","v":""},{"$f":"IF(ISBLANK('Data Input'!A460),\"\",SUM('Data Input'!H460,'Data Input'!I460,'Data Input'!M460,'Data Input'!N460,'Data Input'!Q460,'Data Input'!R460,'Data Input'!T460,'Data Input'!Y460,'Data Input'!AD460,'Data Input'!AI460,'Data Input'!AP460,'Data Input'!AQ460))","v":""},{"$f":"IF(O456=\"\",\"\",O456/COUNTIF('Data Input'!$C$8:$AQ$8,$O$2))","v":""}]
[{"$f":"IF('Data Input'!A461=0,\"\",'Data Input'!A461)","v":""},{"$f":"IF(ISBLANK('Data Input'!A461),\"\",COUNTIF('Data Input'!C461:AQ461,\"\")-1)","v":""},{"$f":"IF(ISBLANK('Data Input'!A461),\"\",COUNTIF('Data Input'!C461:AQ461,\"0\"))","v":""},{"$f":"IF(ISBLANK('Data Input'!A461),\"\",SUM(B457,C457))","v":""},{"$f":"IF(ISBLANK('Data Input'!A461),\"\",SUM('Data Input'!C461:V461))","v":""},{"$f":"IF(ISBLANK('Data Input'!A461),\"\",SUM('Data Input'!X461:AQ461))","v":""},{"$f":"IF(ISBLANK('Data Input'!A461),\"\",SUM('Data Input'!C461:AQ461))","v":""},{"$f":"IF(G457=\"\",\"\",G457/(COUNTA('Data Input'!$C$8:$AQ$8)-1))","v":""},{"$f":"IF(ISBLANK('Data Input'!A461),\"\",SUM('Data Input'!C461,'Data Input'!K461,'Data Input'!L461,'Data Input'!AC461,'Data Input'!AF461,'Data Input'!AM461,'Data Input'!AO461))","v":""},{"$f":"IF(I457=\"\",\"\",I457/COUNTIF('Data Input'!$C$8:$AQ$8,$I$2))","v":""},{"$f":"IF(ISBLANK('Data Input'!A461),\"\",SUM('Data Input'!D461,'Data Input'!E461,'Data Input'!F461,'Data Input'!G461,'Data Input'!J461,'Data Input'!O461,'Data Input'!P461,'Data Input'!S461,'Data Input'!U461,'Data Input'!X461,'Data Input'!Z461,'Data Input'!AA461,'Data Input'!AB461,'Data Input'!AE461,'Data Input'!AG461,'Data Input'!AH461,'Data Input'!AJ461,'Data Input'!AK461,'Data Input'!AL461,'Data Input'!AN461))","v":""},{"$f":"IF(K457=\"\",\"\",K457/COUNTIF('Data Input'!$C$8:$AQ$8,$K$2))","v":""},{"$f":"IF(ISBLANK('Data Input'!A461),\"\",SUM('Data Input'!V461))","v":""},{"$f":"IF(M457=\"\",\"\",M457/COUNTIF('Data Input'!$C$8:$AQ$8,$M$2))","v":""},{"$f":"IF(ISBLANK('Data Input'!A461),\"\",SUM('Data Input'!H461,'Data Input'!I461,'Data Input'!M461,'Data Input'!N461,'Data Input'!Q461,'Data Input'!R461,'Data Input'!T461,'Data Input'!Y461,'Data Input'!AD461,'Data Input'!AI461,'Data Input'!AP461,'Data Input'!AQ461))","v":""},{"$f":"IF(O457=\"\",\"\",O457/COUNTIF('Data Input'!$C$8:$AQ$8,$O$2))","v":""}]
[{"$f":"IF('Data Input'!A462=0,\"\",'Data Input'!A462)","v":""},{"$f":"IF(ISBLANK('Data Input'!A462),\"\",COUNTIF('Data Input'!C462:AQ462,\"\")-1)","v":""},{"$f":"IF(ISBLANK('Data Input'!A462),\"\",COUNTIF('Data Input'!C462:AQ462,\"0\"))","v":""},{"$f":"IF(ISBLANK('Data Input'!A462),\"\",SUM(B458,C458))","v":""},{"$f":"IF(ISBLANK('Data Input'!A462),\"\",SUM('Data Input'!C462:V462))","v":""},{"$f":"IF(ISBLANK('Data Input'!A462),\"\",SUM('Data Input'!X462:AQ462))","v":""},{"$f":"IF(ISBLANK('Data Input'!A462),\"\",SUM('Data Input'!C462:AQ462))","v":""},{"$f":"IF(G458=\"\",\"\",G458/(COUNTA('Data Input'!$C$8:$AQ$8)-1))","v":""},{"$f":"IF(ISBLANK('Data Input'!A462),\"\",SUM('Data Input'!C462,'Data Input'!K462,'Data Input'!L462,'Data Input'!AC462,'Data Input'!AF462,'Data Input'!AM462,'Data Input'!AO462))","v":""},{"$f":"IF(I458=\"\",\"\",I458/COUNTIF('Data Input'!$C$8:$AQ$8,$I$2))","v":""},{"$f":"IF(ISBLANK('Data Input'!A462),\"\",SUM('Data Input'!D462,'Data Input'!E462,'Data Input'!F462,'Data Input'!G462,'Data Input'!J462,'Data Input'!O462,'Data Input'!P462,'Data Input'!S462,'Data Input'!U462,'Data Input'!X462,'Data Input'!Z462,'Data Input'!AA462,'Data Input'!AB462,'Data Input'!AE462,'Data Input'!AG462,'Data Input'!AH462,'Data Input'!AJ462,'Data Input'!AK462,'Data Input'!AL462,'Data Input'!AN462))","v":""},{"$f":"IF(K458=\"\",\"\",K458/COUNTIF('Data Input'!$C$8:$AQ$8,$K$2))","v":""},{"$f":"IF(ISBLANK('Data Input'!A462),\"\",SUM('Data Input'!V462))","v":""},{"$f":"IF(M458=\"\",\"\",M458/COUNTIF('Data Input'!$C$8:$AQ$8,$M$2))","v":""},{"$f":"IF(ISBLANK('Data Input'!A462),\"\",SUM('Data Input'!H462,'Data Input'!I462,'Data Input'!M462,'Data Input'!N462,'Data Input'!Q462,'Data Input'!R462,'Data Input'!T462,'Data Input'!Y462,'Data Input'!AD462,'Data Input'!AI462,'Data Input'!AP462,'Data Input'!AQ462))","v":""},{"$f":"IF(O458=\"\",\"\",O458/COUNTIF('Data Input'!$C$8:$AQ$8,$O$2))","v":""}]
[{"$f":"IF('Data Input'!A463=0,\"\",'Data Input'!A463)","v":""},{"$f":"IF(ISBLANK('Data Input'!A463),\"\",COUNTIF('Data Input'!C463:AQ463,\"\")-1)","v":""},{"$f":"IF(ISBLANK('Data Input'!A463),\"\",COUNTIF('Data Input'!C463:AQ463,\"0\"))","v":""},{"$f":"IF(ISBLANK('Data Input'!A463),\"\",SUM(B459,C459))","v":""},{"$f":"IF(ISBLANK('Data Input'!A463),\"\",SUM('Data Input'!C463:V463))","v":""},{"$f":"IF(ISBLANK('Data Input'!A463),\"\",SUM('Data Input'!X463:AQ463))","v":""},{"$f":"IF(ISBLANK('Data Input'!A463),\"\",SUM('Data Input'!C463:AQ463))","v":""},{"$f":"IF(G459=\"\",\"\",G459/(COUNTA('Data Input'!$C$8:$AQ$8)-1))","v":""},{"$f":"IF(ISBLANK('Data Input'!A463),\"\",SUM('Data Input'!C463,'Data Input'!K463,'Data Input'!L463,'Data Input'!AC463,'Data Input'!AF463,'Data Input'!AM463,'Data Input'!AO463))","v":""},{"$f":"IF(I459=\"\",\"\",I459/COUNTIF('Data Input'!$C$8:$AQ$8,$I$2))","v":""},{"$f":"IF(ISBLANK('Data Input'!A463),\"\",SUM('Data Input'!D463,'Data Input'!E463,'Data Input'!F463,'Data Input'!G463,'Data Input'!J463,'Data Input'!O463,'Data Input'!P463,'Data Input'!S463,'Data Input'!U463,'Data Input'!X463,'Data Input'!Z463,'Data Input'!AA463,'Data Input'!AB463,'Data Input'!AE463,'Data Input'!AG463,'Data Input'!AH463,'Data Input'!AJ463,'Data Input'!AK463,'Data Input'!AL463,'Data Input'!AN463))","v":""},{"$f":"IF(K459=\"\",\"\",K459/COUNTIF('Data Input'!$C$8:$AQ$8,$K$2))","v":""},{"$f":"IF(ISBLANK('Data Input'!A463),\"\",SUM('Data Input'!V463))","v":""},{"$f":"IF(M459=\"\",\"\",M459/COUNTIF('Data Input'!$C$8:$AQ$8,$M$2))","v":""},{"$f":"IF(ISBLANK('Data Input'!A463),\"\",SUM('Data Input'!H463,'Data Input'!I463,'Data Input'!M463,'Data Input'!N463,'Data Input'!Q463,'Data Input'!R463,'Data Input'!T463,'Data Input'!Y463,'Data Input'!AD463,'Data Input'!AI463,'Data Input'!AP463,'Data Input'!AQ463))","v":""},{"$f":"IF(O459=\"\",\"\",O459/COUNTIF('Data Input'!$C$8:$AQ$8,$O$2))","v":""}]
[{"$f":"IF('Data Input'!A464=0,\"\",'Data Input'!A464)","v":""},{"$f":"IF(ISBLANK('Data Input'!A464),\"\",COUNTIF('Data Input'!C464:AQ464,\"\")-1)","v":""},{"$f":"IF(ISBLANK('Data Input'!A464),\"\",COUNTIF('Data Input'!C464:AQ464,\"0\"))","v":""},{"$f":"IF(ISBLANK('Data Input'!A464),\"\",SUM(B460,C460))","v":""},{"$f":"IF(ISBLANK('Data Input'!A464),\"\",SUM('Data Input'!C464:V464))","v":""},{"$f":"IF(ISBLANK('Data Input'!A464),\"\",SUM('Data Input'!X464:AQ464))","v":""},{"$f":"IF(ISBLANK('Data Input'!A464),\"\",SUM('Data Input'!C464:AQ464))","v":""},{"$f":"IF(G460=\"\",\"\",G460/(COUNTA('Data Input'!$C$8:$AQ$8)-1))","v":""},{"$f":"IF(ISBLANK('Data Input'!A464),\"\",SUM('Data Input'!C464,'Data Input'!K464,'Data Input'!L464,'Data Input'!AC464,'Data Input'!AF464,'Data Input'!AM464,'Data Input'!AO464))","v":""},{"$f":"IF(I460=\"\",\"\",I460/COUNTIF('Data Input'!$C$8:$AQ$8,$I$2))","v":""},{"$f":"IF(ISBLANK('Data Input'!A464),\"\",SUM('Data Input'!D464,'Data Input'!E464,'Data Input'!F464,'Data Input'!G464,'Data Input'!J464,'Data Input'!O464,'Data Input'!P464,'Data Input'!S464,'Data Input'!U464,'Data Input'!X464,'Data Input'!Z464,'Data Input'!AA464,'Data Input'!AB464,'Data Input'!AE464,'Data Input'!AG464,'Data Input'!AH464,'Data Input'!AJ464,'Data Input'!AK464,'Data Input'!AL464,'Data Input'!AN464))","v":""},{"$f":"IF(K460=\"\",\"\",K460/COUNTIF('Data Input'!$C$8:$AQ$8,$K$2))","v":""},{"$f":"IF(ISBLANK('Data Input'!A464),\"\",SUM('Data Input'!V464))","v":""},{"$f":"IF(M460=\"\",\"\",M460/COUNTIF('Data Input'!$C$8:$AQ$8,$M$2))","v":""},{"$f":"IF(ISBLANK('Data Input'!A464),\"\",SUM('Data Input'!H464,'Data Input'!I464,'Data Input'!M464,'Data Input'!N464,'Data Input'!Q464,'Data Input'!R464,'Data Input'!T464,'Data Input'!Y464,'Data Input'!AD464,'Data Input'!AI464,'Data Input'!AP464,'Data Input'!AQ464))","v":""},{"$f":"IF(O460=\"\",\"\",O460/COUNTIF('Data Input'!$C$8:$AQ$8,$O$2))","v":""}]
[{"$f":"IF('Data Input'!A465=0,\"\",'Data Input'!A465)","v":""},{"$f":"IF(ISBLANK('Data Input'!A465),\"\",COUNTIF('Data Input'!C465:AQ465,\"\")-1)","v":""},{"$f":"IF(ISBLANK('Data Input'!A465),\"\",COUNTIF('Data Input'!C465:AQ465,\"0\"))","v":""},{"$f":"IF(ISBLANK('Data Input'!A465),\"\",SUM(B461,C461))","v":""},{"$f":"IF(ISBLANK('Data Input'!A465),\"\",SUM('Data Input'!C465:V465))","v":""},{"$f":"IF(ISBLANK('Data Input'!A465),\"\",SUM('Data Input'!X465:AQ465))","v":""},{"$f":"IF(ISBLANK('Data Input'!A465),\"\",SUM('Data Input'!C465:AQ465))","v":""},{"$f":"IF(G461=\"\",\"\",G461/(COUNTA('Data Input'!$C$8:$AQ$8)-1))","v":""},{"$f":"IF(ISBLANK('Data Input'!A465),\"\",SUM('Data Input'!C465,'Data Input'!K465,'Data Input'!L465,'Data Input'!AC465,'Data Input'!AF465,'Data Input'!AM465,'Data Input'!AO465))","v":""},{"$f":"IF(I461=\"\",\"\",I461/COUNTIF('Data Input'!$C$8:$AQ$8,$I$2))","v":""},{"$f":"IF(ISBLANK('Data Input'!A465),\"\",SUM('Data Input'!D465,'Data Input'!E465,'Data Input'!F465,'Data Input'!G465,'Data Input'!J465,'Data Input'!O465,'Data Input'!P465,'Data Input'!S465,'Data Input'!U465,'Data Input'!X465,'Data Input'!Z465,'Data Input'!AA465,'Data Input'!AB465,'Data Input'!AE465,'Data Input'!AG465,'Data Input'!AH465,'Data Input'!AJ465,'Data Input'!AK465,'Data Input'!AL465,'Data Input'!AN465))","v":""},{"$f":"IF(K461=\"\",\"\",K461/COUNTIF('Data Input'!$C$8:$AQ$8,$K$2))","v":""},{"$f":"IF(ISBLANK('Data Input'!A465),\"\",SUM('Data Input'!V465))","v":""},{"$f":"IF(M461=\"\",\"\",M461/COUNTIF('Data Input'!$C$8:$AQ$8,$M$2))","v":""},{"$f":"IF(ISBLANK('Data Input'!A465),\"\",SUM('Data Input'!H465,'Data Input'!I465,'Data Input'!M465,'Data Input'!N465,'Data Input'!Q465,'Data Input'!R465,'Data Input'!T465,'Data Input'!Y465,'Data Input'!AD465,'Data Input'!AI465,'Data Input'!AP465,'Data Input'!AQ465))","v":""},{"$f":"IF(O461=\"\",\"\",O461/COUNTIF('Data Input'!$C$8:$AQ$8,$O$2))","v":""}]
[{"$f":"IF('Data Input'!A466=0,\"\",'Data Input'!A466)","v":""},{"$f":"IF(ISBLANK('Data Input'!A466),\"\",COUNTIF('Data Input'!C466:AQ466,\"\")-1)","v":""},{"$f":"IF(ISBLANK('Data Input'!A466),\"\",COUNTIF('Data Input'!C466:AQ466,\"0\"))","v":""},{"$f":"IF(ISBLANK('Data Input'!A466),\"\",SUM(B462,C462))","v":""},{"$f":"IF(ISBLANK('Data Input'!A466),\"\",SUM('Data Input'!C466:V466))","v":""},{"$f":"IF(ISBLANK('Data Input'!A466),\"\",SUM('Data Input'!X466:AQ466))","v":""},{"$f":"IF(ISBLANK('Data Input'!A466),\"\",SUM('Data Input'!C466:AQ466))","v":""},{"$f":"IF(G462=\"\",\"\",G462/(COUNTA('Data Input'!$C$8:$AQ$8)-1))","v":""},{"$f":"IF(ISBLANK('Data Input'!A466),\"\",SUM('Data Input'!C466,'Data Input'!K466,'Data Input'!L466,'Data Input'!AC466,'Data Input'!AF466,'Data Input'!AM466,'Data Input'!AO466))","v":""},{"$f":"IF(I462=\"\",\"\",I462/COUNTIF('Data Input'!$C$8:$AQ$8,$I$2))","v":""},{"$f":"IF(ISBLANK('Data Input'!A466),\"\",SUM('Data Input'!D466,'Data Input'!E466,'Data Input'!F466,'Data Input'!G466,'Data Input'!J466,'Data Input'!O466,'Data Input'!P466,'Data Input'!S466,'Data Input'!U466,'Data Input'!X466,'Data Input'!Z466,'Data Input'!AA466,'Data Input'!AB466,'Data Input'!AE466,'Data Input'!AG466,'Data Input'!AH466,'Data Input'!AJ466,'Data Input'!AK466,'Data Input'!AL466,'Data Input'!AN466))","v":""},{"$f":"IF(K462=\"\",\"\",K462/COUNTIF('Data Input'!$C$8:$AQ$8,$K$2))","v":""},{"$f":"IF(ISBLANK('Data Input'!A466),\"\",SUM('Data Input'!V466))","v":""},{"$f":"IF(M462=\"\",\"\",M462/COUNTIF('Data Input'!$C$8:$AQ$8,$M$2))","v":""},{"$f":"IF(ISBLANK('Data Input'!A466),\"\",SUM('Data Input'!H466,'Data Input'!I466,'Data Input'!M466,'Data Input'!N466,'Data Input'!Q466,'Data Input'!R466,'Data Input'!T466,'Data Input'!Y466,'Data Input'!AD466,'Data Input'!AI466,'Data Input'!AP466,'Data Input'!AQ466))","v":""},{"$f":"IF(O462=\"\",\"\",O462/COUNTIF('Data Input'!$C$8:$AQ$8,$O$2))","v":""}]
[{"$f":"IF('Data Input'!A467=0,\"\",'Data Input'!A467)","v":""},{"$f":"IF(ISBLANK('Data Input'!A467),\"\",COUNTIF('Data Input'!C467:AQ467,\"\")-1)","v":""},{"$f":"IF(ISBLANK('Data Input'!A467),\"\",COUNTIF('Data Input'!C467:AQ467,\"0\"))","v":""},{"$f":"IF(ISBLANK('Data Input'!A467),\"\",SUM(B463,C463))","v":""},{"$f":"IF(ISBLANK('Data Input'!A467),\"\",SUM('Data Input'!C467:V467))","v":""},{"$f":"IF(ISBLANK('Data Input'!A467),\"\",SUM('Data Input'!X467:AQ467))","v":""},{"$f":"IF(ISBLANK('Data Input'!A467),\"\",SUM('Data Input'!C467:AQ467))","v":""},{"$f":"IF(G463=\"\",\"\",G463/(COUNTA('Data Input'!$C$8:$AQ$8)-1))","v":""},{"$f":"IF(ISBLANK('Data Input'!A467),\"\",SUM('Data Input'!C467,'Data Input'!K467,'Data Input'!L467,'Data Input'!AC467,'Data Input'!AF467,'Data Input'!AM467,'Data Input'!AO467))","v":""},{"$f":"IF(I463=\"\",\"\",I463/COUNTIF('Data Input'!$C$8:$AQ$8,$I$2))","v":""},{"$f":"IF(ISBLANK('Data Input'!A467),\"\",SUM('Data Input'!D467,'Data Input'!E467,'Data Input'!F467,'Data Input'!G467,'Data Input'!J467,'Data Input'!O467,'Data Input'!P467,'Data Input'!S467,'Data Input'!U467,'Data Input'!X467,'Data Input'!Z467,'Data Input'!AA467,'Data Input'!AB467,'Data Input'!AE467,'Data Input'!AG467,'Data Input'!AH467,'Data Input'!AJ467,'Data Input'!AK467,'Data Input'!AL467,'Data Input'!AN467))","v":""},{"$f":"IF(K463=\"\",\"\",K463/COUNTIF('Data Input'!$C$8:$AQ$8,$K$2))","v":""},{"$f":"IF(ISBLANK('Data Input'!A467),\"\",SUM('Data Input'!V467))","v":""},{"$f":"IF(M463=\"\",\"\",M463/COUNTIF('Data Input'!$C$8:$AQ$8,$M$2))","v":""},{"$f":"IF(ISBLANK('Data Input'!A467),\"\",SUM('Data Input'!H467,'Data Input'!I467,'Data Input'!M467,'Data Input'!N467,'Data Input'!Q467,'Data Input'!R467,'Data Input'!T467,'Data Input'!Y467,'Data Input'!AD467,'Data Input'!AI467,'Data Input'!AP467,'Data Input'!AQ467))","v":""},{"$f":"IF(O463=\"\",\"\",O463/COUNTIF('Data Input'!$C$8:$AQ$8,$O$2))","v":""}]
[{"$f":"IF('Data Input'!A468=0,\"\",'Data Input'!A468)","v":""},{"$f":"IF(ISBLANK('Data Input'!A468),\"\",COUNTIF('Data Input'!C468:AQ468,\"\")-1)","v":""},{"$f":"IF(ISBLANK('Data Input'!A468),\"\",COUNTIF('Data Input'!C468:AQ468,\"0\"))","v":""},{"$f":"IF(ISBLANK('Data Input'!A468),\"\",SUM(B464,C464))","v":""},{"$f":"IF(ISBLANK('Data Input'!A468),\"\",SUM('Data Input'!C468:V468))","v":""},{"$f":"IF(ISBLANK('Data Input'!A468),\"\",SUM('Data Input'!X468:AQ468))","v":""},{"$f":"IF(ISBLANK('Data Input'!A468),\"\",SUM('Data Input'!C468:AQ468))","v":""},{"$f":"IF(G464=\"\",\"\",G464/(COUNTA('Data Input'!$C$8:$AQ$8)-1))","v":""},{"$f":"IF(ISBLANK('Data Input'!A468),\"\",SUM('Data Input'!C468,'Data Input'!K468,'Data Input'!L468,'Data Input'!AC468,'Data Input'!AF468,'Data Input'!AM468,'Data Input'!AO468))","v":""},{"$f":"IF(I464=\"\",\"\",I464/COUNTIF('Data Input'!$C$8:$AQ$8,$I$2))","v":""},{"$f":"IF(ISBLANK('Data Input'!A468),\"\",SUM('Data Input'!D468,'Data Input'!E468,'Data Input'!F468,'Data Input'!G468,'Data Input'!J468,'Data Input'!O468,'Data Input'!P468,'Data Input'!S468,'Data Input'!U468,'Data Input'!X468,'Data Input'!Z468,'Data Input'!AA468,'Data Input'!AB468,'Data Input'!AE468,'Data Input'!AG468,'Data Input'!AH468,'Data Input'!AJ468,'Data Input'!AK468,'Data Input'!AL468,'Data Input'!AN468))","v":""},{"$f":"IF(K464=\"\",\"\",K464/COUNTIF('Data Input'!$C$8:$AQ$8,$K$2))","v":""},{"$f":"IF(ISBLANK('Data Input'!A468),\"\",SUM('Data Input'!V468))","v":""},{"$f":"IF(M464=\"\",\"\",M464/COUNTIF('Data Input'!$C$8:$AQ$8,$M$2))","v":""},{"$f":"IF(ISBLANK('Data Input'!A468),\"\",SUM('Data Input'!H468,'Data Input'!I468,'Data Input'!M468,'Data Input'!N468,'Data Input'!Q468,'Data Input'!R468,'Data Input'!T468,'Data Input'!Y468,'Data Input'!AD468,'Data Input'!AI468,'Data Input'!AP468,'Data Input'!AQ468))","v":""},{"$f":"IF(O464=\"\",\"\",O464/COUNTIF('Data Input'!$C$8:$AQ$8,$O$2))","v":""}]
[{"$f":"IF('Data Input'!A469=0,\"\",'Data Input'!A469)","v":""},{"$f":"IF(ISBLANK('Data Input'!A469),\"\",COUNTIF('Data Input'!C469:AQ469,\"\")-1)","v":""},{"$f":"IF(ISBLANK('Data Input'!A469),\"\",COUNTIF('Data Input'!C469:AQ469,\"0\"))","v":""},{"$f":"IF(ISBLANK('Data Input'!A469),\"\",SUM(B465,C465))","v":""},{"$f":"IF(ISBLANK('Data Input'!A469),\"\",SUM('Data Input'!C469:V469))","v":""},{"$f":"IF(ISBLANK('Data Input'!A469),\"\",SUM('Data Input'!X469:AQ469))","v":""},{"$f":"IF(ISBLANK('Data Input'!A469),\"\",SUM('Data Input'!C469:AQ469))","v":""},{"$f":"IF(G465=\"\",\"\",G465/(COUNTA('Data Input'!$C$8:$AQ$8)-1))","v":""},{"$f":"IF(ISBLANK('Data Input'!A469),\"\",SUM('Data Input'!C469,'Data Input'!K469,'Data Input'!L469,'Data Input'!AC469,'Data Input'!AF469,'Data Input'!AM469,'Data Input'!AO469))","v":""},{"$f":"IF(I465=\"\",\"\",I465/COUNTIF('Data Input'!$C$8:$AQ$8,$I$2))","v":""},{"$f":"IF(ISBLANK('Data Input'!A469),\"\",SUM('Data Input'!D469,'Data Input'!E469,'Data Input'!F469,'Data Input'!G469,'Data Input'!J469,'Data Input'!O469,'Data Input'!P469,'Data Input'!S469,'Data Input'!U469,'Data Input'!X469,'Data Input'!Z469,'Data Input'!AA469,'Data Input'!AB469,'Data Input'!AE469,'Data Input'!AG469,'Data Input'!AH469,'Data Input'!AJ469,'Data Input'!AK469,'Data Input'!AL469,'Data Input'!AN469))","v":""},{"$f":"IF(K465=\"\",\"\",K465/COUNTIF('Data Input'!$C$8:$AQ$8,$K$2))","v":""},{"$f":"IF(ISBLANK('Data Input'!A469),\"\",SUM('Data Input'!V469))","v":""},{"$f":"IF(M465=\"\",\"\",M465/COUNTIF('Data Input'!$C$8:$AQ$8,$M$2))","v":""},{"$f":"IF(ISBLANK('Data Input'!A469),\"\",SUM('Data Input'!H469,'Data Input'!I469,'Data Input'!M469,'Data Input'!N469,'Data Input'!Q469,'Data Input'!R469,'Data Input'!T469,'Data Input'!Y469,'Data Input'!AD469,'Data Input'!AI469,'Data Input'!AP469,'Data Input'!AQ469))","v":""},{"$f":"IF(O465=\"\",\"\",O465/COUNTIF('Data Input'!$C$8:$AQ$8,$O$2))","v":""}]
[{"$f":"IF('Data Input'!A470=0,\"\",'Data Input'!A470)","v":""},{"$f":"IF(ISBLANK('Data Input'!A470),\"\",COUNTIF('Data Input'!C470:AQ470,\"\")-1)","v":""},{"$f":"IF(ISBLANK('Data Input'!A470),\"\",COUNTIF('Data Input'!C470:AQ470,\"0\"))","v":""},{"$f":"IF(ISBLANK('Data Input'!A470),\"\",SUM(B466,C466))","v":""},{"$f":"IF(ISBLANK('Data Input'!A470),\"\",SUM('Data Input'!C470:V470))","v":""},{"$f":"IF(ISBLANK('Data Input'!A470),\"\",SUM('Data Input'!X470:AQ470))","v":""},{"$f":"IF(ISBLANK('Data Input'!A470),\"\",SUM('Data Input'!C470:AQ470))","v":""},{"$f":"IF(G466=\"\",\"\",G466/(COUNTA('Data Input'!$C$8:$AQ$8)-1))","v":""},{"$f":"IF(ISBLANK('Data Input'!A470),\"\",SUM('Data Input'!C470,'Data Input'!K470,'Data Input'!L470,'Data Input'!AC470,'Data Input'!AF470,'Data Input'!AM470,'Data Input'!AO470))","v":""},{"$f":"IF(I466=\"\",\"\",I466/COUNTIF('Data Input'!$C$8:$AQ$8,$I$2))","v":""},{"$f":"IF(ISBLANK('Data Input'!A470),\"\",SUM('Data Input'!D470,'Data Input'!E470,'Data Input'!F470,'Data Input'!G470,'Data Input'!J470,'Data Input'!O470,'Data Input'!P470,'Data Input'!S470,'Data Input'!U470,'Data Input'!X470,'Data Input'!Z470,'Data Input'!AA470,'Data Input'!AB470,'Data Input'!AE470,'Data Input'!AG470,'Data Input'!AH470,'Data Input'!AJ470,'Data Input'!AK470,'Data Input'!AL470,'Data Input'!AN470))","v":""},{"$f":"IF(K466=\"\",\"\",K466/COUNTIF('Data Input'!$C$8:$AQ$8,$K$2))","v":""},{"$f":"IF(ISBLANK('Data Input'!A470),\"\",SUM('Data Input'!V470))","v":""},{"$f":"IF(M466=\"\",\"\",M466/COUNTIF('Data Input'!$C$8:$AQ$8,$M$2))","v":""},{"$f":"IF(ISBLANK('Data Input'!A470),\"\",SUM('Data Input'!H470,'Data Input'!I470,'Data Input'!M470,'Data Input'!N470,'Data Input'!Q470,'Data Input'!R470,'Data Input'!T470,'Data Input'!Y470,'Data Input'!AD470,'Data Input'!AI470,'Data Input'!AP470,'Data Input'!AQ470))","v":""},{"$f":"IF(O466=\"\",\"\",O466/COUNTIF('Data Input'!$C$8:$AQ$8,$O$2))","v":""}]
[{"$f":"IF('Data Input'!A471=0,\"\",'Data Input'!A471)","v":""},{"$f":"IF(ISBLANK('Data Input'!A471),\"\",COUNTIF('Data Input'!C471:AQ471,\"\")-1)","v":""},{"$f":"IF(ISBLANK('Data Input'!A471),\"\",COUNTIF('Data Input'!C471:AQ471,\"0\"))","v":""},{"$f":"IF(ISBLANK('Data Input'!A471),\"\",SUM(B467,C467))","v":""},{"$f":"IF(ISBLANK('Data Input'!A471),\"\",SUM('Data Input'!C471:V471))","v":""},{"$f":"IF(ISBLANK('Data Input'!A471),\"\",SUM('Data Input'!X471:AQ471))","v":""},{"$f":"IF(ISBLANK('Data Input'!A471),\"\",SUM('Data Input'!C471:AQ471))","v":""},{"$f":"IF(G467=\"\",\"\",G467/(COUNTA('Data Input'!$C$8:$AQ$8)-1))","v":""},{"$f":"IF(ISBLANK('Data Input'!A471),\"\",SUM('Data Input'!C471,'Data Input'!K471,'Data Input'!L471,'Data Input'!AC471,'Data Input'!AF471,'Data Input'!AM471,'Data Input'!AO471))","v":""},{"$f":"IF(I467=\"\",\"\",I467/COUNTIF('Data Input'!$C$8:$AQ$8,$I$2))","v":""},{"$f":"IF(ISBLANK('Data Input'!A471),\"\",SUM('Data Input'!D471,'Data Input'!E471,'Data Input'!F471,'Data Input'!G471,'Data Input'!J471,'Data Input'!O471,'Data Input'!P471,'Data Input'!S471,'Data Input'!U471,'Data Input'!X471,'Data Input'!Z471,'Data Input'!AA471,'Data Input'!AB471,'Data Input'!AE471,'Data Input'!AG471,'Data Input'!AH471,'Data Input'!AJ471,'Data Input'!AK471,'Data Input'!AL471,'Data Input'!AN471))","v":""},{"$f":"IF(K467=\"\",\"\",K467/COUNTIF('Data Input'!$C$8:$AQ$8,$K$2))","v":""},{"$f":"IF(ISBLANK('Data Input'!A471),\"\",SUM('Data Input'!V471))","v":""},{"$f":"IF(M467=\"\",\"\",M467/COUNTIF('Data Input'!$C$8:$AQ$8,$M$2))","v":""},{"$f":"IF(ISBLANK('Data Input'!A471),\"\",SUM('Data Input'!H471,'Data Input'!I471,'Data Input'!M471,'Data Input'!N471,'Data Input'!Q471,'Data Input'!R471,'Data Input'!T471,'Data Input'!Y471,'Data Input'!AD471,'Data Input'!AI471,'Data Input'!AP471,'Data Input'!AQ471))","v":""},{"$f":"IF(O467=\"\",\"\",O467/COUNTIF('Data Input'!$C$8:$AQ$8,$O$2))","v":""}]
[{"$f":"IF('Data Input'!A472=0,\"\",'Data Input'!A472)","v":""},{"$f":"IF(ISBLANK('Data Input'!A472),\"\",COUNTIF('Data Input'!C472:AQ472,\"\")-1)","v":""},{"$f":"IF(ISBLANK('Data Input'!A472),\"\",COUNTIF('Data Input'!C472:AQ472,\"0\"))","v":""},{"$f":"IF(ISBLANK('Data Input'!A472),\"\",SUM(B468,C468))","v":""},{"$f":"IF(ISBLANK('Data Input'!A472),\"\",SUM('Data Input'!C472:V472))","v":""},{"$f":"IF(ISBLANK('Data Input'!A472),\"\",SUM('Data Input'!X472:AQ472))","v":""},{"$f":"IF(ISBLANK('Data Input'!A472),\"\",SUM('Data Input'!C472:AQ472))","v":""},{"$f":"IF(G468=\"\",\"\",G468/(COUNTA('Data Input'!$C$8:$AQ$8)-1))","v":""},{"$f":"IF(ISBLANK('Data Input'!A472),\"\",SUM('Data Input'!C472,'Data Input'!K472,'Data Input'!L472,'Data Input'!AC472,'Data Input'!AF472,'Data Input'!AM472,'Data Input'!AO472))","v":""},{"$f":"IF(I468=\"\",\"\",I468/COUNTIF('Data Input'!$C$8:$AQ$8,$I$2))","v":""},{"$f":"IF(ISBLANK('Data Input'!A472),\"\",SUM('Data Input'!D472,'Data Input'!E472,'Data Input'!F472,'Data Input'!G472,'Data Input'!J472,'Data Input'!O472,'Data Input'!P472,'Data Input'!S472,'Data Input'!U472,'Data Input'!X472,'Data Input'!Z472,'Data Input'!AA472,'Data Input'!AB472,'Data Input'!AE472,'Data Input'!AG472,'Data Input'!AH472,'Data Input'!AJ472,'Data Input'!AK472,'Data Input'!AL472,'Data Input'!AN472))","v":""},{"$f":"IF(K468=\"\",\"\",K468/COUNTIF('Data Input'!$C$8:$AQ$8,$K$2))","v":""},{"$f":"IF(ISBLANK('Data Input'!A472),\"\",SUM('Data Input'!V472))","v":""},{"$f":"IF(M468=\"\",\"\",M468/COUNTIF('Data Input'!$C$8:$AQ$8,$M$2))","v":""},{"$f":"IF(ISBLANK('Data Input'!A472),\"\",SUM('Data Input'!H472,'Data Input'!I472,'Data Input'!M472,'Data Input'!N472,'Data Input'!Q472,'Data Input'!R472,'Data Input'!T472,'Data Input'!Y472,'Data Input'!AD472,'Data Input'!AI472,'Data Input'!AP472,'Data Input'!AQ472))","v":""},{"$f":"IF(O468=\"\",\"\",O468/COUNTIF('Data Input'!$C$8:$AQ$8,$O$2))","v":""}]
[{"$f":"IF('Data Input'!A473=0,\"\",'Data Input'!A473)","v":""},{"$f":"IF(ISBLANK('Data Input'!A473),\"\",COUNTIF('Data Input'!C473:AQ473,\"\")-1)","v":""},{"$f":"IF(ISBLANK('Data Input'!A473),\"\",COUNTIF('Data Input'!C473:AQ473,\"0\"))","v":""},{"$f":"IF(ISBLANK('Data Input'!A473),\"\",SUM(B469,C469))","v":""},{"$f":"IF(ISBLANK('Data Input'!A473),\"\",SUM('Data Input'!C473:V473))","v":""},{"$f":"IF(ISBLANK('Data Input'!A473),\"\",SUM('Data Input'!X473:AQ473))","v":""},{"$f":"IF(ISBLANK('Data Input'!A473),\"\",SUM('Data Input'!C473:AQ473))","v":""},{"$f":"IF(G469=\"\",\"\",G469/(COUNTA('Data Input'!$C$8:$AQ$8)-1))","v":""},{"$f":"IF(ISBLANK('Data Input'!A473),\"\",SUM('Data Input'!C473,'Data Input'!K473,'Data Input'!L473,'Data Input'!AC473,'Data Input'!AF473,'Data Input'!AM473,'Data Input'!AO473))","v":""},{"$f":"IF(I469=\"\",\"\",I469/COUNTIF('Data Input'!$C$8:$AQ$8,$I$2))","v":""},{"$f":"IF(ISBLANK('Data Input'!A473),\"\",SUM('Data Input'!D473,'Data Input'!E473,'Data Input'!F473,'Data Input'!G473,'Data Input'!J473,'Data Input'!O473,'Data Input'!P473,'Data Input'!S473,'Data Input'!U473,'Data Input'!X473,'Data Input'!Z473,'Data Input'!AA473,'Data Input'!AB473,'Data Input'!AE473,'Data Input'!AG473,'Data Input'!AH473,'Data Input'!AJ473,'Data Input'!AK473,'Data Input'!AL473,'Data Input'!AN473))","v":""},{"$f":"IF(K469=\"\",\"\",K469/COUNTIF('Data Input'!$C$8:$AQ$8,$K$2))","v":""},{"$f":"IF(ISBLANK('Data Input'!A473),\"\",SUM('Data Input'!V473))","v":""},{"$f":"IF(M469=\"\",\"\",M469/COUNTIF('Data Input'!$C$8:$AQ$8,$M$2))","v":""},{"$f":"IF(ISBLANK('Data Input'!A473),\"\",SUM('Data Input'!H473,'Data Input'!I473,'Data Input'!M473,'Data Input'!N473,'Data Input'!Q473,'Data Input'!R473,'Data Input'!T473,'Data Input'!Y473,'Data Input'!AD473,'Data Input'!AI473,'Data Input'!AP473,'Data Input'!AQ473))","v":""},{"$f":"IF(O469=\"\",\"\",O469/COUNTIF('Data Input'!$C$8:$AQ$8,$O$2))","v":""}]
[{"$f":"IF('Data Input'!A474=0,\"\",'Data Input'!A474)","v":""},{"$f":"IF(ISBLANK('Data Input'!A474),\"\",COUNTIF('Data Input'!C474:AQ474,\"\")-1)","v":""},{"$f":"IF(ISBLANK('Data Input'!A474),\"\",COUNTIF('Data Input'!C474:AQ474,\"0\"))","v":""},{"$f":"IF(ISBLANK('Data Input'!A474),\"\",SUM(B470,C470))","v":""},{"$f":"IF(ISBLANK('Data Input'!A474),\"\",SUM('Data Input'!C474:V474))","v":""},{"$f":"IF(ISBLANK('Data Input'!A474),\"\",SUM('Data Input'!X474:AQ474))","v":""},{"$f":"IF(ISBLANK('Data Input'!A474),\"\",SUM('Data Input'!C474:AQ474))","v":""},{"$f":"IF(G470=\"\",\"\",G470/(COUNTA('Data Input'!$C$8:$AQ$8)-1))","v":""},{"$f":"IF(ISBLANK('Data Input'!A474),\"\",SUM('Data Input'!C474,'Data Input'!K474,'Data Input'!L474,'Data Input'!AC474,'Data Input'!AF474,'Data Input'!AM474,'Data Input'!AO474))","v":""},{"$f":"IF(I470=\"\",\"\",I470/COUNTIF('Data Input'!$C$8:$AQ$8,$I$2))","v":""},{"$f":"IF(ISBLANK('Data Input'!A474),\"\",SUM('Data Input'!D474,'Data Input'!E474,'Data Input'!F474,'Data Input'!G474,'Data Input'!J474,'Data Input'!O474,'Data Input'!P474,'Data Input'!S474,'Data Input'!U474,'Data Input'!X474,'Data Input'!Z474,'Data Input'!AA474,'Data Input'!AB474,'Data Input'!AE474,'Data Input'!AG474,'Data Input'!AH474,'Data Input'!AJ474,'Data Input'!AK474,'Data Input'!AL474,'Data Input'!AN474))","v":""},{"$f":"IF(K470=\"\",\"\",K470/COUNTIF('Data Input'!$C$8:$AQ$8,$K$2))","v":""},{"$f":"IF(ISBLANK('Data Input'!A474),\"\",SUM('Data Input'!V474))","v":""},{"$f":"IF(M470=\"\",\"\",M470/COUNTIF('Data Input'!$C$8:$AQ$8,$M$2))","v":""},{"$f":"IF(ISBLANK('Data Input'!A474),\"\",SUM('Data Input'!H474,'Data Input'!I474,'Data Input'!M474,'Data Input'!N474,'Data Input'!Q474,'Data Input'!R474,'Data Input'!T474,'Data Input'!Y474,'Data Input'!AD474,'Data Input'!AI474,'Data Input'!AP474,'Data Input'!AQ474))","v":""},{"$f":"IF(O470=\"\",\"\",O470/COUNTIF('Data Input'!$C$8:$AQ$8,$O$2))","v":""}]
[{"$f":"IF('Data Input'!A475=0,\"\",'Data Input'!A475)","v":""},{"$f":"IF(ISBLANK('Data Input'!A475),\"\",COUNTIF('Data Input'!C475:AQ475,\"\")-1)","v":""},{"$f":"IF(ISBLANK('Data Input'!A475),\"\",COUNTIF('Data Input'!C475:AQ475,\"0\"))","v":""},{"$f":"IF(ISBLANK('Data Input'!A475),\"\",SUM(B471,C471))","v":""},{"$f":"IF(ISBLANK('Data Input'!A475),\"\",SUM('Data Input'!C475:V475))","v":""},{"$f":"IF(ISBLANK('Data Input'!A475),\"\",SUM('Data Input'!X475:AQ475))","v":""},{"$f":"IF(ISBLANK('Data Input'!A475),\"\",SUM('Data Input'!C475:AQ475))","v":""},{"$f":"IF(G471=\"\",\"\",G471/(COUNTA('Data Input'!$C$8:$AQ$8)-1))","v":""},{"$f":"IF(ISBLANK('Data Input'!A475),\"\",SUM('Data Input'!C475,'Data Input'!K475,'Data Input'!L475,'Data Input'!AC475,'Data Input'!AF475,'Data Input'!AM475,'Data Input'!AO475))","v":""},{"$f":"IF(I471=\"\",\"\",I471/COUNTIF('Data Input'!$C$8:$AQ$8,$I$2))","v":""},{"$f":"IF(ISBLANK('Data Input'!A475),\"\",SUM('Data Input'!D475,'Data Input'!E475,'Data Input'!F475,'Data Input'!G475,'Data Input'!J475,'Data Input'!O475,'Data Input'!P475,'Data Input'!S475,'Data Input'!U475,'Data Input'!X475,'Data Input'!Z475,'Data Input'!AA475,'Data Input'!AB475,'Data Input'!AE475,'Data Input'!AG475,'Data Input'!AH475,'Data Input'!AJ475,'Data Input'!AK475,'Data Input'!AL475,'Data Input'!AN475))","v":""},{"$f":"IF(K471=\"\",\"\",K471/COUNTIF('Data Input'!$C$8:$AQ$8,$K$2))","v":""},{"$f":"IF(ISBLANK('Data Input'!A475),\"\",SUM('Data Input'!V475))","v":""},{"$f":"IF(M471=\"\",\"\",M471/COUNTIF('Data Input'!$C$8:$AQ$8,$M$2))","v":""},{"$f":"IF(ISBLANK('Data Input'!A475),\"\",SUM('Data Input'!H475,'Data Input'!I475,'Data Input'!M475,'Data Input'!N475,'Data Input'!Q475,'Data Input'!R475,'Data Input'!T475,'Data Input'!Y475,'Data Input'!AD475,'Data Input'!AI475,'Data Input'!AP475,'Data Input'!AQ475))","v":""},{"$f":"IF(O471=\"\",\"\",O471/COUNTIF('Data Input'!$C$8:$AQ$8,$O$2))","v":""}]
[{"$f":"IF('Data Input'!A476=0,\"\",'Data Input'!A476)","v":""},{"$f":"IF(ISBLANK('Data Input'!A476),\"\",COUNTIF('Data Input'!C476:AQ476,\"\")-1)","v":""},{"$f":"IF(ISBLANK('Data Input'!A476),\"\",COUNTIF('Data Input'!C476:AQ476,\"0\"))","v":""},{"$f":"IF(ISBLANK('Data Input'!A476),\"\",SUM(B472,C472))","v":""},{"$f":"IF(ISBLANK('Data Input'!A476),\"\",SUM('Data Input'!C476:V476))","v":""},{"$f":"IF(ISBLANK('Data Input'!A476),\"\",SUM('Data Input'!X476:AQ476))","v":""},{"$f":"IF(ISBLANK('Data Input'!A476),\"\",SUM('Data Input'!C476:AQ476))","v":""},{"$f":"IF(G472=\"\",\"\",G472/(COUNTA('Data Input'!$C$8:$AQ$8)-1))","v":""},{"$f":"IF(ISBLANK('Data Input'!A476),\"\",SUM('Data Input'!C476,'Data Input'!K476,'Data Input'!L476,'Data Input'!AC476,'Data Input'!AF476,'Data Input'!AM476,'Data Input'!AO476))","v":""},{"$f":"IF(I472=\"\",\"\",I472/COUNTIF('Data Input'!$C$8:$AQ$8,$I$2))","v":""},{"$f":"IF(ISBLANK('Data Input'!A476),\"\",SUM('Data Input'!D476,'Data Input'!E476,'Data Input'!F476,'Data Input'!G476,'Data Input'!J476,'Data Input'!O476,'Data Input'!P476,'Data Input'!S476,'Data Input'!U476,'Data Input'!X476,'Data Input'!Z476,'Data Input'!AA476,'Data Input'!AB476,'Data Input'!AE476,'Data Input'!AG476,'Data Input'!AH476,'Data Input'!AJ476,'Data Input'!AK476,'Data Input'!AL476,'Data Input'!AN476))","v":""},{"$f":"IF(K472=\"\",\"\",K472/COUNTIF('Data Input'!$C$8:$AQ$8,$K$2))","v":""},{"$f":"IF(ISBLANK('Data Input'!A476),\"\",SUM('Data Input'!V476))","v":""},{"$f":"IF(M472=\"\",\"\",M472/COUNTIF('Data Input'!$C$8:$AQ$8,$M$2))","v":""},{"$f":"IF(ISBLANK('Data Input'!A476),\"\",SUM('Data Input'!H476,'Data Input'!I476,'Data Input'!M476,'Data Input'!N476,'Data Input'!Q476,'Data Input'!R476,'Data Input'!T476,'Data Input'!Y476,'Data Input'!AD476,'Data Input'!AI476,'Data Input'!AP476,'Data Input'!AQ476))","v":""},{"$f":"IF(O472=\"\",\"\",O472/COUNTIF('Data Input'!$C$8:$AQ$8,$O$2))","v":""}]
[{"$f":"IF('Data Input'!A477=0,\"\",'Data Input'!A477)","v":""},{"$f":"IF(ISBLANK('Data Input'!A477),\"\",COUNTIF('Data Input'!C477:AQ477,\"\")-1)","v":""},{"$f":"IF(ISBLANK('Data Input'!A477),\"\",COUNTIF('Data Input'!C477:AQ477,\"0\"))","v":""},{"$f":"IF(ISBLANK('Data Input'!A477),\"\",SUM(B473,C473))","v":""},{"$f":"IF(ISBLANK('Data Input'!A477),\"\",SUM('Data Input'!C477:V477))","v":""},{"$f":"IF(ISBLANK('Data Input'!A477),\"\",SUM('Data Input'!X477:AQ477))","v":""},{"$f":"IF(ISBLANK('Data Input'!A477),\"\",SUM('Data Input'!C477:AQ477))","v":""},{"$f":"IF(G473=\"\",\"\",G473/(COUNTA('Data Input'!$C$8:$AQ$8)-1))","v":""},{"$f":"IF(ISBLANK('Data Input'!A477),\"\",SUM('Data Input'!C477,'Data Input'!K477,'Data Input'!L477,'Data Input'!AC477,'Data Input'!AF477,'Data Input'!AM477,'Data Input'!AO477))","v":""},{"$f":"IF(I473=\"\",\"\",I473/COUNTIF('Data Input'!$C$8:$AQ$8,$I$2))","v":""},{"$f":"IF(ISBLANK('Data Input'!A477),\"\",SUM('Data Input'!D477,'Data Input'!E477,'Data Input'!F477,'Data Input'!G477,'Data Input'!J477,'Data Input'!O477,'Data Input'!P477,'Data Input'!S477,'Data Input'!U477,'Data Input'!X477,'Data Input'!Z477,'Data Input'!AA477,'Data Input'!AB477,'Data Input'!AE477,'Data Input'!AG477,'Data Input'!AH477,'Data Input'!AJ477,'Data Input'!AK477,'Data Input'!AL477,'Data Input'!AN477))","v":""},{"$f":"IF(K473=\"\",\"\",K473/COUNTIF('Data Input'!$C$8:$AQ$8,$K$2))","v":""},{"$f":"IF(ISBLANK('Data Input'!A477),\"\",SUM('Data Input'!V477))","v":""},{"$f":"IF(M473=\"\",\"\",M473/COUNTIF('Data Input'!$C$8:$AQ$8,$M$2))","v":""},{"$f":"IF(ISBLANK('Data Input'!A477),\"\",SUM('Data Input'!H477,'Data Input'!I477,'Data Input'!M477,'Data Input'!N477,'Data Input'!Q477,'Data Input'!R477,'Data Input'!T477,'Data Input'!Y477,'Data Input'!AD477,'Data Input'!AI477,'Data Input'!AP477,'Data Input'!AQ477))","v":""},{"$f":"IF(O473=\"\",\"\",O473/COUNTIF('Data Input'!$C$8:$AQ$8,$O$2))","v":""}]
[{"$f":"IF('Data Input'!A478=0,\"\",'Data Input'!A478)","v":""},{"$f":"IF(ISBLANK('Data Input'!A478),\"\",COUNTIF('Data Input'!C478:AQ478,\"\")-1)","v":""},{"$f":"IF(ISBLANK('Data Input'!A478),\"\",COUNTIF('Data Input'!C478:AQ478,\"0\"))","v":""},{"$f":"IF(ISBLANK('Data Input'!A478),\"\",SUM(B474,C474))","v":""},{"$f":"IF(ISBLANK('Data Input'!A478),\"\",SUM('Data Input'!C478:V478))","v":""},{"$f":"IF(ISBLANK('Data Input'!A478),\"\",SUM('Data Input'!X478:AQ478))","v":""},{"$f":"IF(ISBLANK('Data Input'!A478),\"\",SUM('Data Input'!C478:AQ478))","v":""},{"$f":"IF(G474=\"\",\"\",G474/(COUNTA('Data Input'!$C$8:$AQ$8)-1))","v":""},{"$f":"IF(ISBLANK('Data Input'!A478),\"\",SUM('Data Input'!C478,'Data Input'!K478,'Data Input'!L478,'Data Input'!AC478,'Data Input'!AF478,'Data Input'!AM478,'Data Input'!AO478))","v":""},{"$f":"IF(I474=\"\",\"\",I474/COUNTIF('Data Input'!$C$8:$AQ$8,$I$2))","v":""},{"$f":"IF(ISBLANK('Data Input'!A478),\"\",SUM('Data Input'!D478,'Data Input'!E478,'Data Input'!F478,'Data Input'!G478,'Data Input'!J478,'Data Input'!O478,'Data Input'!P478,'Data Input'!S478,'Data Input'!U478,'Data Input'!X478,'Data Input'!Z478,'Data Input'!AA478,'Data Input'!AB478,'Data Input'!AE478,'Data Input'!AG478,'Data Input'!AH478,'Data Input'!AJ478,'Data Input'!AK478,'Data Input'!AL478,'Data Input'!AN478))","v":""},{"$f":"IF(K474=\"\",\"\",K474/COUNTIF('Data Input'!$C$8:$AQ$8,$K$2))","v":""},{"$f":"IF(ISBLANK('Data Input'!A478),\"\",SUM('Data Input'!V478))","v":""},{"$f":"IF(M474=\"\",\"\",M474/COUNTIF('Data Input'!$C$8:$AQ$8,$M$2))","v":""},{"$f":"IF(ISBLANK('Data Input'!A478),\"\",SUM('Data Input'!H478,'Data Input'!I478,'Data Input'!M478,'Data Input'!N478,'Data Input'!Q478,'Data Input'!R478,'Data Input'!T478,'Data Input'!Y478,'Data Input'!AD478,'Data Input'!AI478,'Data Input'!AP478,'Data Input'!AQ478))","v":""},{"$f":"IF(O474=\"\",\"\",O474/COUNTIF('Data Input'!$C$8:$AQ$8,$O$2))","v":""}]
[{"$f":"IF('Data Input'!A479=0,\"\",'Data Input'!A479)","v":""},{"$f":"IF(ISBLANK('Data Input'!A479),\"\",COUNTIF('Data Input'!C479:AQ479,\"\")-1)","v":""},{"$f":"IF(ISBLANK('Data Input'!A479),\"\",COUNTIF('Data Input'!C479:AQ479,\"0\"))","v":""},{"$f":"IF(ISBLANK('Data Input'!A479),\"\",SUM(B475,C475))","v":""},{"$f":"IF(ISBLANK('Data Input'!A479),\"\",SUM('Data Input'!C479:V479))","v":""},{"$f":"IF(ISBLANK('Data Input'!A479),\"\",SUM('Data Input'!X479:AQ479))","v":""},{"$f":"IF(ISBLANK('Data Input'!A479),\"\",SUM('Data Input'!C479:AQ479))","v":""},{"$f":"IF(G475=\"\",\"\",G475/(COUNTA('Data Input'!$C$8:$AQ$8)-1))","v":""},{"$f":"IF(ISBLANK('Data Input'!A479),\"\",SUM('Data Input'!C479,'Data Input'!K479,'Data Input'!L479,'Data Input'!AC479,'Data Input'!AF479,'Data Input'!AM479,'Data Input'!AO479))","v":""},{"$f":"IF(I475=\"\",\"\",I475/COUNTIF('Data Input'!$C$8:$AQ$8,$I$2))","v":""},{"$f":"IF(ISBLANK('Data Input'!A479),\"\",SUM('Data Input'!D479,'Data Input'!E479,'Data Input'!F479,'Data Input'!G479,'Data Input'!J479,'Data Input'!O479,'Data Input'!P479,'Data Input'!S479,'Data Input'!U479,'Data Input'!X479,'Data Input'!Z479,'Data Input'!AA479,'Data Input'!AB479,'Data Input'!AE479,'Data Input'!AG479,'Data Input'!AH479,'Data Input'!AJ479,'Data Input'!AK479,'Data Input'!AL479,'Data Input'!AN479))","v":""},{"$f":"IF(K475=\"\",\"\",K475/COUNTIF('Data Input'!$C$8:$AQ$8,$K$2))","v":""},{"$f":"IF(ISBLANK('Data Input'!A479),\"\",SUM('Data Input'!V479))","v":""},{"$f":"IF(M475=\"\",\"\",M475/COUNTIF('Data Input'!$C$8:$AQ$8,$M$2))","v":""},{"$f":"IF(ISBLANK('Data Input'!A479),\"\",SUM('Data Input'!H479,'Data Input'!I479,'Data Input'!M479,'Data Input'!N479,'Data Input'!Q479,'Data Input'!R479,'Data Input'!T479,'Data Input'!Y479,'Data Input'!AD479,'Data Input'!AI479,'Data Input'!AP479,'Data Input'!AQ479))","v":""},{"$f":"IF(O475=\"\",\"\",O475/COUNTIF('Data Input'!$C$8:$AQ$8,$O$2))","v":""}]
[{"$f":"IF('Data Input'!A480=0,\"\",'Data Input'!A480)","v":""},{"$f":"IF(ISBLANK('Data Input'!A480),\"\",COUNTIF('Data Input'!C480:AQ480,\"\")-1)","v":""},{"$f":"IF(ISBLANK('Data Input'!A480),\"\",COUNTIF('Data Input'!C480:AQ480,\"0\"))","v":""},{"$f":"IF(ISBLANK('Data Input'!A480),\"\",SUM(B476,C476))","v":""},{"$f":"IF(ISBLANK('Data Input'!A480),\"\",SUM('Data Input'!C480:V480))","v":""},{"$f":"IF(ISBLANK('Data Input'!A480),\"\",SUM('Data Input'!X480:AQ480))","v":""},{"$f":"IF(ISBLANK('Data Input'!A480),\"\",SUM('Data Input'!C480:AQ480))","v":""},{"$f":"IF(G476=\"\",\"\",G476/(COUNTA('Data Input'!$C$8:$AQ$8)-1))","v":""},{"$f":"IF(ISBLANK('Data Input'!A480),\"\",SUM('Data Input'!C480,'Data Input'!K480,'Data Input'!L480,'Data Input'!AC480,'Data Input'!AF480,'Data Input'!AM480,'Data Input'!AO480))","v":""},{"$f":"IF(I476=\"\",\"\",I476/COUNTIF('Data Input'!$C$8:$AQ$8,$I$2))","v":""},{"$f":"IF(ISBLANK('Data Input'!A480),\"\",SUM('Data Input'!D480,'Data Input'!E480,'Data Input'!F480,'Data Input'!G480,'Data Input'!J480,'Data Input'!O480,'Data Input'!P480,'Data Input'!S480,'Data Input'!U480,'Data Input'!X480,'Data Input'!Z480,'Data Input'!AA480,'Data Input'!AB480,'Data Input'!AE480,'Data Input'!AG480,'Data Input'!AH480,'Data Input'!AJ480,'Data Input'!AK480,'Data Input'!AL480,'Data Input'!AN480))","v":""},{"$f":"IF(K476=\"\",\"\",K476/COUNTIF('Data Input'!$C$8:$AQ$8,$K$2))","v":""},{"$f":"IF(ISBLANK('Data Input'!A480),\"\",SUM('Data Input'!V480))","v":""},{"$f":"IF(M476=\"\",\"\",M476/COUNTIF('Data Input'!$C$8:$AQ$8,$M$2))","v":""},{"$f":"IF(ISBLANK('Data Input'!A480),\"\",SUM('Data Input'!H480,'Data Input'!I480,'Data Input'!M480,'Data Input'!N480,'Data Input'!Q480,'Data Input'!R480,'Data Input'!T480,'Data Input'!Y480,'Data Input'!AD480,'Data Input'!AI480,'Data Input'!AP480,'Data Input'!AQ480))","v":""},{"$f":"IF(O476=\"\",\"\",O476/COUNTIF('Data Input'!$C$8:$AQ$8,$O$2))","v":""}]
[{"$f":"IF('Data Input'!A481=0,\"\",'Data Input'!A481)","v":""},{"$f":"IF(ISBLANK('Data Input'!A481),\"\",COUNTIF('Data Input'!C481:AQ481,\"\")-1)","v":""},{"$f":"IF(ISBLANK('Data Input'!A481),\"\",COUNTIF('Data Input'!C481:AQ481,\"0\"))","v":""},{"$f":"IF(ISBLANK('Data Input'!A481),\"\",SUM(B477,C477))","v":""},{"$f":"IF(ISBLANK('Data Input'!A481),\"\",SUM('Data Input'!C481:V481))","v":""},{"$f":"IF(ISBLANK('Data Input'!A481),\"\",SUM('Data Input'!X481:AQ481))","v":""},{"$f":"IF(ISBLANK('Data Input'!A481),\"\",SUM('Data Input'!C481:AQ481))","v":""},{"$f":"IF(G477=\"\",\"\",G477/(COUNTA('Data Input'!$C$8:$AQ$8)-1))","v":""},{"$f":"IF(ISBLANK('Data Input'!A481),\"\",SUM('Data Input'!C481,'Data Input'!K481,'Data Input'!L481,'Data Input'!AC481,'Data Input'!AF481,'Data Input'!AM481,'Data Input'!AO481))","v":""},{"$f":"IF(I477=\"\",\"\",I477/COUNTIF('Data Input'!$C$8:$AQ$8,$I$2))","v":""},{"$f":"IF(ISBLANK('Data Input'!A481),\"\",SUM('Data Input'!D481,'Data Input'!E481,'Data Input'!F481,'Data Input'!G481,'Data Input'!J481,'Data Input'!O481,'Data Input'!P481,'Data Input'!S481,'Data Input'!U481,'Data Input'!X481,'Data Input'!Z481,'Data Input'!AA481,'Data Input'!AB481,'Data Input'!AE481,'Data Input'!AG481,'Data Input'!AH481,'Data Input'!AJ481,'Data Input'!AK481,'Data Input'!AL481,'Data Input'!AN481))","v":""},{"$f":"IF(K477=\"\",\"\",K477/COUNTIF('Data Input'!$C$8:$AQ$8,$K$2))","v":""},{"$f":"IF(ISBLANK('Data Input'!A481),\"\",SUM('Data Input'!V481))","v":""},{"$f":"IF(M477=\"\",\"\",M477/COUNTIF('Data Input'!$C$8:$AQ$8,$M$2))","v":""},{"$f":"IF(ISBLANK('Data Input'!A481),\"\",SUM('Data Input'!H481,'Data Input'!I481,'Data Input'!M481,'Data Input'!N481,'Data Input'!Q481,'Data Input'!R481,'Data Input'!T481,'Data Input'!Y481,'Data Input'!AD481,'Data Input'!AI481,'Data Input'!AP481,'Data Input'!AQ481))","v":""},{"$f":"IF(O477=\"\",\"\",O477/COUNTIF('Data Input'!$C$8:$AQ$8,$O$2))","v":""}]
[{"$f":"IF('Data Input'!A482=0,\"\",'Data Input'!A482)","v":""},{"$f":"IF(ISBLANK('Data Input'!A482),\"\",COUNTIF('Data Input'!C482:AQ482,\"\")-1)","v":""},{"$f":"IF(ISBLANK('Data Input'!A482),\"\",COUNTIF('Data Input'!C482:AQ482,\"0\"))","v":""},{"$f":"IF(ISBLANK('Data Input'!A482),\"\",SUM(B478,C478))","v":""},{"$f":"IF(ISBLANK('Data Input'!A482),\"\",SUM('Data Input'!C482:V482))","v":""},{"$f":"IF(ISBLANK('Data Input'!A482),\"\",SUM('Data Input'!X482:AQ482))","v":""},{"$f":"IF(ISBLANK('Data Input'!A482),\"\",SUM('Data Input'!C482:AQ482))","v":""},{"$f":"IF(G478=\"\",\"\",G478/(COUNTA('Data Input'!$C$8:$AQ$8)-1))","v":""},{"$f":"IF(ISBLANK('Data Input'!A482),\"\",SUM('Data Input'!C482,'Data Input'!K482,'Data Input'!L482,'Data Input'!AC482,'Data Input'!AF482,'Data Input'!AM482,'Data Input'!AO482))","v":""},{"$f":"IF(I478=\"\",\"\",I478/COUNTIF('Data Input'!$C$8:$AQ$8,$I$2))","v":""},{"$f":"IF(ISBLANK('Data Input'!A482),\"\",SUM('Data Input'!D482,'Data Input'!E482,'Data Input'!F482,'Data Input'!G482,'Data Input'!J482,'Data Input'!O482,'Data Input'!P482,'Data Input'!S482,'Data Input'!U482,'Data Input'!X482,'Data Input'!Z482,'Data Input'!AA482,'Data Input'!AB482,'Data Input'!AE482,'Data Input'!AG482,'Data Input'!AH482,'Data Input'!AJ482,'Data Input'!AK482,'Data Input'!AL482,'Data Input'!AN482))","v":""},{"$f":"IF(K478=\"\",\"\",K478/COUNTIF('Data Input'!$C$8:$AQ$8,$K$2))","v":""},{"$f":"IF(ISBLANK('Data Input'!A482),\"\",SUM('Data Input'!V482))","v":""},{"$f":"IF(M478=\"\",\"\",M478/COUNTIF('Data Input'!$C$8:$AQ$8,$M$2))","v":""},{"$f":"IF(ISBLANK('Data Input'!A482),\"\",SUM('Data Input'!H482,'Data Input'!I482,'Data Input'!M482,'Data Input'!N482,'Data Input'!Q482,'Data Input'!R482,'Data Input'!T482,'Data Input'!Y482,'Data Input'!AD482,'Data Input'!AI482,'Data Input'!AP482,'Data Input'!AQ482))","v":""},{"$f":"IF(O478=\"\",\"\",O478/COUNTIF('Data Input'!$C$8:$AQ$8,$O$2))","v":""}]
[{"$f":"IF('Data Input'!A483=0,\"\",'Data Input'!A483)","v":""},{"$f":"IF(ISBLANK('Data Input'!A483),\"\",COUNTIF('Data Input'!C483:AQ483,\"\")-1)","v":""},{"$f":"IF(ISBLANK('Data Input'!A483),\"\",COUNTIF('Data Input'!C483:AQ483,\"0\"))","v":""},{"$f":"IF(ISBLANK('Data Input'!A483),\"\",SUM(B479,C479))","v":""},{"$f":"IF(ISBLANK('Data Input'!A483),\"\",SUM('Data Input'!C483:V483))","v":""},{"$f":"IF(ISBLANK('Data Input'!A483),\"\",SUM('Data Input'!X483:AQ483))","v":""},{"$f":"IF(ISBLANK('Data Input'!A483),\"\",SUM('Data Input'!C483:AQ483))","v":""},{"$f":"IF(G479=\"\",\"\",G479/(COUNTA('Data Input'!$C$8:$AQ$8)-1))","v":""},{"$f":"IF(ISBLANK('Data Input'!A483),\"\",SUM('Data Input'!C483,'Data Input'!K483,'Data Input'!L483,'Data Input'!AC483,'Data Input'!AF483,'Data Input'!AM483,'Data Input'!AO483))","v":""},{"$f":"IF(I479=\"\",\"\",I479/COUNTIF('Data Input'!$C$8:$AQ$8,$I$2))","v":""},{"$f":"IF(ISBLANK('Data Input'!A483),\"\",SUM('Data Input'!D483,'Data Input'!E483,'Data Input'!F483,'Data Input'!G483,'Data Input'!J483,'Data Input'!O483,'Data Input'!P483,'Data Input'!S483,'Data Input'!U483,'Data Input'!X483,'Data Input'!Z483,'Data Input'!AA483,'Data Input'!AB483,'Data Input'!AE483,'Data Input'!AG483,'Data Input'!AH483,'Data Input'!AJ483,'Data Input'!AK483,'Data Input'!AL483,'Data Input'!AN483))","v":""},{"$f":"IF(K479=\"\",\"\",K479/COUNTIF('Data Input'!$C$8:$AQ$8,$K$2))","v":""},{"$f":"IF(ISBLANK('Data Input'!A483),\"\",SUM('Data Input'!V483))","v":""},{"$f":"IF(M479=\"\",\"\",M479/COUNTIF('Data Input'!$C$8:$AQ$8,$M$2))","v":""},{"$f":"IF(ISBLANK('Data Input'!A483),\"\",SUM('Data Input'!H483,'Data Input'!I483,'Data Input'!M483,'Data Input'!N483,'Data Input'!Q483,'Data Input'!R483,'Data Input'!T483,'Data Input'!Y483,'Data Input'!AD483,'Data Input'!AI483,'Data Input'!AP483,'Data Input'!AQ483))","v":""},{"$f":"IF(O479=\"\",\"\",O479/COUNTIF('Data Input'!$C$8:$AQ$8,$O$2))","v":""}]
[{"$f":"IF('Data Input'!A484=0,\"\",'Data Input'!A484)","v":""},{"$f":"IF(ISBLANK('Data Input'!A484),\"\",COUNTIF('Data Input'!C484:AQ484,\"\")-1)","v":""},{"$f":"IF(ISBLANK('Data Input'!A484),\"\",COUNTIF('Data Input'!C484:AQ484,\"0\"))","v":""},{"$f":"IF(ISBLANK('Data Input'!A484),\"\",SUM(B480,C480))","v":""},{"$f":"IF(ISBLANK('Data Input'!A484),\"\",SUM('Data Input'!C484:V484))","v":""},{"$f":"IF(ISBLANK('Data Input'!A484),\"\",SUM('Data Input'!X484:AQ484))","v":""},{"$f":"IF(ISBLANK('Data Input'!A484),\"\",SUM('Data Input'!C484:AQ484))","v":""},{"$f":"IF(G480=\"\",\"\",G480/(COUNTA('Data Input'!$C$8:$AQ$8)-1))","v":""},{"$f":"IF(ISBLANK('Data Input'!A484),\"\",SUM('Data Input'!C484,'Data Input'!K484,'Data Input'!L484,'Data Input'!AC484,'Data Input'!AF484,'Data Input'!AM484,'Data Input'!AO484))","v":""},{"$f":"IF(I480=\"\",\"\",I480/COUNTIF('Data Input'!$C$8:$AQ$8,$I$2))","v":""},{"$f":"IF(ISBLANK('Data Input'!A484),\"\",SUM('Data Input'!D484,'Data Input'!E484,'Data Input'!F484,'Data Input'!G484,'Data Input'!J484,'Data Input'!O484,'Data Input'!P484,'Data Input'!S484,'Data Input'!U484,'Data Input'!X484,'Data Input'!Z484,'Data Input'!AA484,'Data Input'!AB484,'Data Input'!AE484,'Data Input'!AG484,'Data Input'!AH484,'Data Input'!AJ484,'Data Input'!AK484,'Data Input'!AL484,'Data Input'!AN484))","v":""},{"$f":"IF(K480=\"\",\"\",K480/COUNTIF('Data Input'!$C$8:$AQ$8,$K$2))","v":""},{"$f":"IF(ISBLANK('Data Input'!A484),\"\",SUM('Data Input'!V484))","v":""},{"$f":"IF(M480=\"\",\"\",M480/COUNTIF('Data Input'!$C$8:$AQ$8,$M$2))","v":""},{"$f":"IF(ISBLANK('Data Input'!A484),\"\",SUM('Data Input'!H484,'Data Input'!I484,'Data Input'!M484,'Data Input'!N484,'Data Input'!Q484,'Data Input'!R484,'Data Input'!T484,'Data Input'!Y484,'Data Input'!AD484,'Data Input'!AI484,'Data Input'!AP484,'Data Input'!AQ484))","v":""},{"$f":"IF(O480=\"\",\"\",O480/COUNTIF('Data Input'!$C$8:$AQ$8,$O$2))","v":""}]
[{"$f":"IF('Data Input'!A485=0,\"\",'Data Input'!A485)","v":""},{"$f":"IF(ISBLANK('Data Input'!A485),\"\",COUNTIF('Data Input'!C485:AQ485,\"\")-1)","v":""},{"$f":"IF(ISBLANK('Data Input'!A485),\"\",COUNTIF('Data Input'!C485:AQ485,\"0\"))","v":""},{"$f":"IF(ISBLANK('Data Input'!A485),\"\",SUM(B481,C481))","v":""},{"$f":"IF(ISBLANK('Data Input'!A485),\"\",SUM('Data Input'!C485:V485))","v":""},{"$f":"IF(ISBLANK('Data Input'!A485),\"\",SUM('Data Input'!X485:AQ485))","v":""},{"$f":"IF(ISBLANK('Data Input'!A485),\"\",SUM('Data Input'!C485:AQ485))","v":""},{"$f":"IF(G481=\"\",\"\",G481/(COUNTA('Data Input'!$C$8:$AQ$8)-1))","v":""},{"$f":"IF(ISBLANK('Data Input'!A485),\"\",SUM('Data Input'!C485,'Data Input'!K485,'Data Input'!L485,'Data Input'!AC485,'Data Input'!AF485,'Data Input'!AM485,'Data Input'!AO485))","v":""},{"$f":"IF(I481=\"\",\"\",I481/COUNTIF('Data Input'!$C$8:$AQ$8,$I$2))","v":""},{"$f":"IF(ISBLANK('Data Input'!A485),\"\",SUM('Data Input'!D485,'Data Input'!E485,'Data Input'!F485,'Data Input'!G485,'Data Input'!J485,'Data Input'!O485,'Data Input'!P485,'Data Input'!S485,'Data Input'!U485,'Data Input'!X485,'Data Input'!Z485,'Data Input'!AA485,'Data Input'!AB485,'Data Input'!AE485,'Data Input'!AG485,'Data Input'!AH485,'Data Input'!AJ485,'Data Input'!AK485,'Data Input'!AL485,'Data Input'!AN485))","v":""},{"$f":"IF(K481=\"\",\"\",K481/COUNTIF('Data Input'!$C$8:$AQ$8,$K$2))","v":""},{"$f":"IF(ISBLANK('Data Input'!A485),\"\",SUM('Data Input'!V485))","v":""},{"$f":"IF(M481=\"\",\"\",M481/COUNTIF('Data Input'!$C$8:$AQ$8,$M$2))","v":""},{"$f":"IF(ISBLANK('Data Input'!A485),\"\",SUM('Data Input'!H485,'Data Input'!I485,'Data Input'!M485,'Data Input'!N485,'Data Input'!Q485,'Data Input'!R485,'Data Input'!T485,'Data Input'!Y485,'Data Input'!AD485,'Data Input'!AI485,'Data Input'!AP485,'Data Input'!AQ485))","v":""},{"$f":"IF(O481=\"\",\"\",O481/COUNTIF('Data Input'!$C$8:$AQ$8,$O$2))","v":""}]
[{"$f":"IF('Data Input'!A486=0,\"\",'Data Input'!A486)","v":""},{"$f":"IF(ISBLANK('Data Input'!A486),\"\",COUNTIF('Data Input'!C486:AQ486,\"\")-1)","v":""},{"$f":"IF(ISBLANK('Data Input'!A486),\"\",COUNTIF('Data Input'!C486:AQ486,\"0\"))","v":""},{"$f":"IF(ISBLANK('Data Input'!A486),\"\",SUM(B482,C482))","v":""},{"$f":"IF(ISBLANK('Data Input'!A486),\"\",SUM('Data Input'!C486:V486))","v":""},{"$f":"IF(ISBLANK('Data Input'!A486),\"\",SUM('Data Input'!X486:AQ486))","v":""},{"$f":"IF(ISBLANK('Data Input'!A486),\"\",SUM('Data Input'!C486:AQ486))","v":""},{"$f":"IF(G482=\"\",\"\",G482/(COUNTA('Data Input'!$C$8:$AQ$8)-1))","v":""},{"$f":"IF(ISBLANK('Data Input'!A486),\"\",SUM('Data Input'!C486,'Data Input'!K486,'Data Input'!L486,'Data Input'!AC486,'Data Input'!AF486,'Data Input'!AM486,'Data Input'!AO486))","v":""},{"$f":"IF(I482=\"\",\"\",I482/COUNTIF('Data Input'!$C$8:$AQ$8,$I$2))","v":""},{"$f":"IF(ISBLANK('Data Input'!A486),\"\",SUM('Data Input'!D486,'Data Input'!E486,'Data Input'!F486,'Data Input'!G486,'Data Input'!J486,'Data Input'!O486,'Data Input'!P486,'Data Input'!S486,'Data Input'!U486,'Data Input'!X486,'Data Input'!Z486,'Data Input'!AA486,'Data Input'!AB486,'Data Input'!AE486,'Data Input'!AG486,'Data Input'!AH486,'Data Input'!AJ486,'Data Input'!AK486,'Data Input'!AL486,'Data Input'!AN486))","v":""},{"$f":"IF(K482=\"\",\"\",K482/COUNTIF('Data Input'!$C$8:$AQ$8,$K$2))","v":""},{"$f":"IF(ISBLANK('Data Input'!A486),\"\",SUM('Data Input'!V486))","v":""},{"$f":"IF(M482=\"\",\"\",M482/COUNTIF('Data Input'!$C$8:$AQ$8,$M$2))","v":""},{"$f":"IF(ISBLANK('Data Input'!A486),\"\",SUM('Data Input'!H486,'Data Input'!I486,'Data Input'!M486,'Data Input'!N486,'Data Input'!Q486,'Data Input'!R486,'Data Input'!T486,'Data Input'!Y486,'Data Input'!AD486,'Data Input'!AI486,'Data Input'!AP486,'Data Input'!AQ486))","v":""},{"$f":"IF(O482=\"\",\"\",O482/COUNTIF('Data Input'!$C$8:$AQ$8,$O$2))","v":""}]
[{"$f":"IF('Data Input'!A487=0,\"\",'Data Input'!A487)","v":""},{"$f":"IF(ISBLANK('Data Input'!A487),\"\",COUNTIF('Data Input'!C487:AQ487,\"\")-1)","v":""},{"$f":"IF(ISBLANK('Data Input'!A487),\"\",COUNTIF('Data Input'!C487:AQ487,\"0\"))","v":""},{"$f":"IF(ISBLANK('Data Input'!A487),\"\",SUM(B483,C483))","v":""},{"$f":"IF(ISBLANK('Data Input'!A487),\"\",SUM('Data Input'!C487:V487))","v":""},{"$f":"IF(ISBLANK('Data Input'!A487),\"\",SUM('Data Input'!X487:AQ487))","v":""},{"$f":"IF(ISBLANK('Data Input'!A487),\"\",SUM('Data Input'!C487:AQ487))","v":""},{"$f":"IF(G483=\"\",\"\",G483/(COUNTA('Data Input'!$C$8:$AQ$8)-1))","v":""},{"$f":"IF(ISBLANK('Data Input'!A487),\"\",SUM('Data Input'!C487,'Data Input'!K487,'Data Input'!L487,'Data Input'!AC487,'Data Input'!AF487,'Data Input'!AM487,'Data Input'!AO487))","v":""},{"$f":"IF(I483=\"\",\"\",I483/COUNTIF('Data Input'!$C$8:$AQ$8,$I$2))","v":""},{"$f":"IF(ISBLANK('Data Input'!A487),\"\",SUM('Data Input'!D487,'Data Input'!E487,'Data Input'!F487,'Data Input'!G487,'Data Input'!J487,'Data Input'!O487,'Data Input'!P487,'Data Input'!S487,'Data Input'!U487,'Data Input'!X487,'Data Input'!Z487,'Data Input'!AA487,'Data Input'!AB487,'Data Input'!AE487,'Data Input'!AG487,'Data Input'!AH487,'Data Input'!AJ487,'Data Input'!AK487,'Data Input'!AL487,'Data Input'!AN487))","v":""},{"$f":"IF(K483=\"\",\"\",K483/COUNTIF('Data Input'!$C$8:$AQ$8,$K$2))","v":""},{"$f":"IF(ISBLANK('Data Input'!A487),\"\",SUM('Data Input'!V487))","v":""},{"$f":"IF(M483=\"\",\"\",M483/COUNTIF('Data Input'!$C$8:$AQ$8,$M$2))","v":""},{"$f":"IF(ISBLANK('Data Input'!A487),\"\",SUM('Data Input'!H487,'Data Input'!I487,'Data Input'!M487,'Data Input'!N487,'Data Input'!Q487,'Data Input'!R487,'Data Input'!T487,'Data Input'!Y487,'Data Input'!AD487,'Data Input'!AI487,'Data Input'!AP487,'Data Input'!AQ487))","v":""},{"$f":"IF(O483=\"\",\"\",O483/COUNTIF('Data Input'!$C$8:$AQ$8,$O$2))","v":""}]
[{"$f":"IF('Data Input'!A488=0,\"\",'Data Input'!A488)","v":""},{"$f":"IF(ISBLANK('Data Input'!A488),\"\",COUNTIF('Data Input'!C488:AQ488,\"\")-1)","v":""},{"$f":"IF(ISBLANK('Data Input'!A488),\"\",COUNTIF('Data Input'!C488:AQ488,\"0\"))","v":""},{"$f":"IF(ISBLANK('Data Input'!A488),\"\",SUM(B484,C484))","v":""},{"$f":"IF(ISBLANK('Data Input'!A488),\"\",SUM('Data Input'!C488:V488))","v":""},{"$f":"IF(ISBLANK('Data Input'!A488),\"\",SUM('Data Input'!X488:AQ488))","v":""},{"$f":"IF(ISBLANK('Data Input'!A488),\"\",SUM('Data Input'!C488:AQ488))","v":""},{"$f":"IF(G484=\"\",\"\",G484/(COUNTA('Data Input'!$C$8:$AQ$8)-1))","v":""},{"$f":"IF(ISBLANK('Data Input'!A488),\"\",SUM('Data Input'!C488,'Data Input'!K488,'Data Input'!L488,'Data Input'!AC488,'Data Input'!AF488,'Data Input'!AM488,'Data Input'!AO488))","v":""},{"$f":"IF(I484=\"\",\"\",I484/COUNTIF('Data Input'!$C$8:$AQ$8,$I$2))","v":""},{"$f":"IF(ISBLANK('Data Input'!A488),\"\",SUM('Data Input'!D488,'Data Input'!E488,'Data Input'!F488,'Data Input'!G488,'Data Input'!J488,'Data Input'!O488,'Data Input'!P488,'Data Input'!S488,'Data Input'!U488,'Data Input'!X488,'Data Input'!Z488,'Data Input'!AA488,'Data Input'!AB488,'Data Input'!AE488,'Data Input'!AG488,'Data Input'!AH488,'Data Input'!AJ488,'Data Input'!AK488,'Data Input'!AL488,'Data Input'!AN488))","v":""},{"$f":"IF(K484=\"\",\"\",K484/COUNTIF('Data Input'!$C$8:$AQ$8,$K$2))","v":""},{"$f":"IF(ISBLANK('Data Input'!A488),\"\",SUM('Data Input'!V488))","v":""},{"$f":"IF(M484=\"\",\"\",M484/COUNTIF('Data Input'!$C$8:$AQ$8,$M$2))","v":""},{"$f":"IF(ISBLANK('Data Input'!A488),\"\",SUM('Data Input'!H488,'Data Input'!I488,'Data Input'!M488,'Data Input'!N488,'Data Input'!Q488,'Data Input'!R488,'Data Input'!T488,'Data Input'!Y488,'Data Input'!AD488,'Data Input'!AI488,'Data Input'!AP488,'Data Input'!AQ488))","v":""},{"$f":"IF(O484=\"\",\"\",O484/COUNTIF('Data Input'!$C$8:$AQ$8,$O$2))","v":""}]
[{"$f":"IF('Data Input'!A489=0,\"\",'Data Input'!A489)","v":""},{"$f":"IF(ISBLANK('Data Input'!A489),\"\",COUNTIF('Data Input'!C489:AQ489,\"\")-1)","v":""},{"$f":"IF(ISBLANK('Data Input'!A489),\"\",COUNTIF('Data Input'!C489:AQ489,\"0\"))","v":""},{"$f":"IF(ISBLANK('Data Input'!A489),\"\",SUM(B485,C485))","v":""},{"$f":"IF(ISBLANK('Data Input'!A489),\"\",SUM('Data Input'!C489:V489))","v":""},{"$f":"IF(ISBLANK('Data Input'!A489),\"\",SUM('Data Input'!X489:AQ489))","v":""},{"$f":"IF(ISBLANK('Data Input'!A489),\"\",SUM('Data Input'!C489:AQ489))","v":""},{"$f":"IF(G485=\"\",\"\",G485/(COUNTA('Data Input'!$C$8:$AQ$8)-1))","v":""},{"$f":"IF(ISBLANK('Data Input'!A489),\"\",SUM('Data Input'!C489,'Data Input'!K489,'Data Input'!L489,'Data Input'!AC489,'Data Input'!AF489,'Data Input'!AM489,'Data Input'!AO489))","v":""},{"$f":"IF(I485=\"\",\"\",I485/COUNTIF('Data Input'!$C$8:$AQ$8,$I$2))","v":""},{"$f":"IF(ISBLANK('Data Input'!A489),\"\",SUM('Data Input'!D489,'Data Input'!E489,'Data Input'!F489,'Data Input'!G489,'Data Input'!J489,'Data Input'!O489,'Data Input'!P489,'Data Input'!S489,'Data Input'!U489,'Data Input'!X489,'Data Input'!Z489,'Data Input'!AA489,'Data Input'!AB489,'Data Input'!AE489,'Data Input'!AG489,'Data Input'!AH489,'Data Input'!AJ489,'Data Input'!AK489,'Data Input'!AL489,'Data Input'!AN489))","v":""},{"$f":"IF(K485=\"\",\"\",K485/COUNTIF('Data Input'!$C$8:$AQ$8,$K$2))","v":""},{"$f":"IF(ISBLANK('Data Input'!A489),\"\",SUM('Data Input'!V489))","v":""},{"$f":"IF(M485=\"\",\"\",M485/COUNTIF('Data Input'!$C$8:$AQ$8,$M$2))","v":""},{"$f":"IF(ISBLANK('Data Input'!A489),\"\",SUM('Data Input'!H489,'Data Input'!I489,'Data Input'!M489,'Data Input'!N489,'Data Input'!Q489,'Data Input'!R489,'Data Input'!T489,'Data Input'!Y489,'Data Input'!AD489,'Data Input'!AI489,'Data Input'!AP489,'Data Input'!AQ489))","v":""},{"$f":"IF(O485=\"\",\"\",O485/COUNTIF('Data Input'!$C$8:$AQ$8,$O$2))","v":""}]
[{"$f":"IF('Data Input'!A490=0,\"\",'Data Input'!A490)","v":""},{"$f":"IF(ISBLANK('Data Input'!A490),\"\",COUNTIF('Data Input'!C490:AQ490,\"\")-1)","v":""},{"$f":"IF(ISBLANK('Data Input'!A490),\"\",COUNTIF('Data Input'!C490:AQ490,\"0\"))","v":""},{"$f":"IF(ISBLANK('Data Input'!A490),\"\",SUM(B486,C486))","v":""},{"$f":"IF(ISBLANK('Data Input'!A490),\"\",SUM('Data Input'!C490:V490))","v":""},{"$f":"IF(ISBLANK('Data Input'!A490),\"\",SUM('Data Input'!X490:AQ490))","v":""},{"$f":"IF(ISBLANK('Data Input'!A490),\"\",SUM('Data Input'!C490:AQ490))","v":""},{"$f":"IF(G486=\"\",\"\",G486/(COUNTA('Data Input'!$C$8:$AQ$8)-1))","v":""},{"$f":"IF(ISBLANK('Data Input'!A490),\"\",SUM('Data Input'!C490,'Data Input'!K490,'Data Input'!L490,'Data Input'!AC490,'Data Input'!AF490,'Data Input'!AM490,'Data Input'!AO490))","v":""},{"$f":"IF(I486=\"\",\"\",I486/COUNTIF('Data Input'!$C$8:$AQ$8,$I$2))","v":""},{"$f":"IF(ISBLANK('Data Input'!A490),\"\",SUM('Data Input'!D490,'Data Input'!E490,'Data Input'!F490,'Data Input'!G490,'Data Input'!J490,'Data Input'!O490,'Data Input'!P490,'Data Input'!S490,'Data Input'!U490,'Data Input'!X490,'Data Input'!Z490,'Data Input'!AA490,'Data Input'!AB490,'Data Input'!AE490,'Data Input'!AG490,'Data Input'!AH490,'Data Input'!AJ490,'Data Input'!AK490,'Data Input'!AL490,'Data Input'!AN490))","v":""},{"$f":"IF(K486=\"\",\"\",K486/COUNTIF('Data Input'!$C$8:$AQ$8,$K$2))","v":""},{"$f":"IF(ISBLANK('Data Input'!A490),\"\",SUM('Data Input'!V490))","v":""},{"$f":"IF(M486=\"\",\"\",M486/COUNTIF('Data Input'!$C$8:$AQ$8,$M$2))","v":""},{"$f":"IF(ISBLANK('Data Input'!A490),\"\",SUM('Data Input'!H490,'Data Input'!I490,'Data Input'!M490,'Data Input'!N490,'Data Input'!Q490,'Data Input'!R490,'Data Input'!T490,'Data Input'!Y490,'Data Input'!AD490,'Data Input'!AI490,'Data Input'!AP490,'Data Input'!AQ490))","v":""},{"$f":"IF(O486=\"\",\"\",O486/COUNTIF('Data Input'!$C$8:$AQ$8,$O$2))","v":""}]
[{"$f":"IF('Data Input'!A491=0,\"\",'Data Input'!A491)","v":""},{"$f":"IF(ISBLANK('Data Input'!A491),\"\",COUNTIF('Data Input'!C491:AQ491,\"\")-1)","v":""},{"$f":"IF(ISBLANK('Data Input'!A491),\"\",COUNTIF('Data Input'!C491:AQ491,\"0\"))","v":""},{"$f":"IF(ISBLANK('Data Input'!A491),\"\",SUM(B487,C487))","v":""},{"$f":"IF(ISBLANK('Data Input'!A491),\"\",SUM('Data Input'!C491:V491))","v":""},{"$f":"IF(ISBLANK('Data Input'!A491),\"\",SUM('Data Input'!X491:AQ491))","v":""},{"$f":"IF(ISBLANK('Data Input'!A491),\"\",SUM('Data Input'!C491:AQ491))","v":""},{"$f":"IF(G487=\"\",\"\",G487/(COUNTA('Data Input'!$C$8:$AQ$8)-1))","v":""},{"$f":"IF(ISBLANK('Data Input'!A491),\"\",SUM('Data Input'!C491,'Data Input'!K491,'Data Input'!L491,'Data Input'!AC491,'Data Input'!AF491,'Data Input'!AM491,'Data Input'!AO491))","v":""},{"$f":"IF(I487=\"\",\"\",I487/COUNTIF('Data Input'!$C$8:$AQ$8,$I$2))","v":""},{"$f":"IF(ISBLANK('Data Input'!A491),\"\",SUM('Data Input'!D491,'Data Input'!E491,'Data Input'!F491,'Data Input'!G491,'Data Input'!J491,'Data Input'!O491,'Data Input'!P491,'Data Input'!S491,'Data Input'!U491,'Data Input'!X491,'Data Input'!Z491,'Data Input'!AA491,'Data Input'!AB491,'Data Input'!AE491,'Data Input'!AG491,'Data Input'!AH491,'Data Input'!AJ491,'Data Input'!AK491,'Data Input'!AL491,'Data Input'!AN491))","v":""},{"$f":"IF(K487=\"\",\"\",K487/COUNTIF('Data Input'!$C$8:$AQ$8,$K$2))","v":""},{"$f":"IF(ISBLANK('Data Input'!A491),\"\",SUM('Data Input'!V491))","v":""},{"$f":"IF(M487=\"\",\"\",M487/COUNTIF('Data Input'!$C$8:$AQ$8,$M$2))","v":""},{"$f":"IF(ISBLANK('Data Input'!A491),\"\",SUM('Data Input'!H491,'Data Input'!I491,'Data Input'!M491,'Data Input'!N491,'Data Input'!Q491,'Data Input'!R491,'Data Input'!T491,'Data Input'!Y491,'Data Input'!AD491,'Data Input'!AI491,'Data Input'!AP491,'Data Input'!AQ491))","v":""},{"$f":"IF(O487=\"\",\"\",O487/COUNTIF('Data Input'!$C$8:$AQ$8,$O$2))","v":""}]
[{"$f":"IF('Data Input'!A492=0,\"\",'Data Input'!A492)","v":""},{"$f":"IF(ISBLANK('Data Input'!A492),\"\",COUNTIF('Data Input'!C492:AQ492,\"\")-1)","v":""},{"$f":"IF(ISBLANK('Data Input'!A492),\"\",COUNTIF('Data Input'!C492:AQ492,\"0\"))","v":""},{"$f":"IF(ISBLANK('Data Input'!A492),\"\",SUM(B488,C488))","v":""},{"$f":"IF(ISBLANK('Data Input'!A492),\"\",SUM('Data Input'!C492:V492))","v":""},{"$f":"IF(ISBLANK('Data Input'!A492),\"\",SUM('Data Input'!X492:AQ492))","v":""},{"$f":"IF(ISBLANK('Data Input'!A492),\"\",SUM('Data Input'!C492:AQ492))","v":""},{"$f":"IF(G488=\"\",\"\",G488/(COUNTA('Data Input'!$C$8:$AQ$8)-1))","v":""},{"$f":"IF(ISBLANK('Data Input'!A492),\"\",SUM('Data Input'!C492,'Data Input'!K492,'Data Input'!L492,'Data Input'!AC492,'Data Input'!AF492,'Data Input'!AM492,'Data Input'!AO492))","v":""},{"$f":"IF(I488=\"\",\"\",I488/COUNTIF('Data Input'!$C$8:$AQ$8,$I$2))","v":""},{"$f":"IF(ISBLANK('Data Input'!A492),\"\",SUM('Data Input'!D492,'Data Input'!E492,'Data Input'!F492,'Data Input'!G492,'Data Input'!J492,'Data Input'!O492,'Data Input'!P492,'Data Input'!S492,'Data Input'!U492,'Data Input'!X492,'Data Input'!Z492,'Data Input'!AA492,'Data Input'!AB492,'Data Input'!AE492,'Data Input'!AG492,'Data Input'!AH492,'Data Input'!AJ492,'Data Input'!AK492,'Data Input'!AL492,'Data Input'!AN492))","v":""},{"$f":"IF(K488=\"\",\"\",K488/COUNTIF('Data Input'!$C$8:$AQ$8,$K$2))","v":""},{"$f":"IF(ISBLANK('Data Input'!A492),\"\",SUM('Data Input'!V492))","v":""},{"$f":"IF(M488=\"\",\"\",M488/COUNTIF('Data Input'!$C$8:$AQ$8,$M$2))","v":""},{"$f":"IF(ISBLANK('Data Input'!A492),\"\",SUM('Data Input'!H492,'Data Input'!I492,'Data Input'!M492,'Data Input'!N492,'Data Input'!Q492,'Data Input'!R492,'Data Input'!T492,'Data Input'!Y492,'Data Input'!AD492,'Data Input'!AI492,'Data Input'!AP492,'Data Input'!AQ492))","v":""},{"$f":"IF(O488=\"\",\"\",O488/COUNTIF('Data Input'!$C$8:$AQ$8,$O$2))","v":""}]
[{"$f":"IF('Data Input'!A493=0,\"\",'Data Input'!A493)","v":""},{"$f":"IF(ISBLANK('Data Input'!A493),\"\",COUNTIF('Data Input'!C493:AQ493,\"\")-1)","v":""},{"$f":"IF(ISBLANK('Data Input'!A493),\"\",COUNTIF('Data Input'!C493:AQ493,\"0\"))","v":""},{"$f":"IF(ISBLANK('Data Input'!A493),\"\",SUM(B489,C489))","v":""},{"$f":"IF(ISBLANK('Data Input'!A493),\"\",SUM('Data Input'!C493:V493))","v":""},{"$f":"IF(ISBLANK('Data Input'!A493),\"\",SUM('Data Input'!X493:AQ493))","v":""},{"$f":"IF(ISBLANK('Data Input'!A493),\"\",SUM('Data Input'!C493:AQ493))","v":""},{"$f":"IF(G489=\"\",\"\",G489/(COUNTA('Data Input'!$C$8:$AQ$8)-1))","v":""},{"$f":"IF(ISBLANK('Data Input'!A493),\"\",SUM('Data Input'!C493,'Data Input'!K493,'Data Input'!L493,'Data Input'!AC493,'Data Input'!AF493,'Data Input'!AM493,'Data Input'!AO493))","v":""},{"$f":"IF(I489=\"\",\"\",I489/COUNTIF('Data Input'!$C$8:$AQ$8,$I$2))","v":""},{"$f":"IF(ISBLANK('Data Input'!A493),\"\",SUM('Data Input'!D493,'Data Input'!E493,'Data Input'!F493,'Data Input'!G493,'Data Input'!J493,'Data Input'!O493,'Data Input'!P493,'Data Input'!S493,'Data Input'!U493,'Data Input'!X493,'Data Input'!Z493,'Data Input'!AA493,'Data Input'!AB493,'Data Input'!AE493,'Data Input'!AG493,'Data Input'!AH493,'Data Input'!AJ493,'Data Input'!AK493,'Data Input'!AL493,'Data Input'!AN493))","v":""},{"$f":"IF(K489=\"\",\"\",K489/COUNTIF('Data Input'!$C$8:$AQ$8,$K$2))","v":""},{"$f":"IF(ISBLANK('Data Input'!A493),\"\",SUM('Data Input'!V493))","v":""},{"$f":"IF(M489=\"\",\"\",M489/COUNTIF('Data Input'!$C$8:$AQ$8,$M$2))","v":""},{"$f":"IF(ISBLANK('Data Input'!A493),\"\",SUM('Data Input'!H493,'Data Input'!I493,'Data Input'!M493,'Data Input'!N493,'Data Input'!Q493,'Data Input'!R493,'Data Input'!T493,'Data Input'!Y493,'Data Input'!AD493,'Data Input'!AI493,'Data Input'!AP493,'Data Input'!AQ493))","v":""},{"$f":"IF(O489=\"\",\"\",O489/COUNTIF('Data Input'!$C$8:$AQ$8,$O$2))","v":""}]
[{"$f":"IF('Data Input'!A494=0,\"\",'Data Input'!A494)","v":""},{"$f":"IF(ISBLANK('Data Input'!A494),\"\",COUNTIF('Data Input'!C494:AQ494,\"\")-1)","v":""},{"$f":"IF(ISBLANK('Data Input'!A494),\"\",COUNTIF('Data Input'!C494:AQ494,\"0\"))","v":""},{"$f":"IF(ISBLANK('Data Input'!A494),\"\",SUM(B490,C490))","v":""},{"$f":"IF(ISBLANK('Data Input'!A494),\"\",SUM('Data Input'!C494:V494))","v":""},{"$f":"IF(ISBLANK('Data Input'!A494),\"\",SUM('Data Input'!X494:AQ494))","v":""},{"$f":"IF(ISBLANK('Data Input'!A494),\"\",SUM('Data Input'!C494:AQ494))","v":""},{"$f":"IF(G490=\"\",\"\",G490/(COUNTA('Data Input'!$C$8:$AQ$8)-1))","v":""},{"$f":"IF(ISBLANK('Data Input'!A494),\"\",SUM('Data Input'!C494,'Data Input'!K494,'Data Input'!L494,'Data Input'!AC494,'Data Input'!AF494,'Data Input'!AM494,'Data Input'!AO494))","v":""},{"$f":"IF(I490=\"\",\"\",I490/COUNTIF('Data Input'!$C$8:$AQ$8,$I$2))","v":""},{"$f":"IF(ISBLANK('Data Input'!A494),\"\",SUM('Data Input'!D494,'Data Input'!E494,'Data Input'!F494,'Data Input'!G494,'Data Input'!J494,'Data Input'!O494,'Data Input'!P494,'Data Input'!S494,'Data Input'!U494,'Data Input'!X494,'Data Input'!Z494,'Data Input'!AA494,'Data Input'!AB494,'Data Input'!AE494,'Data Input'!AG494,'Data Input'!AH494,'Data Input'!AJ494,'Data Input'!AK494,'Data Input'!AL494,'Data Input'!AN494))","v":""},{"$f":"IF(K490=\"\",\"\",K490/COUNTIF('Data Input'!$C$8:$AQ$8,$K$2))","v":""},{"$f":"IF(ISBLANK('Data Input'!A494),\"\",SUM('Data Input'!V494))","v":""},{"$f":"IF(M490=\"\",\"\",M490/COUNTIF('Data Input'!$C$8:$AQ$8,$M$2))","v":""},{"$f":"IF(ISBLANK('Data Input'!A494),\"\",SUM('Data Input'!H494,'Data Input'!I494,'Data Input'!M494,'Data Input'!N494,'Data Input'!Q494,'Data Input'!R494,'Data Input'!T494,'Data Input'!Y494,'Data Input'!AD494,'Data Input'!AI494,'Data Input'!AP494,'Data Input'!AQ494))","v":""},{"$f":"IF(O490=\"\",\"\",O490/COUNTIF('Data Input'!$C$8:$AQ$8,$O$2))","v":""}]
[{"$f":"IF('Data Input'!A495=0,\"\",'Data Input'!A495)","v":""},{"$f":"IF(ISBLANK('Data Input'!A495),\"\",COUNTIF('Data Input'!C495:AQ495,\"\")-1)","v":""},{"$f":"IF(ISBLANK('Data Input'!A495),\"\",COUNTIF('Data Input'!C495:AQ495,\"0\"))","v":""},{"$f":"IF(ISBLANK('Data Input'!A495),\"\",SUM(B491,C491))","v":""},{"$f":"IF(ISBLANK('Data Input'!A495),\"\",SUM('Data Input'!C495:V495))","v":""},{"$f":"IF(ISBLANK('Data Input'!A495),\"\",SUM('Data Input'!X495:AQ495))","v":""},{"$f":"IF(ISBLANK('Data Input'!A495),\"\",SUM('Data Input'!C495:AQ495))","v":""},{"$f":"IF(G491=\"\",\"\",G491/(COUNTA('Data Input'!$C$8:$AQ$8)-1))","v":""},{"$f":"IF(ISBLANK('Data Input'!A495),\"\",SUM('Data Input'!C495,'Data Input'!K495,'Data Input'!L495,'Data Input'!AC495,'Data Input'!AF495,'Data Input'!AM495,'Data Input'!AO495))","v":""},{"$f":"IF(I491=\"\",\"\",I491/COUNTIF('Data Input'!$C$8:$AQ$8,$I$2))","v":""},{"$f":"IF(ISBLANK('Data Input'!A495),\"\",SUM('Data Input'!D495,'Data Input'!E495,'Data Input'!F495,'Data Input'!G495,'Data Input'!J495,'Data Input'!O495,'Data Input'!P495,'Data Input'!S495,'Data Input'!U495,'Data Input'!X495,'Data Input'!Z495,'Data Input'!AA495,'Data Input'!AB495,'Data Input'!AE495,'Data Input'!AG495,'Data Input'!AH495,'Data Input'!AJ495,'Data Input'!AK495,'Data Input'!AL495,'Data Input'!AN495))","v":""},{"$f":"IF(K491=\"\",\"\",K491/COUNTIF('Data Input'!$C$8:$AQ$8,$K$2))","v":""},{"$f":"IF(ISBLANK('Data Input'!A495),\"\",SUM('Data Input'!V495))","v":""},{"$f":"IF(M491=\"\",\"\",M491/COUNTIF('Data Input'!$C$8:$AQ$8,$M$2))","v":""},{"$f":"IF(ISBLANK('Data Input'!A495),\"\",SUM('Data Input'!H495,'Data Input'!I495,'Data Input'!M495,'Data Input'!N495,'Data Input'!Q495,'Data Input'!R495,'Data Input'!T495,'Data Input'!Y495,'Data Input'!AD495,'Data Input'!AI495,'Data Input'!AP495,'Data Input'!AQ495))","v":""},{"$f":"IF(O491=\"\",\"\",O491/COUNTIF('Data Input'!$C$8:$AQ$8,$O$2))","v":""}]
[{"$f":"IF('Data Input'!A496=0,\"\",'Data Input'!A496)","v":""},{"$f":"IF(ISBLANK('Data Input'!A496),\"\",COUNTIF('Data Input'!C496:AQ496,\"\")-1)","v":""},{"$f":"IF(ISBLANK('Data Input'!A496),\"\",COUNTIF('Data Input'!C496:AQ496,\"0\"))","v":""},{"$f":"IF(ISBLANK('Data Input'!A496),\"\",SUM(B492,C492))","v":""},{"$f":"IF(ISBLANK('Data Input'!A496),\"\",SUM('Data Input'!C496:V496))","v":""},{"$f":"IF(ISBLANK('Data Input'!A496),\"\",SUM('Data Input'!X496:AQ496))","v":""},{"$f":"IF(ISBLANK('Data Input'!A496),\"\",SUM('Data Input'!C496:AQ496))","v":""},{"$f":"IF(G492=\"\",\"\",G492/(COUNTA('Data Input'!$C$8:$AQ$8)-1))","v":""},{"$f":"IF(ISBLANK('Data Input'!A496),\"\",SUM('Data Input'!C496,'Data Input'!K496,'Data Input'!L496,'Data Input'!AC496,'Data Input'!AF496,'Data Input'!AM496,'Data Input'!AO496))","v":""},{"$f":"IF(I492=\"\",\"\",I492/COUNTIF('Data Input'!$C$8:$AQ$8,$I$2))","v":""},{"$f":"IF(ISBLANK('Data Input'!A496),\"\",SUM('Data Input'!D496,'Data Input'!E496,'Data Input'!F496,'Data Input'!G496,'Data Input'!J496,'Data Input'!O496,'Data Input'!P496,'Data Input'!S496,'Data Input'!U496,'Data Input'!X496,'Data Input'!Z496,'Data Input'!AA496,'Data Input'!AB496,'Data Input'!AE496,'Data Input'!AG496,'Data Input'!AH496,'Data Input'!AJ496,'Data Input'!AK496,'Data Input'!AL496,'Data Input'!AN496))","v":""},{"$f":"IF(K492=\"\",\"\",K492/COUNTIF('Data Input'!$C$8:$AQ$8,$K$2))","v":""},{"$f":"IF(ISBLANK('Data Input'!A496),\"\",SUM('Data Input'!V496))","v":""},{"$f":"IF(M492=\"\",\"\",M492/COUNTIF('Data Input'!$C$8:$AQ$8,$M$2))","v":""},{"$f":"IF(ISBLANK('Data Input'!A496),\"\",SUM('Data Input'!H496,'Data Input'!I496,'Data Input'!M496,'Data Input'!N496,'Data Input'!Q496,'Data Input'!R496,'Data Input'!T496,'Data Input'!Y496,'Data Input'!AD496,'Data Input'!AI496,'Data Input'!AP496,'Data Input'!AQ496))","v":""},{"$f":"IF(O492=\"\",\"\",O492/COUNTIF('Data Input'!$C$8:$AQ$8,$O$2))","v":""}]
[{"$f":"IF('Data Input'!A497=0,\"\",'Data Input'!A497)","v":""},{"$f":"IF(ISBLANK('Data Input'!A497),\"\",COUNTIF('Data Input'!C497:AQ497,\"\")-1)","v":""},{"$f":"IF(ISBLANK('Data Input'!A497),\"\",COUNTIF('Data Input'!C497:AQ497,\"0\"))","v":""},{"$f":"IF(ISBLANK('Data Input'!A497),\"\",SUM(B493,C493))","v":""},{"$f":"IF(ISBLANK('Data Input'!A497),\"\",SUM('Data Input'!C497:V497))","v":""},{"$f":"IF(ISBLANK('Data Input'!A497),\"\",SUM('Data Input'!X497:AQ497))","v":""},{"$f":"IF(ISBLANK('Data Input'!A497),\"\",SUM('Data Input'!C497:AQ497))","v":""},{"$f":"IF(G493=\"\",\"\",G493/(COUNTA('Data Input'!$C$8:$AQ$8)-1))","v":""},{"$f":"IF(ISBLANK('Data Input'!A497),\"\",SUM('Data Input'!C497,'Data Input'!K497,'Data Input'!L497,'Data Input'!AC497,'Data Input'!AF497,'Data Input'!AM497,'Data Input'!AO497))","v":""},{"$f":"IF(I493=\"\",\"\",I493/COUNTIF('Data Input'!$C$8:$AQ$8,$I$2))","v":""},{"$f":"IF(ISBLANK('Data Input'!A497),\"\",SUM('Data Input'!D497,'Data Input'!E497,'Data Input'!F497,'Data Input'!G497,'Data Input'!J497,'Data Input'!O497,'Data Input'!P497,'Data Input'!S497,'Data Input'!U497,'Data Input'!X497,'Data Input'!Z497,'Data Input'!AA497,'Data Input'!AB497,'Data Input'!AE497,'Data Input'!AG497,'Data Input'!AH497,'Data Input'!AJ497,'Data Input'!AK497,'Data Input'!AL497,'Data Input'!AN497))","v":""},{"$f":"IF(K493=\"\",\"\",K493/COUNTIF('Data Input'!$C$8:$AQ$8,$K$2))","v":""},{"$f":"IF(ISBLANK('Data Input'!A497),\"\",SUM('Data Input'!V497))","v":""},{"$f":"IF(M493=\"\",\"\",M493/COUNTIF('Data Input'!$C$8:$AQ$8,$M$2))","v":""},{"$f":"IF(ISBLANK('Data Input'!A497),\"\",SUM('Data Input'!H497,'Data Input'!I497,'Data Input'!M497,'Data Input'!N497,'Data Input'!Q497,'Data Input'!R497,'Data Input'!T497,'Data Input'!Y497,'Data Input'!AD497,'Data Input'!AI497,'Data Input'!AP497,'Data Input'!AQ497))","v":""},{"$f":"IF(O493=\"\",\"\",O493/COUNTIF('Data Input'!$C$8:$AQ$8,$O$2))","v":""}]
[{"$f":"IF('Data Input'!A498=0,\"\",'Data Input'!A498)","v":""},{"$f":"IF(ISBLANK('Data Input'!A498),\"\",COUNTIF('Data Input'!C498:AQ498,\"\")-1)","v":""},{"$f":"IF(ISBLANK('Data Input'!A498),\"\",COUNTIF('Data Input'!C498:AQ498,\"0\"))","v":""},{"$f":"IF(ISBLANK('Data Input'!A498),\"\",SUM(B494,C494))","v":""},{"$f":"IF(ISBLANK('Data Input'!A498),\"\",SUM('Data Input'!C498:V498))","v":""},{"$f":"IF(ISBLANK('Data Input'!A498),\"\",SUM('Data Input'!X498:AQ498))","v":""},{"$f":"IF(ISBLANK('Data Input'!A498),\"\",SUM('Data Input'!C498:AQ498))","v":""},{"$f":"IF(G494=\"\",\"\",G494/(COUNTA('Data Input'!$C$8:$AQ$8)-1))","v":""},{"$f":"IF(ISBLANK('Data Input'!A498),\"\",SUM('Data Input'!C498,'Data Input'!K498,'Data Input'!L498,'Data Input'!AC498,'Data Input'!AF498,'Data Input'!AM498,'Data Input'!AO498))","v":""},{"$f":"IF(I494=\"\",\"\",I494/COUNTIF('Data Input'!$C$8:$AQ$8,$I$2))","v":""},{"$f":"IF(ISBLANK('Data Input'!A498),\"\",SUM('Data Input'!D498,'Data Input'!E498,'Data Input'!F498,'Data Input'!G498,'Data Input'!J498,'Data Input'!O498,'Data Input'!P498,'Data Input'!S498,'Data Input'!U498,'Data Input'!X498,'Data Input'!Z498,'Data Input'!AA498,'Data Input'!AB498,'Data Input'!AE498,'Data Input'!AG498,'Data Input'!AH498,'Data Input'!AJ498,'Data Input'!AK498,'Data Input'!AL498,'Data Input'!AN498))","v":""},{"$f":"IF(K494=\"\",\"\",K494/COUNTIF('Data Input'!$C$8:$AQ$8,$K$2))","v":""},{"$f":"IF(ISBLANK('Data Input'!A498),\"\",SUM('Data Input'!V498))","v":""},{"$f":"IF(M494=\"\",\"\",M494/COUNTIF('Data Input'!$C$8:$AQ$8,$M$2))","v":""},{"$f":"IF(ISBLANK('Data Input'!A498),\"\",SUM('Data Input'!H498,'Data Input'!I498,'Data Input'!M498,'Data Input'!N498,'Data Input'!Q498,'Data Input'!R498,'Data Input'!T498,'Data Input'!Y498,'Data Input'!AD498,'Data Input'!AI498,'Data Input'!AP498,'Data Input'!AQ498))","v":""},{"$f":"IF(O494=\"\",\"\",O494/COUNTIF('Data Input'!$C$8:$AQ$8,$O$2))","v":""}]
[{"$f":"IF('Data Input'!A499=0,\"\",'Data Input'!A499)","v":""},{"$f":"IF(ISBLANK('Data Input'!A499),\"\",COUNTIF('Data Input'!C499:AQ499,\"\")-1)","v":""},{"$f":"IF(ISBLANK('Data Input'!A499),\"\",COUNTIF('Data Input'!C499:AQ499,\"0\"))","v":""},{"$f":"IF(ISBLANK('Data Input'!A499),\"\",SUM(B495,C495))","v":""},{"$f":"IF(ISBLANK('Data Input'!A499),\"\",SUM('Data Input'!C499:V499))","v":""},{"$f":"IF(ISBLANK('Data Input'!A499),\"\",SUM('Data Input'!X499:AQ499))","v":""},{"$f":"IF(ISBLANK('Data Input'!A499),\"\",SUM('Data Input'!C499:AQ499))","v":""},{"$f":"IF(G495=\"\",\"\",G495/(COUNTA('Data Input'!$C$8:$AQ$8)-1))","v":""},{"$f":"IF(ISBLANK('Data Input'!A499),\"\",SUM('Data Input'!C499,'Data Input'!K499,'Data Input'!L499,'Data Input'!AC499,'Data Input'!AF499,'Data Input'!AM499,'Data Input'!AO499))","v":""},{"$f":"IF(I495=\"\",\"\",I495/COUNTIF('Data Input'!$C$8:$AQ$8,$I$2))","v":""},{"$f":"IF(ISBLANK('Data Input'!A499),\"\",SUM('Data Input'!D499,'Data Input'!E499,'Data Input'!F499,'Data Input'!G499,'Data Input'!J499,'Data Input'!O499,'Data Input'!P499,'Data Input'!S499,'Data Input'!U499,'Data Input'!X499,'Data Input'!Z499,'Data Input'!AA499,'Data Input'!AB499,'Data Input'!AE499,'Data Input'!AG499,'Data Input'!AH499,'Data Input'!AJ499,'Data Input'!AK499,'Data Input'!AL499,'Data Input'!AN499))","v":""},{"$f":"IF(K495=\"\",\"\",K495/COUNTIF('Data Input'!$C$8:$AQ$8,$K$2))","v":""},{"$f":"IF(ISBLANK('Data Input'!A499),\"\",SUM('Data Input'!V499))","v":""},{"$f":"IF(M495=\"\",\"\",M495/COUNTIF('Data Input'!$C$8:$AQ$8,$M$2))","v":""},{"$f":"IF(ISBLANK('Data Input'!A499),\"\",SUM('Data Input'!H499,'Data Input'!I499,'Data Input'!M499,'Data Input'!N499,'Data Input'!Q499,'Data Input'!R499,'Data Input'!T499,'Data Input'!Y499,'Data Input'!AD499,'Data Input'!AI499,'Data Input'!AP499,'Data Input'!AQ499))","v":""},{"$f":"IF(O495=\"\",\"\",O495/COUNTIF('Data Input'!$C$8:$AQ$8,$O$2))","v":""}]
[{"$f":"IF('Data Input'!A500=0,\"\",'Data Input'!A500)","v":""},{"$f":"IF(ISBLANK('Data Input'!A500),\"\",COUNTIF('Data Input'!C500:AQ500,\"\")-1)","v":""},{"$f":"IF(ISBLANK('Data Input'!A500),\"\",COUNTIF('Data Input'!C500:AQ500,\"0\"))","v":""},{"$f":"IF(ISBLANK('Data Input'!A500),\"\",SUM(B496,C496))","v":""},{"$f":"IF(ISBLANK('Data Input'!A500),\"\",SUM('Data Input'!C500:V500))","v":""},{"$f":"IF(ISBLANK('Data Input'!A500),\"\",SUM('Data Input'!X500:AQ500))","v":""},{"$f":"IF(ISBLANK('Data Input'!A500),\"\",SUM('Data Input'!C500:AQ500))","v":""},{"$f":"IF(G496=\"\",\"\",G496/(COUNTA('Data Input'!$C$8:$AQ$8)-1))","v":""},{"$f":"IF(ISBLANK('Data Input'!A500),\"\",SUM('Data Input'!C500,'Data Input'!K500,'Data Input'!L500,'Data Input'!AC500,'Data Input'!AF500,'Data Input'!AM500,'Data Input'!AO500))","v":""},{"$f":"IF(I496=\"\",\"\",I496/COUNTIF('Data Input'!$C$8:$AQ$8,$I$2))","v":""},{"$f":"IF(ISBLANK('Data Input'!A500),\"\",SUM('Data Input'!D500,'Data Input'!E500,'Data Input'!F500,'Data Input'!G500,'Data Input'!J500,'Data Input'!O500,'Data Input'!P500,'Data Input'!S500,'Data Input'!U500,'Data Input'!X500,'Data Input'!Z500,'Data Input'!AA500,'Data Input'!AB500,'Data Input'!AE500,'Data Input'!AG500,'Data Input'!AH500,'Data Input'!AJ500,'Data Input'!AK500,'Data Input'!AL500,'Data Input'!AN500))","v":""},{"$f":"IF(K496=\"\",\"\",K496/COUNTIF('Data Input'!$C$8:$AQ$8,$K$2))","v":""},{"$f":"IF(ISBLANK('Data Input'!A500),\"\",SUM('Data Input'!V500))","v":""},{"$f":"IF(M496=\"\",\"\",M496/COUNTIF('Data Input'!$C$8:$AQ$8,$M$2))","v":""},{"$f":"IF(ISBLANK('Data Input'!A500),\"\",SUM('Data Input'!H500,'Data Input'!I500,'Data Input'!M500,'Data Input'!N500,'Data Input'!Q500,'Data Input'!R500,'Data Input'!T500,'Data Input'!Y500,'Data Input'!AD500,'Data Input'!AI500,'Data Input'!AP500,'Data Input'!AQ500))","v":""},{"$f":"IF(O496=\"\",\"\",O496/COUNTIF('Data Input'!$C$8:$AQ$8,$O$2))","v":""}]
[{"$f":"IF('Data Input'!A501=0,\"\",'Data Input'!A501)","v":""},{"$f":"IF(ISBLANK('Data Input'!A501),\"\",COUNTIF('Data Input'!C501:AQ501,\"\")-1)","v":""},{"$f":"IF(ISBLANK('Data Input'!A501),\"\",COUNTIF('Data Input'!C501:AQ501,\"0\"))","v":""},{"$f":"IF(ISBLANK('Data Input'!A501),\"\",SUM(B497,C497))","v":""},{"$f":"IF(ISBLANK('Data Input'!A501),\"\",SUM('Data Input'!C501:V501))","v":""},{"$f":"IF(ISBLANK('Data Input'!A501),\"\",SUM('Data Input'!X501:AQ501))","v":""},{"$f":"IF(ISBLANK('Data Input'!A501),\"\",SUM('Data Input'!C501:AQ501))","v":""},{"$f":"IF(G497=\"\",\"\",G497/(COUNTA('Data Input'!$C$8:$AQ$8)-1))","v":""},{"$f":"IF(ISBLANK('Data Input'!A501),\"\",SUM('Data Input'!C501,'Data Input'!K501,'Data Input'!L501,'Data Input'!AC501,'Data Input'!AF501,'Data Input'!AM501,'Data Input'!AO501))","v":""},{"$f":"IF(I497=\"\",\"\",I497/COUNTIF('Data Input'!$C$8:$AQ$8,$I$2))","v":""},{"$f":"IF(ISBLANK('Data Input'!A501),\"\",SUM('Data Input'!D501,'Data Input'!E501,'Data Input'!F501,'Data Input'!G501,'Data Input'!J501,'Data Input'!O501,'Data Input'!P501,'Data Input'!S501,'Data Input'!U501,'Data Input'!X501,'Data Input'!Z501,'Data Input'!AA501,'Data Input'!AB501,'Data Input'!AE501,'Data Input'!AG501,'Data Input'!AH501,'Data Input'!AJ501,'Data Input'!AK501,'Data Input'!AL501,'Data Input'!AN501))","v":""},{"$f":"IF(K497=\"\",\"\",K497/COUNTIF('Data Input'!$C$8:$AQ$8,$K$2))","v":""},{"$f":"IF(ISBLANK('Data Input'!A501),\"\",SUM('Data Input'!V501))","v":""},{"$f":"IF(M497=\"\",\"\",M497/COUNTIF('Data Input'!$C$8:$AQ$8,$M$2))","v":""},{"$f":"IF(ISBLANK('Data Input'!A501),\"\",SUM('Data Input'!H501,'Data Input'!I501,'Data Input'!M501,'Data Input'!N501,'Data Input'!Q501,'Data Input'!R501,'Data Input'!T501,'Data Input'!Y501,'Data Input'!AD501,'Data Input'!AI501,'Data Input'!AP501,'Data Input'!AQ501))","v":""},{"$f":"IF(O497=\"\",\"\",O497/COUNTIF('Data Input'!$C$8:$AQ$8,$O$2))","v":""}]
[{"$f":"IF('Data Input'!A502=0,\"\",'Data Input'!A502)","v":""},{"$f":"IF(ISBLANK('Data Input'!A502),\"\",COUNTIF('Data Input'!C502:AQ502,\"\")-1)","v":""},{"$f":"IF(ISBLANK('Data Input'!A502),\"\",COUNTIF('Data Input'!C502:AQ502,\"0\"))","v":""},{"$f":"IF(ISBLANK('Data Input'!A502),\"\",SUM(B498,C498))","v":""},{"$f":"IF(ISBLANK('Data Input'!A502),\"\",SUM('Data Input'!C502:V502))","v":""},{"$f":"IF(ISBLANK('Data Input'!A502),\"\",SUM('Data Input'!X502:AQ502))","v":""},{"$f":"IF(ISBLANK('Data Input'!A502),\"\",SUM('Data Input'!C502:AQ502))","v":""},{"$f":"IF(G498=\"\",\"\",G498/(COUNTA('Data Input'!$C$8:$AQ$8)-1))","v":""},{"$f":"IF(ISBLANK('Data Input'!A502),\"\",SUM('Data Input'!C502,'Data Input'!K502,'Data Input'!L502,'Data Input'!AC502,'Data Input'!AF502,'Data Input'!AM502,'Data Input'!AO502))","v":""},{"$f":"IF(I498=\"\",\"\",I498/COUNTIF('Data Input'!$C$8:$AQ$8,$I$2))","v":""},{"$f":"IF(ISBLANK('Data Input'!A502),\"\",SUM('Data Input'!D502,'Data Input'!E502,'Data Input'!F502,'Data Input'!G502,'Data Input'!J502,'Data Input'!O502,'Data Input'!P502,'Data Input'!S502,'Data Input'!U502,'Data Input'!X502,'Data Input'!Z502,'Data Input'!AA502,'Data Input'!AB502,'Data Input'!AE502,'Data Input'!AG502,'Data Input'!AH502,'Data Input'!AJ502,'Data Input'!AK502,'Data Input'!AL502,'Data Input'!AN502))","v":""},{"$f":"IF(K498=\"\",\"\",K498/COUNTIF('Data Input'!$C$8:$AQ$8,$K$2))","v":""},{"$f":"IF(ISBLANK('Data Input'!A502),\"\",SUM('Data Input'!V502))","v":""},{"$f":"IF(M498=\"\",\"\",M498/COUNTIF('Data Input'!$C$8:$AQ$8,$M$2))","v":""},{"$f":"IF(ISBLANK('Data Input'!A502),\"\",SUM('Data Input'!H502,'Data Input'!I502,'Data Input'!M502,'Data Input'!N502,'Data Input'!Q502,'Data Input'!R502,'Data Input'!T502,'Data Input'!Y502,'Data Input'!AD502,'Data Input'!AI502,'Data Input'!AP502,'Data Input'!AQ502))","v":""},{"$f":"IF(O498=\"\",\"\",O498/COUNTIF('Data Input'!$C$8:$AQ$8,$O$2))","v":""}]
[{"$f":"IF('Data Input'!A503=0,\"\",'Data Input'!A503)","v":""},{"$f":"IF(ISBLANK('Data Input'!A503),\"\",COUNTIF('Data Input'!C503:AQ503,\"\")-1)","v":""},{"$f":"IF(ISBLANK('Data Input'!A503),\"\",COUNTIF('Data Input'!C503:AQ503,\"0\"))","v":""},{"$f":"IF(ISBLANK('Data Input'!A503),\"\",SUM(B499,C499))","v":""},{"$f":"IF(ISBLANK('Data Input'!A503),\"\",SUM('Data Input'!C503:V503))","v":""},{"$f":"IF(ISBLANK('Data Input'!A503),\"\",SUM('Data Input'!X503:AQ503))","v":""},{"$f":"IF(ISBLANK('Data Input'!A503),\"\",SUM('Data Input'!C503:AQ503))","v":""},{"$f":"IF(G499=\"\",\"\",G499/(COUNTA('Data Input'!$C$8:$AQ$8)-1))","v":""},{"$f":"IF(ISBLANK('Data Input'!A503),\"\",SUM('Data Input'!C503,'Data Input'!K503,'Data Input'!L503,'Data Input'!AC503,'Data Input'!AF503,'Data Input'!AM503,'Data Input'!AO503))","v":""},{"$f":"IF(I499=\"\",\"\",I499/COUNTIF('Data Input'!$C$8:$AQ$8,$I$2))","v":""},{"$f":"IF(ISBLANK('Data Input'!A503),\"\",SUM('Data Input'!D503,'Data Input'!E503,'Data Input'!F503,'Data Input'!G503,'Data Input'!J503,'Data Input'!O503,'Data Input'!P503,'Data Input'!S503,'Data Input'!U503,'Data Input'!X503,'Data Input'!Z503,'Data Input'!AA503,'Data Input'!AB503,'Data Input'!AE503,'Data Input'!AG503,'Data Input'!AH503,'Data Input'!AJ503,'Data Input'!AK503,'Data Input'!AL503,'Data Input'!AN503))","v":""},{"$f":"IF(K499=\"\",\"\",K499/COUNTIF('Data Input'!$C$8:$AQ$8,$K$2))","v":""},{"$f":"IF(ISBLANK('Data Input'!A503),\"\",SUM('Data Input'!V503))","v":""},{"$f":"IF(M499=\"\",\"\",M499/COUNTIF('Data Input'!$C$8:$AQ$8,$M$2))","v":""},{"$f":"IF(ISBLANK('Data Input'!A503),\"\",SUM('Data Input'!H503,'Data Input'!I503,'Data Input'!M503,'Data Input'!N503,'Data Input'!Q503,'Data Input'!R503,'Data Input'!T503,'Data Input'!Y503,'Data Input'!AD503,'Data Input'!AI503,'Data Input'!AP503,'Data Input'!AQ503))","v":""},{"$f":"IF(O499=\"\",\"\",O499/COUNTIF('Data Input'!$C$8:$AQ$8,$O$2))","v":""}]
[{"$f":"IF('Data Input'!A504=0,\"\",'Data Input'!A504)","v":""},{"$f":"IF(ISBLANK('Data Input'!A504),\"\",COUNTIF('Data Input'!C504:AQ504,\"\")-1)","v":""},{"$f":"IF(ISBLANK('Data Input'!A504),\"\",COUNTIF('Data Input'!C504:AQ504,\"0\"))","v":""},{"$f":"IF(ISBLANK('Data Input'!A504),\"\",SUM(B500,C500))","v":""},{"$f":"IF(ISBLANK('Data Input'!A504),\"\",SUM('Data Input'!C504:V504))","v":""},{"$f":"IF(ISBLANK('Data Input'!A504),\"\",SUM('Data Input'!X504:AQ504))","v":""},{"$f":"IF(ISBLANK('Data Input'!A504),\"\",SUM('Data Input'!C504:AQ504))","v":""},{"$f":"IF(G500=\"\",\"\",G500/(COUNTA('Data Input'!$C$8:$AQ$8)-1))","v":""},{"$f":"IF(ISBLANK('Data Input'!A504),\"\",SUM('Data Input'!C504,'Data Input'!K504,'Data Input'!L504,'Data Input'!AC504,'Data Input'!AF504,'Data Input'!AM504,'Data Input'!AO504))","v":""},{"$f":"IF(I500=\"\",\"\",I500/COUNTIF('Data Input'!$C$8:$AQ$8,$I$2))","v":""},{"$f":"IF(ISBLANK('Data Input'!A504),\"\",SUM('Data Input'!D504,'Data Input'!E504,'Data Input'!F504,'Data Input'!G504,'Data Input'!J504,'Data Input'!O504,'Data Input'!P504,'Data Input'!S504,'Data Input'!U504,'Data Input'!X504,'Data Input'!Z504,'Data Input'!AA504,'Data Input'!AB504,'Data Input'!AE504,'Data Input'!AG504,'Data Input'!AH504,'Data Input'!AJ504,'Data Input'!AK504,'Data Input'!AL504,'Data Input'!AN504))","v":""},{"$f":"IF(K500=\"\",\"\",K500/COUNTIF('Data Input'!$C$8:$AQ$8,$K$2))","v":""},{"$f":"IF(ISBLANK('Data Input'!A504),\"\",SUM('Data Input'!V504))","v":""},{"$f":"IF(M500=\"\",\"\",M500/COUNTIF('Data Input'!$C$8:$AQ$8,$M$2))","v":""},{"$f":"IF(ISBLANK('Data Input'!A504),\"\",SUM('Data Input'!H504,'Data Input'!I504,'Data Input'!M504,'Data Input'!N504,'Data Input'!Q504,'Data Input'!R504,'Data Input'!T504,'Data Input'!Y504,'Data Input'!AD504,'Data Input'!AI504,'Data Input'!AP504,'Data Input'!AQ504))","v":""},{"$f":"IF(O500=\"\",\"\",O500/COUNTIF('Data Input'!$C$8:$AQ$8,$O$2))","v":""}]
[{"$f":"IF('Data Input'!A505=0,\"\",'Data Input'!A505)","v":""},{"$f":"IF(ISBLANK('Data Input'!A505),\"\",COUNTIF('Data Input'!C505:AQ505,\"\")-1)","v":""},{"$f":"IF(ISBLANK('Data Input'!A505),\"\",COUNTIF('Data Input'!C505:AQ505,\"0\"))","v":""},{"$f":"IF(ISBLANK('Data Input'!A505),\"\",SUM(B501,C501))","v":""},{"$f":"IF(ISBLANK('Data Input'!A505),\"\",SUM('Data Input'!C505:V505))","v":""},{"$f":"IF(ISBLANK('Data Input'!A505),\"\",SUM('Data Input'!X505:AQ505))","v":""},{"$f":"IF(ISBLANK('Data Input'!A505),\"\",SUM('Data Input'!C505:AQ505))","v":""},{"$f":"IF(G501=\"\",\"\",G501/(COUNTA('Data Input'!$C$8:$AQ$8)-1))","v":""},{"$f":"IF(ISBLANK('Data Input'!A505),\"\",SUM('Data Input'!C505,'Data Input'!K505,'Data Input'!L505,'Data Input'!AC505,'Data Input'!AF505,'Data Input'!AM505,'Data Input'!AO505))","v":""},{"$f":"IF(I501=\"\",\"\",I501/COUNTIF('Data Input'!$C$8:$AQ$8,$I$2))","v":""},{"$f":"IF(ISBLANK('Data Input'!A505),\"\",SUM('Data Input'!D505,'Data Input'!E505,'Data Input'!F505,'Data Input'!G505,'Data Input'!J505,'Data Input'!O505,'Data Input'!P505,'Data Input'!S505,'Data Input'!U505,'Data Input'!X505,'Data Input'!Z505,'Data Input'!AA505,'Data Input'!AB505,'Data Input'!AE505,'Data Input'!AG505,'Data Input'!AH505,'Data Input'!AJ505,'Data Input'!AK505,'Data Input'!AL505,'Data Input'!AN505))","v":""},{"$f":"IF(K501=\"\",\"\",K501/COUNTIF('Data Input'!$C$8:$AQ$8,$K$2))","v":""},{"$f":"IF(ISBLANK('Data Input'!A505),\"\",SUM('Data Input'!V505))","v":""},{"$f":"IF(M501=\"\",\"\",M501/COUNTIF('Data Input'!$C$8:$AQ$8,$M$2))","v":""},{"$f":"IF(ISBLANK('Data Input'!A505),\"\",SUM('Data Input'!H505,'Data Input'!I505,'Data Input'!M505,'Data Input'!N505,'Data Input'!Q505,'Data Input'!R505,'Data Input'!T505,'Data Input'!Y505,'Data Input'!AD505,'Data Input'!AI505,'Data Input'!AP505,'Data Input'!AQ505))","v":""},{"$f":"IF(O501=\"\",\"\",O501/COUNTIF('Data Input'!$C$8:$AQ$8,$O$2))","v":""}]
[{"$f":"IF('Data Input'!A506=0,\"\",'Data Input'!A506)","v":""},{"$f":"IF(ISBLANK('Data Input'!A506),\"\",COUNTIF('Data Input'!C506:AQ506,\"\")-1)","v":""},{"$f":"IF(ISBLANK('Data Input'!A506),\"\",COUNTIF('Data Input'!C506:AQ506,\"0\"))","v":""},{"$f":"IF(ISBLANK('Data Input'!A506),\"\",SUM(B502,C502))","v":""},{"$f":"IF(ISBLANK('Data Input'!A506),\"\",SUM('Data Input'!C506:V506))","v":""},{"$f":"IF(ISBLANK('Data Input'!A506),\"\",SUM('Data Input'!X506:AQ506))","v":""},{"$f":"IF(ISBLANK('Data Input'!A506),\"\",SUM('Data Input'!C506:AQ506))","v":""},{"$f":"IF(G502=\"\",\"\",G502/(COUNTA('Data Input'!$C$8:$AQ$8)-1))","v":""},{"$f":"IF(ISBLANK('Data Input'!A506),\"\",SUM('Data Input'!C506,'Data Input'!K506,'Data Input'!L506,'Data Input'!AC506,'Data Input'!AF506,'Data Input'!AM506,'Data Input'!AO506))","v":""},{"$f":"IF(I502=\"\",\"\",I502/COUNTIF('Data Input'!$C$8:$AQ$8,$I$2))","v":""},{"$f":"IF(ISBLANK('Data Input'!A506),\"\",SUM('Data Input'!D506,'Data Input'!E506,'Data Input'!F506,'Data Input'!G506,'Data Input'!J506,'Data Input'!O506,'Data Input'!P506,'Data Input'!S506,'Data Input'!U506,'Data Input'!X506,'Data Input'!Z506,'Data Input'!AA506,'Data Input'!AB506,'Data Input'!AE506,'Data Input'!AG506,'Data Input'!AH506,'Data Input'!AJ506,'Data Input'!AK506,'Data Input'!AL506,'Data Input'!AN506))","v":""},{"$f":"IF(K502=\"\",\"\",K502/COUNTIF('Data Input'!$C$8:$AQ$8,$K$2))","v":""},{"$f":"IF(ISBLANK('Data Input'!A506),\"\",SUM('Data Input'!V506))","v":""},{"$f":"IF(M502=\"\",\"\",M502/COUNTIF('Data Input'!$C$8:$AQ$8,$M$2))","v":""},{"$f":"IF(ISBLANK('Data Input'!A506),\"\",SUM('Data Input'!H506,'Data Input'!I506,'Data Input'!M506,'Data Input'!N506,'Data Input'!Q506,'Data Input'!R506,'Data Input'!T506,'Data Input'!Y506,'Data Input'!AD506,'Data Input'!AI506,'Data Input'!AP506,'Data Input'!AQ506))","v":""},{"$f":"IF(O502=\"\",\"\",O502/COUNTIF('Data Input'!$C$8:$AQ$8,$O$2))","v":""}]
[{"$f":"IF('Data Input'!A507=0,\"\",'Data Input'!A507)","v":""},{"$f":"IF(ISBLANK('Data Input'!A507),\"\",COUNTIF('Data Input'!C507:AQ507,\"\")-1)","v":""},{"$f":"IF(ISBLANK('Data Input'!A507),\"\",COUNTIF('Data Input'!C507:AQ507,\"0\"))","v":""},{"$f":"IF(ISBLANK('Data Input'!A507),\"\",SUM(B503,C503))","v":""},{"$f":"IF(ISBLANK('Data Input'!A507),\"\",SUM('Data Input'!C507:V507))","v":""},{"$f":"IF(ISBLANK('Data Input'!A507),\"\",SUM('Data Input'!X507:AQ507))","v":""},{"$f":"IF(ISBLANK('Data Input'!A507),\"\",SUM('Data Input'!C507:AQ507))","v":""},{"$f":"IF(G503=\"\",\"\",G503/(COUNTA('Data Input'!$C$8:$AQ$8)-1))","v":""},{"$f":"IF(ISBLANK('Data Input'!A507),\"\",SUM('Data Input'!C507,'Data Input'!K507,'Data Input'!L507,'Data Input'!AC507,'Data Input'!AF507,'Data Input'!AM507,'Data Input'!AO507))","v":""},{"$f":"IF(I503=\"\",\"\",I503/COUNTIF('Data Input'!$C$8:$AQ$8,$I$2))","v":""},{"$f":"IF(ISBLANK('Data Input'!A507),\"\",SUM('Data Input'!D507,'Data Input'!E507,'Data Input'!F507,'Data Input'!G507,'Data Input'!J507,'Data Input'!O507,'Data Input'!P507,'Data Input'!S507,'Data Input'!U507,'Data Input'!X507,'Data Input'!Z507,'Data Input'!AA507,'Data Input'!AB507,'Data Input'!AE507,'Data Input'!AG507,'Data Input'!AH507,'Data Input'!AJ507,'Data Input'!AK507,'Data Input'!AL507,'Data Input'!AN507))","v":""},{"$f":"IF(K503=\"\",\"\",K503/COUNTIF('Data Input'!$C$8:$AQ$8,$K$2))","v":""},{"$f":"IF(ISBLANK('Data Input'!A507),\"\",SUM('Data Input'!V507))","v":""},{"$f":"IF(M503=\"\",\"\",M503/COUNTIF('Data Input'!$C$8:$AQ$8,$M$2))","v":""},{"$f":"IF(ISBLANK('Data Input'!A507),\"\",SUM('Data Input'!H507,'Data Input'!I507,'Data Input'!M507,'Data Input'!N507,'Data Input'!Q507,'Data Input'!R507,'Data Input'!T507,'Data Input'!Y507,'Data Input'!AD507,'Data Input'!AI507,'Data Input'!AP507,'Data Input'!AQ507))","v":""},{"$f":"IF(O503=\"\",\"\",O503/COUNTIF('Data Input'!$C$8:$AQ$8,$O$2))","v":""}]
[{"$f":"IF('Data Input'!A508=0,\"\",'Data Input'!A508)","v":""},{"$f":"IF(ISBLANK('Data Input'!A508),\"\",COUNTIF('Data Input'!C508:AQ508,\"\")-1)","v":""},{"$f":"IF(ISBLANK('Data Input'!A508),\"\",COUNTIF('Data Input'!C508:AQ508,\"0\"))","v":""},{"$f":"IF(ISBLANK('Data Input'!A508),\"\",SUM(B504,C504))","v":""},{"$f":"IF(ISBLANK('Data Input'!A508),\"\",SUM('Data Input'!C508:V508))","v":""},{"$f":"IF(ISBLANK('Data Input'!A508),\"\",SUM('Data Input'!X508:AQ508))","v":""},{"$f":"IF(ISBLANK('Data Input'!A508),\"\",SUM('Data Input'!C508:AQ508))","v":""},{"$f":"IF(G504=\"\",\"\",G504/(COUNTA('Data Input'!$C$8:$AQ$8)-1))","v":""},{"$f":"IF(ISBLANK('Data Input'!A508),\"\",SUM('Data Input'!C508,'Data Input'!K508,'Data Input'!L508,'Data Input'!AC508,'Data Input'!AF508,'Data Input'!AM508,'Data Input'!AO508))","v":""},{"$f":"IF(I504=\"\",\"\",I504/COUNTIF('Data Input'!$C$8:$AQ$8,$I$2))","v":""},{"$f":"IF(ISBLANK('Data Input'!A508),\"\",SUM('Data Input'!D508,'Data Input'!E508,'Data Input'!F508,'Data Input'!G508,'Data Input'!J508,'Data Input'!O508,'Data Input'!P508,'Data Input'!S508,'Data Input'!U508,'Data Input'!X508,'Data Input'!Z508,'Data Input'!AA508,'Data Input'!AB508,'Data Input'!AE508,'Data Input'!AG508,'Data Input'!AH508,'Data Input'!AJ508,'Data Input'!AK508,'Data Input'!AL508,'Data Input'!AN508))","v":""},{"$f":"IF(K504=\"\",\"\",K504/COUNTIF('Data Input'!$C$8:$AQ$8,$K$2))","v":""},{"$f":"IF(ISBLANK('Data Input'!A508),\"\",SUM('Data Input'!V508))","v":""},{"$f":"IF(M504=\"\",\"\",M504/COUNTIF('Data Input'!$C$8:$AQ$8,$M$2))","v":""},{"$f":"IF(ISBLANK('Data Input'!A508),\"\",SUM('Data Input'!H508,'Data Input'!I508,'Data Input'!M508,'Data Input'!N508,'Data Input'!Q508,'Data Input'!R508,'Data Input'!T508,'Data Input'!Y508,'Data Input'!AD508,'Data Input'!AI508,'Data Input'!AP508,'Data Input'!AQ508))","v":""},{"$f":"IF(O504=\"\",\"\",O504/COUNTIF('Data Input'!$C$8:$AQ$8,$O$2))","v":""}]
[{"$f":"IF('Data Input'!A509=0,\"\",'Data Input'!A509)","v":""},{"$f":"IF(ISBLANK('Data Input'!A509),\"\",COUNTIF('Data Input'!C509:AQ509,\"\")-1)","v":""},{"$f":"IF(ISBLANK('Data Input'!A509),\"\",COUNTIF('Data Input'!C509:AQ509,\"0\"))","v":""},{"$f":"IF(ISBLANK('Data Input'!A509),\"\",SUM(B505,C505))","v":""},{"$f":"IF(ISBLANK('Data Input'!A509),\"\",SUM('Data Input'!C509:V509))","v":""},{"$f":"IF(ISBLANK('Data Input'!A509),\"\",SUM('Data Input'!X509:AQ509))","v":""},{"$f":"IF(ISBLANK('Data Input'!A509),\"\",SUM('Data Input'!C509:AQ509))","v":""},{"$f":"IF(G505=\"\",\"\",G505/(COUNTA('Data Input'!$C$8:$AQ$8)-1))","v":""},{"$f":"IF(ISBLANK('Data Input'!A509),\"\",SUM('Data Input'!C509,'Data Input'!K509,'Data Input'!L509,'Data Input'!AC509,'Data Input'!AF509,'Data Input'!AM509,'Data Input'!AO509))","v":""},{"$f":"IF(I505=\"\",\"\",I505/COUNTIF('Data Input'!$C$8:$AQ$8,$I$2))","v":""},{"$f":"IF(ISBLANK('Data Input'!A509),\"\",SUM('Data Input'!D509,'Data Input'!E509,'Data Input'!F509,'Data Input'!G509,'Data Input'!J509,'Data Input'!O509,'Data Input'!P509,'Data Input'!S509,'Data Input'!U509,'Data Input'!X509,'Data Input'!Z509,'Data Input'!AA509,'Data Input'!AB509,'Data Input'!AE509,'Data Input'!AG509,'Data Input'!AH509,'Data Input'!AJ509,'Data Input'!AK509,'Data Input'!AL509,'Data Input'!AN509))","v":""},{"$f":"IF(K505=\"\",\"\",K505/COUNTIF('Data Input'!$C$8:$AQ$8,$K$2))","v":""},{"$f":"IF(ISBLANK('Data Input'!A509),\"\",SUM('Data Input'!V509))","v":""},{"$f":"IF(M505=\"\",\"\",M505/COUNTIF('Data Input'!$C$8:$AQ$8,$M$2))","v":""},{"$f":"IF(ISBLANK('Data Input'!A509),\"\",SUM('Data Input'!H509,'Data Input'!I509,'Data Input'!M509,'Data Input'!N509,'Data Input'!Q509,'Data Input'!R509,'Data Input'!T509,'Data Input'!Y509,'Data Input'!AD509,'Data Input'!AI509,'Data Input'!AP509,'Data Input'!AQ509))","v":""},{"$f":"IF(O505=\"\",\"\",O505/COUNTIF('Data Input'!$C$8:$AQ$8,$O$2))","v":""}]
[{"$f":"IF('Data Input'!A510=0,\"\",'Data Input'!A510)","v":""},{"$f":"IF(ISBLANK('Data Input'!A510),\"\",COUNTIF('Data Input'!C510:AQ510,\"\")-1)","v":""},{"$f":"IF(ISBLANK('Data Input'!A510),\"\",COUNTIF('Data Input'!C510:AQ510,\"0\"))","v":""},{"$f":"IF(ISBLANK('Data Input'!A510),\"\",SUM(B506,C506))","v":""},{"$f":"IF(ISBLANK('Data Input'!A510),\"\",SUM('Data Input'!C510:V510))","v":""},{"$f":"IF(ISBLANK('Data Input'!A510),\"\",SUM('Data Input'!X510:AQ510))","v":""},{"$f":"IF(ISBLANK('Data Input'!A510),\"\",SUM('Data Input'!C510:AQ510))","v":""},{"$f":"IF(G506=\"\",\"\",G506/(COUNTA('Data Input'!$C$8:$AQ$8)-1))","v":""},{"$f":"IF(ISBLANK('Data Input'!A510),\"\",SUM('Data Input'!C510,'Data Input'!K510,'Data Input'!L510,'Data Input'!AC510,'Data Input'!AF510,'Data Input'!AM510,'Data Input'!AO510))","v":""},{"$f":"IF(I506=\"\",\"\",I506/COUNTIF('Data Input'!$C$8:$AQ$8,$I$2))","v":""},{"$f":"IF(ISBLANK('Data Input'!A510),\"\",SUM('Data Input'!D510,'Data Input'!E510,'Data Input'!F510,'Data Input'!G510,'Data Input'!J510,'Data Input'!O510,'Data Input'!P510,'Data Input'!S510,'Data Input'!U510,'Data Input'!X510,'Data Input'!Z510,'Data Input'!AA510,'Data Input'!AB510,'Data Input'!AE510,'Data Input'!AG510,'Data Input'!AH510,'Data Input'!AJ510,'Data Input'!AK510,'Data Input'!AL510,'Data Input'!AN510))","v":""},{"$f":"IF(K506=\"\",\"\",K506/COUNTIF('Data Input'!$C$8:$AQ$8,$K$2))","v":""},{"$f":"IF(ISBLANK('Data Input'!A510),\"\",SUM('Data Input'!V510))","v":""},{"$f":"IF(M506=\"\",\"\",M506/COUNTIF('Data Input'!$C$8:$AQ$8,$M$2))","v":""},{"$f":"IF(ISBLANK('Data Input'!A510),\"\",SUM('Data Input'!H510,'Data Input'!I510,'Data Input'!M510,'Data Input'!N510,'Data Input'!Q510,'Data Input'!R510,'Data Input'!T510,'Data Input'!Y510,'Data Input'!AD510,'Data Input'!AI510,'Data Input'!AP510,'Data Input'!AQ510))","v":""},{"$f":"IF(O506=\"\",\"\",O506/COUNTIF('Data Input'!$C$8:$AQ$8,$O$2))","v":""}]
[{"$f":"IF('Data Input'!A511=0,\"\",'Data Input'!A511)","v":""},{"$f":"IF(ISBLANK('Data Input'!A511),\"\",COUNTIF('Data Input'!C511:AQ511,\"\")-1)","v":""},{"$f":"IF(ISBLANK('Data Input'!A511),\"\",COUNTIF('Data Input'!C511:AQ511,\"0\"))","v":""},{"$f":"IF(ISBLANK('Data Input'!A511),\"\",SUM(B507,C507))","v":""},{"$f":"IF(ISBLANK('Data Input'!A511),\"\",SUM('Data Input'!C511:V511))","v":""},{"$f":"IF(ISBLANK('Data Input'!A511),\"\",SUM('Data Input'!X511:AQ511))","v":""},{"$f":"IF(ISBLANK('Data Input'!A511),\"\",SUM('Data Input'!C511:AQ511))","v":""},{"$f":"IF(G507=\"\",\"\",G507/(COUNTA('Data Input'!$C$8:$AQ$8)-1))","v":""},{"$f":"IF(ISBLANK('Data Input'!A511),\"\",SUM('Data Input'!C511,'Data Input'!K511,'Data Input'!L511,'Data Input'!AC511,'Data Input'!AF511,'Data Input'!AM511,'Data Input'!AO511))","v":""},{"$f":"IF(I507=\"\",\"\",I507/COUNTIF('Data Input'!$C$8:$AQ$8,$I$2))","v":""},{"$f":"IF(ISBLANK('Data Input'!A511),\"\",SUM('Data Input'!D511,'Data Input'!E511,'Data Input'!F511,'Data Input'!G511,'Data Input'!J511,'Data Input'!O511,'Data Input'!P511,'Data Input'!S511,'Data Input'!U511,'Data Input'!X511,'Data Input'!Z511,'Data Input'!AA511,'Data Input'!AB511,'Data Input'!AE511,'Data Input'!AG511,'Data Input'!AH511,'Data Input'!AJ511,'Data Input'!AK511,'Data Input'!AL511,'Data Input'!AN511))","v":""},{"$f":"IF(K507=\"\",\"\",K507/COUNTIF('Data Input'!$C$8:$AQ$8,$K$2))","v":""},{"$f":"IF(ISBLANK('Data Input'!A511),\"\",SUM('Data Input'!V511))","v":""},{"$f":"IF(M507=\"\",\"\",M507/COUNTIF('Data Input'!$C$8:$AQ$8,$M$2))","v":""},{"$f":"IF(ISBLANK('Data Input'!A511),\"\",SUM('Data Input'!H511,'Data Input'!I511,'Data Input'!M511,'Data Input'!N511,'Data Input'!Q511,'Data Input'!R511,'Data Input'!T511,'Data Input'!Y511,'Data Input'!AD511,'Data Input'!AI511,'Data Input'!AP511,'Data Input'!AQ511))","v":""},{"$f":"IF(O507=\"\",\"\",O507/COUNTIF('Data Input'!$C$8:$AQ$8,$O$2))","v":""}]
[{"$f":"IF('Data Input'!A512=0,\"\",'Data Input'!A512)","v":""},{"$f":"IF(ISBLANK('Data Input'!A512),\"\",COUNTIF('Data Input'!C512:AQ512,\"\")-1)","v":""},{"$f":"IF(ISBLANK('Data Input'!A512),\"\",COUNTIF('Data Input'!C512:AQ512,\"0\"))","v":""},{"$f":"IF(ISBLANK('Data Input'!A512),\"\",SUM(B508,C508))","v":""},{"$f":"IF(ISBLANK('Data Input'!A512),\"\",SUM('Data Input'!C512:V512))","v":""},{"$f":"IF(ISBLANK('Data Input'!A512),\"\",SUM('Data Input'!X512:AQ512))","v":""},{"$f":"IF(ISBLANK('Data Input'!A512),\"\",SUM('Data Input'!C512:AQ512))","v":""},{"$f":"IF(G508=\"\",\"\",G508/(COUNTA('Data Input'!$C$8:$AQ$8)-1))","v":""},{"$f":"IF(ISBLANK('Data Input'!A512),\"\",SUM('Data Input'!C512,'Data Input'!K512,'Data Input'!L512,'Data Input'!AC512,'Data Input'!AF512,'Data Input'!AM512,'Data Input'!AO512))","v":""},{"$f":"IF(I508=\"\",\"\",I508/COUNTIF('Data Input'!$C$8:$AQ$8,$I$2))","v":""},{"$f":"IF(ISBLANK('Data Input'!A512),\"\",SUM('Data Input'!D512,'Data Input'!E512,'Data Input'!F512,'Data Input'!G512,'Data Input'!J512,'Data Input'!O512,'Data Input'!P512,'Data Input'!S512,'Data Input'!U512,'Data Input'!X512,'Data Input'!Z512,'Data Input'!AA512,'Data Input'!AB512,'Data Input'!AE512,'Data Input'!AG512,'Data Input'!AH512,'Data Input'!AJ512,'Data Input'!AK512,'Data Input'!AL512,'Data Input'!AN512))","v":""},{"$f":"IF(K508=\"\",\"\",K508/COUNTIF('Data Input'!$C$8:$AQ$8,$K$2))","v":""},{"$f":"IF(ISBLANK('Data Input'!A512),\"\",SUM('Data Input'!V512))","v":""},{"$f":"IF(M508=\"\",\"\",M508/COUNTIF('Data Input'!$C$8:$AQ$8,$M$2))","v":""},{"$f":"IF(ISBLANK('Data Input'!A512),\"\",SUM('Data Input'!H512,'Data Input'!I512,'Data Input'!M512,'Data Input'!N512,'Data Input'!Q512,'Data Input'!R512,'Data Input'!T512,'Data Input'!Y512,'Data Input'!AD512,'Data Input'!AI512,'Data Input'!AP512,'Data Input'!AQ512))","v":""},{"$f":"IF(O508=\"\",\"\",O508/COUNTIF('Data Input'!$C$8:$AQ$8,$O$2))","v":""}]
[{"$f":"IF('Data Input'!A513=0,\"\",'Data Input'!A513)","v":""},{"$f":"IF(ISBLANK('Data Input'!A513),\"\",COUNTIF('Data Input'!C513:AQ513,\"\")-1)","v":""},{"$f":"IF(ISBLANK('Data Input'!A513),\"\",COUNTIF('Data Input'!C513:AQ513,\"0\"))","v":""},{"$f":"IF(ISBLANK('Data Input'!A513),\"\",SUM(B509,C509))","v":""},{"$f":"IF(ISBLANK('Data Input'!A513),\"\",SUM('Data Input'!C513:V513))","v":""},{"$f":"IF(ISBLANK('Data Input'!A513),\"\",SUM('Data Input'!X513:AQ513))","v":""},{"$f":"IF(ISBLANK('Data Input'!A513),\"\",SUM('Data Input'!C513:AQ513))","v":""},{"$f":"IF(G509=\"\",\"\",G509/(COUNTA('Data Input'!$C$8:$AQ$8)-1))","v":""},{"$f":"IF(ISBLANK('Data Input'!A513),\"\",SUM('Data Input'!C513,'Data Input'!K513,'Data Input'!L513,'Data Input'!AC513,'Data Input'!AF513,'Data Input'!AM513,'Data Input'!AO513))","v":""},{"$f":"IF(I509=\"\",\"\",I509/COUNTIF('Data Input'!$C$8:$AQ$8,$I$2))","v":""},{"$f":"IF(ISBLANK('Data Input'!A513),\"\",SUM('Data Input'!D513,'Data Input'!E513,'Data Input'!F513,'Data Input'!G513,'Data Input'!J513,'Data Input'!O513,'Data Input'!P513,'Data Input'!S513,'Data Input'!U513,'Data Input'!X513,'Data Input'!Z513,'Data Input'!AA513,'Data Input'!AB513,'Data Input'!AE513,'Data Input'!AG513,'Data Input'!AH513,'Data Input'!AJ513,'Data Input'!AK513,'Data Input'!AL513,'Data Input'!AN513))","v":""},{"$f":"IF(K509=\"\",\"\",K509/COUNTIF('Data Input'!$C$8:$AQ$8,$K$2))","v":""},{"$f":"IF(ISBLANK('Data Input'!A513),\"\",SUM('Data Input'!V513))","v":""},{"$f":"IF(M509=\"\",\"\",M509/COUNTIF('Data Input'!$C$8:$AQ$8,$M$2))","v":""},{"$f":"IF(ISBLANK('Data Input'!A513),\"\",SUM('Data Input'!H513,'Data Input'!I513,'Data Input'!M513,'Data Input'!N513,'Data Input'!Q513,'Data Input'!R513,'Data Input'!T513,'Data Input'!Y513,'Data Input'!AD513,'Data Input'!AI513,'Data Input'!AP513,'Data Input'!AQ513))","v":""},{"$f":"IF(O509=\"\",\"\",O509/COUNTIF('Data Input'!$C$8:$AQ$8,$O$2))","v":""}]
[{"$f":"IF('Data Input'!A514=0,\"\",'Data Input'!A514)","v":""},{"$f":"IF(ISBLANK('Data Input'!A514),\"\",COUNTIF('Data Input'!C514:AQ514,\"\")-1)","v":""},{"$f":"IF(ISBLANK('Data Input'!A514),\"\",COUNTIF('Data Input'!C514:AQ514,\"0\"))","v":""},{"$f":"IF(ISBLANK('Data Input'!A514),\"\",SUM(B510,C510))","v":""},{"$f":"IF(ISBLANK('Data Input'!A514),\"\",SUM('Data Input'!C514:V514))","v":""},{"$f":"IF(ISBLANK('Data Input'!A514),\"\",SUM('Data Input'!X514:AQ514))","v":""},{"$f":"IF(ISBLANK('Data Input'!A514),\"\",SUM('Data Input'!C514:AQ514))","v":""},{"$f":"IF(G510=\"\",\"\",G510/(COUNTA('Data Input'!$C$8:$AQ$8)-1))","v":""},{"$f":"IF(ISBLANK('Data Input'!A514),\"\",SUM('Data Input'!C514,'Data Input'!K514,'Data Input'!L514,'Data Input'!AC514,'Data Input'!AF514,'Data Input'!AM514,'Data Input'!AO514))","v":""},{"$f":"IF(I510=\"\",\"\",I510/COUNTIF('Data Input'!$C$8:$AQ$8,$I$2))","v":""},{"$f":"IF(ISBLANK('Data Input'!A514),\"\",SUM('Data Input'!D514,'Data Input'!E514,'Data Input'!F514,'Data Input'!G514,'Data Input'!J514,'Data Input'!O514,'Data Input'!P514,'Data Input'!S514,'Data Input'!U514,'Data Input'!X514,'Data Input'!Z514,'Data Input'!AA514,'Data Input'!AB514,'Data Input'!AE514,'Data Input'!AG514,'Data Input'!AH514,'Data Input'!AJ514,'Data Input'!AK514,'Data Input'!AL514,'Data Input'!AN514))","v":""},{"$f":"IF(K510=\"\",\"\",K510/COUNTIF('Data Input'!$C$8:$AQ$8,$K$2))","v":""},{"$f":"IF(ISBLANK('Data Input'!A514),\"\",SUM('Data Input'!V514))","v":""},{"$f":"IF(M510=\"\",\"\",M510/COUNTIF('Data Input'!$C$8:$AQ$8,$M$2))","v":""},{"$f":"IF(ISBLANK('Data Input'!A514),\"\",SUM('Data Input'!H514,'Data Input'!I514,'Data Input'!M514,'Data Input'!N514,'Data Input'!Q514,'Data Input'!R514,'Data Input'!T514,'Data Input'!Y514,'Data Input'!AD514,'Data Input'!AI514,'Data Input'!AP514,'Data Input'!AQ514))","v":""},{"$f":"IF(O510=\"\",\"\",O510/COUNTIF('Data Input'!$C$8:$AQ$8,$O$2))","v":""}]
[{"$f":"IF('Data Input'!A515=0,\"\",'Data Input'!A515)","v":""},{"$f":"IF(ISBLANK('Data Input'!A515),\"\",COUNTIF('Data Input'!C515:AQ515,\"\")-1)","v":""},{"$f":"IF(ISBLANK('Data Input'!A515),\"\",COUNTIF('Data Input'!C515:AQ515,\"0\"))","v":""},{"$f":"IF(ISBLANK('Data Input'!A515),\"\",SUM(B511,C511))","v":""},{"$f":"IF(ISBLANK('Data Input'!A515),\"\",SUM('Data Input'!C515:V515))","v":""},{"$f":"IF(ISBLANK('Data Input'!A515),\"\",SUM('Data Input'!X515:AQ515))","v":""},{"$f":"IF(ISBLANK('Data Input'!A515),\"\",SUM('Data Input'!C515:AQ515))","v":""},{"$f":"IF(G511=\"\",\"\",G511/(COUNTA('Data Input'!$C$8:$AQ$8)-1))","v":""},{"$f":"IF(ISBLANK('Data Input'!A515),\"\",SUM('Data Input'!C515,'Data Input'!K515,'Data Input'!L515,'Data Input'!AC515,'Data Input'!AF515,'Data Input'!AM515,'Data Input'!AO515))","v":""},{"$f":"IF(I511=\"\",\"\",I511/COUNTIF('Data Input'!$C$8:$AQ$8,$I$2))","v":""},{"$f":"IF(ISBLANK('Data Input'!A515),\"\",SUM('Data Input'!D515,'Data Input'!E515,'Data Input'!F515,'Data Input'!G515,'Data Input'!J515,'Data Input'!O515,'Data Input'!P515,'Data Input'!S515,'Data Input'!U515,'Data Input'!X515,'Data Input'!Z515,'Data Input'!AA515,'Data Input'!AB515,'Data Input'!AE515,'Data Input'!AG515,'Data Input'!AH515,'Data Input'!AJ515,'Data Input'!AK515,'Data Input'!AL515,'Data Input'!AN515))","v":""},{"$f":"IF(K511=\"\",\"\",K511/COUNTIF('Data Input'!$C$8:$AQ$8,$K$2))","v":""},{"$f":"IF(ISBLANK('Data Input'!A515),\"\",SUM('Data Input'!V515))","v":""},{"$f":"IF(M511=\"\",\"\",M511/COUNTIF('Data Input'!$C$8:$AQ$8,$M$2))","v":""},{"$f":"IF(ISBLANK('Data Input'!A515),\"\",SUM('Data Input'!H515,'Data Input'!I515,'Data Input'!M515,'Data Input'!N515,'Data Input'!Q515,'Data Input'!R515,'Data Input'!T515,'Data Input'!Y515,'Data Input'!AD515,'Data Input'!AI515,'Data Input'!AP515,'Data Input'!AQ515))","v":""},{"$f":"IF(O511=\"\",\"\",O511/COUNTIF('Data Input'!$C$8:$AQ$8,$O$2))","v":""}]
[{"$f":"IF('Data Input'!A516=0,\"\",'Data Input'!A516)","v":""},{"$f":"IF(ISBLANK('Data Input'!A516),\"\",COUNTIF('Data Input'!C516:AQ516,\"\")-1)","v":""},{"$f":"IF(ISBLANK('Data Input'!A516),\"\",COUNTIF('Data Input'!C516:AQ516,\"0\"))","v":""},{"$f":"IF(ISBLANK('Data Input'!A516),\"\",SUM(B512,C512))","v":""},{"$f":"IF(ISBLANK('Data Input'!A516),\"\",SUM('Data Input'!C516:V516))","v":""},{"$f":"IF(ISBLANK('Data Input'!A516),\"\",SUM('Data Input'!X516:AQ516))","v":""},{"$f":"IF(ISBLANK('Data Input'!A516),\"\",SUM('Data Input'!C516:AQ516))","v":""},{"$f":"IF(G512=\"\",\"\",G512/(COUNTA('Data Input'!$C$8:$AQ$8)-1))","v":""},{"$f":"IF(ISBLANK('Data Input'!A516),\"\",SUM('Data Input'!C516,'Data Input'!K516,'Data Input'!L516,'Data Input'!AC516,'Data Input'!AF516,'Data Input'!AM516,'Data Input'!AO516))","v":""},{"$f":"IF(I512=\"\",\"\",I512/COUNTIF('Data Input'!$C$8:$AQ$8,$I$2))","v":""},{"$f":"IF(ISBLANK('Data Input'!A516),\"\",SUM('Data Input'!D516,'Data Input'!E516,'Data Input'!F516,'Data Input'!G516,'Data Input'!J516,'Data Input'!O516,'Data Input'!P516,'Data Input'!S516,'Data Input'!U516,'Data Input'!X516,'Data Input'!Z516,'Data Input'!AA516,'Data Input'!AB516,'Data Input'!AE516,'Data Input'!AG516,'Data Input'!AH516,'Data Input'!AJ516,'Data Input'!AK516,'Data Input'!AL516,'Data Input'!AN516))","v":""},{"$f":"IF(K512=\"\",\"\",K512/COUNTIF('Data Input'!$C$8:$AQ$8,$K$2))","v":""},{"$f":"IF(ISBLANK('Data Input'!A516),\"\",SUM('Data Input'!V516))","v":""},{"$f":"IF(M512=\"\",\"\",M512/COUNTIF('Data Input'!$C$8:$AQ$8,$M$2))","v":""},{"$f":"IF(ISBLANK('Data Input'!A516),\"\",SUM('Data Input'!H516,'Data Input'!I516,'Data Input'!M516,'Data Input'!N516,'Data Input'!Q516,'Data Input'!R516,'Data Input'!T516,'Data Input'!Y516,'Data Input'!AD516,'Data Input'!AI516,'Data Input'!AP516,'Data Input'!AQ516))","v":""},{"$f":"IF(O512=\"\",\"\",O512/COUNTIF('Data Input'!$C$8:$AQ$8,$O$2))","v":""}]
[{"$f":"IF('Data Input'!A517=0,\"\",'Data Input'!A517)","v":""},{"$f":"IF(ISBLANK('Data Input'!A517),\"\",COUNTIF('Data Input'!C517:AQ517,\"\")-1)","v":""},{"$f":"IF(ISBLANK('Data Input'!A517),\"\",COUNTIF('Data Input'!C517:AQ517,\"0\"))","v":""},{"$f":"IF(ISBLANK('Data Input'!A517),\"\",SUM(B513,C513))","v":""},{"$f":"IF(ISBLANK('Data Input'!A517),\"\",SUM('Data Input'!C517:V517))","v":""},{"$f":"IF(ISBLANK('Data Input'!A517),\"\",SUM('Data Input'!X517:AQ517))","v":""},{"$f":"IF(ISBLANK('Data Input'!A517),\"\",SUM('Data Input'!C517:AQ517))","v":""},{"$f":"IF(G513=\"\",\"\",G513/(COUNTA('Data Input'!$C$8:$AQ$8)-1))","v":""},{"$f":"IF(ISBLANK('Data Input'!A517),\"\",SUM('Data Input'!C517,'Data Input'!K517,'Data Input'!L517,'Data Input'!AC517,'Data Input'!AF517,'Data Input'!AM517,'Data Input'!AO517))","v":""},{"$f":"IF(I513=\"\",\"\",I513/COUNTIF('Data Input'!$C$8:$AQ$8,$I$2))","v":""},{"$f":"IF(ISBLANK('Data Input'!A517),\"\",SUM('Data Input'!D517,'Data Input'!E517,'Data Input'!F517,'Data Input'!G517,'Data Input'!J517,'Data Input'!O517,'Data Input'!P517,'Data Input'!S517,'Data Input'!U517,'Data Input'!X517,'Data Input'!Z517,'Data Input'!AA517,'Data Input'!AB517,'Data Input'!AE517,'Data Input'!AG517,'Data Input'!AH517,'Data Input'!AJ517,'Data Input'!AK517,'Data Input'!AL517,'Data Input'!AN517))","v":""},{"$f":"IF(K513=\"\",\"\",K513/COUNTIF('Data Input'!$C$8:$AQ$8,$K$2))","v":""},{"$f":"IF(ISBLANK('Data Input'!A517),\"\",SUM('Data Input'!V517))","v":""},{"$f":"IF(M513=\"\",\"\",M513/COUNTIF('Data Input'!$C$8:$AQ$8,$M$2))","v":""},{"$f":"IF(ISBLANK('Data Input'!A517),\"\",SUM('Data Input'!H517,'Data Input'!I517,'Data Input'!M517,'Data Input'!N517,'Data Input'!Q517,'Data Input'!R517,'Data Input'!T517,'Data Input'!Y517,'Data Input'!AD517,'Data Input'!AI517,'Data Input'!AP517,'Data Input'!AQ517))","v":""},{"$f":"IF(O513=\"\",\"\",O513/COUNTIF('Data Input'!$C$8:$AQ$8,$O$2))","v":""}]
[{"$f":"IF('Data Input'!A518=0,\"\",'Data Input'!A518)","v":""},{"$f":"IF(ISBLANK('Data Input'!A518),\"\",COUNTIF('Data Input'!C518:AQ518,\"\")-1)","v":""},{"$f":"IF(ISBLANK('Data Input'!A518),\"\",COUNTIF('Data Input'!C518:AQ518,\"0\"))","v":""},{"$f":"IF(ISBLANK('Data Input'!A518),\"\",SUM(B514,C514))","v":""},{"$f":"IF(ISBLANK('Data Input'!A518),\"\",SUM('Data Input'!C518:V518))","v":""},{"$f":"IF(ISBLANK('Data Input'!A518),\"\",SUM('Data Input'!X518:AQ518))","v":""},{"$f":"IF(ISBLANK('Data Input'!A518),\"\",SUM('Data Input'!C518:AQ518))","v":""},{"$f":"IF(G514=\"\",\"\",G514/(COUNTA('Data Input'!$C$8:$AQ$8)-1))","v":""},{"$f":"IF(ISBLANK('Data Input'!A518),\"\",SUM('Data Input'!C518,'Data Input'!K518,'Data Input'!L518,'Data Input'!AC518,'Data Input'!AF518,'Data Input'!AM518,'Data Input'!AO518))","v":""},{"$f":"IF(I514=\"\",\"\",I514/COUNTIF('Data Input'!$C$8:$AQ$8,$I$2))","v":""},{"$f":"IF(ISBLANK('Data Input'!A518),\"\",SUM('Data Input'!D518,'Data Input'!E518,'Data Input'!F518,'Data Input'!G518,'Data Input'!J518,'Data Input'!O518,'Data Input'!P518,'Data Input'!S518,'Data Input'!U518,'Data Input'!X518,'Data Input'!Z518,'Data Input'!AA518,'Data Input'!AB518,'Data Input'!AE518,'Data Input'!AG518,'Data Input'!AH518,'Data Input'!AJ518,'Data Input'!AK518,'Data Input'!AL518,'Data Input'!AN518))","v":""},{"$f":"IF(K514=\"\",\"\",K514/COUNTIF('Data Input'!$C$8:$AQ$8,$K$2))","v":""},{"$f":"IF(ISBLANK('Data Input'!A518),\"\",SUM('Data Input'!V518))","v":""},{"$f":"IF(M514=\"\",\"\",M514/COUNTIF('Data Input'!$C$8:$AQ$8,$M$2))","v":""},{"$f":"IF(ISBLANK('Data Input'!A518),\"\",SUM('Data Input'!H518,'Data Input'!I518,'Data Input'!M518,'Data Input'!N518,'Data Input'!Q518,'Data Input'!R518,'Data Input'!T518,'Data Input'!Y518,'Data Input'!AD518,'Data Input'!AI518,'Data Input'!AP518,'Data Input'!AQ518))","v":""},{"$f":"IF(O514=\"\",\"\",O514/COUNTIF('Data Input'!$C$8:$AQ$8,$O$2))","v":""}]
[{"$f":"IF('Data Input'!A519=0,\"\",'Data Input'!A519)","v":""},{"$f":"IF(ISBLANK('Data Input'!A519),\"\",COUNTIF('Data Input'!C519:AQ519,\"\")-1)","v":""},{"$f":"IF(ISBLANK('Data Input'!A519),\"\",COUNTIF('Data Input'!C519:AQ519,\"0\"))","v":""},{"$f":"IF(ISBLANK('Data Input'!A519),\"\",SUM(B515,C515))","v":""},{"$f":"IF(ISBLANK('Data Input'!A519),\"\",SUM('Data Input'!C519:V519))","v":""},{"$f":"IF(ISBLANK('Data Input'!A519),\"\",SUM('Data Input'!X519:AQ519))","v":""},{"$f":"IF(ISBLANK('Data Input'!A519),\"\",SUM('Data Input'!C519:AQ519))","v":""},{"$f":"IF(G515=\"\",\"\",G515/(COUNTA('Data Input'!$C$8:$AQ$8)-1))","v":""},{"$f":"IF(ISBLANK('Data Input'!A519),\"\",SUM('Data Input'!C519,'Data Input'!K519,'Data Input'!L519,'Data Input'!AC519,'Data Input'!AF519,'Data Input'!AM519,'Data Input'!AO519))","v":""},{"$f":"IF(I515=\"\",\"\",I515/COUNTIF('Data Input'!$C$8:$AQ$8,$I$2))","v":""},{"$f":"IF(ISBLANK('Data Input'!A519),\"\",SUM('Data Input'!D519,'Data Input'!E519,'Data Input'!F519,'Data Input'!G519,'Data Input'!J519,'Data Input'!O519,'Data Input'!P519,'Data Input'!S519,'Data Input'!U519,'Data Input'!X519,'Data Input'!Z519,'Data Input'!AA519,'Data Input'!AB519,'Data Input'!AE519,'Data Input'!AG519,'Data Input'!AH519,'Data Input'!AJ519,'Data Input'!AK519,'Data Input'!AL519,'Data Input'!AN519))","v":""},{"$f":"IF(K515=\"\",\"\",K515/COUNTIF('Data Input'!$C$8:$AQ$8,$K$2))","v":""},{"$f":"IF(ISBLANK('Data Input'!A519),\"\",SUM('Data Input'!V519))","v":""},{"$f":"IF(M515=\"\",\"\",M515/COUNTIF('Data Input'!$C$8:$AQ$8,$M$2))","v":""},{"$f":"IF(ISBLANK('Data Input'!A519),\"\",SUM('Data Input'!H519,'Data Input'!I519,'Data Input'!M519,'Data Input'!N519,'Data Input'!Q519,'Data Input'!R519,'Data Input'!T519,'Data Input'!Y519,'Data Input'!AD519,'Data Input'!AI519,'Data Input'!AP519,'Data Input'!AQ519))","v":""},{"$f":"IF(O515=\"\",\"\",O515/COUNTIF('Data Input'!$C$8:$AQ$8,$O$2))","v":""}]
[{"$f":"IF('Data Input'!A520=0,\"\",'Data Input'!A520)","v":""},{"$f":"IF(ISBLANK('Data Input'!A520),\"\",COUNTIF('Data Input'!C520:AQ520,\"\")-1)","v":""},{"$f":"IF(ISBLANK('Data Input'!A520),\"\",COUNTIF('Data Input'!C520:AQ520,\"0\"))","v":""},{"$f":"IF(ISBLANK('Data Input'!A520),\"\",SUM(B516,C516))","v":""},{"$f":"IF(ISBLANK('Data Input'!A520),\"\",SUM('Data Input'!C520:V520))","v":""},{"$f":"IF(ISBLANK('Data Input'!A520),\"\",SUM('Data Input'!X520:AQ520))","v":""},{"$f":"IF(ISBLANK('Data Input'!A520),\"\",SUM('Data Input'!C520:AQ520))","v":""},{"$f":"IF(G516=\"\",\"\",G516/(COUNTA('Data Input'!$C$8:$AQ$8)-1))","v":""},{"$f":"IF(ISBLANK('Data Input'!A520),\"\",SUM('Data Input'!C520,'Data Input'!K520,'Data Input'!L520,'Data Input'!AC520,'Data Input'!AF520,'Data Input'!AM520,'Data Input'!AO520))","v":""},{"$f":"IF(I516=\"\",\"\",I516/COUNTIF('Data Input'!$C$8:$AQ$8,$I$2))","v":""},{"$f":"IF(ISBLANK('Data Input'!A520),\"\",SUM('Data Input'!D520,'Data Input'!E520,'Data Input'!F520,'Data Input'!G520,'Data Input'!J520,'Data Input'!O520,'Data Input'!P520,'Data Input'!S520,'Data Input'!U520,'Data Input'!X520,'Data Input'!Z520,'Data Input'!AA520,'Data Input'!AB520,'Data Input'!AE520,'Data Input'!AG520,'Data Input'!AH520,'Data Input'!AJ520,'Data Input'!AK520,'Data Input'!AL520,'Data Input'!AN520))","v":""},{"$f":"IF(K516=\"\",\"\",K516/COUNTIF('Data Input'!$C$8:$AQ$8,$K$2))","v":""},{"$f":"IF(ISBLANK('Data Input'!A520),\"\",SUM('Data Input'!V520))","v":""},{"$f":"IF(M516=\"\",\"\",M516/COUNTIF('Data Input'!$C$8:$AQ$8,$M$2))","v":""},{"$f":"IF(ISBLANK('Data Input'!A520),\"\",SUM('Data Input'!H520,'Data Input'!I520,'Data Input'!M520,'Data Input'!N520,'Data Input'!Q520,'Data Input'!R520,'Data Input'!T520,'Data Input'!Y520,'Data Input'!AD520,'Data Input'!AI520,'Data Input'!AP520,'Data Input'!AQ520))","v":""},{"$f":"IF(O516=\"\",\"\",O516/COUNTIF('Data Input'!$C$8:$AQ$8,$O$2))","v":""}]
[{"$f":"IF('Data Input'!A521=0,\"\",'Data Input'!A521)","v":""},{"$f":"IF(ISBLANK('Data Input'!A521),\"\",COUNTIF('Data Input'!C521:AQ521,\"\")-1)","v":""},{"$f":"IF(ISBLANK('Data Input'!A521),\"\",COUNTIF('Data Input'!C521:AQ521,\"0\"))","v":""},{"$f":"IF(ISBLANK('Data Input'!A521),\"\",SUM(B517,C517))","v":""},{"$f":"IF(ISBLANK('Data Input'!A521),\"\",SUM('Data Input'!C521:V521))","v":""},{"$f":"IF(ISBLANK('Data Input'!A521),\"\",SUM('Data Input'!X521:AQ521))","v":""},{"$f":"IF(ISBLANK('Data Input'!A521),\"\",SUM('Data Input'!C521:AQ521))","v":""},{"$f":"IF(G517=\"\",\"\",G517/(COUNTA('Data Input'!$C$8:$AQ$8)-1))","v":""},{"$f":"IF(ISBLANK('Data Input'!A521),\"\",SUM('Data Input'!C521,'Data Input'!K521,'Data Input'!L521,'Data Input'!AC521,'Data Input'!AF521,'Data Input'!AM521,'Data Input'!AO521))","v":""},{"$f":"IF(I517=\"\",\"\",I517/COUNTIF('Data Input'!$C$8:$AQ$8,$I$2))","v":""},{"$f":"IF(ISBLANK('Data Input'!A521),\"\",SUM('Data Input'!D521,'Data Input'!E521,'Data Input'!F521,'Data Input'!G521,'Data Input'!J521,'Data Input'!O521,'Data Input'!P521,'Data Input'!S521,'Data Input'!U521,'Data Input'!X521,'Data Input'!Z521,'Data Input'!AA521,'Data Input'!AB521,'Data Input'!AE521,'Data Input'!AG521,'Data Input'!AH521,'Data Input'!AJ521,'Data Input'!AK521,'Data Input'!AL521,'Data Input'!AN521))","v":""},{"$f":"IF(K517=\"\",\"\",K517/COUNTIF('Data Input'!$C$8:$AQ$8,$K$2))","v":""},{"$f":"IF(ISBLANK('Data Input'!A521),\"\",SUM('Data Input'!V521))","v":""},{"$f":"IF(M517=\"\",\"\",M517/COUNTIF('Data Input'!$C$8:$AQ$8,$M$2))","v":""},{"$f":"IF(ISBLANK('Data Input'!A521),\"\",SUM('Data Input'!H521,'Data Input'!I521,'Data Input'!M521,'Data Input'!N521,'Data Input'!Q521,'Data Input'!R521,'Data Input'!T521,'Data Input'!Y521,'Data Input'!AD521,'Data Input'!AI521,'Data Input'!AP521,'Data Input'!AQ521))","v":""},{"$f":"IF(O517=\"\",\"\",O517/COUNTIF('Data Input'!$C$8:$AQ$8,$O$2))","v":""}]
[{"$f":"IF('Data Input'!A522=0,\"\",'Data Input'!A522)","v":""},{"$f":"IF(ISBLANK('Data Input'!A522),\"\",COUNTIF('Data Input'!C522:AQ522,\"\")-1)","v":""},{"$f":"IF(ISBLANK('Data Input'!A522),\"\",COUNTIF('Data Input'!C522:AQ522,\"0\"))","v":""},{"$f":"IF(ISBLANK('Data Input'!A522),\"\",SUM(B518,C518))","v":""},{"$f":"IF(ISBLANK('Data Input'!A522),\"\",SUM('Data Input'!C522:V522))","v":""},{"$f":"IF(ISBLANK('Data Input'!A522),\"\",SUM('Data Input'!X522:AQ522))","v":""},{"$f":"IF(ISBLANK('Data Input'!A522),\"\",SUM('Data Input'!C522:AQ522))","v":""},{"$f":"IF(G518=\"\",\"\",G518/(COUNTA('Data Input'!$C$8:$AQ$8)-1))","v":""},{"$f":"IF(ISBLANK('Data Input'!A522),\"\",SUM('Data Input'!C522,'Data Input'!K522,'Data Input'!L522,'Data Input'!AC522,'Data Input'!AF522,'Data Input'!AM522,'Data Input'!AO522))","v":""},{"$f":"IF(I518=\"\",\"\",I518/COUNTIF('Data Input'!$C$8:$AQ$8,$I$2))","v":""},{"$f":"IF(ISBLANK('Data Input'!A522),\"\",SUM('Data Input'!D522,'Data Input'!E522,'Data Input'!F522,'Data Input'!G522,'Data Input'!J522,'Data Input'!O522,'Data Input'!P522,'Data Input'!S522,'Data Input'!U522,'Data Input'!X522,'Data Input'!Z522,'Data Input'!AA522,'Data Input'!AB522,'Data Input'!AE522,'Data Input'!AG522,'Data Input'!AH522,'Data Input'!AJ522,'Data Input'!AK522,'Data Input'!AL522,'Data Input'!AN522))","v":""},{"$f":"IF(K518=\"\",\"\",K518/COUNTIF('Data Input'!$C$8:$AQ$8,$K$2))","v":""},{"$f":"IF(ISBLANK('Data Input'!A522),\"\",SUM('Data Input'!V522))","v":""},{"$f":"IF(M518=\"\",\"\",M518/COUNTIF('Data Input'!$C$8:$AQ$8,$M$2))","v":""},{"$f":"IF(ISBLANK('Data Input'!A522),\"\",SUM('Data Input'!H522,'Data Input'!I522,'Data Input'!M522,'Data Input'!N522,'Data Input'!Q522,'Data Input'!R522,'Data Input'!T522,'Data Input'!Y522,'Data Input'!AD522,'Data Input'!AI522,'Data Input'!AP522,'Data Input'!AQ522))","v":""},{"$f":"IF(O518=\"\",\"\",O518/COUNTIF('Data Input'!$C$8:$AQ$8,$O$2))","v":""}]
[{"$f":"IF('Data Input'!A523=0,\"\",'Data Input'!A523)","v":""},{"$f":"IF(ISBLANK('Data Input'!A523),\"\",COUNTIF('Data Input'!C523:AQ523,\"\")-1)","v":""},{"$f":"IF(ISBLANK('Data Input'!A523),\"\",COUNTIF('Data Input'!C523:AQ523,\"0\"))","v":""},{"$f":"IF(ISBLANK('Data Input'!A523),\"\",SUM(B519,C519))","v":""},{"$f":"IF(ISBLANK('Data Input'!A523),\"\",SUM('Data Input'!C523:V523))","v":""},{"$f":"IF(ISBLANK('Data Input'!A523),\"\",SUM('Data Input'!X523:AQ523))","v":""},{"$f":"IF(ISBLANK('Data Input'!A523),\"\",SUM('Data Input'!C523:AQ523))","v":""},{"$f":"IF(G519=\"\",\"\",G519/(COUNTA('Data Input'!$C$8:$AQ$8)-1))","v":""},{"$f":"IF(ISBLANK('Data Input'!A523),\"\",SUM('Data Input'!C523,'Data Input'!K523,'Data Input'!L523,'Data Input'!AC523,'Data Input'!AF523,'Data Input'!AM523,'Data Input'!AO523))","v":""},{"$f":"IF(I519=\"\",\"\",I519/COUNTIF('Data Input'!$C$8:$AQ$8,$I$2))","v":""},{"$f":"IF(ISBLANK('Data Input'!A523),\"\",SUM('Data Input'!D523,'Data Input'!E523,'Data Input'!F523,'Data Input'!G523,'Data Input'!J523,'Data Input'!O523,'Data Input'!P523,'Data Input'!S523,'Data Input'!U523,'Data Input'!X523,'Data Input'!Z523,'Data Input'!AA523,'Data Input'!AB523,'Data Input'!AE523,'Data Input'!AG523,'Data Input'!AH523,'Data Input'!AJ523,'Data Input'!AK523,'Data Input'!AL523,'Data Input'!AN523))","v":""},{"$f":"IF(K519=\"\",\"\",K519/COUNTIF('Data Input'!$C$8:$AQ$8,$K$2))","v":""},{"$f":"IF(ISBLANK('Data Input'!A523),\"\",SUM('Data Input'!V523))","v":""},{"$f":"IF(M519=\"\",\"\",M519/COUNTIF('Data Input'!$C$8:$AQ$8,$M$2))","v":""},{"$f":"IF(ISBLANK('Data Input'!A523),\"\",SUM('Data Input'!H523,'Data Input'!I523,'Data Input'!M523,'Data Input'!N523,'Data Input'!Q523,'Data Input'!R523,'Data Input'!T523,'Data Input'!Y523,'Data Input'!AD523,'Data Input'!AI523,'Data Input'!AP523,'Data Input'!AQ523))","v":""},{"$f":"IF(O519=\"\",\"\",O519/COUNTIF('Data Input'!$C$8:$AQ$8,$O$2))","v":""}]
[{"$f":"IF('Data Input'!A524=0,\"\",'Data Input'!A524)","v":""},{"$f":"IF(ISBLANK('Data Input'!A524),\"\",COUNTIF('Data Input'!C524:AQ524,\"\")-1)","v":""},{"$f":"IF(ISBLANK('Data Input'!A524),\"\",COUNTIF('Data Input'!C524:AQ524,\"0\"))","v":""},{"$f":"IF(ISBLANK('Data Input'!A524),\"\",SUM(B520,C520))","v":""},{"$f":"IF(ISBLANK('Data Input'!A524),\"\",SUM('Data Input'!C524:V524))","v":""},{"$f":"IF(ISBLANK('Data Input'!A524),\"\",SUM('Data Input'!X524:AQ524))","v":""},{"$f":"IF(ISBLANK('Data Input'!A524),\"\",SUM('Data Input'!C524:AQ524))","v":""},{"$f":"IF(G520=\"\",\"\",G520/(COUNTA('Data Input'!$C$8:$AQ$8)-1))","v":""},{"$f":"IF(ISBLANK('Data Input'!A524),\"\",SUM('Data Input'!C524,'Data Input'!K524,'Data Input'!L524,'Data Input'!AC524,'Data Input'!AF524,'Data Input'!AM524,'Data Input'!AO524))","v":""},{"$f":"IF(I520=\"\",\"\",I520/COUNTIF('Data Input'!$C$8:$AQ$8,$I$2))","v":""},{"$f":"IF(ISBLANK('Data Input'!A524),\"\",SUM('Data Input'!D524,'Data Input'!E524,'Data Input'!F524,'Data Input'!G524,'Data Input'!J524,'Data Input'!O524,'Data Input'!P524,'Data Input'!S524,'Data Input'!U524,'Data Input'!X524,'Data Input'!Z524,'Data Input'!AA524,'Data Input'!AB524,'Data Input'!AE524,'Data Input'!AG524,'Data Input'!AH524,'Data Input'!AJ524,'Data Input'!AK524,'Data Input'!AL524,'Data Input'!AN524))","v":""},{"$f":"IF(K520=\"\",\"\",K520/COUNTIF('Data Input'!$C$8:$AQ$8,$K$2))","v":""},{"$f":"IF(ISBLANK('Data Input'!A524),\"\",SUM('Data Input'!V524))","v":""},{"$f":"IF(M520=\"\",\"\",M520/COUNTIF('Data Input'!$C$8:$AQ$8,$M$2))","v":""},{"$f":"IF(ISBLANK('Data Input'!A524),\"\",SUM('Data Input'!H524,'Data Input'!I524,'Data Input'!M524,'Data Input'!N524,'Data Input'!Q524,'Data Input'!R524,'Data Input'!T524,'Data Input'!Y524,'Data Input'!AD524,'Data Input'!AI524,'Data Input'!AP524,'Data Input'!AQ524))","v":""},{"$f":"IF(O520=\"\",\"\",O520/COUNTIF('Data Input'!$C$8:$AQ$8,$O$2))","v":""}]
[{"$f":"IF('Data Input'!A525=0,\"\",'Data Input'!A525)","v":""},{"$f":"IF(ISBLANK('Data Input'!A525),\"\",COUNTIF('Data Input'!C525:AQ525,\"\")-1)","v":""},{"$f":"IF(ISBLANK('Data Input'!A525),\"\",COUNTIF('Data Input'!C525:AQ525,\"0\"))","v":""},{"$f":"IF(ISBLANK('Data Input'!A525),\"\",SUM(B521,C521))","v":""},{"$f":"IF(ISBLANK('Data Input'!A525),\"\",SUM('Data Input'!C525:V525))","v":""},{"$f":"IF(ISBLANK('Data Input'!A525),\"\",SUM('Data Input'!X525:AQ525))","v":""},{"$f":"IF(ISBLANK('Data Input'!A525),\"\",SUM('Data Input'!C525:AQ525))","v":""},{"$f":"IF(G521=\"\",\"\",G521/(COUNTA('Data Input'!$C$8:$AQ$8)-1))","v":""},{"$f":"IF(ISBLANK('Data Input'!A525),\"\",SUM('Data Input'!C525,'Data Input'!K525,'Data Input'!L525,'Data Input'!AC525,'Data Input'!AF525,'Data Input'!AM525,'Data Input'!AO525))","v":""},{"$f":"IF(I521=\"\",\"\",I521/COUNTIF('Data Input'!$C$8:$AQ$8,$I$2))","v":""},{"$f":"IF(ISBLANK('Data Input'!A525),\"\",SUM('Data Input'!D525,'Data Input'!E525,'Data Input'!F525,'Data Input'!G525,'Data Input'!J525,'Data Input'!O525,'Data Input'!P525,'Data Input'!S525,'Data Input'!U525,'Data Input'!X525,'Data Input'!Z525,'Data Input'!AA525,'Data Input'!AB525,'Data Input'!AE525,'Data Input'!AG525,'Data Input'!AH525,'Data Input'!AJ525,'Data Input'!AK525,'Data Input'!AL525,'Data Input'!AN525))","v":""},{"$f":"IF(K521=\"\",\"\",K521/COUNTIF('Data Input'!$C$8:$AQ$8,$K$2))","v":""},{"$f":"IF(ISBLANK('Data Input'!A525),\"\",SUM('Data Input'!V525))","v":""},{"$f":"IF(M521=\"\",\"\",M521/COUNTIF('Data Input'!$C$8:$AQ$8,$M$2))","v":""},{"$f":"IF(ISBLANK('Data Input'!A525),\"\",SUM('Data Input'!H525,'Data Input'!I525,'Data Input'!M525,'Data Input'!N525,'Data Input'!Q525,'Data Input'!R525,'Data Input'!T525,'Data Input'!Y525,'Data Input'!AD525,'Data Input'!AI525,'Data Input'!AP525,'Data Input'!AQ525))","v":""},{"$f":"IF(O521=\"\",\"\",O521/COUNTIF('Data Input'!$C$8:$AQ$8,$O$2))","v":""}]
[{"$f":"IF('Data Input'!A526=0,\"\",'Data Input'!A526)","v":""},{"$f":"IF(ISBLANK('Data Input'!A526),\"\",COUNTIF('Data Input'!C526:AQ526,\"\")-1)","v":""},{"$f":"IF(ISBLANK('Data Input'!A526),\"\",COUNTIF('Data Input'!C526:AQ526,\"0\"))","v":""},{"$f":"IF(ISBLANK('Data Input'!A526),\"\",SUM(B522,C522))","v":""},{"$f":"IF(ISBLANK('Data Input'!A526),\"\",SUM('Data Input'!C526:V526))","v":""},{"$f":"IF(ISBLANK('Data Input'!A526),\"\",SUM('Data Input'!X526:AQ526))","v":""},{"$f":"IF(ISBLANK('Data Input'!A526),\"\",SUM('Data Input'!C526:AQ526))","v":""},{"$f":"IF(G522=\"\",\"\",G522/(COUNTA('Data Input'!$C$8:$AQ$8)-1))","v":""},{"$f":"IF(ISBLANK('Data Input'!A526),\"\",SUM('Data Input'!C526,'Data Input'!K526,'Data Input'!L526,'Data Input'!AC526,'Data Input'!AF526,'Data Input'!AM526,'Data Input'!AO526))","v":""},{"$f":"IF(I522=\"\",\"\",I522/COUNTIF('Data Input'!$C$8:$AQ$8,$I$2))","v":""},{"$f":"IF(ISBLANK('Data Input'!A526),\"\",SUM('Data Input'!D526,'Data Input'!E526,'Data Input'!F526,'Data Input'!G526,'Data Input'!J526,'Data Input'!O526,'Data Input'!P526,'Data Input'!S526,'Data Input'!U526,'Data Input'!X526,'Data Input'!Z526,'Data Input'!AA526,'Data Input'!AB526,'Data Input'!AE526,'Data Input'!AG526,'Data Input'!AH526,'Data Input'!AJ526,'Data Input'!AK526,'Data Input'!AL526,'Data Input'!AN526))","v":""},{"$f":"IF(K522=\"\",\"\",K522/COUNTIF('Data Input'!$C$8:$AQ$8,$K$2))","v":""},{"$f":"IF(ISBLANK('Data Input'!A526),\"\",SUM('Data Input'!V526))","v":""},{"$f":"IF(M522=\"\",\"\",M522/COUNTIF('Data Input'!$C$8:$AQ$8,$M$2))","v":""},{"$f":"IF(ISBLANK('Data Input'!A526),\"\",SUM('Data Input'!H526,'Data Input'!I526,'Data Input'!M526,'Data Input'!N526,'Data Input'!Q526,'Data Input'!R526,'Data Input'!T526,'Data Input'!Y526,'Data Input'!AD526,'Data Input'!AI526,'Data Input'!AP526,'Data Input'!AQ526))","v":""},{"$f":"IF(O522=\"\",\"\",O522/COUNTIF('Data Input'!$C$8:$AQ$8,$O$2))","v":""}]
[{"$f":"IF('Data Input'!A527=0,\"\",'Data Input'!A527)","v":""},{"$f":"IF(ISBLANK('Data Input'!A527),\"\",COUNTIF('Data Input'!C527:AQ527,\"\")-1)","v":""},{"$f":"IF(ISBLANK('Data Input'!A527),\"\",COUNTIF('Data Input'!C527:AQ527,\"0\"))","v":""},{"$f":"IF(ISBLANK('Data Input'!A527),\"\",SUM(B523,C523))","v":""},{"$f":"IF(ISBLANK('Data Input'!A527),\"\",SUM('Data Input'!C527:V527))","v":""},{"$f":"IF(ISBLANK('Data Input'!A527),\"\",SUM('Data Input'!X527:AQ527))","v":""},{"$f":"IF(ISBLANK('Data Input'!A527),\"\",SUM('Data Input'!C527:AQ527))","v":""},{"$f":"IF(G523=\"\",\"\",G523/(COUNTA('Data Input'!$C$8:$AQ$8)-1))","v":""},{"$f":"IF(ISBLANK('Data Input'!A527),\"\",SUM('Data Input'!C527,'Data Input'!K527,'Data Input'!L527,'Data Input'!AC527,'Data Input'!AF527,'Data Input'!AM527,'Data Input'!AO527))","v":""},{"$f":"IF(I523=\"\",\"\",I523/COUNTIF('Data Input'!$C$8:$AQ$8,$I$2))","v":""},{"$f":"IF(ISBLANK('Data Input'!A527),\"\",SUM('Data Input'!D527,'Data Input'!E527,'Data Input'!F527,'Data Input'!G527,'Data Input'!J527,'Data Input'!O527,'Data Input'!P527,'Data Input'!S527,'Data Input'!U527,'Data Input'!X527,'Data Input'!Z527,'Data Input'!AA527,'Data Input'!AB527,'Data Input'!AE527,'Data Input'!AG527,'Data Input'!AH527,'Data Input'!AJ527,'Data Input'!AK527,'Data Input'!AL527,'Data Input'!AN527))","v":""},{"$f":"IF(K523=\"\",\"\",K523/COUNTIF('Data Input'!$C$8:$AQ$8,$K$2))","v":""},{"$f":"IF(ISBLANK('Data Input'!A527),\"\",SUM('Data Input'!V527))","v":""},{"$f":"IF(M523=\"\",\"\",M523/COUNTIF('Data Input'!$C$8:$AQ$8,$M$2))","v":""},{"$f":"IF(ISBLANK('Data Input'!A527),\"\",SUM('Data Input'!H527,'Data Input'!I527,'Data Input'!M527,'Data Input'!N527,'Data Input'!Q527,'Data Input'!R527,'Data Input'!T527,'Data Input'!Y527,'Data Input'!AD527,'Data Input'!AI527,'Data Input'!AP527,'Data Input'!AQ527))","v":""},{"$f":"IF(O523=\"\",\"\",O523/COUNTIF('Data Input'!$C$8:$AQ$8,$O$2))","v":""}]
[{"$f":"IF('Data Input'!A528=0,\"\",'Data Input'!A528)","v":""},{"$f":"IF(ISBLANK('Data Input'!A528),\"\",COUNTIF('Data Input'!C528:AQ528,\"\")-1)","v":""},{"$f":"IF(ISBLANK('Data Input'!A528),\"\",COUNTIF('Data Input'!C528:AQ528,\"0\"))","v":""},{"$f":"IF(ISBLANK('Data Input'!A528),\"\",SUM(B524,C524))","v":""},{"$f":"IF(ISBLANK('Data Input'!A528),\"\",SUM('Data Input'!C528:V528))","v":""},{"$f":"IF(ISBLANK('Data Input'!A528),\"\",SUM('Data Input'!X528:AQ528))","v":""},{"$f":"IF(ISBLANK('Data Input'!A528),\"\",SUM('Data Input'!C528:AQ528))","v":""},{"$f":"IF(G524=\"\",\"\",G524/(COUNTA('Data Input'!$C$8:$AQ$8)-1))","v":""},{"$f":"IF(ISBLANK('Data Input'!A528),\"\",SUM('Data Input'!C528,'Data Input'!K528,'Data Input'!L528,'Data Input'!AC528,'Data Input'!AF528,'Data Input'!AM528,'Data Input'!AO528))","v":""},{"$f":"IF(I524=\"\",\"\",I524/COUNTIF('Data Input'!$C$8:$AQ$8,$I$2))","v":""},{"$f":"IF(ISBLANK('Data Input'!A528),\"\",SUM('Data Input'!D528,'Data Input'!E528,'Data Input'!F528,'Data Input'!G528,'Data Input'!J528,'Data Input'!O528,'Data Input'!P528,'Data Input'!S528,'Data Input'!U528,'Data Input'!X528,'Data Input'!Z528,'Data Input'!AA528,'Data Input'!AB528,'Data Input'!AE528,'Data Input'!AG528,'Data Input'!AH528,'Data Input'!AJ528,'Data Input'!AK528,'Data Input'!AL528,'Data Input'!AN528))","v":""},{"$f":"IF(K524=\"\",\"\",K524/COUNTIF('Data Input'!$C$8:$AQ$8,$K$2))","v":""},{"$f":"IF(ISBLANK('Data Input'!A528),\"\",SUM('Data Input'!V528))","v":""},{"$f":"IF(M524=\"\",\"\",M524/COUNTIF('Data Input'!$C$8:$AQ$8,$M$2))","v":""},{"$f":"IF(ISBLANK('Data Input'!A528),\"\",SUM('Data Input'!H528,'Data Input'!I528,'Data Input'!M528,'Data Input'!N528,'Data Input'!Q528,'Data Input'!R528,'Data Input'!T528,'Data Input'!Y528,'Data Input'!AD528,'Data Input'!AI528,'Data Input'!AP528,'Data Input'!AQ528))","v":""},{"$f":"IF(O524=\"\",\"\",O524/COUNTIF('Data Input'!$C$8:$AQ$8,$O$2))","v":""}]
[{"$f":"IF('Data Input'!A529=0,\"\",'Data Input'!A529)","v":""},{"$f":"IF(ISBLANK('Data Input'!A529),\"\",COUNTIF('Data Input'!C529:AQ529,\"\")-1)","v":""},{"$f":"IF(ISBLANK('Data Input'!A529),\"\",COUNTIF('Data Input'!C529:AQ529,\"0\"))","v":""},{"$f":"IF(ISBLANK('Data Input'!A529),\"\",SUM(B525,C525))","v":""},{"$f":"IF(ISBLANK('Data Input'!A529),\"\",SUM('Data Input'!C529:V529))","v":""},{"$f":"IF(ISBLANK('Data Input'!A529),\"\",SUM('Data Input'!X529:AQ529))","v":""},{"$f":"IF(ISBLANK('Data Input'!A529),\"\",SUM('Data Input'!C529:AQ529))","v":""},{"$f":"IF(G525=\"\",\"\",G525/(COUNTA('Data Input'!$C$8:$AQ$8)-1))","v":""},{"$f":"IF(ISBLANK('Data Input'!A529),\"\",SUM('Data Input'!C529,'Data Input'!K529,'Data Input'!L529,'Data Input'!AC529,'Data Input'!AF529,'Data Input'!AM529,'Data Input'!AO529))","v":""},{"$f":"IF(I525=\"\",\"\",I525/COUNTIF('Data Input'!$C$8:$AQ$8,$I$2))","v":""},{"$f":"IF(ISBLANK('Data Input'!A529),\"\",SUM('Data Input'!D529,'Data Input'!E529,'Data Input'!F529,'Data Input'!G529,'Data Input'!J529,'Data Input'!O529,'Data Input'!P529,'Data Input'!S529,'Data Input'!U529,'Data Input'!X529,'Data Input'!Z529,'Data Input'!AA529,'Data Input'!AB529,'Data Input'!AE529,'Data Input'!AG529,'Data Input'!AH529,'Data Input'!AJ529,'Data Input'!AK529,'Data Input'!AL529,'Data Input'!AN529))","v":""},{"$f":"IF(K525=\"\",\"\",K525/COUNTIF('Data Input'!$C$8:$AQ$8,$K$2))","v":""},{"$f":"IF(ISBLANK('Data Input'!A529),\"\",SUM('Data Input'!V529))","v":""},{"$f":"IF(M525=\"\",\"\",M525/COUNTIF('Data Input'!$C$8:$AQ$8,$M$2))","v":""},{"$f":"IF(ISBLANK('Data Input'!A529),\"\",SUM('Data Input'!H529,'Data Input'!I529,'Data Input'!M529,'Data Input'!N529,'Data Input'!Q529,'Data Input'!R529,'Data Input'!T529,'Data Input'!Y529,'Data Input'!AD529,'Data Input'!AI529,'Data Input'!AP529,'Data Input'!AQ529))","v":""},{"$f":"IF(O525=\"\",\"\",O525/COUNTIF('Data Input'!$C$8:$AQ$8,$O$2))","v":""}]
[{"$f":"IF('Data Input'!A530=0,\"\",'Data Input'!A530)","v":""},{"$f":"IF(ISBLANK('Data Input'!A530),\"\",COUNTIF('Data Input'!C530:AQ530,\"\")-1)","v":""},{"$f":"IF(ISBLANK('Data Input'!A530),\"\",COUNTIF('Data Input'!C530:AQ530,\"0\"))","v":""},{"$f":"IF(ISBLANK('Data Input'!A530),\"\",SUM(B526,C526))","v":""},{"$f":"IF(ISBLANK('Data Input'!A530),\"\",SUM('Data Input'!C530:V530))","v":""},{"$f":"IF(ISBLANK('Data Input'!A530),\"\",SUM('Data Input'!X530:AQ530))","v":""},{"$f":"IF(ISBLANK('Data Input'!A530),\"\",SUM('Data Input'!C530:AQ530))","v":""},{"$f":"IF(G526=\"\",\"\",G526/(COUNTA('Data Input'!$C$8:$AQ$8)-1))","v":""},{"$f":"IF(ISBLANK('Data Input'!A530),\"\",SUM('Data Input'!C530,'Data Input'!K530,'Data Input'!L530,'Data Input'!AC530,'Data Input'!AF530,'Data Input'!AM530,'Data Input'!AO530))","v":""},{"$f":"IF(I526=\"\",\"\",I526/COUNTIF('Data Input'!$C$8:$AQ$8,$I$2))","v":""},{"$f":"IF(ISBLANK('Data Input'!A530),\"\",SUM('Data Input'!D530,'Data Input'!E530,'Data Input'!F530,'Data Input'!G530,'Data Input'!J530,'Data Input'!O530,'Data Input'!P530,'Data Input'!S530,'Data Input'!U530,'Data Input'!X530,'Data Input'!Z530,'Data Input'!AA530,'Data Input'!AB530,'Data Input'!AE530,'Data Input'!AG530,'Data Input'!AH530,'Data Input'!AJ530,'Data Input'!AK530,'Data Input'!AL530,'Data Input'!AN530))","v":""},{"$f":"IF(K526=\"\",\"\",K526/COUNTIF('Data Input'!$C$8:$AQ$8,$K$2))","v":""},{"$f":"IF(ISBLANK('Data Input'!A530),\"\",SUM('Data Input'!V530))","v":""},{"$f":"IF(M526=\"\",\"\",M526/COUNTIF('Data Input'!$C$8:$AQ$8,$M$2))","v":""},{"$f":"IF(ISBLANK('Data Input'!A530),\"\",SUM('Data Input'!H530,'Data Input'!I530,'Data Input'!M530,'Data Input'!N530,'Data Input'!Q530,'Data Input'!R530,'Data Input'!T530,'Data Input'!Y530,'Data Input'!AD530,'Data Input'!AI530,'Data Input'!AP530,'Data Input'!AQ530))","v":""},{"$f":"IF(O526=\"\",\"\",O526/COUNTIF('Data Input'!$C$8:$AQ$8,$O$2))","v":""}]
[{"$f":"IF('Data Input'!A531=0,\"\",'Data Input'!A531)","v":""},{"$f":"IF(ISBLANK('Data Input'!A531),\"\",COUNTIF('Data Input'!C531:AQ531,\"\")-1)","v":""},{"$f":"IF(ISBLANK('Data Input'!A531),\"\",COUNTIF('Data Input'!C531:AQ531,\"0\"))","v":""},{"$f":"IF(ISBLANK('Data Input'!A531),\"\",SUM(B527,C527))","v":""},{"$f":"IF(ISBLANK('Data Input'!A531),\"\",SUM('Data Input'!C531:V531))","v":""},{"$f":"IF(ISBLANK('Data Input'!A531),\"\",SUM('Data Input'!X531:AQ531))","v":""},{"$f":"IF(ISBLANK('Data Input'!A531),\"\",SUM('Data Input'!C531:AQ531))","v":""},{"$f":"IF(G527=\"\",\"\",G527/(COUNTA('Data Input'!$C$8:$AQ$8)-1))","v":""},{"$f":"IF(ISBLANK('Data Input'!A531),\"\",SUM('Data Input'!C531,'Data Input'!K531,'Data Input'!L531,'Data Input'!AC531,'Data Input'!AF531,'Data Input'!AM531,'Data Input'!AO531))","v":""},{"$f":"IF(I527=\"\",\"\",I527/COUNTIF('Data Input'!$C$8:$AQ$8,$I$2))","v":""},{"$f":"IF(ISBLANK('Data Input'!A531),\"\",SUM('Data Input'!D531,'Data Input'!E531,'Data Input'!F531,'Data Input'!G531,'Data Input'!J531,'Data Input'!O531,'Data Input'!P531,'Data Input'!S531,'Data Input'!U531,'Data Input'!X531,'Data Input'!Z531,'Data Input'!AA531,'Data Input'!AB531,'Data Input'!AE531,'Data Input'!AG531,'Data Input'!AH531,'Data Input'!AJ531,'Data Input'!AK531,'Data Input'!AL531,'Data Input'!AN531))","v":""},{"$f":"IF(K527=\"\",\"\",K527/COUNTIF('Data Input'!$C$8:$AQ$8,$K$2))","v":""},{"$f":"IF(ISBLANK('Data Input'!A531),\"\",SUM('Data Input'!V531))","v":""},{"$f":"IF(M527=\"\",\"\",M527/COUNTIF('Data Input'!$C$8:$AQ$8,$M$2))","v":""},{"$f":"IF(ISBLANK('Data Input'!A531),\"\",SUM('Data Input'!H531,'Data Input'!I531,'Data Input'!M531,'Data Input'!N531,'Data Input'!Q531,'Data Input'!R531,'Data Input'!T531,'Data Input'!Y531,'Data Input'!AD531,'Data Input'!AI531,'Data Input'!AP531,'Data Input'!AQ531))","v":""},{"$f":"IF(O527=\"\",\"\",O527/COUNTIF('Data Input'!$C$8:$AQ$8,$O$2))","v":""}]
[{"$f":"IF('Data Input'!A532=0,\"\",'Data Input'!A532)","v":""},{"$f":"IF(ISBLANK('Data Input'!A532),\"\",COUNTIF('Data Input'!C532:AQ532,\"\")-1)","v":""},{"$f":"IF(ISBLANK('Data Input'!A532),\"\",COUNTIF('Data Input'!C532:AQ532,\"0\"))","v":""},{"$f":"IF(ISBLANK('Data Input'!A532),\"\",SUM(B528,C528))","v":""},{"$f":"IF(ISBLANK('Data Input'!A532),\"\",SUM('Data Input'!C532:V532))","v":""},{"$f":"IF(ISBLANK('Data Input'!A532),\"\",SUM('Data Input'!X532:AQ532))","v":""},{"$f":"IF(ISBLANK('Data Input'!A532),\"\",SUM('Data Input'!C532:AQ532))","v":""},{"$f":"IF(G528=\"\",\"\",G528/(COUNTA('Data Input'!$C$8:$AQ$8)-1))","v":""},{"$f":"IF(ISBLANK('Data Input'!A532),\"\",SUM('Data Input'!C532,'Data Input'!K532,'Data Input'!L532,'Data Input'!AC532,'Data Input'!AF532,'Data Input'!AM532,'Data Input'!AO532))","v":""},{"$f":"IF(I528=\"\",\"\",I528/COUNTIF('Data Input'!$C$8:$AQ$8,$I$2))","v":""},{"$f":"IF(ISBLANK('Data Input'!A532),\"\",SUM('Data Input'!D532,'Data Input'!E532,'Data Input'!F532,'Data Input'!G532,'Data Input'!J532,'Data Input'!O532,'Data Input'!P532,'Data Input'!S532,'Data Input'!U532,'Data Input'!X532,'Data Input'!Z532,'Data Input'!AA532,'Data Input'!AB532,'Data Input'!AE532,'Data Input'!AG532,'Data Input'!AH532,'Data Input'!AJ532,'Data Input'!AK532,'Data Input'!AL532,'Data Input'!AN532))","v":""},{"$f":"IF(K528=\"\",\"\",K528/COUNTIF('Data Input'!$C$8:$AQ$8,$K$2))","v":""},{"$f":"IF(ISBLANK('Data Input'!A532),\"\",SUM('Data Input'!V532))","v":""},{"$f":"IF(M528=\"\",\"\",M528/COUNTIF('Data Input'!$C$8:$AQ$8,$M$2))","v":""},{"$f":"IF(ISBLANK('Data Input'!A532),\"\",SUM('Data Input'!H532,'Data Input'!I532,'Data Input'!M532,'Data Input'!N532,'Data Input'!Q532,'Data Input'!R532,'Data Input'!T532,'Data Input'!Y532,'Data Input'!AD532,'Data Input'!AI532,'Data Input'!AP532,'Data Input'!AQ532))","v":""},{"$f":"IF(O528=\"\",\"\",O528/COUNTIF('Data Input'!$C$8:$AQ$8,$O$2))","v":""}]
[{"$f":"IF('Data Input'!A533=0,\"\",'Data Input'!A533)","v":""},{"$f":"IF(ISBLANK('Data Input'!A533),\"\",COUNTIF('Data Input'!C533:AQ533,\"\")-1)","v":""},{"$f":"IF(ISBLANK('Data Input'!A533),\"\",COUNTIF('Data Input'!C533:AQ533,\"0\"))","v":""},{"$f":"IF(ISBLANK('Data Input'!A533),\"\",SUM(B529,C529))","v":""},{"$f":"IF(ISBLANK('Data Input'!A533),\"\",SUM('Data Input'!C533:V533))","v":""},{"$f":"IF(ISBLANK('Data Input'!A533),\"\",SUM('Data Input'!X533:AQ533))","v":""},{"$f":"IF(ISBLANK('Data Input'!A533),\"\",SUM('Data Input'!C533:AQ533))","v":""},{"$f":"IF(G529=\"\",\"\",G529/(COUNTA('Data Input'!$C$8:$AQ$8)-1))","v":""},{"$f":"IF(ISBLANK('Data Input'!A533),\"\",SUM('Data Input'!C533,'Data Input'!K533,'Data Input'!L533,'Data Input'!AC533,'Data Input'!AF533,'Data Input'!AM533,'Data Input'!AO533))","v":""},{"$f":"IF(I529=\"\",\"\",I529/COUNTIF('Data Input'!$C$8:$AQ$8,$I$2))","v":""},{"$f":"IF(ISBLANK('Data Input'!A533),\"\",SUM('Data Input'!D533,'Data Input'!E533,'Data Input'!F533,'Data Input'!G533,'Data Input'!J533,'Data Input'!O533,'Data Input'!P533,'Data Input'!S533,'Data Input'!U533,'Data Input'!X533,'Data Input'!Z533,'Data Input'!AA533,'Data Input'!AB533,'Data Input'!AE533,'Data Input'!AG533,'Data Input'!AH533,'Data Input'!AJ533,'Data Input'!AK533,'Data Input'!AL533,'Data Input'!AN533))","v":""},{"$f":"IF(K529=\"\",\"\",K529/COUNTIF('Data Input'!$C$8:$AQ$8,$K$2))","v":""},{"$f":"IF(ISBLANK('Data Input'!A533),\"\",SUM('Data Input'!V533))","v":""},{"$f":"IF(M529=\"\",\"\",M529/COUNTIF('Data Input'!$C$8:$AQ$8,$M$2))","v":""},{"$f":"IF(ISBLANK('Data Input'!A533),\"\",SUM('Data Input'!H533,'Data Input'!I533,'Data Input'!M533,'Data Input'!N533,'Data Input'!Q533,'Data Input'!R533,'Data Input'!T533,'Data Input'!Y533,'Data Input'!AD533,'Data Input'!AI533,'Data Input'!AP533,'Data Input'!AQ533))","v":""},{"$f":"IF(O529=\"\",\"\",O529/COUNTIF('Data Input'!$C$8:$AQ$8,$O$2))","v":""}]
[{"$f":"IF('Data Input'!A534=0,\"\",'Data Input'!A534)","v":""},{"$f":"IF(ISBLANK('Data Input'!A534),\"\",COUNTIF('Data Input'!C534:AQ534,\"\")-1)","v":""},{"$f":"IF(ISBLANK('Data Input'!A534),\"\",COUNTIF('Data Input'!C534:AQ534,\"0\"))","v":""},{"$f":"IF(ISBLANK('Data Input'!A534),\"\",SUM(B530,C530))","v":""},{"$f":"IF(ISBLANK('Data Input'!A534),\"\",SUM('Data Input'!C534:V534))","v":""},{"$f":"IF(ISBLANK('Data Input'!A534),\"\",SUM('Data Input'!X534:AQ534))","v":""},{"$f":"IF(ISBLANK('Data Input'!A534),\"\",SUM('Data Input'!C534:AQ534))","v":""},{"$f":"IF(G530=\"\",\"\",G530/(COUNTA('Data Input'!$C$8:$AQ$8)-1))","v":""},{"$f":"IF(ISBLANK('Data Input'!A534),\"\",SUM('Data Input'!C534,'Data Input'!K534,'Data Input'!L534,'Data Input'!AC534,'Data Input'!AF534,'Data Input'!AM534,'Data Input'!AO534))","v":""},{"$f":"IF(I530=\"\",\"\",I530/COUNTIF('Data Input'!$C$8:$AQ$8,$I$2))","v":""},{"$f":"IF(ISBLANK('Data Input'!A534),\"\",SUM('Data Input'!D534,'Data Input'!E534,'Data Input'!F534,'Data Input'!G534,'Data Input'!J534,'Data Input'!O534,'Data Input'!P534,'Data Input'!S534,'Data Input'!U534,'Data Input'!X534,'Data Input'!Z534,'Data Input'!AA534,'Data Input'!AB534,'Data Input'!AE534,'Data Input'!AG534,'Data Input'!AH534,'Data Input'!AJ534,'Data Input'!AK534,'Data Input'!AL534,'Data Input'!AN534))","v":""},{"$f":"IF(K530=\"\",\"\",K530/COUNTIF('Data Input'!$C$8:$AQ$8,$K$2))","v":""},{"$f":"IF(ISBLANK('Data Input'!A534),\"\",SUM('Data Input'!V534))","v":""},{"$f":"IF(M530=\"\",\"\",M530/COUNTIF('Data Input'!$C$8:$AQ$8,$M$2))","v":""},{"$f":"IF(ISBLANK('Data Input'!A534),\"\",SUM('Data Input'!H534,'Data Input'!I534,'Data Input'!M534,'Data Input'!N534,'Data Input'!Q534,'Data Input'!R534,'Data Input'!T534,'Data Input'!Y534,'Data Input'!AD534,'Data Input'!AI534,'Data Input'!AP534,'Data Input'!AQ534))","v":""},{"$f":"IF(O530=\"\",\"\",O530/COUNTIF('Data Input'!$C$8:$AQ$8,$O$2))","v":""}]
[{"$f":"IF('Data Input'!A535=0,\"\",'Data Input'!A535)","v":""},{"$f":"IF(ISBLANK('Data Input'!A535),\"\",COUNTIF('Data Input'!C535:AQ535,\"\")-1)","v":""},{"$f":"IF(ISBLANK('Data Input'!A535),\"\",COUNTIF('Data Input'!C535:AQ535,\"0\"))","v":""},{"$f":"IF(ISBLANK('Data Input'!A535),\"\",SUM(B531,C531))","v":""},{"$f":"IF(ISBLANK('Data Input'!A535),\"\",SUM('Data Input'!C535:V535))","v":""},{"$f":"IF(ISBLANK('Data Input'!A535),\"\",SUM('Data Input'!X535:AQ535))","v":""},{"$f":"IF(ISBLANK('Data Input'!A535),\"\",SUM('Data Input'!C535:AQ535))","v":""},{"$f":"IF(G531=\"\",\"\",G531/(COUNTA('Data Input'!$C$8:$AQ$8)-1))","v":""},{"$f":"IF(ISBLANK('Data Input'!A535),\"\",SUM('Data Input'!C535,'Data Input'!K535,'Data Input'!L535,'Data Input'!AC535,'Data Input'!AF535,'Data Input'!AM535,'Data Input'!AO535))","v":""},{"$f":"IF(I531=\"\",\"\",I531/COUNTIF('Data Input'!$C$8:$AQ$8,$I$2))","v":""},{"$f":"IF(ISBLANK('Data Input'!A535),\"\",SUM('Data Input'!D535,'Data Input'!E535,'Data Input'!F535,'Data Input'!G535,'Data Input'!J535,'Data Input'!O535,'Data Input'!P535,'Data Input'!S535,'Data Input'!U535,'Data Input'!X535,'Data Input'!Z535,'Data Input'!AA535,'Data Input'!AB535,'Data Input'!AE535,'Data Input'!AG535,'Data Input'!AH535,'Data Input'!AJ535,'Data Input'!AK535,'Data Input'!AL535,'Data Input'!AN535))","v":""},{"$f":"IF(K531=\"\",\"\",K531/COUNTIF('Data Input'!$C$8:$AQ$8,$K$2))","v":""},{"$f":"IF(ISBLANK('Data Input'!A535),\"\",SUM('Data Input'!V535))","v":""},{"$f":"IF(M531=\"\",\"\",M531/COUNTIF('Data Input'!$C$8:$AQ$8,$M$2))","v":""},{"$f":"IF(ISBLANK('Data Input'!A535),\"\",SUM('Data Input'!H535,'Data Input'!I535,'Data Input'!M535,'Data Input'!N535,'Data Input'!Q535,'Data Input'!R535,'Data Input'!T535,'Data Input'!Y535,'Data Input'!AD535,'Data Input'!AI535,'Data Input'!AP535,'Data Input'!AQ535))","v":""},{"$f":"IF(O531=\"\",\"\",O531/COUNTIF('Data Input'!$C$8:$AQ$8,$O$2))","v":""}]
[{"$f":"IF('Data Input'!A536=0,\"\",'Data Input'!A536)","v":""},{"$f":"IF(ISBLANK('Data Input'!A536),\"\",COUNTIF('Data Input'!C536:AQ536,\"\")-1)","v":""},{"$f":"IF(ISBLANK('Data Input'!A536),\"\",COUNTIF('Data Input'!C536:AQ536,\"0\"))","v":""},{"$f":"IF(ISBLANK('Data Input'!A536),\"\",SUM(B532,C532))","v":""},{"$f":"IF(ISBLANK('Data Input'!A536),\"\",SUM('Data Input'!C536:V536))","v":""},{"$f":"IF(ISBLANK('Data Input'!A536),\"\",SUM('Data Input'!X536:AQ536))","v":""},{"$f":"IF(ISBLANK('Data Input'!A536),\"\",SUM('Data Input'!C536:AQ536))","v":""},{"$f":"IF(G532=\"\",\"\",G532/(COUNTA('Data Input'!$C$8:$AQ$8)-1))","v":""},{"$f":"IF(ISBLANK('Data Input'!A536),\"\",SUM('Data Input'!C536,'Data Input'!K536,'Data Input'!L536,'Data Input'!AC536,'Data Input'!AF536,'Data Input'!AM536,'Data Input'!AO536))","v":""},{"$f":"IF(I532=\"\",\"\",I532/COUNTIF('Data Input'!$C$8:$AQ$8,$I$2))","v":""},{"$f":"IF(ISBLANK('Data Input'!A536),\"\",SUM('Data Input'!D536,'Data Input'!E536,'Data Input'!F536,'Data Input'!G536,'Data Input'!J536,'Data Input'!O536,'Data Input'!P536,'Data Input'!S536,'Data Input'!U536,'Data Input'!X536,'Data Input'!Z536,'Data Input'!AA536,'Data Input'!AB536,'Data Input'!AE536,'Data Input'!AG536,'Data Input'!AH536,'Data Input'!AJ536,'Data Input'!AK536,'Data Input'!AL536,'Data Input'!AN536))","v":""},{"$f":"IF(K532=\"\",\"\",K532/COUNTIF('Data Input'!$C$8:$AQ$8,$K$2))","v":""},{"$f":"IF(ISBLANK('Data Input'!A536),\"\",SUM('Data Input'!V536))","v":""},{"$f":"IF(M532=\"\",\"\",M532/COUNTIF('Data Input'!$C$8:$AQ$8,$M$2))","v":""},{"$f":"IF(ISBLANK('Data Input'!A536),\"\",SUM('Data Input'!H536,'Data Input'!I536,'Data Input'!M536,'Data Input'!N536,'Data Input'!Q536,'Data Input'!R536,'Data Input'!T536,'Data Input'!Y536,'Data Input'!AD536,'Data Input'!AI536,'Data Input'!AP536,'Data Input'!AQ536))","v":""},{"$f":"IF(O532=\"\",\"\",O532/COUNTIF('Data Input'!$C$8:$AQ$8,$O$2))","v":""}]
[{"$f":"IF('Data Input'!A537=0,\"\",'Data Input'!A537)","v":""},{"$f":"IF(ISBLANK('Data Input'!A537),\"\",COUNTIF('Data Input'!C537:AQ537,\"\")-1)","v":""},{"$f":"IF(ISBLANK('Data Input'!A537),\"\",COUNTIF('Data Input'!C537:AQ537,\"0\"))","v":""},{"$f":"IF(ISBLANK('Data Input'!A537),\"\",SUM(B533,C533))","v":""},{"$f":"IF(ISBLANK('Data Input'!A537),\"\",SUM('Data Input'!C537:V537))","v":""},{"$f":"IF(ISBLANK('Data Input'!A537),\"\",SUM('Data Input'!X537:AQ537))","v":""},{"$f":"IF(ISBLANK('Data Input'!A537),\"\",SUM('Data Input'!C537:AQ537))","v":""},{"$f":"IF(G533=\"\",\"\",G533/(COUNTA('Data Input'!$C$8:$AQ$8)-1))","v":""},{"$f":"IF(ISBLANK('Data Input'!A537),\"\",SUM('Data Input'!C537,'Data Input'!K537,'Data Input'!L537,'Data Input'!AC537,'Data Input'!AF537,'Data Input'!AM537,'Data Input'!AO537))","v":""},{"$f":"IF(I533=\"\",\"\",I533/COUNTIF('Data Input'!$C$8:$AQ$8,$I$2))","v":""},{"$f":"IF(ISBLANK('Data Input'!A537),\"\",SUM('Data Input'!D537,'Data Input'!E537,'Data Input'!F537,'Data Input'!G537,'Data Input'!J537,'Data Input'!O537,'Data Input'!P537,'Data Input'!S537,'Data Input'!U537,'Data Input'!X537,'Data Input'!Z537,'Data Input'!AA537,'Data Input'!AB537,'Data Input'!AE537,'Data Input'!AG537,'Data Input'!AH537,'Data Input'!AJ537,'Data Input'!AK537,'Data Input'!AL537,'Data Input'!AN537))","v":""},{"$f":"IF(K533=\"\",\"\",K533/COUNTIF('Data Input'!$C$8:$AQ$8,$K$2))","v":""},{"$f":"IF(ISBLANK('Data Input'!A537),\"\",SUM('Data Input'!V537))","v":""},{"$f":"IF(M533=\"\",\"\",M533/COUNTIF('Data Input'!$C$8:$AQ$8,$M$2))","v":""},{"$f":"IF(ISBLANK('Data Input'!A537),\"\",SUM('Data Input'!H537,'Data Input'!I537,'Data Input'!M537,'Data Input'!N537,'Data Input'!Q537,'Data Input'!R537,'Data Input'!T537,'Data Input'!Y537,'Data Input'!AD537,'Data Input'!AI537,'Data Input'!AP537,'Data Input'!AQ537))","v":""},{"$f":"IF(O533=\"\",\"\",O533/COUNTIF('Data Input'!$C$8:$AQ$8,$O$2))","v":""}]
[{"$f":"IF('Data Input'!A538=0,\"\",'Data Input'!A538)","v":""},{"$f":"IF(ISBLANK('Data Input'!A538),\"\",COUNTIF('Data Input'!C538:AQ538,\"\")-1)","v":""},{"$f":"IF(ISBLANK('Data Input'!A538),\"\",COUNTIF('Data Input'!C538:AQ538,\"0\"))","v":""},{"$f":"IF(ISBLANK('Data Input'!A538),\"\",SUM(B534,C534))","v":""},{"$f":"IF(ISBLANK('Data Input'!A538),\"\",SUM('Data Input'!C538:V538))","v":""},{"$f":"IF(ISBLANK('Data Input'!A538),\"\",SUM('Data Input'!X538:AQ538))","v":""},{"$f":"IF(ISBLANK('Data Input'!A538),\"\",SUM('Data Input'!C538:AQ538))","v":""},{"$f":"IF(G534=\"\",\"\",G534/(COUNTA('Data Input'!$C$8:$AQ$8)-1))","v":""},{"$f":"IF(ISBLANK('Data Input'!A538),\"\",SUM('Data Input'!C538,'Data Input'!K538,'Data Input'!L538,'Data Input'!AC538,'Data Input'!AF538,'Data Input'!AM538,'Data Input'!AO538))","v":""},{"$f":"IF(I534=\"\",\"\",I534/COUNTIF('Data Input'!$C$8:$AQ$8,$I$2))","v":""},{"$f":"IF(ISBLANK('Data Input'!A538),\"\",SUM('Data Input'!D538,'Data Input'!E538,'Data Input'!F538,'Data Input'!G538,'Data Input'!J538,'Data Input'!O538,'Data Input'!P538,'Data Input'!S538,'Data Input'!U538,'Data Input'!X538,'Data Input'!Z538,'Data Input'!AA538,'Data Input'!AB538,'Data Input'!AE538,'Data Input'!AG538,'Data Input'!AH538,'Data Input'!AJ538,'Data Input'!AK538,'Data Input'!AL538,'Data Input'!AN538))","v":""},{"$f":"IF(K534=\"\",\"\",K534/COUNTIF('Data Input'!$C$8:$AQ$8,$K$2))","v":""},{"$f":"IF(ISBLANK('Data Input'!A538),\"\",SUM('Data Input'!V538))","v":""},{"$f":"IF(M534=\"\",\"\",M534/COUNTIF('Data Input'!$C$8:$AQ$8,$M$2))","v":""},{"$f":"IF(ISBLANK('Data Input'!A538),\"\",SUM('Data Input'!H538,'Data Input'!I538,'Data Input'!M538,'Data Input'!N538,'Data Input'!Q538,'Data Input'!R538,'Data Input'!T538,'Data Input'!Y538,'Data Input'!AD538,'Data Input'!AI538,'Data Input'!AP538,'Data Input'!AQ538))","v":""},{"$f":"IF(O534=\"\",\"\",O534/COUNTIF('Data Input'!$C$8:$AQ$8,$O$2))","v":""}]
[{"$f":"IF('Data Input'!A539=0,\"\",'Data Input'!A539)","v":""},{"$f":"IF(ISBLANK('Data Input'!A539),\"\",COUNTIF('Data Input'!C539:AQ539,\"\")-1)","v":""},{"$f":"IF(ISBLANK('Data Input'!A539),\"\",COUNTIF('Data Input'!C539:AQ539,\"0\"))","v":""},{"$f":"IF(ISBLANK('Data Input'!A539),\"\",SUM(B535,C535))","v":""},{"$f":"IF(ISBLANK('Data Input'!A539),\"\",SUM('Data Input'!C539:V539))","v":""},{"$f":"IF(ISBLANK('Data Input'!A539),\"\",SUM('Data Input'!X539:AQ539))","v":""},{"$f":"IF(ISBLANK('Data Input'!A539),\"\",SUM('Data Input'!C539:AQ539))","v":""},{"$f":"IF(G535=\"\",\"\",G535/(COUNTA('Data Input'!$C$8:$AQ$8)-1))","v":""},{"$f":"IF(ISBLANK('Data Input'!A539),\"\",SUM('Data Input'!C539,'Data Input'!K539,'Data Input'!L539,'Data Input'!AC539,'Data Input'!AF539,'Data Input'!AM539,'Data Input'!AO539))","v":""},{"$f":"IF(I535=\"\",\"\",I535/COUNTIF('Data Input'!$C$8:$AQ$8,$I$2))","v":""},{"$f":"IF(ISBLANK('Data Input'!A539),\"\",SUM('Data Input'!D539,'Data Input'!E539,'Data Input'!F539,'Data Input'!G539,'Data Input'!J539,'Data Input'!O539,'Data Input'!P539,'Data Input'!S539,'Data Input'!U539,'Data Input'!X539,'Data Input'!Z539,'Data Input'!AA539,'Data Input'!AB539,'Data Input'!AE539,'Data Input'!AG539,'Data Input'!AH539,'Data Input'!AJ539,'Data Input'!AK539,'Data Input'!AL539,'Data Input'!AN539))","v":""},{"$f":"IF(K535=\"\",\"\",K535/COUNTIF('Data Input'!$C$8:$AQ$8,$K$2))","v":""},{"$f":"IF(ISBLANK('Data Input'!A539),\"\",SUM('Data Input'!V539))","v":""},{"$f":"IF(M535=\"\",\"\",M535/COUNTIF('Data Input'!$C$8:$AQ$8,$M$2))","v":""},{"$f":"IF(ISBLANK('Data Input'!A539),\"\",SUM('Data Input'!H539,'Data Input'!I539,'Data Input'!M539,'Data Input'!N539,'Data Input'!Q539,'Data Input'!R539,'Data Input'!T539,'Data Input'!Y539,'Data Input'!AD539,'Data Input'!AI539,'Data Input'!AP539,'Data Input'!AQ539))","v":""},{"$f":"IF(O535=\"\",\"\",O535/COUNTIF('Data Input'!$C$8:$AQ$8,$O$2))","v":""}]
[{"$f":"IF('Data Input'!A540=0,\"\",'Data Input'!A540)","v":""},{"$f":"IF(ISBLANK('Data Input'!A540),\"\",COUNTIF('Data Input'!C540:AQ540,\"\")-1)","v":""},{"$f":"IF(ISBLANK('Data Input'!A540),\"\",COUNTIF('Data Input'!C540:AQ540,\"0\"))","v":""},{"$f":"IF(ISBLANK('Data Input'!A540),\"\",SUM(B536,C536))","v":""},{"$f":"IF(ISBLANK('Data Input'!A540),\"\",SUM('Data Input'!C540:V540))","v":""},{"$f":"IF(ISBLANK('Data Input'!A540),\"\",SUM('Data Input'!X540:AQ540))","v":""},{"$f":"IF(ISBLANK('Data Input'!A540),\"\",SUM('Data Input'!C540:AQ540))","v":""},{"$f":"IF(G536=\"\",\"\",G536/(COUNTA('Data Input'!$C$8:$AQ$8)-1))","v":""},{"$f":"IF(ISBLANK('Data Input'!A540),\"\",SUM('Data Input'!C540,'Data Input'!K540,'Data Input'!L540,'Data Input'!AC540,'Data Input'!AF540,'Data Input'!AM540,'Data Input'!AO540))","v":""},{"$f":"IF(I536=\"\",\"\",I536/COUNTIF('Data Input'!$C$8:$AQ$8,$I$2))","v":""},{"$f":"IF(ISBLANK('Data Input'!A540),\"\",SUM('Data Input'!D540,'Data Input'!E540,'Data Input'!F540,'Data Input'!G540,'Data Input'!J540,'Data Input'!O540,'Data Input'!P540,'Data Input'!S540,'Data Input'!U540,'Data Input'!X540,'Data Input'!Z540,'Data Input'!AA540,'Data Input'!AB540,'Data Input'!AE540,'Data Input'!AG540,'Data Input'!AH540,'Data Input'!AJ540,'Data Input'!AK540,'Data Input'!AL540,'Data Input'!AN540))","v":""},{"$f":"IF(K536=\"\",\"\",K536/COUNTIF('Data Input'!$C$8:$AQ$8,$K$2))","v":""},{"$f":"IF(ISBLANK('Data Input'!A540),\"\",SUM('Data Input'!V540))","v":""},{"$f":"IF(M536=\"\",\"\",M536/COUNTIF('Data Input'!$C$8:$AQ$8,$M$2))","v":""},{"$f":"IF(ISBLANK('Data Input'!A540),\"\",SUM('Data Input'!H540,'Data Input'!I540,'Data Input'!M540,'Data Input'!N540,'Data Input'!Q540,'Data Input'!R540,'Data Input'!T540,'Data Input'!Y540,'Data Input'!AD540,'Data Input'!AI540,'Data Input'!AP540,'Data Input'!AQ540))","v":""},{"$f":"IF(O536=\"\",\"\",O536/COUNTIF('Data Input'!$C$8:$AQ$8,$O$2))","v":""}]
[{"$f":"IF('Data Input'!A541=0,\"\",'Data Input'!A541)","v":""},{"$f":"IF(ISBLANK('Data Input'!A541),\"\",COUNTIF('Data Input'!C541:AQ541,\"\")-1)","v":""},{"$f":"IF(ISBLANK('Data Input'!A541),\"\",COUNTIF('Data Input'!C541:AQ541,\"0\"))","v":""},{"$f":"IF(ISBLANK('Data Input'!A541),\"\",SUM(B537,C537))","v":""},{"$f":"IF(ISBLANK('Data Input'!A541),\"\",SUM('Data Input'!C541:V541))","v":""},{"$f":"IF(ISBLANK('Data Input'!A541),\"\",SUM('Data Input'!X541:AQ541))","v":""},{"$f":"IF(ISBLANK('Data Input'!A541),\"\",SUM('Data Input'!C541:AQ541))","v":""},{"$f":"IF(G537=\"\",\"\",G537/(COUNTA('Data Input'!$C$8:$AQ$8)-1))","v":""},{"$f":"IF(ISBLANK('Data Input'!A541),\"\",SUM('Data Input'!C541,'Data Input'!K541,'Data Input'!L541,'Data Input'!AC541,'Data Input'!AF541,'Data Input'!AM541,'Data Input'!AO541))","v":""},{"$f":"IF(I537=\"\",\"\",I537/COUNTIF('Data Input'!$C$8:$AQ$8,$I$2))","v":""},{"$f":"IF(ISBLANK('Data Input'!A541),\"\",SUM('Data Input'!D541,'Data Input'!E541,'Data Input'!F541,'Data Input'!G541,'Data Input'!J541,'Data Input'!O541,'Data Input'!P541,'Data Input'!S541,'Data Input'!U541,'Data Input'!X541,'Data Input'!Z541,'Data Input'!AA541,'Data Input'!AB541,'Data Input'!AE541,'Data Input'!AG541,'Data Input'!AH541,'Data Input'!AJ541,'Data Input'!AK541,'Data Input'!AL541,'Data Input'!AN541))","v":""},{"$f":"IF(K537=\"\",\"\",K537/COUNTIF('Data Input'!$C$8:$AQ$8,$K$2))","v":""},{"$f":"IF(ISBLANK('Data Input'!A541),\"\",SUM('Data Input'!V541))","v":""},{"$f":"IF(M537=\"\",\"\",M537/COUNTIF('Data Input'!$C$8:$AQ$8,$M$2))","v":""},{"$f":"IF(ISBLANK('Data Input'!A541),\"\",SUM('Data Input'!H541,'Data Input'!I541,'Data Input'!M541,'Data Input'!N541,'Data Input'!Q541,'Data Input'!R541,'Data Input'!T541,'Data Input'!Y541,'Data Input'!AD541,'Data Input'!AI541,'Data Input'!AP541,'Data Input'!AQ541))","v":""},{"$f":"IF(O537=\"\",\"\",O537/COUNTIF('Data Input'!$C$8:$AQ$8,$O$2))","v":""}]
[{"$f":"IF('Data Input'!A542=0,\"\",'Data Input'!A542)","v":""},{"$f":"IF(ISBLANK('Data Input'!A542),\"\",COUNTIF('Data Input'!C542:AQ542,\"\")-1)","v":""},{"$f":"IF(ISBLANK('Data Input'!A542),\"\",COUNTIF('Data Input'!C542:AQ542,\"0\"))","v":""},{"$f":"IF(ISBLANK('Data Input'!A542),\"\",SUM(B538,C538))","v":""},{"$f":"IF(ISBLANK('Data Input'!A542),\"\",SUM('Data Input'!C542:V542))","v":""},{"$f":"IF(ISBLANK('Data Input'!A542),\"\",SUM('Data Input'!X542:AQ542))","v":""},{"$f":"IF(ISBLANK('Data Input'!A542),\"\",SUM('Data Input'!C542:AQ542))","v":""},{"$f":"IF(G538=\"\",\"\",G538/(COUNTA('Data Input'!$C$8:$AQ$8)-1))","v":""},{"$f":"IF(ISBLANK('Data Input'!A542),\"\",SUM('Data Input'!C542,'Data Input'!K542,'Data Input'!L542,'Data Input'!AC542,'Data Input'!AF542,'Data Input'!AM542,'Data Input'!AO542))","v":""},{"$f":"IF(I538=\"\",\"\",I538/COUNTIF('Data Input'!$C$8:$AQ$8,$I$2))","v":""},{"$f":"IF(ISBLANK('Data Input'!A542),\"\",SUM('Data Input'!D542,'Data Input'!E542,'Data Input'!F542,'Data Input'!G542,'Data Input'!J542,'Data Input'!O542,'Data Input'!P542,'Data Input'!S542,'Data Input'!U542,'Data Input'!X542,'Data Input'!Z542,'Data Input'!AA542,'Data Input'!AB542,'Data Input'!AE542,'Data Input'!AG542,'Data Input'!AH542,'Data Input'!AJ542,'Data Input'!AK542,'Data Input'!AL542,'Data Input'!AN542))","v":""},{"$f":"IF(K538=\"\",\"\",K538/COUNTIF('Data Input'!$C$8:$AQ$8,$K$2))","v":""},{"$f":"IF(ISBLANK('Data Input'!A542),\"\",SUM('Data Input'!V542))","v":""},{"$f":"IF(M538=\"\",\"\",M538/COUNTIF('Data Input'!$C$8:$AQ$8,$M$2))","v":""},{"$f":"IF(ISBLANK('Data Input'!A542),\"\",SUM('Data Input'!H542,'Data Input'!I542,'Data Input'!M542,'Data Input'!N542,'Data Input'!Q542,'Data Input'!R542,'Data Input'!T542,'Data Input'!Y542,'Data Input'!AD542,'Data Input'!AI542,'Data Input'!AP542,'Data Input'!AQ542))","v":""},{"$f":"IF(O538=\"\",\"\",O538/COUNTIF('Data Input'!$C$8:$AQ$8,$O$2))","v":""}]
[{"$f":"IF('Data Input'!A543=0,\"\",'Data Input'!A543)","v":""},{"$f":"IF(ISBLANK('Data Input'!A543),\"\",COUNTIF('Data Input'!C543:AQ543,\"\")-1)","v":""},{"$f":"IF(ISBLANK('Data Input'!A543),\"\",COUNTIF('Data Input'!C543:AQ543,\"0\"))","v":""},{"$f":"IF(ISBLANK('Data Input'!A543),\"\",SUM(B539,C539))","v":""},{"$f":"IF(ISBLANK('Data Input'!A543),\"\",SUM('Data Input'!C543:V543))","v":""},{"$f":"IF(ISBLANK('Data Input'!A543),\"\",SUM('Data Input'!X543:AQ543))","v":""},{"$f":"IF(ISBLANK('Data Input'!A543),\"\",SUM('Data Input'!C543:AQ543))","v":""},{"$f":"IF(G539=\"\",\"\",G539/(COUNTA('Data Input'!$C$8:$AQ$8)-1))","v":""},{"$f":"IF(ISBLANK('Data Input'!A543),\"\",SUM('Data Input'!C543,'Data Input'!K543,'Data Input'!L543,'Data Input'!AC543,'Data Input'!AF543,'Data Input'!AM543,'Data Input'!AO543))","v":""},{"$f":"IF(I539=\"\",\"\",I539/COUNTIF('Data Input'!$C$8:$AQ$8,$I$2))","v":""},{"$f":"IF(ISBLANK('Data Input'!A543),\"\",SUM('Data Input'!D543,'Data Input'!E543,'Data Input'!F543,'Data Input'!G543,'Data Input'!J543,'Data Input'!O543,'Data Input'!P543,'Data Input'!S543,'Data Input'!U543,'Data Input'!X543,'Data Input'!Z543,'Data Input'!AA543,'Data Input'!AB543,'Data Input'!AE543,'Data Input'!AG543,'Data Input'!AH543,'Data Input'!AJ543,'Data Input'!AK543,'Data Input'!AL543,'Data Input'!AN543))","v":""},{"$f":"IF(K539=\"\",\"\",K539/COUNTIF('Data Input'!$C$8:$AQ$8,$K$2))","v":""},{"$f":"IF(ISBLANK('Data Input'!A543),\"\",SUM('Data Input'!V543))","v":""},{"$f":"IF(M539=\"\",\"\",M539/COUNTIF('Data Input'!$C$8:$AQ$8,$M$2))","v":""},{"$f":"IF(ISBLANK('Data Input'!A543),\"\",SUM('Data Input'!H543,'Data Input'!I543,'Data Input'!M543,'Data Input'!N543,'Data Input'!Q543,'Data Input'!R543,'Data Input'!T543,'Data Input'!Y543,'Data Input'!AD543,'Data Input'!AI543,'Data Input'!AP543,'Data Input'!AQ543))","v":""},{"$f":"IF(O539=\"\",\"\",O539/COUNTIF('Data Input'!$C$8:$AQ$8,$O$2))","v":""}]
[{"$f":"IF('Data Input'!A544=0,\"\",'Data Input'!A544)","v":""},{"$f":"IF(ISBLANK('Data Input'!A544),\"\",COUNTIF('Data Input'!C544:AQ544,\"\")-1)","v":""},{"$f":"IF(ISBLANK('Data Input'!A544),\"\",COUNTIF('Data Input'!C544:AQ544,\"0\"))","v":""},{"$f":"IF(ISBLANK('Data Input'!A544),\"\",SUM(B540,C540))","v":""},{"$f":"IF(ISBLANK('Data Input'!A544),\"\",SUM('Data Input'!C544:V544))","v":""},{"$f":"IF(ISBLANK('Data Input'!A544),\"\",SUM('Data Input'!X544:AQ544))","v":""},{"$f":"IF(ISBLANK('Data Input'!A544),\"\",SUM('Data Input'!C544:AQ544))","v":""},{"$f":"IF(G540=\"\",\"\",G540/(COUNTA('Data Input'!$C$8:$AQ$8)-1))","v":""},{"$f":"IF(ISBLANK('Data Input'!A544),\"\",SUM('Data Input'!C544,'Data Input'!K544,'Data Input'!L544,'Data Input'!AC544,'Data Input'!AF544,'Data Input'!AM544,'Data Input'!AO544))","v":""},{"$f":"IF(I540=\"\",\"\",I540/COUNTIF('Data Input'!$C$8:$AQ$8,$I$2))","v":""},{"$f":"IF(ISBLANK('Data Input'!A544),\"\",SUM('Data Input'!D544,'Data Input'!E544,'Data Input'!F544,'Data Input'!G544,'Data Input'!J544,'Data Input'!O544,'Data Input'!P544,'Data Input'!S544,'Data Input'!U544,'Data Input'!X544,'Data Input'!Z544,'Data Input'!AA544,'Data Input'!AB544,'Data Input'!AE544,'Data Input'!AG544,'Data Input'!AH544,'Data Input'!AJ544,'Data Input'!AK544,'Data Input'!AL544,'Data Input'!AN544))","v":""},{"$f":"IF(K540=\"\",\"\",K540/COUNTIF('Data Input'!$C$8:$AQ$8,$K$2))","v":""},{"$f":"IF(ISBLANK('Data Input'!A544),\"\",SUM('Data Input'!V544))","v":""},{"$f":"IF(M540=\"\",\"\",M540/COUNTIF('Data Input'!$C$8:$AQ$8,$M$2))","v":""},{"$f":"IF(ISBLANK('Data Input'!A544),\"\",SUM('Data Input'!H544,'Data Input'!I544,'Data Input'!M544,'Data Input'!N544,'Data Input'!Q544,'Data Input'!R544,'Data Input'!T544,'Data Input'!Y544,'Data Input'!AD544,'Data Input'!AI544,'Data Input'!AP544,'Data Input'!AQ544))","v":""},{"$f":"IF(O540=\"\",\"\",O540/COUNTIF('Data Input'!$C$8:$AQ$8,$O$2))","v":""}]
[{"$f":"IF('Data Input'!A545=0,\"\",'Data Input'!A545)","v":""},{"$f":"IF(ISBLANK('Data Input'!A545),\"\",COUNTIF('Data Input'!C545:AQ545,\"\")-1)","v":""},{"$f":"IF(ISBLANK('Data Input'!A545),\"\",COUNTIF('Data Input'!C545:AQ545,\"0\"))","v":""},{"$f":"IF(ISBLANK('Data Input'!A545),\"\",SUM(B541,C541))","v":""},{"$f":"IF(ISBLANK('Data Input'!A545),\"\",SUM('Data Input'!C545:V545))","v":""},{"$f":"IF(ISBLANK('Data Input'!A545),\"\",SUM('Data Input'!X545:AQ545))","v":""},{"$f":"IF(ISBLANK('Data Input'!A545),\"\",SUM('Data Input'!C545:AQ545))","v":""},{"$f":"IF(G541=\"\",\"\",G541/(COUNTA('Data Input'!$C$8:$AQ$8)-1))","v":""},{"$f":"IF(ISBLANK('Data Input'!A545),\"\",SUM('Data Input'!C545,'Data Input'!K545,'Data Input'!L545,'Data Input'!AC545,'Data Input'!AF545,'Data Input'!AM545,'Data Input'!AO545))","v":""},{"$f":"IF(I541=\"\",\"\",I541/COUNTIF('Data Input'!$C$8:$AQ$8,$I$2))","v":""},{"$f":"IF(ISBLANK('Data Input'!A545),\"\",SUM('Data Input'!D545,'Data Input'!E545,'Data Input'!F545,'Data Input'!G545,'Data Input'!J545,'Data Input'!O545,'Data Input'!P545,'Data Input'!S545,'Data Input'!U545,'Data Input'!X545,'Data Input'!Z545,'Data Input'!AA545,'Data Input'!AB545,'Data Input'!AE545,'Data Input'!AG545,'Data Input'!AH545,'Data Input'!AJ545,'Data Input'!AK545,'Data Input'!AL545,'Data Input'!AN545))","v":""},{"$f":"IF(K541=\"\",\"\",K541/COUNTIF('Data Input'!$C$8:$AQ$8,$K$2))","v":""},{"$f":"IF(ISBLANK('Data Input'!A545),\"\",SUM('Data Input'!V545))","v":""},{"$f":"IF(M541=\"\",\"\",M541/COUNTIF('Data Input'!$C$8:$AQ$8,$M$2))","v":""},{"$f":"IF(ISBLANK('Data Input'!A545),\"\",SUM('Data Input'!H545,'Data Input'!I545,'Data Input'!M545,'Data Input'!N545,'Data Input'!Q545,'Data Input'!R545,'Data Input'!T545,'Data Input'!Y545,'Data Input'!AD545,'Data Input'!AI545,'Data Input'!AP545,'Data Input'!AQ545))","v":""},{"$f":"IF(O541=\"\",\"\",O541/COUNTIF('Data Input'!$C$8:$AQ$8,$O$2))","v":""}]
[{"$f":"IF('Data Input'!A546=0,\"\",'Data Input'!A546)","v":""},{"$f":"IF(ISBLANK('Data Input'!A546),\"\",COUNTIF('Data Input'!C546:AQ546,\"\")-1)","v":""},{"$f":"IF(ISBLANK('Data Input'!A546),\"\",COUNTIF('Data Input'!C546:AQ546,\"0\"))","v":""},{"$f":"IF(ISBLANK('Data Input'!A546),\"\",SUM(B542,C542))","v":""},{"$f":"IF(ISBLANK('Data Input'!A546),\"\",SUM('Data Input'!C546:V546))","v":""},{"$f":"IF(ISBLANK('Data Input'!A546),\"\",SUM('Data Input'!X546:AQ546))","v":""},{"$f":"IF(ISBLANK('Data Input'!A546),\"\",SUM('Data Input'!C546:AQ546))","v":""},{"$f":"IF(G542=\"\",\"\",G542/(COUNTA('Data Input'!$C$8:$AQ$8)-1))","v":""},{"$f":"IF(ISBLANK('Data Input'!A546),\"\",SUM('Data Input'!C546,'Data Input'!K546,'Data Input'!L546,'Data Input'!AC546,'Data Input'!AF546,'Data Input'!AM546,'Data Input'!AO546))","v":""},{"$f":"IF(I542=\"\",\"\",I542/COUNTIF('Data Input'!$C$8:$AQ$8,$I$2))","v":""},{"$f":"IF(ISBLANK('Data Input'!A546),\"\",SUM('Data Input'!D546,'Data Input'!E546,'Data Input'!F546,'Data Input'!G546,'Data Input'!J546,'Data Input'!O546,'Data Input'!P546,'Data Input'!S546,'Data Input'!U546,'Data Input'!X546,'Data Input'!Z546,'Data Input'!AA546,'Data Input'!AB546,'Data Input'!AE546,'Data Input'!AG546,'Data Input'!AH546,'Data Input'!AJ546,'Data Input'!AK546,'Data Input'!AL546,'Data Input'!AN546))","v":""},{"$f":"IF(K542=\"\",\"\",K542/COUNTIF('Data Input'!$C$8:$AQ$8,$K$2))","v":""},{"$f":"IF(ISBLANK('Data Input'!A546),\"\",SUM('Data Input'!V546))","v":""},{"$f":"IF(M542=\"\",\"\",M542/COUNTIF('Data Input'!$C$8:$AQ$8,$M$2))","v":""},{"$f":"IF(ISBLANK('Data Input'!A546),\"\",SUM('Data Input'!H546,'Data Input'!I546,'Data Input'!M546,'Data Input'!N546,'Data Input'!Q546,'Data Input'!R546,'Data Input'!T546,'Data Input'!Y546,'Data Input'!AD546,'Data Input'!AI546,'Data Input'!AP546,'Data Input'!AQ546))","v":""},{"$f":"IF(O542=\"\",\"\",O542/COUNTIF('Data Input'!$C$8:$AQ$8,$O$2))","v":""}]
[{"$f":"IF('Data Input'!A547=0,\"\",'Data Input'!A547)","v":""},{"$f":"IF(ISBLANK('Data Input'!A547),\"\",COUNTIF('Data Input'!C547:AQ547,\"\")-1)","v":""},{"$f":"IF(ISBLANK('Data Input'!A547),\"\",COUNTIF('Data Input'!C547:AQ547,\"0\"))","v":""},{"$f":"IF(ISBLANK('Data Input'!A547),\"\",SUM(B543,C543))","v":""},{"$f":"IF(ISBLANK('Data Input'!A547),\"\",SUM('Data Input'!C547:V547))","v":""},{"$f":"IF(ISBLANK('Data Input'!A547),\"\",SUM('Data Input'!X547:AQ547))","v":""},{"$f":"IF(ISBLANK('Data Input'!A547),\"\",SUM('Data Input'!C547:AQ547))","v":""},{"$f":"IF(G543=\"\",\"\",G543/(COUNTA('Data Input'!$C$8:$AQ$8)-1))","v":""},{"$f":"IF(ISBLANK('Data Input'!A547),\"\",SUM('Data Input'!C547,'Data Input'!K547,'Data Input'!L547,'Data Input'!AC547,'Data Input'!AF547,'Data Input'!AM547,'Data Input'!AO547))","v":""},{"$f":"IF(I543=\"\",\"\",I543/COUNTIF('Data Input'!$C$8:$AQ$8,$I$2))","v":""},{"$f":"IF(ISBLANK('Data Input'!A547),\"\",SUM('Data Input'!D547,'Data Input'!E547,'Data Input'!F547,'Data Input'!G547,'Data Input'!J547,'Data Input'!O547,'Data Input'!P547,'Data Input'!S547,'Data Input'!U547,'Data Input'!X547,'Data Input'!Z547,'Data Input'!AA547,'Data Input'!AB547,'Data Input'!AE547,'Data Input'!AG547,'Data Input'!AH547,'Data Input'!AJ547,'Data Input'!AK547,'Data Input'!AL547,'Data Input'!AN547))","v":""},{"$f":"IF(K543=\"\",\"\",K543/COUNTIF('Data Input'!$C$8:$AQ$8,$K$2))","v":""},{"$f":"IF(ISBLANK('Data Input'!A547),\"\",SUM('Data Input'!V547))","v":""},{"$f":"IF(M543=\"\",\"\",M543/COUNTIF('Data Input'!$C$8:$AQ$8,$M$2))","v":""},{"$f":"IF(ISBLANK('Data Input'!A547),\"\",SUM('Data Input'!H547,'Data Input'!I547,'Data Input'!M547,'Data Input'!N547,'Data Input'!Q547,'Data Input'!R547,'Data Input'!T547,'Data Input'!Y547,'Data Input'!AD547,'Data Input'!AI547,'Data Input'!AP547,'Data Input'!AQ547))","v":""},{"$f":"IF(O543=\"\",\"\",O543/COUNTIF('Data Input'!$C$8:$AQ$8,$O$2))","v":""}]
[{"$f":"IF('Data Input'!A548=0,\"\",'Data Input'!A548)","v":""},{"$f":"IF(ISBLANK('Data Input'!A548),\"\",COUNTIF('Data Input'!C548:AQ548,\"\")-1)","v":""},{"$f":"IF(ISBLANK('Data Input'!A548),\"\",COUNTIF('Data Input'!C548:AQ548,\"0\"))","v":""},{"$f":"IF(ISBLANK('Data Input'!A548),\"\",SUM(B544,C544))","v":""},{"$f":"IF(ISBLANK('Data Input'!A548),\"\",SUM('Data Input'!C548:V548))","v":""},{"$f":"IF(ISBLANK('Data Input'!A548),\"\",SUM('Data Input'!X548:AQ548))","v":""},{"$f":"IF(ISBLANK('Data Input'!A548),\"\",SUM('Data Input'!C548:AQ548))","v":""},{"$f":"IF(G544=\"\",\"\",G544/(COUNTA('Data Input'!$C$8:$AQ$8)-1))","v":""},{"$f":"IF(ISBLANK('Data Input'!A548),\"\",SUM('Data Input'!C548,'Data Input'!K548,'Data Input'!L548,'Data Input'!AC548,'Data Input'!AF548,'Data Input'!AM548,'Data Input'!AO548))","v":""},{"$f":"IF(I544=\"\",\"\",I544/COUNTIF('Data Input'!$C$8:$AQ$8,$I$2))","v":""},{"$f":"IF(ISBLANK('Data Input'!A548),\"\",SUM('Data Input'!D548,'Data Input'!E548,'Data Input'!F548,'Data Input'!G548,'Data Input'!J548,'Data Input'!O548,'Data Input'!P548,'Data Input'!S548,'Data Input'!U548,'Data Input'!X548,'Data Input'!Z548,'Data Input'!AA548,'Data Input'!AB548,'Data Input'!AE548,'Data Input'!AG548,'Data Input'!AH548,'Data Input'!AJ548,'Data Input'!AK548,'Data Input'!AL548,'Data Input'!AN548))","v":""},{"$f":"IF(K544=\"\",\"\",K544/COUNTIF('Data Input'!$C$8:$AQ$8,$K$2))","v":""},{"$f":"IF(ISBLANK('Data Input'!A548),\"\",SUM('Data Input'!V548))","v":""},{"$f":"IF(M544=\"\",\"\",M544/COUNTIF('Data Input'!$C$8:$AQ$8,$M$2))","v":""},{"$f":"IF(ISBLANK('Data Input'!A548),\"\",SUM('Data Input'!H548,'Data Input'!I548,'Data Input'!M548,'Data Input'!N548,'Data Input'!Q548,'Data Input'!R548,'Data Input'!T548,'Data Input'!Y548,'Data Input'!AD548,'Data Input'!AI548,'Data Input'!AP548,'Data Input'!AQ548))","v":""},{"$f":"IF(O544=\"\",\"\",O544/COUNTIF('Data Input'!$C$8:$AQ$8,$O$2))","v":""}]
[{"$f":"IF('Data Input'!A549=0,\"\",'Data Input'!A549)","v":""},{"$f":"IF(ISBLANK('Data Input'!A549),\"\",COUNTIF('Data Input'!C549:AQ549,\"\")-1)","v":""},{"$f":"IF(ISBLANK('Data Input'!A549),\"\",COUNTIF('Data Input'!C549:AQ549,\"0\"))","v":""},{"$f":"IF(ISBLANK('Data Input'!A549),\"\",SUM(B545,C545))","v":""},{"$f":"IF(ISBLANK('Data Input'!A549),\"\",SUM('Data Input'!C549:V549))","v":""},{"$f":"IF(ISBLANK('Data Input'!A549),\"\",SUM('Data Input'!X549:AQ549))","v":""},{"$f":"IF(ISBLANK('Data Input'!A549),\"\",SUM('Data Input'!C549:AQ549))","v":""},{"$f":"IF(G545=\"\",\"\",G545/(COUNTA('Data Input'!$C$8:$AQ$8)-1))","v":""},{"$f":"IF(ISBLANK('Data Input'!A549),\"\",SUM('Data Input'!C549,'Data Input'!K549,'Data Input'!L549,'Data Input'!AC549,'Data Input'!AF549,'Data Input'!AM549,'Data Input'!AO549))","v":""},{"$f":"IF(I545=\"\",\"\",I545/COUNTIF('Data Input'!$C$8:$AQ$8,$I$2))","v":""},{"$f":"IF(ISBLANK('Data Input'!A549),\"\",SUM('Data Input'!D549,'Data Input'!E549,'Data Input'!F549,'Data Input'!G549,'Data Input'!J549,'Data Input'!O549,'Data Input'!P549,'Data Input'!S549,'Data Input'!U549,'Data Input'!X549,'Data Input'!Z549,'Data Input'!AA549,'Data Input'!AB549,'Data Input'!AE549,'Data Input'!AG549,'Data Input'!AH549,'Data Input'!AJ549,'Data Input'!AK549,'Data Input'!AL549,'Data Input'!AN549))","v":""},{"$f":"IF(K545=\"\",\"\",K545/COUNTIF('Data Input'!$C$8:$AQ$8,$K$2))","v":""},{"$f":"IF(ISBLANK('Data Input'!A549),\"\",SUM('Data Input'!V549))","v":""},{"$f":"IF(M545=\"\",\"\",M545/COUNTIF('Data Input'!$C$8:$AQ$8,$M$2))","v":""},{"$f":"IF(ISBLANK('Data Input'!A549),\"\",SUM('Data Input'!H549,'Data Input'!I549,'Data Input'!M549,'Data Input'!N549,'Data Input'!Q549,'Data Input'!R549,'Data Input'!T549,'Data Input'!Y549,'Data Input'!AD549,'Data Input'!AI549,'Data Input'!AP549,'Data Input'!AQ549))","v":""},{"$f":"IF(O545=\"\",\"\",O545/COUNTIF('Data Input'!$C$8:$AQ$8,$O$2))","v":""}]
[{"$f":"IF('Data Input'!A550=0,\"\",'Data Input'!A550)","v":""},{"$f":"IF(ISBLANK('Data Input'!A550),\"\",COUNTIF('Data Input'!C550:AQ550,\"\")-1)","v":""},{"$f":"IF(ISBLANK('Data Input'!A550),\"\",COUNTIF('Data Input'!C550:AQ550,\"0\"))","v":""},{"$f":"IF(ISBLANK('Data Input'!A550),\"\",SUM(B546,C546))","v":""},{"$f":"IF(ISBLANK('Data Input'!A550),\"\",SUM('Data Input'!C550:V550))","v":""},{"$f":"IF(ISBLANK('Data Input'!A550),\"\",SUM('Data Input'!X550:AQ550))","v":""},{"$f":"IF(ISBLANK('Data Input'!A550),\"\",SUM('Data Input'!C550:AQ550))","v":""},{"$f":"IF(G546=\"\",\"\",G546/(COUNTA('Data Input'!$C$8:$AQ$8)-1))","v":""},{"$f":"IF(ISBLANK('Data Input'!A550),\"\",SUM('Data Input'!C550,'Data Input'!K550,'Data Input'!L550,'Data Input'!AC550,'Data Input'!AF550,'Data Input'!AM550,'Data Input'!AO550))","v":""},{"$f":"IF(I546=\"\",\"\",I546/COUNTIF('Data Input'!$C$8:$AQ$8,$I$2))","v":""},{"$f":"IF(ISBLANK('Data Input'!A550),\"\",SUM('Data Input'!D550,'Data Input'!E550,'Data Input'!F550,'Data Input'!G550,'Data Input'!J550,'Data Input'!O550,'Data Input'!P550,'Data Input'!S550,'Data Input'!U550,'Data Input'!X550,'Data Input'!Z550,'Data Input'!AA550,'Data Input'!AB550,'Data Input'!AE550,'Data Input'!AG550,'Data Input'!AH550,'Data Input'!AJ550,'Data Input'!AK550,'Data Input'!AL550,'Data Input'!AN550))","v":""},{"$f":"IF(K546=\"\",\"\",K546/COUNTIF('Data Input'!$C$8:$AQ$8,$K$2))","v":""},{"$f":"IF(ISBLANK('Data Input'!A550),\"\",SUM('Data Input'!V550))","v":""},{"$f":"IF(M546=\"\",\"\",M546/COUNTIF('Data Input'!$C$8:$AQ$8,$M$2))","v":""},{"$f":"IF(ISBLANK('Data Input'!A550),\"\",SUM('Data Input'!H550,'Data Input'!I550,'Data Input'!M550,'Data Input'!N550,'Data Input'!Q550,'Data Input'!R550,'Data Input'!T550,'Data Input'!Y550,'Data Input'!AD550,'Data Input'!AI550,'Data Input'!AP550,'Data Input'!AQ550))","v":""},{"$f":"IF(O546=\"\",\"\",O546/COUNTIF('Data Input'!$C$8:$AQ$8,$O$2))","v":""}]
[{"$f":"IF('Data Input'!A551=0,\"\",'Data Input'!A551)","v":""},{"$f":"IF(ISBLANK('Data Input'!A551),\"\",COUNTIF('Data Input'!C551:AQ551,\"\")-1)","v":""},{"$f":"IF(ISBLANK('Data Input'!A551),\"\",COUNTIF('Data Input'!C551:AQ551,\"0\"))","v":""},{"$f":"IF(ISBLANK('Data Input'!A551),\"\",SUM(B547,C547))","v":""},{"$f":"IF(ISBLANK('Data Input'!A551),\"\",SUM('Data Input'!C551:V551))","v":""},{"$f":"IF(ISBLANK('Data Input'!A551),\"\",SUM('Data Input'!X551:AQ551))","v":""},{"$f":"IF(ISBLANK('Data Input'!A551),\"\",SUM('Data Input'!C551:AQ551))","v":""},{"$f":"IF(G547=\"\",\"\",G547/(COUNTA('Data Input'!$C$8:$AQ$8)-1))","v":""},{"$f":"IF(ISBLANK('Data Input'!A551),\"\",SUM('Data Input'!C551,'Data Input'!K551,'Data Input'!L551,'Data Input'!AC551,'Data Input'!AF551,'Data Input'!AM551,'Data Input'!AO551))","v":""},{"$f":"IF(I547=\"\",\"\",I547/COUNTIF('Data Input'!$C$8:$AQ$8,$I$2))","v":""},{"$f":"IF(ISBLANK('Data Input'!A551),\"\",SUM('Data Input'!D551,'Data Input'!E551,'Data Input'!F551,'Data Input'!G551,'Data Input'!J551,'Data Input'!O551,'Data Input'!P551,'Data Input'!S551,'Data Input'!U551,'Data Input'!X551,'Data Input'!Z551,'Data Input'!AA551,'Data Input'!AB551,'Data Input'!AE551,'Data Input'!AG551,'Data Input'!AH551,'Data Input'!AJ551,'Data Input'!AK551,'Data Input'!AL551,'Data Input'!AN551))","v":""},{"$f":"IF(K547=\"\",\"\",K547/COUNTIF('Data Input'!$C$8:$AQ$8,$K$2))","v":""},{"$f":"IF(ISBLANK('Data Input'!A551),\"\",SUM('Data Input'!V551))","v":""},{"$f":"IF(M547=\"\",\"\",M547/COUNTIF('Data Input'!$C$8:$AQ$8,$M$2))","v":""},{"$f":"IF(ISBLANK('Data Input'!A551),\"\",SUM('Data Input'!H551,'Data Input'!I551,'Data Input'!M551,'Data Input'!N551,'Data Input'!Q551,'Data Input'!R551,'Data Input'!T551,'Data Input'!Y551,'Data Input'!AD551,'Data Input'!AI551,'Data Input'!AP551,'Data Input'!AQ551))","v":""},{"$f":"IF(O547=\"\",\"\",O547/COUNTIF('Data Input'!$C$8:$AQ$8,$O$2))","v":""}]
[{"$f":"IF('Data Input'!A552=0,\"\",'Data Input'!A552)","v":""},{"$f":"IF(ISBLANK('Data Input'!A552),\"\",COUNTIF('Data Input'!C552:AQ552,\"\")-1)","v":""},{"$f":"IF(ISBLANK('Data Input'!A552),\"\",COUNTIF('Data Input'!C552:AQ552,\"0\"))","v":""},{"$f":"IF(ISBLANK('Data Input'!A552),\"\",SUM(B548,C548))","v":""},{"$f":"IF(ISBLANK('Data Input'!A552),\"\",SUM('Data Input'!C552:V552))","v":""},{"$f":"IF(ISBLANK('Data Input'!A552),\"\",SUM('Data Input'!X552:AQ552))","v":""},{"$f":"IF(ISBLANK('Data Input'!A552),\"\",SUM('Data Input'!C552:AQ552))","v":""},{"$f":"IF(G548=\"\",\"\",G548/(COUNTA('Data Input'!$C$8:$AQ$8)-1))","v":""},{"$f":"IF(ISBLANK('Data Input'!A552),\"\",SUM('Data Input'!C552,'Data Input'!K552,'Data Input'!L552,'Data Input'!AC552,'Data Input'!AF552,'Data Input'!AM552,'Data Input'!AO552))","v":""},{"$f":"IF(I548=\"\",\"\",I548/COUNTIF('Data Input'!$C$8:$AQ$8,$I$2))","v":""},{"$f":"IF(ISBLANK('Data Input'!A552),\"\",SUM('Data Input'!D552,'Data Input'!E552,'Data Input'!F552,'Data Input'!G552,'Data Input'!J552,'Data Input'!O552,'Data Input'!P552,'Data Input'!S552,'Data Input'!U552,'Data Input'!X552,'Data Input'!Z552,'Data Input'!AA552,'Data Input'!AB552,'Data Input'!AE552,'Data Input'!AG552,'Data Input'!AH552,'Data Input'!AJ552,'Data Input'!AK552,'Data Input'!AL552,'Data Input'!AN552))","v":""},{"$f":"IF(K548=\"\",\"\",K548/COUNTIF('Data Input'!$C$8:$AQ$8,$K$2))","v":""},{"$f":"IF(ISBLANK('Data Input'!A552),\"\",SUM('Data Input'!V552))","v":""},{"$f":"IF(M548=\"\",\"\",M548/COUNTIF('Data Input'!$C$8:$AQ$8,$M$2))","v":""},{"$f":"IF(ISBLANK('Data Input'!A552),\"\",SUM('Data Input'!H552,'Data Input'!I552,'Data Input'!M552,'Data Input'!N552,'Data Input'!Q552,'Data Input'!R552,'Data Input'!T552,'Data Input'!Y552,'Data Input'!AD552,'Data Input'!AI552,'Data Input'!AP552,'Data Input'!AQ552))","v":""},{"$f":"IF(O548=\"\",\"\",O548/COUNTIF('Data Input'!$C$8:$AQ$8,$O$2))","v":""}]
[{"$f":"IF('Data Input'!A553=0,\"\",'Data Input'!A553)","v":""},{"$f":"IF(ISBLANK('Data Input'!A553),\"\",COUNTIF('Data Input'!C553:AQ553,\"\")-1)","v":""},{"$f":"IF(ISBLANK('Data Input'!A553),\"\",COUNTIF('Data Input'!C553:AQ553,\"0\"))","v":""},{"$f":"IF(ISBLANK('Data Input'!A553),\"\",SUM(B549,C549))","v":""},{"$f":"IF(ISBLANK('Data Input'!A553),\"\",SUM('Data Input'!C553:V553))","v":""},{"$f":"IF(ISBLANK('Data Input'!A553),\"\",SUM('Data Input'!X553:AQ553))","v":""},{"$f":"IF(ISBLANK('Data Input'!A553),\"\",SUM('Data Input'!C553:AQ553))","v":""},{"$f":"IF(G549=\"\",\"\",G549/(COUNTA('Data Input'!$C$8:$AQ$8)-1))","v":""},{"$f":"IF(ISBLANK('Data Input'!A553),\"\",SUM('Data Input'!C553,'Data Input'!K553,'Data Input'!L553,'Data Input'!AC553,'Data Input'!AF553,'Data Input'!AM553,'Data Input'!AO553))","v":""},{"$f":"IF(I549=\"\",\"\",I549/COUNTIF('Data Input'!$C$8:$AQ$8,$I$2))","v":""},{"$f":"IF(ISBLANK('Data Input'!A553),\"\",SUM('Data Input'!D553,'Data Input'!E553,'Data Input'!F553,'Data Input'!G553,'Data Input'!J553,'Data Input'!O553,'Data Input'!P553,'Data Input'!S553,'Data Input'!U553,'Data Input'!X553,'Data Input'!Z553,'Data Input'!AA553,'Data Input'!AB553,'Data Input'!AE553,'Data Input'!AG553,'Data Input'!AH553,'Data Input'!AJ553,'Data Input'!AK553,'Data Input'!AL553,'Data Input'!AN553))","v":""},{"$f":"IF(K549=\"\",\"\",K549/COUNTIF('Data Input'!$C$8:$AQ$8,$K$2))","v":""},{"$f":"IF(ISBLANK('Data Input'!A553),\"\",SUM('Data Input'!V553))","v":""},{"$f":"IF(M549=\"\",\"\",M549/COUNTIF('Data Input'!$C$8:$AQ$8,$M$2))","v":""},{"$f":"IF(ISBLANK('Data Input'!A553),\"\",SUM('Data Input'!H553,'Data Input'!I553,'Data Input'!M553,'Data Input'!N553,'Data Input'!Q553,'Data Input'!R553,'Data Input'!T553,'Data Input'!Y553,'Data Input'!AD553,'Data Input'!AI553,'Data Input'!AP553,'Data Input'!AQ553))","v":""},{"$f":"IF(O549=\"\",\"\",O549/COUNTIF('Data Input'!$C$8:$AQ$8,$O$2))","v":""}]
[{"$f":"IF('Data Input'!A554=0,\"\",'Data Input'!A554)","v":""},{"$f":"IF(ISBLANK('Data Input'!A554),\"\",COUNTIF('Data Input'!C554:AQ554,\"\")-1)","v":""},{"$f":"IF(ISBLANK('Data Input'!A554),\"\",COUNTIF('Data Input'!C554:AQ554,\"0\"))","v":""},{"$f":"IF(ISBLANK('Data Input'!A554),\"\",SUM(B550,C550))","v":""},{"$f":"IF(ISBLANK('Data Input'!A554),\"\",SUM('Data Input'!C554:V554))","v":""},{"$f":"IF(ISBLANK('Data Input'!A554),\"\",SUM('Data Input'!X554:AQ554))","v":""},{"$f":"IF(ISBLANK('Data Input'!A554),\"\",SUM('Data Input'!C554:AQ554))","v":""},{"$f":"IF(G550=\"\",\"\",G550/(COUNTA('Data Input'!$C$8:$AQ$8)-1))","v":""},{"$f":"IF(ISBLANK('Data Input'!A554),\"\",SUM('Data Input'!C554,'Data Input'!K554,'Data Input'!L554,'Data Input'!AC554,'Data Input'!AF554,'Data Input'!AM554,'Data Input'!AO554))","v":""},{"$f":"IF(I550=\"\",\"\",I550/COUNTIF('Data Input'!$C$8:$AQ$8,$I$2))","v":""},{"$f":"IF(ISBLANK('Data Input'!A554),\"\",SUM('Data Input'!D554,'Data Input'!E554,'Data Input'!F554,'Data Input'!G554,'Data Input'!J554,'Data Input'!O554,'Data Input'!P554,'Data Input'!S554,'Data Input'!U554,'Data Input'!X554,'Data Input'!Z554,'Data Input'!AA554,'Data Input'!AB554,'Data Input'!AE554,'Data Input'!AG554,'Data Input'!AH554,'Data Input'!AJ554,'Data Input'!AK554,'Data Input'!AL554,'Data Input'!AN554))","v":""},{"$f":"IF(K550=\"\",\"\",K550/COUNTIF('Data Input'!$C$8:$AQ$8,$K$2))","v":""},{"$f":"IF(ISBLANK('Data Input'!A554),\"\",SUM('Data Input'!V554))","v":""},{"$f":"IF(M550=\"\",\"\",M550/COUNTIF('Data Input'!$C$8:$AQ$8,$M$2))","v":""},{"$f":"IF(ISBLANK('Data Input'!A554),\"\",SUM('Data Input'!H554,'Data Input'!I554,'Data Input'!M554,'Data Input'!N554,'Data Input'!Q554,'Data Input'!R554,'Data Input'!T554,'Data Input'!Y554,'Data Input'!AD554,'Data Input'!AI554,'Data Input'!AP554,'Data Input'!AQ554))","v":""},{"$f":"IF(O550=\"\",\"\",O550/COUNTIF('Data Input'!$C$8:$AQ$8,$O$2))","v":""}]
[{"$f":"IF('Data Input'!A555=0,\"\",'Data Input'!A555)","v":""},{"$f":"IF(ISBLANK('Data Input'!A555),\"\",COUNTIF('Data Input'!C555:AQ555,\"\")-1)","v":""},{"$f":"IF(ISBLANK('Data Input'!A555),\"\",COUNTIF('Data Input'!C555:AQ555,\"0\"))","v":""},{"$f":"IF(ISBLANK('Data Input'!A555),\"\",SUM(B551,C551))","v":""},{"$f":"IF(ISBLANK('Data Input'!A555),\"\",SUM('Data Input'!C555:V555))","v":""},{"$f":"IF(ISBLANK('Data Input'!A555),\"\",SUM('Data Input'!X555:AQ555))","v":""},{"$f":"IF(ISBLANK('Data Input'!A555),\"\",SUM('Data Input'!C555:AQ555))","v":""},{"$f":"IF(G551=\"\",\"\",G551/(COUNTA('Data Input'!$C$8:$AQ$8)-1))","v":""},{"$f":"IF(ISBLANK('Data Input'!A555),\"\",SUM('Data Input'!C555,'Data Input'!K555,'Data Input'!L555,'Data Input'!AC555,'Data Input'!AF555,'Data Input'!AM555,'Data Input'!AO555))","v":""},{"$f":"IF(I551=\"\",\"\",I551/COUNTIF('Data Input'!$C$8:$AQ$8,$I$2))","v":""},{"$f":"IF(ISBLANK('Data Input'!A555),\"\",SUM('Data Input'!D555,'Data Input'!E555,'Data Input'!F555,'Data Input'!G555,'Data Input'!J555,'Data Input'!O555,'Data Input'!P555,'Data Input'!S555,'Data Input'!U555,'Data Input'!X555,'Data Input'!Z555,'Data Input'!AA555,'Data Input'!AB555,'Data Input'!AE555,'Data Input'!AG555,'Data Input'!AH555,'Data Input'!AJ555,'Data Input'!AK555,'Data Input'!AL555,'Data Input'!AN555))","v":""},{"$f":"IF(K551=\"\",\"\",K551/COUNTIF('Data Input'!$C$8:$AQ$8,$K$2))","v":""},{"$f":"IF(ISBLANK('Data Input'!A555),\"\",SUM('Data Input'!V555))","v":""},{"$f":"IF(M551=\"\",\"\",M551/COUNTIF('Data Input'!$C$8:$AQ$8,$M$2))","v":""},{"$f":"IF(ISBLANK('Data Input'!A555),\"\",SUM('Data Input'!H555,'Data Input'!I555,'Data Input'!M555,'Data Input'!N555,'Data Input'!Q555,'Data Input'!R555,'Data Input'!T555,'Data Input'!Y555,'Data Input'!AD555,'Data Input'!AI555,'Data Input'!AP555,'Data Input'!AQ555))","v":""},{"$f":"IF(O551=\"\",\"\",O551/COUNTIF('Data Input'!$C$8:$AQ$8,$O$2))","v":""}]
[{"$f":"IF('Data Input'!A556=0,\"\",'Data Input'!A556)","v":""},{"$f":"IF(ISBLANK('Data Input'!A556),\"\",COUNTIF('Data Input'!C556:AQ556,\"\")-1)","v":""},{"$f":"IF(ISBLANK('Data Input'!A556),\"\",COUNTIF('Data Input'!C556:AQ556,\"0\"))","v":""},{"$f":"IF(ISBLANK('Data Input'!A556),\"\",SUM(B552,C552))","v":""},{"$f":"IF(ISBLANK('Data Input'!A556),\"\",SUM('Data Input'!C556:V556))","v":""},{"$f":"IF(ISBLANK('Data Input'!A556),\"\",SUM('Data Input'!X556:AQ556))","v":""},{"$f":"IF(ISBLANK('Data Input'!A556),\"\",SUM('Data Input'!C556:AQ556))","v":""},{"$f":"IF(G552=\"\",\"\",G552/(COUNTA('Data Input'!$C$8:$AQ$8)-1))","v":""},{"$f":"IF(ISBLANK('Data Input'!A556),\"\",SUM('Data Input'!C556,'Data Input'!K556,'Data Input'!L556,'Data Input'!AC556,'Data Input'!AF556,'Data Input'!AM556,'Data Input'!AO556))","v":""},{"$f":"IF(I552=\"\",\"\",I552/COUNTIF('Data Input'!$C$8:$AQ$8,$I$2))","v":""},{"$f":"IF(ISBLANK('Data Input'!A556),\"\",SUM('Data Input'!D556,'Data Input'!E556,'Data Input'!F556,'Data Input'!G556,'Data Input'!J556,'Data Input'!O556,'Data Input'!P556,'Data Input'!S556,'Data Input'!U556,'Data Input'!X556,'Data Input'!Z556,'Data Input'!AA556,'Data Input'!AB556,'Data Input'!AE556,'Data Input'!AG556,'Data Input'!AH556,'Data Input'!AJ556,'Data Input'!AK556,'Data Input'!AL556,'Data Input'!AN556))","v":""},{"$f":"IF(K552=\"\",\"\",K552/COUNTIF('Data Input'!$C$8:$AQ$8,$K$2))","v":""},{"$f":"IF(ISBLANK('Data Input'!A556),\"\",SUM('Data Input'!V556))","v":""},{"$f":"IF(M552=\"\",\"\",M552/COUNTIF('Data Input'!$C$8:$AQ$8,$M$2))","v":""},{"$f":"IF(ISBLANK('Data Input'!A556),\"\",SUM('Data Input'!H556,'Data Input'!I556,'Data Input'!M556,'Data Input'!N556,'Data Input'!Q556,'Data Input'!R556,'Data Input'!T556,'Data Input'!Y556,'Data Input'!AD556,'Data Input'!AI556,'Data Input'!AP556,'Data Input'!AQ556))","v":""},{"$f":"IF(O552=\"\",\"\",O552/COUNTIF('Data Input'!$C$8:$AQ$8,$O$2))","v":""}]
[{"$f":"IF('Data Input'!A557=0,\"\",'Data Input'!A557)","v":""},{"$f":"IF(ISBLANK('Data Input'!A557),\"\",COUNTIF('Data Input'!C557:AQ557,\"\")-1)","v":""},{"$f":"IF(ISBLANK('Data Input'!A557),\"\",COUNTIF('Data Input'!C557:AQ557,\"0\"))","v":""},{"$f":"IF(ISBLANK('Data Input'!A557),\"\",SUM(B553,C553))","v":""},{"$f":"IF(ISBLANK('Data Input'!A557),\"\",SUM('Data Input'!C557:V557))","v":""},{"$f":"IF(ISBLANK('Data Input'!A557),\"\",SUM('Data Input'!X557:AQ557))","v":""},{"$f":"IF(ISBLANK('Data Input'!A557),\"\",SUM('Data Input'!C557:AQ557))","v":""},{"$f":"IF(G553=\"\",\"\",G553/(COUNTA('Data Input'!$C$8:$AQ$8)-1))","v":""},{"$f":"IF(ISBLANK('Data Input'!A557),\"\",SUM('Data Input'!C557,'Data Input'!K557,'Data Input'!L557,'Data Input'!AC557,'Data Input'!AF557,'Data Input'!AM557,'Data Input'!AO557))","v":""},{"$f":"IF(I553=\"\",\"\",I553/COUNTIF('Data Input'!$C$8:$AQ$8,$I$2))","v":""},{"$f":"IF(ISBLANK('Data Input'!A557),\"\",SUM('Data Input'!D557,'Data Input'!E557,'Data Input'!F557,'Data Input'!G557,'Data Input'!J557,'Data Input'!O557,'Data Input'!P557,'Data Input'!S557,'Data Input'!U557,'Data Input'!X557,'Data Input'!Z557,'Data Input'!AA557,'Data Input'!AB557,'Data Input'!AE557,'Data Input'!AG557,'Data Input'!AH557,'Data Input'!AJ557,'Data Input'!AK557,'Data Input'!AL557,'Data Input'!AN557))","v":""},{"$f":"IF(K553=\"\",\"\",K553/COUNTIF('Data Input'!$C$8:$AQ$8,$K$2))","v":""},{"$f":"IF(ISBLANK('Data Input'!A557),\"\",SUM('Data Input'!V557))","v":""},{"$f":"IF(M553=\"\",\"\",M553/COUNTIF('Data Input'!$C$8:$AQ$8,$M$2))","v":""},{"$f":"IF(ISBLANK('Data Input'!A557),\"\",SUM('Data Input'!H557,'Data Input'!I557,'Data Input'!M557,'Data Input'!N557,'Data Input'!Q557,'Data Input'!R557,'Data Input'!T557,'Data Input'!Y557,'Data Input'!AD557,'Data Input'!AI557,'Data Input'!AP557,'Data Input'!AQ557))","v":""},{"$f":"IF(O553=\"\",\"\",O553/COUNTIF('Data Input'!$C$8:$AQ$8,$O$2))","v":""}]
[{"$f":"IF('Data Input'!A558=0,\"\",'Data Input'!A558)","v":""},{"$f":"IF(ISBLANK('Data Input'!A558),\"\",COUNTIF('Data Input'!C558:AQ558,\"\")-1)","v":""},{"$f":"IF(ISBLANK('Data Input'!A558),\"\",COUNTIF('Data Input'!C558:AQ558,\"0\"))","v":""},{"$f":"IF(ISBLANK('Data Input'!A558),\"\",SUM(B554,C554))","v":""},{"$f":"IF(ISBLANK('Data Input'!A558),\"\",SUM('Data Input'!C558:V558))","v":""},{"$f":"IF(ISBLANK('Data Input'!A558),\"\",SUM('Data Input'!X558:AQ558))","v":""},{"$f":"IF(ISBLANK('Data Input'!A558),\"\",SUM('Data Input'!C558:AQ558))","v":""},{"$f":"IF(G554=\"\",\"\",G554/(COUNTA('Data Input'!$C$8:$AQ$8)-1))","v":""},{"$f":"IF(ISBLANK('Data Input'!A558),\"\",SUM('Data Input'!C558,'Data Input'!K558,'Data Input'!L558,'Data Input'!AC558,'Data Input'!AF558,'Data Input'!AM558,'Data Input'!AO558))","v":""},{"$f":"IF(I554=\"\",\"\",I554/COUNTIF('Data Input'!$C$8:$AQ$8,$I$2))","v":""},{"$f":"IF(ISBLANK('Data Input'!A558),\"\",SUM('Data Input'!D558,'Data Input'!E558,'Data Input'!F558,'Data Input'!G558,'Data Input'!J558,'Data Input'!O558,'Data Input'!P558,'Data Input'!S558,'Data Input'!U558,'Data Input'!X558,'Data Input'!Z558,'Data Input'!AA558,'Data Input'!AB558,'Data Input'!AE558,'Data Input'!AG558,'Data Input'!AH558,'Data Input'!AJ558,'Data Input'!AK558,'Data Input'!AL558,'Data Input'!AN558))","v":""},{"$f":"IF(K554=\"\",\"\",K554/COUNTIF('Data Input'!$C$8:$AQ$8,$K$2))","v":""},{"$f":"IF(ISBLANK('Data Input'!A558),\"\",SUM('Data Input'!V558))","v":""},{"$f":"IF(M554=\"\",\"\",M554/COUNTIF('Data Input'!$C$8:$AQ$8,$M$2))","v":""},{"$f":"IF(ISBLANK('Data Input'!A558),\"\",SUM('Data Input'!H558,'Data Input'!I558,'Data Input'!M558,'Data Input'!N558,'Data Input'!Q558,'Data Input'!R558,'Data Input'!T558,'Data Input'!Y558,'Data Input'!AD558,'Data Input'!AI558,'Data Input'!AP558,'Data Input'!AQ558))","v":""},{"$f":"IF(O554=\"\",\"\",O554/COUNTIF('Data Input'!$C$8:$AQ$8,$O$2))","v":""}]
[{"$f":"IF('Data Input'!A559=0,\"\",'Data Input'!A559)","v":""},{"$f":"IF(ISBLANK('Data Input'!A559),\"\",COUNTIF('Data Input'!C559:AQ559,\"\")-1)","v":""},{"$f":"IF(ISBLANK('Data Input'!A559),\"\",COUNTIF('Data Input'!C559:AQ559,\"0\"))","v":""},{"$f":"IF(ISBLANK('Data Input'!A559),\"\",SUM(B555,C555))","v":""},{"$f":"IF(ISBLANK('Data Input'!A559),\"\",SUM('Data Input'!C559:V559))","v":""},{"$f":"IF(ISBLANK('Data Input'!A559),\"\",SUM('Data Input'!X559:AQ559))","v":""},{"$f":"IF(ISBLANK('Data Input'!A559),\"\",SUM('Data Input'!C559:AQ559))","v":""},{"$f":"IF(G555=\"\",\"\",G555/(COUNTA('Data Input'!$C$8:$AQ$8)-1))","v":""},{"$f":"IF(ISBLANK('Data Input'!A559),\"\",SUM('Data Input'!C559,'Data Input'!K559,'Data Input'!L559,'Data Input'!AC559,'Data Input'!AF559,'Data Input'!AM559,'Data Input'!AO559))","v":""},{"$f":"IF(I555=\"\",\"\",I555/COUNTIF('Data Input'!$C$8:$AQ$8,$I$2))","v":""},{"$f":"IF(ISBLANK('Data Input'!A559),\"\",SUM('Data Input'!D559,'Data Input'!E559,'Data Input'!F559,'Data Input'!G559,'Data Input'!J559,'Data Input'!O559,'Data Input'!P559,'Data Input'!S559,'Data Input'!U559,'Data Input'!X559,'Data Input'!Z559,'Data Input'!AA559,'Data Input'!AB559,'Data Input'!AE559,'Data Input'!AG559,'Data Input'!AH559,'Data Input'!AJ559,'Data Input'!AK559,'Data Input'!AL559,'Data Input'!AN559))","v":""},{"$f":"IF(K555=\"\",\"\",K555/COUNTIF('Data Input'!$C$8:$AQ$8,$K$2))","v":""},{"$f":"IF(ISBLANK('Data Input'!A559),\"\",SUM('Data Input'!V559))","v":""},{"$f":"IF(M555=\"\",\"\",M555/COUNTIF('Data Input'!$C$8:$AQ$8,$M$2))","v":""},{"$f":"IF(ISBLANK('Data Input'!A559),\"\",SUM('Data Input'!H559,'Data Input'!I559,'Data Input'!M559,'Data Input'!N559,'Data Input'!Q559,'Data Input'!R559,'Data Input'!T559,'Data Input'!Y559,'Data Input'!AD559,'Data Input'!AI559,'Data Input'!AP559,'Data Input'!AQ559))","v":""},{"$f":"IF(O555=\"\",\"\",O555/COUNTIF('Data Input'!$C$8:$AQ$8,$O$2))","v":""}]
[{"$f":"IF('Data Input'!A560=0,\"\",'Data Input'!A560)","v":""},{"$f":"IF(ISBLANK('Data Input'!A560),\"\",COUNTIF('Data Input'!C560:AQ560,\"\")-1)","v":""},{"$f":"IF(ISBLANK('Data Input'!A560),\"\",COUNTIF('Data Input'!C560:AQ560,\"0\"))","v":""},{"$f":"IF(ISBLANK('Data Input'!A560),\"\",SUM(B556,C556))","v":""},{"$f":"IF(ISBLANK('Data Input'!A560),\"\",SUM('Data Input'!C560:V560))","v":""},{"$f":"IF(ISBLANK('Data Input'!A560),\"\",SUM('Data Input'!X560:AQ560))","v":""},{"$f":"IF(ISBLANK('Data Input'!A560),\"\",SUM('Data Input'!C560:AQ560))","v":""},{"$f":"IF(G556=\"\",\"\",G556/(COUNTA('Data Input'!$C$8:$AQ$8)-1))","v":""},{"$f":"IF(ISBLANK('Data Input'!A560),\"\",SUM('Data Input'!C560,'Data Input'!K560,'Data Input'!L560,'Data Input'!AC560,'Data Input'!AF560,'Data Input'!AM560,'Data Input'!AO560))","v":""},{"$f":"IF(I556=\"\",\"\",I556/COUNTIF('Data Input'!$C$8:$AQ$8,$I$2))","v":""},{"$f":"IF(ISBLANK('Data Input'!A560),\"\",SUM('Data Input'!D560,'Data Input'!E560,'Data Input'!F560,'Data Input'!G560,'Data Input'!J560,'Data Input'!O560,'Data Input'!P560,'Data Input'!S560,'Data Input'!U560,'Data Input'!X560,'Data Input'!Z560,'Data Input'!AA560,'Data Input'!AB560,'Data Input'!AE560,'Data Input'!AG560,'Data Input'!AH560,'Data Input'!AJ560,'Data Input'!AK560,'Data Input'!AL560,'Data Input'!AN560))","v":""},{"$f":"IF(K556=\"\",\"\",K556/COUNTIF('Data Input'!$C$8:$AQ$8,$K$2))","v":""},{"$f":"IF(ISBLANK('Data Input'!A560),\"\",SUM('Data Input'!V560))","v":""},{"$f":"IF(M556=\"\",\"\",M556/COUNTIF('Data Input'!$C$8:$AQ$8,$M$2))","v":""},{"$f":"IF(ISBLANK('Data Input'!A560),\"\",SUM('Data Input'!H560,'Data Input'!I560,'Data Input'!M560,'Data Input'!N560,'Data Input'!Q560,'Data Input'!R560,'Data Input'!T560,'Data Input'!Y560,'Data Input'!AD560,'Data Input'!AI560,'Data Input'!AP560,'Data Input'!AQ560))","v":""},{"$f":"IF(O556=\"\",\"\",O556/COUNTIF('Data Input'!$C$8:$AQ$8,$O$2))","v":""}]

{"sheet":"Pupil Report","index":5,"n_rows":9,"n_cols":9,"rows_kept":9,"cut":false,"hidden":false,"merged":[[1,0,1,2],[4,0,4,8]]}
["Pupil:",null,null,null,null,null,null,null,{"$f":"Welcome!D2","v":"KS1 Reading Papers 1 & 2 \n(2016 SAMPLE) Analysis"}]
["Name:",null,null,"Incorrect:",{"$f":"VLOOKUP($A$2,'Pupil Summary'!$A$6:$P$555,3,FALSE)","v":{"$error":"#N/A"}},"Unanswered:",{"$f":"VLOOKUP($A$2,'Pupil Summary'!$A$6:$P$555,2,FALSE)","v":{"$error":"#N/A"}},"Total:",{"$f":"VLOOKUP($A$2,'Pupil Summary'!$A$6:$P$555,5,FALSE) & \" / \" &SUM(B7:H7)","v":{"$error":"#N/A"}}]
["A:",{"$f":"VLOOKUP($A$2,'Pupil Summary'!$A$6:$P$555,10,FALSE)","v":{"$error":"#N/A"}},"B:",{"$f":"VLOOKUP($A$2,'Pupil Summary'!$A$6:$P$555,12,FALSE)","v":{"$error":"#N/A"}},null,null,null,"Test 1:",{"$f":"VLOOKUP($A$2,'Pupil Summary'!$A$6:$P$555,5,FALSE) & \" /20\"","v":{"$error":"#N/A"}}]
["C:",{"$f":"VLOOKUP($A$2,'Pupil Summary'!$A$6:$P$555,14,FALSE)","v":{"$error":"#N/A"}},"D:",{"$f":"VLOOKUP($A$2,'Pupil Summary'!$A$6:$P$555,16,FALSE)","v":{"$error":"#N/A"}},null,null,null,"Test 2:",{"$f":"VLOOKUP($A$2,'Pupil Summary'!$A$6:$P$555,6,FALSE)& \" /20\"","v":{"$error":"#N/A"}}]
["A: Vocabulary  B: Key Facts  \nC: Sequence D: Prediction"]
[null,{"$f":"'Pupil Summary'!I2","v":"A"},{"$f":"'Pupil Summary'!K2","v":"B"},{"$f":"'Pupil Summary'!M2","v":"C"},{"$f":"'Pupil Summary'!O2","v":"D"},{"$f":"'Pupil Summary'!#REF!","v":{"$error":"#REF!"}},{"$f":"'Pupil Summary'!#REF!","v":{"$error":"#REF!"}},{"$f":"'Pupil Summary'!#REF!","v":{"$error":"#REF!"}}]
["Total",{"$f":"COUNTIF('Data Input'!$C$8:$AQ$8,B6)","v":7},{"$f":"COUNTIF('Data Input'!$C$8:$AQ$8,C6)","v":20},{"$f":"COUNTIF('Data Input'!$C$8:$AQ$8,D6)","v":1},{"$f":"COUNTIF('Data Input'!$C$8:$AQ$8,E6)","v":12},{"$f":"COUNTIF('Data Input'!$C$8:$AQ$8,F6)","v":0},{"$f":"COUNTIF('Data Input'!$C$8:$AQ$8,G6)","v":0},{"$f":"COUNTIF('Data Input'!$C$8:$AQ$8,H6)","v":0}]
["Correct",{"$f":"VLOOKUP($A$2,'Pupil Summary'!$A$6:$P$555,9,FALSE)","v":{"$error":"#N/A"}},{"$f":"VLOOKUP($A$2,'Pupil Summary'!$A$6:$P$555,11,FALSE)","v":{"$error":"#N/A"}},{"$f":"VLOOKUP($A$2,'Pupil Summary'!$A$6:$P$555,13,FALSE)","v":{"$error":"#N/A"}},{"$f":"VLOOKUP($A$2,'Pupil Summary'!$A$6:$P$555,15,FALSE)","v":{"$error":"#N/A"}},{"$f":"VLOOKUP($A$2,'Pupil Summary'!$A$6:$P$555,17,FALSE)","v":{"$error":"#N/A"}},{"$f":"VLOOKUP($A$2,'Pupil Summary'!$A$6:$P$555,17,FALSE)","v":{"$error":"#N/A"}},{"$f":"VLOOKUP($A$2,'Pupil Summary'!$A$6:$P$555,19,FALSE)","v":{"$error":"#N/A"}}]
["Incorrect/Unanswered",{"$f":"B7-B8","v":{"$error":"#N/A"}},{"$error":"#N/A"},{"$error":"#N/A"},{"$error":"#N/A"},{"$error":"#N/A"},{"$error":"#N/A"},{"$f":"H7-H8","v":{"$error":"#N/A"}}]

{"sheet":"Cohort Summary","index":6,"n_rows":12,"n_cols":6,"rows_kept":12,"cut":false,"hidden":false,"merged":[[11,0,13,4]]}
["Class Averages:",{"$f":"'Pupil Summary'!I3","v":"Vocabulary"},{"$f":"'Pupil Summary'!K3","v":"Key Facts"},{"$f":"'Pupil Summary'!M3","v":"Sequence"},{"$f":"'Pupil Summary'!O3","v":"Inference"}]
["Class correct:",{"$f":"IF(ISERROR(B4/B3),\"\",(B4/B3))","v":""},"","",{"$f":"IF(ISERROR(E4/E3),\"\",(E4/E3))","v":""}]
["Maximum",{"$f":"COUNTIF('Data Input'!$C$8:$AQ$8,B8)","v":7},{"$f":"COUNTIF('Data Input'!$C$8:$AQ$8,C8)","v":20},{"$f":"COUNTIF('Data Input'!$C$8:$AQ$8,D8)","v":1},{"$f":"COUNTIF('Data Input'!$C$8:$AQ$8,E8)","v":12}]
["Correct",{"$f":"IF(ISERROR(AVERAGE(IF(('Data Input'!$C$8:$AQ$8=B8),'Data Input'!$C$2:$AQ$2))*B3/COUNTA('Data Input'!$A$10:$A$558)),\"\",AVERAGE(IF(('Data Input'!$C$8:$AQ$8=B8),'Data Input'!$C$2:$AQ$2))*B3/COUNTA('Data Input'!$A$10:$A$558))","v":""},{"$f":"IF(ISERROR(AVERAGE(IF(('Data Input'!$C$8:$AQ$8=C8),'Data Input'!$C$2:$AQ$2))*C3/COUNTA('Data Input'!$A$10:$A$558)),\"\",AVERAGE(IF(('Data Input'!$C$8:$AQ$8=C8),'Data Input'!$C$2:$AQ$2))*C3/COUNTA('Data Input'!$A$10:$A$558))","v":""},{"$f":"IF(ISERROR(AVERAGE(IF(('Data Input'!$C$8:$AQ$8=D8),'Data Input'!$C$2:$AQ$2))*D3/COUNTA('Data Input'!$A$10:$A$558)),\"\",AVERAGE(IF(('Data Input'!$C$8:$AQ$8=D8),'Data Input'!$C$2:$AQ$2))*D3/COUNTA('Data Input'!$A$10:$A$558))","v":""},{"$f":"IF(ISERROR(AVERAGE(IF(('Data Input'!$C$8:$AQ$8=E8),'Data Input'!$C$2:$AQ$2))*E3/COUNTA('Data Input'!$A$10:$A$558)),\"\",AVERAGE(IF(('Data Input'!$C$8:$AQ$8=E8),'Data Input'!$C$2:$AQ$2))*E3/COUNTA('Data Input'!$A$10:$A$558))","v":""}]
["Incorrect",{"$f":"IF(ISERROR(AVERAGE(IF(('Data Input'!$C$8:$AQ$8=B8),'Data Input'!$C$3:$AQ$3))*B3/COUNTA('Data Input'!$A$10:$A$558)),\"\",AVERAGE(IF(('Data Input'!$C$8:$AQ$8=B8),'Data Input'!$C$3:$AQ$3))*B3/COUNTA('Data Input'!$A$10:$A$558))","v":""},{"$f":"IF(ISERROR(AVERAGE(IF(('Data Input'!$C$8:$AQ$8=C8),'Data Input'!$C$3:$AQ$3))*C3/COUNTA('Data Input'!$A$10:$A$558)),\"\",AVERAGE(IF(('Data Input'!$C$8:$AQ$8=C8),'Data Input'!$C$3:$AQ$3))*C3/COUNTA('Data Input'!$A$10:$A$558))","v":""},{"$f":"IF(ISERROR(AVERAGE(IF(('Data Input'!$C$8:$AQ$8=D8),'Data Input'!$C$3:$AQ$3))*D3/COUNTA('Data Input'!$A$10:$A$558)),\"\",AVERAGE(IF(('Data Input'!$C$8:$AQ$8=D8),'Data Input'!$C$3:$AQ$3))*D3/COUNTA('Data Input'!$A$10:$A$558))","v":""},{"$f":"IF(ISERROR(AVERAGE(IF(('Data Input'!$C$8:$AQ$8=E8),'Data Input'!$C$3:$AQ$3))*E3/COUNTA('Data Input'!$A$10:$A$558)),\"\",AVERAGE(IF(('Data Input'!$C$8:$AQ$8=E8),'Data Input'!$C$3:$AQ$3))*E3/COUNTA('Data Input'!$A$10:$A$558))","v":""}]
["Unanswered",{"$f":"IF(ISERROR(AVERAGE(IF(('Data Input'!$C$8:$AQ$8=B8),'Data Input'!$C$4:$AQ$4))*B3/COUNTA('Data Input'!$A$10:$A$558)),\"\",AVERAGE(IF(('Data Input'!$C$8:$AQ$8=B8),'Data Input'!$C$4:$AQ$4))*B3/COUNTA('Data Input'!$A$10:$A$558))","v":""},{"$f":"IF(ISERROR(AVERAGE(IF(('Data Input'!$C$8:$AQ$8=C8),'Data Input'!$C$4:$AQ$4))*C3/COUNTA('Data Input'!$A$10:$A$558)),\"\",AVERAGE(IF(('Data Input'!$C$8:$AQ$8=C8),'Data Input'!$C$4:$AQ$4))*C3/COUNTA('Data Input'!$A$10:$A$558))","v":""},{"$f":"IF(ISERROR(AVERAGE(IF(('Data Input'!$C$8:$AQ$8=D8),'Data Input'!$C$4:$AQ$4))*D3/COUNTA('Data Input'!$A$10:$A$558)),\"\",AVERAGE(IF(('Data Input'!$C$8:$AQ$8=D8),'Data Input'!$C$4:$AQ$4))*D3/COUNTA('Data Input'!$A$10:$A$558))","v":""},{"$f":"IF(ISERROR(AVERAGE(IF(('Data Input'!$C$8:$AQ$8=E8),'Data Input'!$C$4:$AQ$4))*E3/COUNTA('Data Input'!$A$10:$A$558)),\"\",AVERAGE(IF(('Data Input'!$C$8:$AQ$8=E8),'Data Input'!$C$4:$AQ$4))*E3/COUNTA('Data Input'!$A$10:$A$558))","v":""}]
["Incorrect or unanswered",{"$f":"IF(ISERROR(SUM(B5,B6)),\"\",SUM(B5,B6))","v":0},0,0,{"$f":"IF(ISERROR(SUM(E5,E6)),\"\",SUM(E5,E6))","v":0}]
[null,"A","B","C","D","S"]
[{"$f":"\"Average Total Score \"&COUNTA('Data Input'!C8:AQ8)-1","v":"Average Total Score 40"},"Total",null,"Test 1 Aveerage /20","Test 2 Aveerage /20"]
[{"$f":"IF(ISERROR(AVERAGE('Pupil Summary'!G6:G555)),\"\",AVERAGE('Pupil Summary'!G6:G555))","v":""},{"$f":"IF(ISERROR(A10/COUNTA('Data Input'!C8:AQ8)-1),\"\",A10/(COUNTA('Data Input'!C8:AQ8)-1))","v":""},null,{"$f":"IF(ISERROR(AVERAGE('Pupil Summary'!E6:E555)),\"\",AVERAGE('Pupil Summary'!E6:E555))","v":""},{"$f":"IF(ISERROR(AVERAGE('Pupil Summary'!F6:F555)),\"\",AVERAGE('Pupil Summary'!F6:F555))","v":""}]
[]
["The chart below graph shows the average percent for the cohort answering the questions in the particular area correctly. It should be noted that here each area does not hold equal weighting."]

{"sheet":"Strand Summary","index":7,"n_rows":28,"n_cols":2,"rows_kept":28,"cut":false,"hidden":false,"merged":[[26,1,26,11],[27,1,27,11]]}
[]
[]
[]
[]
[]
[]
[]
[]
[]
[]
[]
[]
[]
[]
[]
[]
[]
[]
[]
[]
[]
[]
[]
[]
[]
[]
[null,"This height of the bar shows the weighting of each area and the average number correct and incorrect answers. "]
[null,"A large area of red would indicate an area of priority. "]

{"sheet":"P1 Questions by Strand","index":8,"n_rows":46,"n_cols":1,"rows_kept":46,"cut":false,"hidden":false,"merged":[[45,0,46,17]]}
[]
[]
[]
[]
[]
[]
[]
[]
[]
[]
[]
[]
[]
[]
[]
[]
[]
[]
[]
[]
[]
[]
[]
[]
[]
[]
[]
[]
[]
[]
[]
[]
[]
[]
[]
[]
[]
[]
[]
[]
[]
[]
[]
[]
[]
["A: Vocabulary  B: Key Facts  C: Prediction D: Inference"]

{"sheet":"P2 Questions by Strand","index":9,"n_rows":46,"n_cols":1,"rows_kept":46,"cut":false,"hidden":false,"merged":[[45,0,46,17]]}
[]
[]
[]
[]
[]
[]
[]
[]
[]
[]
[]
[]
[]
[]
[]
[]
[]
[]
[]
[]
[]
[]
[]
[]
[]
[]
[]
[]
[]
[]
[]
[]
[]
[]
[]
[]
[]
[]
[]
[]
[]
[]
[]
[]
[]
["A: Vocabulary  B: Key Facts  C: Prediction D: Inference"]

{"sheet":"P1 Questions by Correct","index":10,"n_rows":46,"n_cols":1,"rows_kept":46,"cut":false,"hidden":false,"merged":[[45,0,46,17]]}
[]
[]
[]
[]
[]
[]
[]
[]
[]
[]
[]
[]
[]
[]
[]
[]
[]
[]
[]
[]
[]
[]
[]
[]
[]
[]
[]
[]
[]
[]
[]
[]
[]
[]
[]
[]
[]
[]
[]
[]
[]
[]
[]
[]
[]
["A: Vocabulary  B: Key Facts  C: Prediction D: Inference"]

{"sheet":"P2 Questions by Correct","index":11,"n_rows":46,"n_cols":1,"rows_kept":46,"cut":false,"hidden":false,"merged":[[45,0,46,17]]}
[]
[]
[]
[]
[]
[]
[]
[]
[]
[]
[]
[]
[]
[]
[]
[]
[]
[]
[]
[]
[]
[]
[]
[]
[]
[]
[]
[]
[]
[]
[]
[]
[]
[]
[]
[]
[]
[]
[]
[]
[]
[]
[]
[]
[]
["A: Vocabulary  B: Key Facts  C: Prediction D: Inference"]

{"sheet":"P1 Questions by Sub Type","index":12,"n_rows":0,"n_cols":0,"rows_kept":0,"cut":false,"hidden":true,"merged":[[45,0,46,17]]}

{"sheet":"P2 Questions by Sub Type","index":13,"n_rows":0,"n_cols":0,"rows_kept":0,"cut":false,"hidden":true,"merged":[[45,0,46,17]]}